{"text_format":"1","workbook":"xlsx","n_sheets":2,"sheets":["835 Payer List","837 Payer List"],"not_rendered":{"charts":0,"images":0,"macros":1,"external_links":0,"defined_names":1,"comments":0,"pivot_tables":0},"unopened":[],"bounds":{"document_bytes":16777216,"sheet_cells":100000,"rows_first":2000,"rows_last":500,"rows_between":2000,"halvings":0,"cell_chars":16384,"cell_head_chars":4096},"cells_cut":0,"cells_raw":0,"read":"whole","date_system":"1900"}

{"sheet":"835 Payer List","index":0,"n_rows":4946,"n_cols":7,"rows_kept":4946,"cut":false,"hidden":false,"merged":[]}
[]
[]
[]
[]
[]
[]
[]
["Healthcare Advantage 835 Payer List"]
["Key"]
["X = Yes"]
[]
["Payer Name","EFT","Medicaid","Medicare","BC/BS","Workers Comp","P&C"]
["1000 CHURCH STREET INC (MAA/ HEALTHSMART)",null,{"$f":"IF(ISNUMBER(FIND(\"MEDICAID\",A13)),\"X\",\"\")","v":""},{"$f":"IF(ISNUMBER(FIND(\"MEDICARE\",A13)),\"X\",\"\")","v":""},{"$f":"IF(ISNUMBER(FIND(\"BC/BS\",#REF!)),\"X\",\"\")","v":""}]
["1199 SEIU GREATER NEW YORK BENEFIT FUND","X",{"$f":"IF(ISNUMBER(FIND(\"MEDICAID\",A14)),\"X\",\"\")","v":""},{"$f":"IF(ISNUMBER(FIND(\"MEDICARE\",A14)),\"X\",\"\")","v":""},{"$f":"IF(ISNUMBER(FIND(\"BC/BS\",#REF!)),\"X\",\"\")","v":""}]
["1199 SEIU HOMECARE BENEFIT FUND","X",{"$f":"IF(ISNUMBER(FIND(\"MEDICAID\",A15)),\"X\",\"\")","v":""},{"$f":"IF(ISNUMBER(FIND(\"MEDICARE\",A15)),\"X\",\"\")","v":""},{"$f":"IF(ISNUMBER(FIND(\"BC/BS\",#REF!)),\"X\",\"\")","v":""}]
["1199 SEIU NATIONAL BENEFIT FUND","X",{"$f":"IF(ISNUMBER(FIND(\"MEDICAID\",A16)),\"X\",\"\")","v":""},{"$f":"IF(ISNUMBER(FIND(\"MEDICARE\",A16)),\"X\",\"\")","v":""},{"$f":"IF(ISNUMBER(FIND(\"BC/BS\",#REF!)),\"X\",\"\")","v":""}]
["1978 RETIRED CONSTRUCTION WORKERS (THE HEALTH PLAN)","X",{"$f":"IF(ISNUMBER(FIND(\"MEDICAID\",A17)),\"X\",\"\")","v":""},{"$f":"IF(ISNUMBER(FIND(\"MEDICARE\",A17)),\"X\",\"\")","v":""},{"$f":"IF(ISNUMBER(FIND(\"BC/BS\",#REF!)),\"X\",\"\")","v":""}]
["2428392 INC (MVP HEALTH CARE)","X",{"$f":"IF(ISNUMBER(FIND(\"MEDICAID\",A18)),\"X\",\"\")","v":""},{"$f":"IF(ISNUMBER(FIND(\"MEDICARE\",A18)),\"X\",\"\")","v":""},{"$f":"IF(ISNUMBER(FIND(\"BC/BS\",#REF!)),\"X\",\"\")","v":""}]
["4R EQUIPMENT/RUBENACKER FARMS (IPMG)","X",{"$f":"IF(ISNUMBER(FIND(\"MEDICAID\",A19)),\"X\",\"\")","v":""},{"$f":"IF(ISNUMBER(FIND(\"MEDICARE\",A19)),\"X\",\"\")","v":""},{"$f":"IF(ISNUMBER(FIND(\"BC/BS\",#REF!)),\"X\",\"\")","v":""}]
["8X8 INC (HEALTHCOMP)","X",{"$f":"IF(ISNUMBER(FIND(\"MEDICAID\",A20)),\"X\",\"\")","v":""},{"$f":"IF(ISNUMBER(FIND(\"MEDICARE\",A20)),\"X\",\"\")","v":""},{"$f":"IF(ISNUMBER(FIND(\"BC/BS\",#REF!)),\"X\",\"\")","v":""}]
["90 DEGREE BENEFITS FLORIDA (SELF INSURED PLANS)","X",{"$f":"IF(ISNUMBER(FIND(\"MEDICAID\",A21)),\"X\",\"\")","v":""},{"$f":"IF(ISNUMBER(FIND(\"MEDICARE\",A21)),\"X\",\"\")","v":""},{"$f":"IF(ISNUMBER(FIND(\"BC/BS\",#REF!)),\"X\",\"\")","v":""}]
["90 DEGREE BENEFITS LOUISIANA (IMA)","X",{"$f":"IF(ISNUMBER(FIND(\"MEDICAID\",A22)),\"X\",\"\")","v":""},{"$f":"IF(ISNUMBER(FIND(\"MEDICARE\",A22)),\"X\",\"\")","v":""},{"$f":"IF(ISNUMBER(FIND(\"BC/BS\",#REF!)),\"X\",\"\")","v":""}]
["90 DEGREE BENEFITS PENNSYLVANIA (MCA ADMINISTRATORS)","X",{"$f":"IF(ISNUMBER(FIND(\"MEDICAID\",A23)),\"X\",\"\")","v":""},{"$f":"IF(ISNUMBER(FIND(\"MEDICARE\",A23)),\"X\",\"\")","v":""},{"$f":"IF(ISNUMBER(FIND(\"BC/BS\",#REF!)),\"X\",\"\")","v":""}]
["973 MATERIALS EBPT (90 DEGREE BENEFITS HOUSTON - ENTRUST)",null,{"$f":"IF(ISNUMBER(FIND(\"MEDICAID\",A24)),\"X\",\"\")","v":""},{"$f":"IF(ISNUMBER(FIND(\"MEDICARE\",A24)),\"X\",\"\")","v":""},{"$f":"IF(ISNUMBER(FIND(\"BC/BS\",#REF!)),\"X\",\"\")","v":""}]
["A & B AUTO SALES INC (THE HEALTH PLAN)",null,{"$f":"IF(ISNUMBER(FIND(\"MEDICAID\",A25)),\"X\",\"\")","v":""},{"$f":"IF(ISNUMBER(FIND(\"MEDICARE\",A25)),\"X\",\"\")","v":""},{"$f":"IF(ISNUMBER(FIND(\"BC/BS\",#REF!)),\"X\",\"\")","v":""}]
["A123 SYSTEMS LLC (ASR HEALTH BENEFITS)","X",{"$f":"IF(ISNUMBER(FIND(\"MEDICAID\",A26)),\"X\",\"\")","v":""},{"$f":"IF(ISNUMBER(FIND(\"MEDICARE\",A26)),\"X\",\"\")","v":""},{"$f":"IF(ISNUMBER(FIND(\"BC/BS\",#REF!)),\"X\",\"\")","v":""}]
["AARP SUPPLEMENTAL HEALTH PLANS FROM UNITEDHEALTHCARE","X",{"$f":"IF(ISNUMBER(FIND(\"MEDICAID\",A27)),\"X\",\"\")","v":""},{"$f":"IF(ISNUMBER(FIND(\"MEDICARE\",A27)),\"X\",\"\")","v":""},{"$f":"IF(ISNUMBER(FIND(\"BC/BS\",#REF!)),\"X\",\"\")","v":""}]
["ABACUS TECHNOLOGY CORPORATION (GROUP & PENSION ADMIN)","X",{"$f":"IF(ISNUMBER(FIND(\"MEDICAID\",A28)),\"X\",\"\")","v":""},{"$f":"IF(ISNUMBER(FIND(\"MEDICARE\",A28)),\"X\",\"\")","v":""},{"$f":"IF(ISNUMBER(FIND(\"BC/BS\",#REF!)),\"X\",\"\")","v":""}]
["ABARCA",null,{"$f":"IF(ISNUMBER(FIND(\"MEDICAID\",A29)),\"X\",\"\")","v":""},{"$f":"IF(ISNUMBER(FIND(\"MEDICARE\",A29)),\"X\",\"\")","v":""},{"$f":"IF(ISNUMBER(FIND(\"BC/BS\",#REF!)),\"X\",\"\")","v":""}]
["ABBOTT LABORATORIES (AMERIBEN)",null,{"$f":"IF(ISNUMBER(FIND(\"MEDICAID\",A30)),\"X\",\"\")","v":""},{"$f":"IF(ISNUMBER(FIND(\"MEDICARE\",A30)),\"X\",\"\")","v":""},{"$f":"IF(ISNUMBER(FIND(\"BC/BS\",#REF!)),\"X\",\"\")","v":""}]
["ABC LIQUORS INC (GROUP & PENSION ADMIN)","X",{"$f":"IF(ISNUMBER(FIND(\"MEDICAID\",A31)),\"X\",\"\")","v":""},{"$f":"IF(ISNUMBER(FIND(\"MEDICARE\",A31)),\"X\",\"\")","v":""},{"$f":"IF(ISNUMBER(FIND(\"BC/BS\",#REF!)),\"X\",\"\")","v":""}]
["ABELOFF AUTO GROUP INC (GEISINGER HEALTH PLAN)","X",{"$f":"IF(ISNUMBER(FIND(\"MEDICAID\",A32)),\"X\",\"\")","v":""},{"$f":"IF(ISNUMBER(FIND(\"MEDICARE\",A32)),\"X\",\"\")","v":""},{"$f":"IF(ISNUMBER(FIND(\"BC/BS\",#REF!)),\"X\",\"\")","v":""}]
["ABILENE CHRISTIAN UNIVERSITY HEALTH BENEFITS (GROUP & PENSION ADMIN)","X",{"$f":"IF(ISNUMBER(FIND(\"MEDICAID\",A33)),\"X\",\"\")","v":""},{"$f":"IF(ISNUMBER(FIND(\"MEDICARE\",A33)),\"X\",\"\")","v":""},{"$f":"IF(ISNUMBER(FIND(\"BC/BS\",#REF!)),\"X\",\"\")","v":""}]
["ABLEPAY HEALTH","X",{"$f":"IF(ISNUMBER(FIND(\"MEDICAID\",A34)),\"X\",\"\")","v":""},{"$f":"IF(ISNUMBER(FIND(\"MEDICARE\",A34)),\"X\",\"\")","v":""},{"$f":"IF(ISNUMBER(FIND(\"BC/BS\",#REF!)),\"X\",\"\")","v":""}]
["ABSOLUTE TOTAL CARE","X",{"$f":"IF(ISNUMBER(FIND(\"MEDICAID\",A35)),\"X\",\"\")","v":""},{"$f":"IF(ISNUMBER(FIND(\"MEDICARE\",A35)),\"X\",\"\")","v":""},{"$f":"IF(ISNUMBER(FIND(\"BC/BS\",#REF!)),\"X\",\"\")","v":""}]
["ACADIA INSURANCE COMPANY","X",{"$f":"IF(ISNUMBER(FIND(\"MEDICAID\",A36)),\"X\",\"\")","v":""},{"$f":"IF(ISNUMBER(FIND(\"MEDICARE\",A36)),\"X\",\"\")","v":""},{"$f":"IF(ISNUMBER(FIND(\"BC/BS\",#REF!)),\"X\",\"\")","v":""}]
["ACCENDO INSURANCE COMPANY PART OF THE CVS HEALTH","X",{"$f":"IF(ISNUMBER(FIND(\"MEDICAID\",A37)),\"X\",\"\")","v":""},{"$f":"IF(ISNUMBER(FIND(\"MEDICARE\",A37)),\"X\",\"\")","v":""},{"$f":"IF(ISNUMBER(FIND(\"BC/BS\",#REF!)),\"X\",\"\")","v":""}]
["ACCESS COMMUNITY HEALTH NETWORK",null,{"$f":"IF(ISNUMBER(FIND(\"MEDICAID\",A38)),\"X\",\"\")","v":""},{"$f":"IF(ISNUMBER(FIND(\"MEDICARE\",A38)),\"X\",\"\")","v":""},{"$f":"IF(ISNUMBER(FIND(\"BC/BS\",#REF!)),\"X\",\"\")","v":""}]
["ACCLAIM INC","X",{"$f":"IF(ISNUMBER(FIND(\"MEDICAID\",A39)),\"X\",\"\")","v":""},{"$f":"IF(ISNUMBER(FIND(\"MEDICARE\",A39)),\"X\",\"\")","v":""},{"$f":"IF(ISNUMBER(FIND(\"BC/BS\",#REF!)),\"X\",\"\")","v":""}]
["ACE PROPERTY & CASUALTY INS CO (IAS ADMIN)","X",{"$f":"IF(ISNUMBER(FIND(\"MEDICAID\",A40)),\"X\",\"\")","v":""},{"$f":"IF(ISNUMBER(FIND(\"MEDICARE\",A40)),\"X\",\"\")","v":""},{"$f":"IF(ISNUMBER(FIND(\"BC/BS\",#REF!)),\"X\",\"\")","v":""}]
["ACS BENEFIT SERVICES","X",{"$f":"IF(ISNUMBER(FIND(\"MEDICAID\",A41)),\"X\",\"\")","v":""},{"$f":"IF(ISNUMBER(FIND(\"MEDICARE\",A41)),\"X\",\"\")","v":""},{"$f":"IF(ISNUMBER(FIND(\"BC/BS\",#REF!)),\"X\",\"\")","v":""}]
["ACTUARIAL MANAGEMENT RESOURCES","X",{"$f":"IF(ISNUMBER(FIND(\"MEDICAID\",A42)),\"X\",\"\")","v":""},{"$f":"IF(ISNUMBER(FIND(\"MEDICARE\",A42)),\"X\",\"\")","v":""},{"$f":"IF(ISNUMBER(FIND(\"BC/BS\",#REF!)),\"X\",\"\")","v":""}]
["ADIRONDACK MEDICAL CENTER DBA ADIRONDACK HEALTH (MVP HEALTH CARE)","X",{"$f":"IF(ISNUMBER(FIND(\"MEDICAID\",A43)),\"X\",\"\")","v":""},{"$f":"IF(ISNUMBER(FIND(\"MEDICARE\",A43)),\"X\",\"\")","v":""},{"$f":"IF(ISNUMBER(FIND(\"BC/BS\",#REF!)),\"X\",\"\")","v":""}]
["ADMINISTRATIVE CONCEPTS INC","X",{"$f":"IF(ISNUMBER(FIND(\"MEDICAID\",A44)),\"X\",\"\")","v":""},{"$f":"IF(ISNUMBER(FIND(\"MEDICARE\",A44)),\"X\",\"\")","v":""},{"$f":"IF(ISNUMBER(FIND(\"BC/BS\",#REF!)),\"X\",\"\")","v":""}]
["ADVANCED HEALTH",null,{"$f":"IF(ISNUMBER(FIND(\"MEDICAID\",A45)),\"X\",\"\")","v":""},{"$f":"IF(ISNUMBER(FIND(\"MEDICARE\",A45)),\"X\",\"\")","v":""},{"$f":"IF(ISNUMBER(FIND(\"BC/BS\",#REF!)),\"X\",\"\")","v":""}]
["ADVANCED HOSPICE CARE INC (GROUP & PENSION ADMIN)","X",{"$f":"IF(ISNUMBER(FIND(\"MEDICAID\",A46)),\"X\",\"\")","v":""},{"$f":"IF(ISNUMBER(FIND(\"MEDICARE\",A46)),\"X\",\"\")","v":""},{"$f":"IF(ISNUMBER(FIND(\"BC/BS\",#REF!)),\"X\",\"\")","v":""}]
["ADVANCED UNIFIED PHYSICIAN NETWORK (ARCADIA SOLUTIONS)","X",{"$f":"IF(ISNUMBER(FIND(\"MEDICAID\",A47)),\"X\",\"\")","v":""},{"$f":"IF(ISNUMBER(FIND(\"MEDICARE\",A47)),\"X\",\"\")","v":""},{"$f":"IF(ISNUMBER(FIND(\"BC/BS\",#REF!)),\"X\",\"\")","v":""}]
["ADVANTAGE BY BUCKEYE HEALTH PLAN","X",{"$f":"IF(ISNUMBER(FIND(\"MEDICAID\",A48)),\"X\",\"\")","v":""},{"$f":"IF(ISNUMBER(FIND(\"MEDICARE\",A48)),\"X\",\"\")","v":""},{"$f":"IF(ISNUMBER(FIND(\"BC/BS\",#REF!)),\"X\",\"\")","v":""}]
["ADVANTAGE BY MHS-WI","X",{"$f":"IF(ISNUMBER(FIND(\"MEDICAID\",A49)),\"X\",\"\")","v":""},{"$f":"IF(ISNUMBER(FIND(\"MEDICARE\",A49)),\"X\",\"\")","v":""},{"$f":"IF(ISNUMBER(FIND(\"BC/BS\",#REF!)),\"X\",\"\")","v":""}]
["ADVANTAGE BY PEACH STATE HEALTH PLAN","X",{"$f":"IF(ISNUMBER(FIND(\"MEDICAID\",A50)),\"X\",\"\")","v":""},{"$f":"IF(ISNUMBER(FIND(\"MEDICARE\",A50)),\"X\",\"\")","v":""},{"$f":"IF(ISNUMBER(FIND(\"BC/BS\",#REF!)),\"X\",\"\")","v":""}]
["ADVANTAGE BY SUNSHINE STATE HEALTH","X",{"$f":"IF(ISNUMBER(FIND(\"MEDICAID\",A51)),\"X\",\"\")","v":""},{"$f":"IF(ISNUMBER(FIND(\"MEDICARE\",A51)),\"X\",\"\")","v":""},{"$f":"IF(ISNUMBER(FIND(\"BC/BS\",#REF!)),\"X\",\"\")","v":""}]
["ADVANTAGE BY SUPERIOR HEALTH PLAN","X",{"$f":"IF(ISNUMBER(FIND(\"MEDICAID\",A52)),\"X\",\"\")","v":""},{"$f":"IF(ISNUMBER(FIND(\"MEDICARE\",A52)),\"X\",\"\")","v":""},{"$f":"IF(ISNUMBER(FIND(\"BC/BS\",#REF!)),\"X\",\"\")","v":""}]
["ADVANTEK BENEFIT ADMINISTRATORS","X",{"$f":"IF(ISNUMBER(FIND(\"MEDICAID\",A53)),\"X\",\"\")","v":""},{"$f":"IF(ISNUMBER(FIND(\"MEDICARE\",A53)),\"X\",\"\")","v":""},{"$f":"IF(ISNUMBER(FIND(\"BC/BS\",#REF!)),\"X\",\"\")","v":""}]
["ADVENTHEALTH INDIVIDUAL (HEALTH FIRST HEALTH PLANS)","X",{"$f":"IF(ISNUMBER(FIND(\"MEDICAID\",A54)),\"X\",\"\")","v":""},{"$f":"IF(ISNUMBER(FIND(\"MEDICARE\",A54)),\"X\",\"\")","v":""},{"$f":"IF(ISNUMBER(FIND(\"BC/BS\",#REF!)),\"X\",\"\")","v":""}]
["ADVENTHEALTH MEDICARE ADVANTAGE (HEALTH FIRST HEALTH PLANS)","X",{"$f":"IF(ISNUMBER(FIND(\"MEDICAID\",A55)),\"X\",\"\")","v":""},null,{"$f":"IF(ISNUMBER(FIND(\"BC/BS\",#REF!)),\"X\",\"\")","v":""}]
["ADVENTIST (WEBTPA)","X",{"$f":"IF(ISNUMBER(FIND(\"MEDICAID\",A56)),\"X\",\"\")","v":""},{"$f":"IF(ISNUMBER(FIND(\"MEDICARE\",A56)),\"X\",\"\")","v":""},{"$f":"IF(ISNUMBER(FIND(\"BC/BS\",#REF!)),\"X\",\"\")","v":""}]
["ADVENTIST HEALTH - CORPORATE (ADVENTIST HEALTH SYSTEM WEST)","X",{"$f":"IF(ISNUMBER(FIND(\"MEDICAID\",A57)),\"X\",\"\")","v":""},{"$f":"IF(ISNUMBER(FIND(\"MEDICARE\",A57)),\"X\",\"\")","v":""},{"$f":"IF(ISNUMBER(FIND(\"BC/BS\",#REF!)),\"X\",\"\")","v":""}]
["ADVENTIST HEALTH - RIDEOUT MEMORIAL HOSPITAL (AHRO) (ADVENTIST HEALTH SYSTEM WEST)",null,{"$f":"IF(ISNUMBER(FIND(\"MEDICAID\",A58)),\"X\",\"\")","v":""},{"$f":"IF(ISNUMBER(FIND(\"MEDICARE\",A58)),\"X\",\"\")","v":""},{"$f":"IF(ISNUMBER(FIND(\"BC/BS\",#REF!)),\"X\",\"\")","v":""}]
["ADVENTIST HEALTH CARE NETWORK INC (MEDPOINT MANAGEMENT)",null,{"$f":"IF(ISNUMBER(FIND(\"MEDICAID\",A59)),\"X\",\"\")","v":""},{"$f":"IF(ISNUMBER(FIND(\"MEDICARE\",A59)),\"X\",\"\")","v":""},{"$f":"IF(ISNUMBER(FIND(\"BC/BS\",#REF!)),\"X\",\"\")","v":""}]
["ADVENTIST HEALTH DELANO (ADVENTIST HEALTH SYSTEM WEST)",null,{"$f":"IF(ISNUMBER(FIND(\"MEDICAID\",A60)),\"X\",\"\")","v":""},{"$f":"IF(ISNUMBER(FIND(\"MEDICARE\",A60)),\"X\",\"\")","v":""},{"$f":"IF(ISNUMBER(FIND(\"BC/BS\",#REF!)),\"X\",\"\")","v":""}]
["ADVENTIST HEALTH HANFORD AHP (MEDPOINT MANAGEMENT)","X",{"$f":"IF(ISNUMBER(FIND(\"MEDICAID\",A61)),\"X\",\"\")","v":""},{"$f":"IF(ISNUMBER(FIND(\"MEDICARE\",A61)),\"X\",\"\")","v":""},{"$f":"IF(ISNUMBER(FIND(\"BC/BS\",#REF!)),\"X\",\"\")","v":""}]
["ADVENTIST HEALTH MENDOCINO COAST (ADVENTIST HEALTH SYSTEM WEST)",null,{"$f":"IF(ISNUMBER(FIND(\"MEDICAID\",A62)),\"X\",\"\")","v":""},{"$f":"IF(ISNUMBER(FIND(\"MEDICARE\",A62)),\"X\",\"\")","v":""},{"$f":"IF(ISNUMBER(FIND(\"BC/BS\",#REF!)),\"X\",\"\")","v":""}]
["ADVENTIST HEALTH PLAN PROVIDER NETWORK (AHPPN) (MEDPOINT MANAGEMENT)","X",{"$f":"IF(ISNUMBER(FIND(\"MEDICAID\",A63)),\"X\",\"\")","v":""},{"$f":"IF(ISNUMBER(FIND(\"MEDICARE\",A63)),\"X\",\"\")","v":""},{"$f":"IF(ISNUMBER(FIND(\"BC/BS\",#REF!)),\"X\",\"\")","v":""}]
["ADVENTIST HEALTH TULARE (ADVENTIST HEALTH SYSTEM WEST)",null,{"$f":"IF(ISNUMBER(FIND(\"MEDICAID\",A64)),\"X\",\"\")","v":""},{"$f":"IF(ISNUMBER(FIND(\"MEDICARE\",A64)),\"X\",\"\")","v":""},{"$f":"IF(ISNUMBER(FIND(\"BC/BS\",#REF!)),\"X\",\"\")","v":""}]
["ADVENTIST MEDICAL CENTER - HANFORD (ADVENTIST HEALTH SYSTEM WEST)","X",{"$f":"IF(ISNUMBER(FIND(\"MEDICAID\",A65)),\"X\",\"\")","v":""},{"$f":"IF(ISNUMBER(FIND(\"MEDICARE\",A65)),\"X\",\"\")","v":""},{"$f":"IF(ISNUMBER(FIND(\"BC/BS\",#REF!)),\"X\",\"\")","v":""}]
["ADVENTIST MEDICAL CENTER - PORTLAND (ADVENTIST HEALTH SYSTEM WEST)","X",{"$f":"IF(ISNUMBER(FIND(\"MEDICAID\",A66)),\"X\",\"\")","v":""},{"$f":"IF(ISNUMBER(FIND(\"MEDICARE\",A66)),\"X\",\"\")","v":""},{"$f":"IF(ISNUMBER(FIND(\"BC/BS\",#REF!)),\"X\",\"\")","v":""}]
["ADVENTIST MEDICAL CENTER - REEDLEY (ADVENTIST HEALTH SYSTEM WEST)","X",{"$f":"IF(ISNUMBER(FIND(\"MEDICAID\",A67)),\"X\",\"\")","v":""},{"$f":"IF(ISNUMBER(FIND(\"MEDICARE\",A67)),\"X\",\"\")","v":""},{"$f":"IF(ISNUMBER(FIND(\"BC/BS\",#REF!)),\"X\",\"\")","v":""}]
["ADVISORY HEALTH ADMINISTRATORS","X",{"$f":"IF(ISNUMBER(FIND(\"MEDICAID\",A68)),\"X\",\"\")","v":""},{"$f":"IF(ISNUMBER(FIND(\"MEDICARE\",A68)),\"X\",\"\")","v":""},{"$f":"IF(ISNUMBER(FIND(\"BC/BS\",#REF!)),\"X\",\"\")","v":""}]
["ADVOCARE (SECURITY HEALTH PLAN)","X",{"$f":"IF(ISNUMBER(FIND(\"MEDICAID\",A69)),\"X\",\"\")","v":""},{"$f":"IF(ISNUMBER(FIND(\"MEDICARE\",A69)),\"X\",\"\")","v":""},{"$f":"IF(ISNUMBER(FIND(\"BC/BS\",#REF!)),\"X\",\"\")","v":""}]
["ADVOCATE HEALTH CENTERS (ADVOCATE PHYSICIAN PARTNERS)",null,{"$f":"IF(ISNUMBER(FIND(\"MEDICAID\",A70)),\"X\",\"\")","v":""},{"$f":"IF(ISNUMBER(FIND(\"MEDICARE\",A70)),\"X\",\"\")","v":""},{"$f":"IF(ISNUMBER(FIND(\"BC/BS\",#REF!)),\"X\",\"\")","v":""}]
["ADVOCATE HEALTH PARTNERS","X",{"$f":"IF(ISNUMBER(FIND(\"MEDICAID\",A71)),\"X\",\"\")","v":""},{"$f":"IF(ISNUMBER(FIND(\"MEDICARE\",A71)),\"X\",\"\")","v":""},{"$f":"IF(ISNUMBER(FIND(\"BC/BS\",#REF!)),\"X\",\"\")","v":""}]
["ADVOCATE MEDICAL GROUP","X",{"$f":"IF(ISNUMBER(FIND(\"MEDICAID\",A72)),\"X\",\"\")","v":""},{"$f":"IF(ISNUMBER(FIND(\"MEDICARE\",A72)),\"X\",\"\")","v":""},{"$f":"IF(ISNUMBER(FIND(\"BC/BS\",#REF!)),\"X\",\"\")","v":""}]
["AEGON (MERCER)","X",{"$f":"IF(ISNUMBER(FIND(\"MEDICAID\",A73)),\"X\",\"\")","v":""},{"$f":"IF(ISNUMBER(FIND(\"MEDICARE\",A73)),\"X\",\"\")","v":""},{"$f":"IF(ISNUMBER(FIND(\"BC/BS\",#REF!)),\"X\",\"\")","v":""}]
["AERO INDUSTRIES INC (GROUP & PENSION ADMIN)","X",{"$f":"IF(ISNUMBER(FIND(\"MEDICAID\",A74)),\"X\",\"\")","v":""},{"$f":"IF(ISNUMBER(FIND(\"MEDICARE\",A74)),\"X\",\"\")","v":""},{"$f":"IF(ISNUMBER(FIND(\"BC/BS\",#REF!)),\"X\",\"\")","v":""}]
["AETNA","X",{"$f":"IF(ISNUMBER(FIND(\"MEDICAID\",A75)),\"X\",\"\")","v":""},{"$f":"IF(ISNUMBER(FIND(\"MEDICARE\",A75)),\"X\",\"\")","v":""},{"$f":"IF(ISNUMBER(FIND(\"BC/BS\",#REF!)),\"X\",\"\")","v":""}]
["AETNA BETTER HEALTH OF FLORIDA","X",{"$f":"IF(ISNUMBER(FIND(\"MEDICAID\",A76)),\"X\",\"\")","v":""},{"$f":"IF(ISNUMBER(FIND(\"MEDICARE\",A76)),\"X\",\"\")","v":""},{"$f":"IF(ISNUMBER(FIND(\"BC/BS\",#REF!)),\"X\",\"\")","v":""}]
["AETNA BETTER HEALTH OF ILLINOIS","X",{"$f":"IF(ISNUMBER(FIND(\"MEDICAID\",A77)),\"X\",\"\")","v":""},{"$f":"IF(ISNUMBER(FIND(\"MEDICARE\",A77)),\"X\",\"\")","v":""},{"$f":"IF(ISNUMBER(FIND(\"BC/BS\",#REF!)),\"X\",\"\")","v":""}]
["AETNA BETTER HEALTH OF ILLINOIS - MEDICAID","X",null,{"$f":"IF(ISNUMBER(FIND(\"MEDICARE\",A78)),\"X\",\"\")","v":""},{"$f":"IF(ISNUMBER(FIND(\"BC/BS\",#REF!)),\"X\",\"\")","v":""}]
["AETNA BETTER HEALTH OF KANSAS","X",{"$f":"IF(ISNUMBER(FIND(\"MEDICAID\",A79)),\"X\",\"\")","v":""},{"$f":"IF(ISNUMBER(FIND(\"MEDICARE\",A79)),\"X\",\"\")","v":""},{"$f":"IF(ISNUMBER(FIND(\"BC/BS\",#REF!)),\"X\",\"\")","v":""}]
["AETNA BETTER HEALTH OF KENTUCKY","X",{"$f":"IF(ISNUMBER(FIND(\"MEDICAID\",A80)),\"X\",\"\")","v":""},{"$f":"IF(ISNUMBER(FIND(\"MEDICARE\",A80)),\"X\",\"\")","v":""},{"$f":"IF(ISNUMBER(FIND(\"BC/BS\",#REF!)),\"X\",\"\")","v":""}]
["AETNA BETTER HEALTH OF LOUISIANA","X",{"$f":"IF(ISNUMBER(FIND(\"MEDICAID\",A81)),\"X\",\"\")","v":""},{"$f":"IF(ISNUMBER(FIND(\"MEDICARE\",A81)),\"X\",\"\")","v":""},{"$f":"IF(ISNUMBER(FIND(\"BC/BS\",#REF!)),\"X\",\"\")","v":""}]
["AETNA BETTER HEALTH OF MARYLAND","X",{"$f":"IF(ISNUMBER(FIND(\"MEDICAID\",A82)),\"X\",\"\")","v":""},{"$f":"IF(ISNUMBER(FIND(\"MEDICARE\",A82)),\"X\",\"\")","v":""},{"$f":"IF(ISNUMBER(FIND(\"BC/BS\",#REF!)),\"X\",\"\")","v":""}]
["AETNA BETTER HEALTH OF MICHIGAN","X",{"$f":"IF(ISNUMBER(FIND(\"MEDICAID\",A83)),\"X\",\"\")","v":""},{"$f":"IF(ISNUMBER(FIND(\"MEDICARE\",A83)),\"X\",\"\")","v":""},{"$f":"IF(ISNUMBER(FIND(\"BC/BS\",#REF!)),\"X\",\"\")","v":""}]
["AETNA BETTER HEALTH OF NEW JERSEY","X",{"$f":"IF(ISNUMBER(FIND(\"MEDICAID\",A84)),\"X\",\"\")","v":""},{"$f":"IF(ISNUMBER(FIND(\"MEDICARE\",A84)),\"X\",\"\")","v":""},{"$f":"IF(ISNUMBER(FIND(\"BC/BS\",#REF!)),\"X\",\"\")","v":""}]
["AETNA BETTER HEALTH OF NEW YORK","X",{"$f":"IF(ISNUMBER(FIND(\"MEDICAID\",A85)),\"X\",\"\")","v":""},{"$f":"IF(ISNUMBER(FIND(\"MEDICARE\",A85)),\"X\",\"\")","v":""},{"$f":"IF(ISNUMBER(FIND(\"BC/BS\",#REF!)),\"X\",\"\")","v":""}]
["AETNA BETTER HEALTH OF OHIO","X",{"$f":"IF(ISNUMBER(FIND(\"MEDICAID\",A86)),\"X\",\"\")","v":""},{"$f":"IF(ISNUMBER(FIND(\"MEDICARE\",A86)),\"X\",\"\")","v":""},{"$f":"IF(ISNUMBER(FIND(\"BC/BS\",#REF!)),\"X\",\"\")","v":""}]
["AETNA BETTER HEALTH OF OHIO - OHIORISE",null,{"$f":"IF(ISNUMBER(FIND(\"MEDICAID\",A87)),\"X\",\"\")","v":""},{"$f":"IF(ISNUMBER(FIND(\"MEDICARE\",A87)),\"X\",\"\")","v":""},{"$f":"IF(ISNUMBER(FIND(\"BC/BS\",#REF!)),\"X\",\"\")","v":""}]
["AETNA BETTER HEALTH OF PENNSYLVANIA","X",{"$f":"IF(ISNUMBER(FIND(\"MEDICAID\",A88)),\"X\",\"\")","v":""},{"$f":"IF(ISNUMBER(FIND(\"MEDICARE\",A88)),\"X\",\"\")","v":""},{"$f":"IF(ISNUMBER(FIND(\"BC/BS\",#REF!)),\"X\",\"\")","v":""}]
["AETNA BETTER HEALTH OF TEXAS","X",{"$f":"IF(ISNUMBER(FIND(\"MEDICAID\",A89)),\"X\",\"\")","v":""},{"$f":"IF(ISNUMBER(FIND(\"MEDICARE\",A89)),\"X\",\"\")","v":""},{"$f":"IF(ISNUMBER(FIND(\"BC/BS\",#REF!)),\"X\",\"\")","v":""}]
["AETNA BETTER HEALTH OF VIRGINIA","X",{"$f":"IF(ISNUMBER(FIND(\"MEDICAID\",A90)),\"X\",\"\")","v":""},{"$f":"IF(ISNUMBER(FIND(\"MEDICARE\",A90)),\"X\",\"\")","v":""},{"$f":"IF(ISNUMBER(FIND(\"BC/BS\",#REF!)),\"X\",\"\")","v":""}]
["AETNA BETTER HEALTH OF WEST VIRGINIA","X",{"$f":"IF(ISNUMBER(FIND(\"MEDICAID\",A91)),\"X\",\"\")","v":""},{"$f":"IF(ISNUMBER(FIND(\"MEDICARE\",A91)),\"X\",\"\")","v":""},{"$f":"IF(ISNUMBER(FIND(\"BC/BS\",#REF!)),\"X\",\"\")","v":""}]
["AETNA HEALTH AND LIFE INSURANCE COMPANY (AETNA SSI)","X",{"$f":"IF(ISNUMBER(FIND(\"MEDICAID\",A92)),\"X\",\"\")","v":""},{"$f":"IF(ISNUMBER(FIND(\"MEDICARE\",A92)),\"X\",\"\")","v":""},{"$f":"IF(ISNUMBER(FIND(\"BC/BS\",#REF!)),\"X\",\"\")","v":""}]
["AETNA HEALTH INSURANCE COMPANY (AETNA SSI)","X",{"$f":"IF(ISNUMBER(FIND(\"MEDICAID\",A93)),\"X\",\"\")","v":""},{"$f":"IF(ISNUMBER(FIND(\"MEDICARE\",A93)),\"X\",\"\")","v":""},{"$f":"IF(ISNUMBER(FIND(\"BC/BS\",#REF!)),\"X\",\"\")","v":""}]
["AETNA LIFE INSURANCE COMPANY (AETNA SSI)","X",{"$f":"IF(ISNUMBER(FIND(\"MEDICAID\",A94)),\"X\",\"\")","v":""},{"$f":"IF(ISNUMBER(FIND(\"MEDICARE\",A94)),\"X\",\"\")","v":""},{"$f":"IF(ISNUMBER(FIND(\"BC/BS\",#REF!)),\"X\",\"\")","v":""}]
["AETNA PRIMECARE COMMERCIAL INSTITUTIONAL (NAMM CALIFORNIA)","X",{"$f":"IF(ISNUMBER(FIND(\"MEDICAID\",A95)),\"X\",\"\")","v":""},{"$f":"IF(ISNUMBER(FIND(\"MEDICARE\",A95)),\"X\",\"\")","v":""},{"$f":"IF(ISNUMBER(FIND(\"BC/BS\",#REF!)),\"X\",\"\")","v":""}]
["AETNA PRIMECARE INSTITUTIONAL RISK (NAMM CALIFORNIA)","X",{"$f":"IF(ISNUMBER(FIND(\"MEDICAID\",A96)),\"X\",\"\")","v":""},{"$f":"IF(ISNUMBER(FIND(\"MEDICARE\",A96)),\"X\",\"\")","v":""},{"$f":"IF(ISNUMBER(FIND(\"BC/BS\",#REF!)),\"X\",\"\")","v":""}]
["AETNA VOLUNTARY","X",{"$f":"IF(ISNUMBER(FIND(\"MEDICAID\",A97)),\"X\",\"\")","v":""},{"$f":"IF(ISNUMBER(FIND(\"MEDICARE\",A97)),\"X\",\"\")","v":""},{"$f":"IF(ISNUMBER(FIND(\"BC/BS\",#REF!)),\"X\",\"\")","v":""}]
["AFFINITY HEALTH PLAN","X",{"$f":"IF(ISNUMBER(FIND(\"MEDICAID\",A98)),\"X\",\"\")","v":""},{"$f":"IF(ISNUMBER(FIND(\"MEDICARE\",A98)),\"X\",\"\")","v":""},{"$f":"IF(ISNUMBER(FIND(\"BC/BS\",#REF!)),\"X\",\"\")","v":""}]
["AFFORDABLE BENEFIT ADMINISTRATORS (EAU CLAIRE, WI)","X",{"$f":"IF(ISNUMBER(FIND(\"MEDICAID\",A99)),\"X\",\"\")","v":""},{"$f":"IF(ISNUMBER(FIND(\"MEDICARE\",A99)),\"X\",\"\")","v":""},{"$f":"IF(ISNUMBER(FIND(\"BC/BS\",#REF!)),\"X\",\"\")","v":""}]
["AFLAC (AMERICAN FAMILY LIFE ASSURANCE COMPANY OF  COLUMBUS) (AETNA SENIOR SUPPLEMENTAL INSURANCE)","X",{"$f":"IF(ISNUMBER(FIND(\"MEDICAID\",A100)),\"X\",\"\")","v":""},{"$f":"IF(ISNUMBER(FIND(\"MEDICARE\",A100)),\"X\",\"\")","v":""},{"$f":"IF(ISNUMBER(FIND(\"BC/BS\",#REF!)),\"X\",\"\")","v":""}]
["AFLAC (AMERICAN FAMILY LIFE ASSURANCE COMPANY OF COLUMBUS)","X",{"$f":"IF(ISNUMBER(FIND(\"MEDICAID\",A101)),\"X\",\"\")","v":""},{"$f":"IF(ISNUMBER(FIND(\"MEDICARE\",A101)),\"X\",\"\")","v":""},{"$f":"IF(ISNUMBER(FIND(\"BC/BS\",#REF!)),\"X\",\"\")","v":""},null,"X"]
["AFLAC (AMERICAN FAMILY LIFE ASSURANCE COMPANY OF COLUMBUS) (MEDICARE SUPPLEMENT)","X",{"$f":"IF(ISNUMBER(FIND(\"MEDICAID\",A102)),\"X\",\"\")","v":""},null,{"$f":"IF(ISNUMBER(FIND(\"BC/BS\",#REF!)),\"X\",\"\")","v":""}]
["A-G ADMINISTRATORS LLC","X",{"$f":"IF(ISNUMBER(FIND(\"MEDICAID\",A103)),\"X\",\"\")","v":""},{"$f":"IF(ISNUMBER(FIND(\"MEDICARE\",A103)),\"X\",\"\")","v":""},{"$f":"IF(ISNUMBER(FIND(\"BC/BS\",#REF!)),\"X\",\"\")","v":""}]
["AGAPE SENIOR (90 DEGREE BENEFITS NORTH CAROLINA - CORPORATE BENEFIT SERVICES)","X",{"$f":"IF(ISNUMBER(FIND(\"MEDICAID\",A104)),\"X\",\"\")","v":""},{"$f":"IF(ISNUMBER(FIND(\"MEDICARE\",A104)),\"X\",\"\")","v":""},{"$f":"IF(ISNUMBER(FIND(\"BC/BS\",#REF!)),\"X\",\"\")","v":""}]
["AGCO CORPORATION (AMERIBEN)",null,{"$f":"IF(ISNUMBER(FIND(\"MEDICAID\",A105)),\"X\",\"\")","v":""},{"$f":"IF(ISNUMBER(FIND(\"MEDICARE\",A105)),\"X\",\"\")","v":""},{"$f":"IF(ISNUMBER(FIND(\"BC/BS\",#REF!)),\"X\",\"\")","v":""}]
["AGEWELL NEW YORK",null,{"$f":"IF(ISNUMBER(FIND(\"MEDICAID\",A106)),\"X\",\"\")","v":""},{"$f":"IF(ISNUMBER(FIND(\"MEDICARE\",A106)),\"X\",\"\")","v":""},{"$f":"IF(ISNUMBER(FIND(\"BC/BS\",#REF!)),\"X\",\"\")","v":""}]
["AGGRESSIVE DEVELOPMENT (IPMG)","X",{"$f":"IF(ISNUMBER(FIND(\"MEDICAID\",A107)),\"X\",\"\")","v":""},{"$f":"IF(ISNUMBER(FIND(\"MEDICARE\",A107)),\"X\",\"\")","v":""},{"$f":"IF(ISNUMBER(FIND(\"BC/BS\",#REF!)),\"X\",\"\")","v":""}]
["AHPO (ADVOCATE PHYSICIAN PARTNERS)",null,{"$f":"IF(ISNUMBER(FIND(\"MEDICAID\",A108)),\"X\",\"\")","v":""},{"$f":"IF(ISNUMBER(FIND(\"MEDICARE\",A108)),\"X\",\"\")","v":""},{"$f":"IF(ISNUMBER(FIND(\"BC/BS\",#REF!)),\"X\",\"\")","v":""}]
["AIDS HEALTHCARE FOUNDATION",null,{"$f":"IF(ISNUMBER(FIND(\"MEDICAID\",A109)),\"X\",\"\")","v":""},{"$f":"IF(ISNUMBER(FIND(\"MEDICARE\",A109)),\"X\",\"\")","v":""},{"$f":"IF(ISNUMBER(FIND(\"BC/BS\",#REF!)),\"X\",\"\")","v":""}]
["AIG CENTRAL WC","X",{"$f":"IF(ISNUMBER(FIND(\"MEDICAID\",A110)),\"X\",\"\")","v":""},{"$f":"IF(ISNUMBER(FIND(\"MEDICARE\",A110)),\"X\",\"\")","v":""},{"$f":"IF(ISNUMBER(FIND(\"BC/BS\",#REF!)),\"X\",\"\")","v":""},"X"]
["AIG EAST WC","X",{"$f":"IF(ISNUMBER(FIND(\"MEDICAID\",A111)),\"X\",\"\")","v":""},{"$f":"IF(ISNUMBER(FIND(\"MEDICARE\",A111)),\"X\",\"\")","v":""},{"$f":"IF(ISNUMBER(FIND(\"BC/BS\",#REF!)),\"X\",\"\")","v":""},"X"]
["AIG FEDERAL","X",{"$f":"IF(ISNUMBER(FIND(\"MEDICAID\",A112)),\"X\",\"\")","v":""},{"$f":"IF(ISNUMBER(FIND(\"MEDICARE\",A112)),\"X\",\"\")","v":""},{"$f":"IF(ISNUMBER(FIND(\"BC/BS\",#REF!)),\"X\",\"\")","v":""},"X"]
["AIG MCU","X",{"$f":"IF(ISNUMBER(FIND(\"MEDICAID\",A113)),\"X\",\"\")","v":""},{"$f":"IF(ISNUMBER(FIND(\"MEDICARE\",A113)),\"X\",\"\")","v":""},{"$f":"IF(ISNUMBER(FIND(\"BC/BS\",#REF!)),\"X\",\"\")","v":""},"X"]
["AIG TRANSPORTATION AGENCY (AIG)","X",{"$f":"IF(ISNUMBER(FIND(\"MEDICAID\",A114)),\"X\",\"\")","v":""},{"$f":"IF(ISNUMBER(FIND(\"MEDICARE\",A114)),\"X\",\"\")","v":""},{"$f":"IF(ISNUMBER(FIND(\"BC/BS\",#REF!)),\"X\",\"\")","v":""},"X"]
["AIG WEST WC","X",{"$f":"IF(ISNUMBER(FIND(\"MEDICAID\",A115)),\"X\",\"\")","v":""},{"$f":"IF(ISNUMBER(FIND(\"MEDICARE\",A115)),\"X\",\"\")","v":""},{"$f":"IF(ISNUMBER(FIND(\"BC/BS\",#REF!)),\"X\",\"\")","v":""},"X"]
["AIR SYSTEMS INC (SENTARA)","X",{"$f":"IF(ISNUMBER(FIND(\"MEDICAID\",A116)),\"X\",\"\")","v":""},{"$f":"IF(ISNUMBER(FIND(\"MEDICARE\",A116)),\"X\",\"\")","v":""},{"$f":"IF(ISNUMBER(FIND(\"BC/BS\",#REF!)),\"X\",\"\")","v":""}]
["AIR-CARE SOUTHEAST INC EBPT (90 DEGREE BENEFITS HOUSTON - ENTRUST)",null,{"$f":"IF(ISNUMBER(FIND(\"MEDICAID\",A117)),\"X\",\"\")","v":""},{"$f":"IF(ISNUMBER(FIND(\"MEDICARE\",A117)),\"X\",\"\")","v":""},{"$f":"IF(ISNUMBER(FIND(\"BC/BS\",#REF!)),\"X\",\"\")","v":""}]
["AITHER HEALTH","X",{"$f":"IF(ISNUMBER(FIND(\"MEDICAID\",A118)),\"X\",\"\")","v":""},{"$f":"IF(ISNUMBER(FIND(\"MEDICARE\",A118)),\"X\",\"\")","v":""},{"$f":"IF(ISNUMBER(FIND(\"BC/BS\",#REF!)),\"X\",\"\")","v":""}]
["AIU INSURANCE COMPANY (AIG)","X",{"$f":"IF(ISNUMBER(FIND(\"MEDICAID\",A119)),\"X\",\"\")","v":""},{"$f":"IF(ISNUMBER(FIND(\"MEDICARE\",A119)),\"X\",\"\")","v":""},{"$f":"IF(ISNUMBER(FIND(\"BC/BS\",#REF!)),\"X\",\"\")","v":""},"X"]
["AK-CHIN INDIAN COMMUNITY/FARMS (AMERIBEN)",null,{"$f":"IF(ISNUMBER(FIND(\"MEDICAID\",A120)),\"X\",\"\")","v":""},{"$f":"IF(ISNUMBER(FIND(\"MEDICARE\",A120)),\"X\",\"\")","v":""},{"$f":"IF(ISNUMBER(FIND(\"BC/BS\",#REF!)),\"X\",\"\")","v":""}]
["ALABAMA WC CLAIMS BRANCH (AUTO-OWNERS INSURANCE COMPANY)","X",{"$f":"IF(ISNUMBER(FIND(\"MEDICAID\",A121)),\"X\",\"\")","v":""},{"$f":"IF(ISNUMBER(FIND(\"MEDICARE\",A121)),\"X\",\"\")","v":""},{"$f":"IF(ISNUMBER(FIND(\"BC/BS\",#REF!)),\"X\",\"\")","v":""},"X"]
["ALAMEDA HEALTH SYSTEM (HEALTHCOMP)","X",{"$f":"IF(ISNUMBER(FIND(\"MEDICAID\",A122)),\"X\",\"\")","v":""},{"$f":"IF(ISNUMBER(FIND(\"MEDICARE\",A122)),\"X\",\"\")","v":""},{"$f":"IF(ISNUMBER(FIND(\"BC/BS\",#REF!)),\"X\",\"\")","v":""}]
["ALBANY CITY SCHOOL DISTRICT (CDPHP)","X",{"$f":"IF(ISNUMBER(FIND(\"MEDICAID\",A123)),\"X\",\"\")","v":""},{"$f":"IF(ISNUMBER(FIND(\"MEDICARE\",A123)),\"X\",\"\")","v":""},{"$f":"IF(ISNUMBER(FIND(\"BC/BS\",#REF!)),\"X\",\"\")","v":""}]
["ALBANY MEDICAL CENTER (CDPHP)","X",{"$f":"IF(ISNUMBER(FIND(\"MEDICAID\",A124)),\"X\",\"\")","v":""},{"$f":"IF(ISNUMBER(FIND(\"MEDICARE\",A124)),\"X\",\"\")","v":""},{"$f":"IF(ISNUMBER(FIND(\"BC/BS\",#REF!)),\"X\",\"\")","v":""}]
["ALBUQUERQUE PUBLIC SCHOOLS ASO (PRESBYTERIAN HEALTH PLAN)","X",{"$f":"IF(ISNUMBER(FIND(\"MEDICAID\",A125)),\"X\",\"\")","v":""},{"$f":"IF(ISNUMBER(FIND(\"MEDICARE\",A125)),\"X\",\"\")","v":""},{"$f":"IF(ISNUMBER(FIND(\"BC/BS\",#REF!)),\"X\",\"\")","v":""}]
["ALEDA E. LUTZ VA MEDICAL CENTER",null,{"$f":"IF(ISNUMBER(FIND(\"MEDICAID\",A126)),\"X\",\"\")","v":""},{"$f":"IF(ISNUMBER(FIND(\"MEDICARE\",A126)),\"X\",\"\")","v":""},{"$f":"IF(ISNUMBER(FIND(\"BC/BS\",#REF!)),\"X\",\"\")","v":""}]
["ALI TRANSPORTATION LLC (SENTARA)","X",{"$f":"IF(ISNUMBER(FIND(\"MEDICAID\",A127)),\"X\",\"\")","v":""},{"$f":"IF(ISNUMBER(FIND(\"MEDICARE\",A127)),\"X\",\"\")","v":""},{"$f":"IF(ISNUMBER(FIND(\"BC/BS\",#REF!)),\"X\",\"\")","v":""}]
["ALIGN SENIOR CARE MI","X",{"$f":"IF(ISNUMBER(FIND(\"MEDICAID\",A128)),\"X\",\"\")","v":""},{"$f":"IF(ISNUMBER(FIND(\"MEDICARE\",A128)),\"X\",\"\")","v":""},{"$f":"IF(ISNUMBER(FIND(\"BC/BS\",#REF!)),\"X\",\"\")","v":""}]
["ALIGNMENT HEALTH PLAN [CALIFORNIA]","X",{"$f":"IF(ISNUMBER(FIND(\"MEDICAID\",A129)),\"X\",\"\")","v":""},{"$f":"IF(ISNUMBER(FIND(\"MEDICARE\",A129)),\"X\",\"\")","v":""},{"$f":"IF(ISNUMBER(FIND(\"BC/BS\",#REF!)),\"X\",\"\")","v":""}]
["ALIGNMENT HEALTHCARE NORTH CAROLINA","X",{"$f":"IF(ISNUMBER(FIND(\"MEDICAID\",A130)),\"X\",\"\")","v":""},{"$f":"IF(ISNUMBER(FIND(\"MEDICARE\",A130)),\"X\",\"\")","v":""},{"$f":"IF(ISNUMBER(FIND(\"BC/BS\",#REF!)),\"X\",\"\")","v":""}]
["ALIGNMENT SENIOR GLOBAL RISK INSTIT","X",{"$f":"IF(ISNUMBER(FIND(\"MEDICAID\",A131)),\"X\",\"\")","v":""},{"$f":"IF(ISNUMBER(FIND(\"MEDICARE\",A131)),\"X\",\"\")","v":""},{"$f":"IF(ISNUMBER(FIND(\"BC/BS\",#REF!)),\"X\",\"\")","v":""}]
["ALL AMERICAN MEDICAL GROUP","X",{"$f":"IF(ISNUMBER(FIND(\"MEDICAID\",A132)),\"X\",\"\")","v":""},{"$f":"IF(ISNUMBER(FIND(\"MEDICARE\",A132)),\"X\",\"\")","v":""},{"$f":"IF(ISNUMBER(FIND(\"BC/BS\",#REF!)),\"X\",\"\")","v":""}]
["ALL SAVERS INSURANCE COMPANY (UHC)","X",{"$f":"IF(ISNUMBER(FIND(\"MEDICAID\",A133)),\"X\",\"\")","v":""},{"$f":"IF(ISNUMBER(FIND(\"MEDICARE\",A133)),\"X\",\"\")","v":""},{"$f":"IF(ISNUMBER(FIND(\"BC/BS\",#REF!)),\"X\",\"\")","v":""}]
["ALLCARE ADVANTAGE",null,{"$f":"IF(ISNUMBER(FIND(\"MEDICAID\",A134)),\"X\",\"\")","v":""},{"$f":"IF(ISNUMBER(FIND(\"MEDICARE\",A134)),\"X\",\"\")","v":""},{"$f":"IF(ISNUMBER(FIND(\"BC/BS\",#REF!)),\"X\",\"\")","v":""}]
["ALLCARE HEALTH CCO",null,{"$f":"IF(ISNUMBER(FIND(\"MEDICAID\",A135)),\"X\",\"\")","v":""},{"$f":"IF(ISNUMBER(FIND(\"MEDICARE\",A135)),\"X\",\"\")","v":""},{"$f":"IF(ISNUMBER(FIND(\"BC/BS\",#REF!)),\"X\",\"\")","v":""}]
["ALLCARE INDEPENDENT PHYSICIAN ASSOCIATION","X",{"$f":"IF(ISNUMBER(FIND(\"MEDICAID\",A136)),\"X\",\"\")","v":""},{"$f":"IF(ISNUMBER(FIND(\"MEDICARE\",A136)),\"X\",\"\")","v":""},{"$f":"IF(ISNUMBER(FIND(\"BC/BS\",#REF!)),\"X\",\"\")","v":""}]
["ALLEGANY COUNTY (INDEPENDENT HEALTH)","X",{"$f":"IF(ISNUMBER(FIND(\"MEDICAID\",A137)),\"X\",\"\")","v":""},{"$f":"IF(ISNUMBER(FIND(\"MEDICARE\",A137)),\"X\",\"\")","v":""},{"$f":"IF(ISNUMBER(FIND(\"BC/BS\",#REF!)),\"X\",\"\")","v":""}]
["ALLEGEANT","X",{"$f":"IF(ISNUMBER(FIND(\"MEDICAID\",A138)),\"X\",\"\")","v":""},{"$f":"IF(ISNUMBER(FIND(\"MEDICARE\",A138)),\"X\",\"\")","v":""},{"$f":"IF(ISNUMBER(FIND(\"BC/BS\",#REF!)),\"X\",\"\")","v":""}]
["ALLEGIANCE BENEFIT PLAN MANAGEMENT","X",{"$f":"IF(ISNUMBER(FIND(\"MEDICAID\",A139)),\"X\",\"\")","v":""},{"$f":"IF(ISNUMBER(FIND(\"MEDICARE\",A139)),\"X\",\"\")","v":""},{"$f":"IF(ISNUMBER(FIND(\"BC/BS\",#REF!)),\"X\",\"\")","v":""}]
["ALLIANCE COAL HEALTH PLAN","X",{"$f":"IF(ISNUMBER(FIND(\"MEDICAID\",A140)),\"X\",\"\")","v":""},{"$f":"IF(ISNUMBER(FIND(\"MEDICARE\",A140)),\"X\",\"\")","v":""},{"$f":"IF(ISNUMBER(FIND(\"BC/BS\",#REF!)),\"X\",\"\")","v":""}]
["ALLIANCE DESERT PHYSICIANS (EPIC MANAGEMENT)","X",{"$f":"IF(ISNUMBER(FIND(\"MEDICAID\",A141)),\"X\",\"\")","v":""},{"$f":"IF(ISNUMBER(FIND(\"MEDICARE\",A141)),\"X\",\"\")","v":""},{"$f":"IF(ISNUMBER(FIND(\"BC/BS\",#REF!)),\"X\",\"\")","v":""}]
["ALLIANT HEALTH PLANS","X",{"$f":"IF(ISNUMBER(FIND(\"MEDICAID\",A142)),\"X\",\"\")","v":""},{"$f":"IF(ISNUMBER(FIND(\"MEDICARE\",A142)),\"X\",\"\")","v":""},{"$f":"IF(ISNUMBER(FIND(\"BC/BS\",#REF!)),\"X\",\"\")","v":""}]
["ALLIANZ LIFE INSURANCE COMPANY (MERCER)",null,{"$f":"IF(ISNUMBER(FIND(\"MEDICAID\",A143)),\"X\",\"\")","v":""},{"$f":"IF(ISNUMBER(FIND(\"MEDICARE\",A143)),\"X\",\"\")","v":""},{"$f":"IF(ISNUMBER(FIND(\"BC/BS\",#REF!)),\"X\",\"\")","v":""}]
["ALLIED ASO","X",{"$f":"IF(ISNUMBER(FIND(\"MEDICAID\",A144)),\"X\",\"\")","v":""},{"$f":"IF(ISNUMBER(FIND(\"MEDICARE\",A144)),\"X\",\"\")","v":""},{"$f":"IF(ISNUMBER(FIND(\"BC/BS\",#REF!)),\"X\",\"\")","v":""}]
["ALLIED BENEFIT SYSTEMS","X",{"$f":"IF(ISNUMBER(FIND(\"MEDICAID\",A145)),\"X\",\"\")","v":""},{"$f":"IF(ISNUMBER(FIND(\"MEDICARE\",A145)),\"X\",\"\")","v":""},{"$f":"IF(ISNUMBER(FIND(\"BC/BS\",#REF!)),\"X\",\"\")","v":""}]
["ALLIED BENEFIT SYSTEMS CBS (CHRISTIAN BROTHERS SERVICES) (ROMEVILLE, IL)","X",{"$f":"IF(ISNUMBER(FIND(\"MEDICAID\",A146)),\"X\",\"\")","v":""},{"$f":"IF(ISNUMBER(FIND(\"MEDICARE\",A146)),\"X\",\"\")","v":""},{"$f":"IF(ISNUMBER(FIND(\"BC/BS\",#REF!)),\"X\",\"\")","v":""}]
["ALLIED DIGITAL SERVICES LLC (GROUP & PENSION ADMIN)",null,{"$f":"IF(ISNUMBER(FIND(\"MEDICAID\",A147)),\"X\",\"\")","v":""},{"$f":"IF(ISNUMBER(FIND(\"MEDICARE\",A147)),\"X\",\"\")","v":""},{"$f":"IF(ISNUMBER(FIND(\"BC/BS\",#REF!)),\"X\",\"\")","v":""}]
["ALLIED NATIONAL INC","X",{"$f":"IF(ISNUMBER(FIND(\"MEDICAID\",A148)),\"X\",\"\")","v":""},{"$f":"IF(ISNUMBER(FIND(\"MEDICARE\",A148)),\"X\",\"\")","v":""},{"$f":"IF(ISNUMBER(FIND(\"BC/BS\",#REF!)),\"X\",\"\")","v":""}]
["ALLIED PHYSICIANS INC (THE HEALTH PLAN)",null,{"$f":"IF(ISNUMBER(FIND(\"MEDICAID\",A149)),\"X\",\"\")","v":""},{"$f":"IF(ISNUMBER(FIND(\"MEDICARE\",A149)),\"X\",\"\")","v":""},{"$f":"IF(ISNUMBER(FIND(\"BC/BS\",#REF!)),\"X\",\"\")","v":""}]
["ALLIED TRADES ASSISTANCE PROGRAM","X",{"$f":"IF(ISNUMBER(FIND(\"MEDICAID\",A150)),\"X\",\"\")","v":""},{"$f":"IF(ISNUMBER(FIND(\"MEDICARE\",A150)),\"X\",\"\")","v":""},{"$f":"IF(ISNUMBER(FIND(\"BC/BS\",#REF!)),\"X\",\"\")","v":""}]
["ALLSTATE",null,{"$f":"IF(ISNUMBER(FIND(\"MEDICAID\",A151)),\"X\",\"\")","v":""},{"$f":"IF(ISNUMBER(FIND(\"MEDICARE\",A151)),\"X\",\"\")","v":""},{"$f":"IF(ISNUMBER(FIND(\"BC/BS\",#REF!)),\"X\",\"\")","v":""}]
["ALLWAYS HEALTH PARTNERS","X",{"$f":"IF(ISNUMBER(FIND(\"MEDICAID\",A152)),\"X\",\"\")","v":""},{"$f":"IF(ISNUMBER(FIND(\"MEDICARE\",A152)),\"X\",\"\")","v":""},{"$f":"IF(ISNUMBER(FIND(\"BC/BS\",#REF!)),\"X\",\"\")","v":""}]
["ALLWELL FROM ABSOLUTE TOTAL CARE","X",{"$f":"IF(ISNUMBER(FIND(\"MEDICAID\",A153)),\"X\",\"\")","v":""},{"$f":"IF(ISNUMBER(FIND(\"MEDICARE\",A153)),\"X\",\"\")","v":""},{"$f":"IF(ISNUMBER(FIND(\"BC/BS\",#REF!)),\"X\",\"\")","v":""}]
["ALLWELL FROM ARIZONA COMPLETE HEALTH","X",{"$f":"IF(ISNUMBER(FIND(\"MEDICAID\",A154)),\"X\",\"\")","v":""},{"$f":"IF(ISNUMBER(FIND(\"MEDICARE\",A154)),\"X\",\"\")","v":""},{"$f":"IF(ISNUMBER(FIND(\"BC/BS\",#REF!)),\"X\",\"\")","v":""}]
["ALLWELL FROM BUCKEYE HEALTH PLAN","X",{"$f":"IF(ISNUMBER(FIND(\"MEDICAID\",A155)),\"X\",\"\")","v":""},{"$f":"IF(ISNUMBER(FIND(\"MEDICARE\",A155)),\"X\",\"\")","v":""},{"$f":"IF(ISNUMBER(FIND(\"BC/BS\",#REF!)),\"X\",\"\")","v":""}]
["ALLWELL FROM HOME STATE HEALTH","X",{"$f":"IF(ISNUMBER(FIND(\"MEDICAID\",A156)),\"X\",\"\")","v":""},{"$f":"IF(ISNUMBER(FIND(\"MEDICARE\",A156)),\"X\",\"\")","v":""},"X"]
["ALLWELL FROM LOUISIANA HEALTHCARE","X",{"$f":"IF(ISNUMBER(FIND(\"MEDICAID\",A157)),\"X\",\"\")","v":""},{"$f":"IF(ISNUMBER(FIND(\"MEDICARE\",A157)),\"X\",\"\")","v":""},{"$f":"IF(ISNUMBER(FIND(\"BC/BS\",#REF!)),\"X\",\"\")","v":""}]
["ALLWELL FROM MANAGED HEALTH SERVICE","X",{"$f":"IF(ISNUMBER(FIND(\"MEDICAID\",A158)),\"X\",\"\")","v":""},{"$f":"IF(ISNUMBER(FIND(\"MEDICARE\",A158)),\"X\",\"\")","v":""},{"$f":"IF(ISNUMBER(FIND(\"BC/BS\",#REF!)),\"X\",\"\")","v":""}]
["ALLWELL FROM SILVER SUMMIT HEALTH","X",{"$f":"IF(ISNUMBER(FIND(\"MEDICAID\",A159)),\"X\",\"\")","v":""},{"$f":"IF(ISNUMBER(FIND(\"MEDICARE\",A159)),\"X\",\"\")","v":""},{"$f":"IF(ISNUMBER(FIND(\"BC/BS\",#REF!)),\"X\",\"\")","v":""}]
["ALLWELL FROM SUNFLOWER HEALTH PLAN","X",{"$f":"IF(ISNUMBER(FIND(\"MEDICAID\",A160)),\"X\",\"\")","v":""},{"$f":"IF(ISNUMBER(FIND(\"MEDICARE\",A160)),\"X\",\"\")","v":""},{"$f":"IF(ISNUMBER(FIND(\"BC/BS\",#REF!)),\"X\",\"\")","v":""}]
["ALLWELL FROM WESTERN SKY COMMUNITY","X",{"$f":"IF(ISNUMBER(FIND(\"MEDICAID\",A161)),\"X\",\"\")","v":""},{"$f":"IF(ISNUMBER(FIND(\"MEDICARE\",A161)),\"X\",\"\")","v":""},{"$f":"IF(ISNUMBER(FIND(\"BC/BS\",#REF!)),\"X\",\"\")","v":""}]
["ALLWELL OF ARKANSAS HEALTH WELLNESS","X",{"$f":"IF(ISNUMBER(FIND(\"MEDICAID\",A162)),\"X\",\"\")","v":""},{"$f":"IF(ISNUMBER(FIND(\"MEDICARE\",A162)),\"X\",\"\")","v":""},{"$f":"IF(ISNUMBER(FIND(\"BC/BS\",#REF!)),\"X\",\"\")","v":""}]
["ALOHACARE","X",{"$f":"IF(ISNUMBER(FIND(\"MEDICAID\",A163)),\"X\",\"\")","v":""},{"$f":"IF(ISNUMBER(FIND(\"MEDICARE\",A163)),\"X\",\"\")","v":""},{"$f":"IF(ISNUMBER(FIND(\"BC/BS\",#REF!)),\"X\",\"\")","v":""}]
["ALPHAPOINTE EBPT (90 DEGREE BENEFITS HOUSTON - ENTRUST)","X",{"$f":"IF(ISNUMBER(FIND(\"MEDICAID\",A164)),\"X\",\"\")","v":""},{"$f":"IF(ISNUMBER(FIND(\"MEDICARE\",A164)),\"X\",\"\")","v":""},{"$f":"IF(ISNUMBER(FIND(\"BC/BS\",#REF!)),\"X\",\"\")","v":""}]
["ALPHASCRIP INC",null,{"$f":"IF(ISNUMBER(FIND(\"MEDICAID\",A165)),\"X\",\"\")","v":""},{"$f":"IF(ISNUMBER(FIND(\"MEDICARE\",A165)),\"X\",\"\")","v":""},{"$f":"IF(ISNUMBER(FIND(\"BC/BS\",#REF!)),\"X\",\"\")","v":""}]
["AL'S AUTOMOTIVE (IPMG)","X",{"$f":"IF(ISNUMBER(FIND(\"MEDICAID\",A166)),\"X\",\"\")","v":""},{"$f":"IF(ISNUMBER(FIND(\"MEDICARE\",A166)),\"X\",\"\")","v":""},{"$f":"IF(ISNUMBER(FIND(\"BC/BS\",#REF!)),\"X\",\"\")","v":""}]
["ALSCO INC (AMERIBEN)",null,{"$f":"IF(ISNUMBER(FIND(\"MEDICAID\",A167)),\"X\",\"\")","v":""},{"$f":"IF(ISNUMBER(FIND(\"MEDICARE\",A167)),\"X\",\"\")","v":""},{"$f":"IF(ISNUMBER(FIND(\"BC/BS\",#REF!)),\"X\",\"\")","v":""}]
["ALTAMED HEALTH NETWORK INC","X",{"$f":"IF(ISNUMBER(FIND(\"MEDICAID\",A168)),\"X\",\"\")","v":""},{"$f":"IF(ISNUMBER(FIND(\"MEDICARE\",A168)),\"X\",\"\")","v":""},{"$f":"IF(ISNUMBER(FIND(\"BC/BS\",#REF!)),\"X\",\"\")","v":""}]
["ALTAMED HEALTH SERVICES CORPORATION","X",{"$f":"IF(ISNUMBER(FIND(\"MEDICAID\",A169)),\"X\",\"\")","v":""},{"$f":"IF(ISNUMBER(FIND(\"MEDICARE\",A169)),\"X\",\"\")","v":""},{"$f":"IF(ISNUMBER(FIND(\"BC/BS\",#REF!)),\"X\",\"\")","v":""}]
["ALTAONE FEDERAL CREDIT UNION (HEALTHCOMP)",null,{"$f":"IF(ISNUMBER(FIND(\"MEDICAID\",A170)),\"X\",\"\")","v":""},{"$f":"IF(ISNUMBER(FIND(\"MEDICARE\",A170)),\"X\",\"\")","v":""},{"$f":"IF(ISNUMBER(FIND(\"BC/BS\",#REF!)),\"X\",\"\")","v":""}]
["ALTERNATIVE INSURANCE RESOURCES INC","X",{"$f":"IF(ISNUMBER(FIND(\"MEDICAID\",A171)),\"X\",\"\")","v":""},{"$f":"IF(ISNUMBER(FIND(\"MEDICARE\",A171)),\"X\",\"\")","v":""},{"$f":"IF(ISNUMBER(FIND(\"BC/BS\",#REF!)),\"X\",\"\")","v":""}]
["ALTO INGREDIENTS INC (HEALTHCOMP)",null,{"$f":"IF(ISNUMBER(FIND(\"MEDICAID\",A172)),\"X\",\"\")","v":""},{"$f":"IF(ISNUMBER(FIND(\"MEDICARE\",A172)),\"X\",\"\")","v":""},{"$f":"IF(ISNUMBER(FIND(\"BC/BS\",#REF!)),\"X\",\"\")","v":""}]
["ALUMINUM PRECISION PRODUCTS (THE HEALTH PLAN)",null,{"$f":"IF(ISNUMBER(FIND(\"MEDICAID\",A173)),\"X\",\"\")","v":""},{"$f":"IF(ISNUMBER(FIND(\"MEDICARE\",A173)),\"X\",\"\")","v":""},{"$f":"IF(ISNUMBER(FIND(\"BC/BS\",#REF!)),\"X\",\"\")","v":""}]
["AMA INSURANCE AGENCY INC","X",{"$f":"IF(ISNUMBER(FIND(\"MEDICAID\",A174)),\"X\",\"\")","v":""},{"$f":"IF(ISNUMBER(FIND(\"MEDICARE\",A174)),\"X\",\"\")","v":""},{"$f":"IF(ISNUMBER(FIND(\"BC/BS\",#REF!)),\"X\",\"\")","v":""}]
["AMALGAMATED INSURANCE COMPANY","X",{"$f":"IF(ISNUMBER(FIND(\"MEDICAID\",A175)),\"X\",\"\")","v":""},{"$f":"IF(ISNUMBER(FIND(\"MEDICARE\",A175)),\"X\",\"\")","v":""},{"$f":"IF(ISNUMBER(FIND(\"BC/BS\",#REF!)),\"X\",\"\")","v":""}]
["AMBETTER","X",{"$f":"IF(ISNUMBER(FIND(\"MEDICAID\",A176)),\"X\",\"\")","v":""},{"$f":"IF(ISNUMBER(FIND(\"MEDICARE\",A176)),\"X\",\"\")","v":""},{"$f":"IF(ISNUMBER(FIND(\"BC/BS\",#REF!)),\"X\",\"\")","v":""}]
["AMC-TEHACHAPI VALLEY (ADVENTIST HEALTH SYSTEM WEST)","X",{"$f":"IF(ISNUMBER(FIND(\"MEDICAID\",A177)),\"X\",\"\")","v":""},{"$f":"IF(ISNUMBER(FIND(\"MEDICARE\",A177)),\"X\",\"\")","v":""},{"$f":"IF(ISNUMBER(FIND(\"BC/BS\",#REF!)),\"X\",\"\")","v":""}]
["AMERIBEN SOLUTIONS","X",{"$f":"IF(ISNUMBER(FIND(\"MEDICAID\",A178)),\"X\",\"\")","v":""},{"$f":"IF(ISNUMBER(FIND(\"MEDICARE\",A178)),\"X\",\"\")","v":""},{"$f":"IF(ISNUMBER(FIND(\"BC/BS\",#REF!)),\"X\",\"\")","v":""}]
["AMERICAN BENEFIT LIFE INSURANCE COMPANY (AETNA SSI)","X",{"$f":"IF(ISNUMBER(FIND(\"MEDICAID\",A179)),\"X\",\"\")","v":""},{"$f":"IF(ISNUMBER(FIND(\"MEDICARE\",A179)),\"X\",\"\")","v":""},{"$f":"IF(ISNUMBER(FIND(\"BC/BS\",#REF!)),\"X\",\"\")","v":""}]
["AMERICAN CONSOLIDATED NATURAL RESOURCES (THE HEALTH PLAN)","X",{"$f":"IF(ISNUMBER(FIND(\"MEDICAID\",A180)),\"X\",\"\")","v":""},{"$f":"IF(ISNUMBER(FIND(\"MEDICARE\",A180)),\"X\",\"\")","v":""},{"$f":"IF(ISNUMBER(FIND(\"BC/BS\",#REF!)),\"X\",\"\")","v":""}]
["AMERICAN CONTINENTAL INSURANCE COMPANY (AETNA SSI)","X",{"$f":"IF(ISNUMBER(FIND(\"MEDICAID\",A181)),\"X\",\"\")","v":""},{"$f":"IF(ISNUMBER(FIND(\"MEDICARE\",A181)),\"X\",\"\")","v":""},{"$f":"IF(ISNUMBER(FIND(\"BC/BS\",#REF!)),\"X\",\"\")","v":""}]
["AMERICAN FAMILY INSURANCE","X",{"$f":"IF(ISNUMBER(FIND(\"MEDICAID\",A182)),\"X\",\"\")","v":""},{"$f":"IF(ISNUMBER(FIND(\"MEDICARE\",A182)),\"X\",\"\")","v":""},{"$f":"IF(ISNUMBER(FIND(\"BC/BS\",#REF!)),\"X\",\"\")","v":""}]
["AMERICAN FAMILY MUTUAL INSURANCE COMPANY","X",{"$f":"IF(ISNUMBER(FIND(\"MEDICAID\",A183)),\"X\",\"\")","v":""},{"$f":"IF(ISNUMBER(FIND(\"MEDICARE\",A183)),\"X\",\"\")","v":""},{"$f":"IF(ISNUMBER(FIND(\"BC/BS\",#REF!)),\"X\",\"\")","v":""},null,"X"]
["AMERICAN FINANCIAL SECURITY LIFE INSURANCE COMPANY (AETNA SSI)","X",{"$f":"IF(ISNUMBER(FIND(\"MEDICAID\",A184)),\"X\",\"\")","v":""},{"$f":"IF(ISNUMBER(FIND(\"MEDICARE\",A184)),\"X\",\"\")","v":""},{"$f":"IF(ISNUMBER(FIND(\"BC/BS\",#REF!)),\"X\",\"\")","v":""}]
["AMERICAN FIRE SYSTEMS EBPT (90 DEGREE BENEFITS HOUSTON - ENTRUST)",null,{"$f":"IF(ISNUMBER(FIND(\"MEDICAID\",A185)),\"X\",\"\")","v":""},{"$f":"IF(ISNUMBER(FIND(\"MEDICARE\",A185)),\"X\",\"\")","v":""},{"$f":"IF(ISNUMBER(FIND(\"BC/BS\",#REF!)),\"X\",\"\")","v":""}]
["AMERICAN GENERAL LIFE AND ACCIDENT INSURANCE COMPANY (AETNA SSI)","X",{"$f":"IF(ISNUMBER(FIND(\"MEDICAID\",A186)),\"X\",\"\")","v":""},{"$f":"IF(ISNUMBER(FIND(\"MEDICARE\",A186)),\"X\",\"\")","v":""},{"$f":"IF(ISNUMBER(FIND(\"BC/BS\",#REF!)),\"X\",\"\")","v":""}]
["AMERICAN HEALTH ADVANTAGE OF MISSOURI",null,{"$f":"IF(ISNUMBER(FIND(\"MEDICAID\",A187)),\"X\",\"\")","v":""},{"$f":"IF(ISNUMBER(FIND(\"MEDICARE\",A187)),\"X\",\"\")","v":""},{"$f":"IF(ISNUMBER(FIND(\"BC/BS\",#REF!)),\"X\",\"\")","v":""}]
["AMERICAN HOME ASSURANCE COMPANY (AIG)","X",{"$f":"IF(ISNUMBER(FIND(\"MEDICAID\",A188)),\"X\",\"\")","v":""},{"$f":"IF(ISNUMBER(FIND(\"MEDICARE\",A188)),\"X\",\"\")","v":""},{"$f":"IF(ISNUMBER(FIND(\"BC/BS\",#REF!)),\"X\",\"\")","v":""},"X"]
["AMERICAN INSURANCE ADMINISTRATORS","X",{"$f":"IF(ISNUMBER(FIND(\"MEDICAID\",A189)),\"X\",\"\")","v":""},{"$f":"IF(ISNUMBER(FIND(\"MEDICARE\",A189)),\"X\",\"\")","v":""},{"$f":"IF(ISNUMBER(FIND(\"BC/BS\",#REF!)),\"X\",\"\")","v":""}]
["AMERICAN NATIONAL BANK OF TEXAS (GROUP & PENSION ADMIN)","X",{"$f":"IF(ISNUMBER(FIND(\"MEDICAID\",A190)),\"X\",\"\")","v":""},{"$f":"IF(ISNUMBER(FIND(\"MEDICARE\",A190)),\"X\",\"\")","v":""},{"$f":"IF(ISNUMBER(FIND(\"BC/BS\",#REF!)),\"X\",\"\")","v":""}]
["AMERICAN NATIONAL INSURANCE COMPANY","X",{"$f":"IF(ISNUMBER(FIND(\"MEDICAID\",A191)),\"X\",\"\")","v":""},{"$f":"IF(ISNUMBER(FIND(\"MEDICARE\",A191)),\"X\",\"\")","v":""},{"$f":"IF(ISNUMBER(FIND(\"BC/BS\",#REF!)),\"X\",\"\")","v":""}]
["AMERICAN NATIONAL LIFE INSURANCE COMPANY OF TEXAS","X",{"$f":"IF(ISNUMBER(FIND(\"MEDICAID\",A192)),\"X\",\"\")","v":""},{"$f":"IF(ISNUMBER(FIND(\"MEDICARE\",A192)),\"X\",\"\")","v":""},{"$f":"IF(ISNUMBER(FIND(\"BC/BS\",#REF!)),\"X\",\"\")","v":""}]
["AMERICAN POSTAL WORKERS UNION HEALTH PLAN (APWU)","X",{"$f":"IF(ISNUMBER(FIND(\"MEDICAID\",A193)),\"X\",\"\")","v":""},{"$f":"IF(ISNUMBER(FIND(\"MEDICARE\",A193)),\"X\",\"\")","v":""},{"$f":"IF(ISNUMBER(FIND(\"BC/BS\",#REF!)),\"X\",\"\")","v":""}]
["AMERICAN POSTAL WORKERS UNION HEALTH PLAN FEDERAL (APWUHP FEDERAL)","X",{"$f":"IF(ISNUMBER(FIND(\"MEDICAID\",A194)),\"X\",\"\")","v":""},{"$f":"IF(ISNUMBER(FIND(\"MEDICARE\",A194)),\"X\",\"\")","v":""},{"$f":"IF(ISNUMBER(FIND(\"BC/BS\",#REF!)),\"X\",\"\")","v":""}]
["AMERICAN PROGRESSIVE LIFE & HEALTH (WELLCARE)","X",{"$f":"IF(ISNUMBER(FIND(\"MEDICAID\",A195)),\"X\",\"\")","v":""},{"$f":"IF(ISNUMBER(FIND(\"MEDICARE\",A195)),\"X\",\"\")","v":""},{"$f":"IF(ISNUMBER(FIND(\"BC/BS\",#REF!)),\"X\",\"\")","v":""}]
["AMERICAN REPUBLIC CORP INSURANCE COMPANY","X",{"$f":"IF(ISNUMBER(FIND(\"MEDICAID\",A196)),\"X\",\"\")","v":""},{"$f":"IF(ISNUMBER(FIND(\"MEDICARE\",A196)),\"X\",\"\")","v":""},{"$f":"IF(ISNUMBER(FIND(\"BC/BS\",#REF!)),\"X\",\"\")","v":""}]
["AMERICAN REPUBLIC INSURANCE COMPANY","X",{"$f":"IF(ISNUMBER(FIND(\"MEDICAID\",A197)),\"X\",\"\")","v":""},{"$f":"IF(ISNUMBER(FIND(\"MEDICARE\",A197)),\"X\",\"\")","v":""},{"$f":"IF(ISNUMBER(FIND(\"BC/BS\",#REF!)),\"X\",\"\")","v":""}]
["AMERICAN RETIREMENT LIFE INSURANCE COMPANY (CIGNA SUPPLEMENTAL)","X",{"$f":"IF(ISNUMBER(FIND(\"MEDICAID\",A198)),\"X\",\"\")","v":""},{"$f":"IF(ISNUMBER(FIND(\"MEDICARE\",A198)),\"X\",\"\")","v":""},{"$f":"IF(ISNUMBER(FIND(\"BC/BS\",#REF!)),\"X\",\"\")","v":""}]
["AMERICAN SPECIALTY HEALTH","X",{"$f":"IF(ISNUMBER(FIND(\"MEDICAID\",A199)),\"X\",\"\")","v":""},{"$f":"IF(ISNUMBER(FIND(\"MEDICARE\",A199)),\"X\",\"\")","v":""},{"$f":"IF(ISNUMBER(FIND(\"BC/BS\",#REF!)),\"X\",\"\")","v":""}]
["AMERICA'S CENTRAL PORT DISTRICT (IPMG)","X",{"$f":"IF(ISNUMBER(FIND(\"MEDICAID\",A200)),\"X\",\"\")","v":""},{"$f":"IF(ISNUMBER(FIND(\"MEDICARE\",A200)),\"X\",\"\")","v":""},{"$f":"IF(ISNUMBER(FIND(\"BC/BS\",#REF!)),\"X\",\"\")","v":""}]
["AMERICA'S CHOICE HEALTHPLANS LLC","X",{"$f":"IF(ISNUMBER(FIND(\"MEDICAID\",A201)),\"X\",\"\")","v":""},{"$f":"IF(ISNUMBER(FIND(\"MEDICARE\",A201)),\"X\",\"\")","v":""},{"$f":"IF(ISNUMBER(FIND(\"BC/BS\",#REF!)),\"X\",\"\")","v":""}]
["AMERICA'S FAMILY WELFARE FUND (INDEPENDENT HEALTH)",null,{"$f":"IF(ISNUMBER(FIND(\"MEDICAID\",A202)),\"X\",\"\")","v":""},{"$f":"IF(ISNUMBER(FIND(\"MEDICARE\",A202)),\"X\",\"\")","v":""},{"$f":"IF(ISNUMBER(FIND(\"BC/BS\",#REF!)),\"X\",\"\")","v":""}]
["AMERICHOICE OF NEW JERSEY (UHC)","X",{"$f":"IF(ISNUMBER(FIND(\"MEDICAID\",A203)),\"X\",\"\")","v":""},{"$f":"IF(ISNUMBER(FIND(\"MEDICARE\",A203)),\"X\",\"\")","v":""},{"$f":"IF(ISNUMBER(FIND(\"BC/BS\",#REF!)),\"X\",\"\")","v":""}]
["AMERICO FINANCIAL LIFE & ANNUITY (IAS ADMIN)","X",{"$f":"IF(ISNUMBER(FIND(\"MEDICAID\",A204)),\"X\",\"\")","v":""},{"$f":"IF(ISNUMBER(FIND(\"MEDICARE\",A204)),\"X\",\"\")","v":""},{"$f":"IF(ISNUMBER(FIND(\"BC/BS\",#REF!)),\"X\",\"\")","v":""}]
["AMERIGROUP DISTRICT OF COLUMBIA","X",{"$f":"IF(ISNUMBER(FIND(\"MEDICAID\",A205)),\"X\",\"\")","v":""},{"$f":"IF(ISNUMBER(FIND(\"MEDICARE\",A205)),\"X\",\"\")","v":""},{"$f":"IF(ISNUMBER(FIND(\"BC/BS\",#REF!)),\"X\",\"\")","v":""}]
["AMERIGROUP FLORIDA","X",{"$f":"IF(ISNUMBER(FIND(\"MEDICAID\",A206)),\"X\",\"\")","v":""},{"$f":"IF(ISNUMBER(FIND(\"MEDICARE\",A206)),\"X\",\"\")","v":""},{"$f":"IF(ISNUMBER(FIND(\"BC/BS\",#REF!)),\"X\",\"\")","v":""}]
["AMERIGROUP GEORGIA MANAGED CARE COMPANY","X",{"$f":"IF(ISNUMBER(FIND(\"MEDICAID\",A207)),\"X\",\"\")","v":""},{"$f":"IF(ISNUMBER(FIND(\"MEDICARE\",A207)),\"X\",\"\")","v":""},{"$f":"IF(ISNUMBER(FIND(\"BC/BS\",#REF!)),\"X\",\"\")","v":""}]
["AMERIGROUP INSURANCE COMPANY","X",{"$f":"IF(ISNUMBER(FIND(\"MEDICAID\",A208)),\"X\",\"\")","v":""},{"$f":"IF(ISNUMBER(FIND(\"MEDICARE\",A208)),\"X\",\"\")","v":""},{"$f":"IF(ISNUMBER(FIND(\"BC/BS\",#REF!)),\"X\",\"\")","v":""}]
["AMERIGROUP IOWA","X",{"$f":"IF(ISNUMBER(FIND(\"MEDICAID\",A209)),\"X\",\"\")","v":""},{"$f":"IF(ISNUMBER(FIND(\"MEDICARE\",A209)),\"X\",\"\")","v":""},{"$f":"IF(ISNUMBER(FIND(\"BC/BS\",#REF!)),\"X\",\"\")","v":""}]
["AMERIGROUP KANSAS","X",{"$f":"IF(ISNUMBER(FIND(\"MEDICAID\",A210)),\"X\",\"\")","v":""},{"$f":"IF(ISNUMBER(FIND(\"MEDICARE\",A210)),\"X\",\"\")","v":""},{"$f":"IF(ISNUMBER(FIND(\"BC/BS\",#REF!)),\"X\",\"\")","v":""}]
["AMERIGROUP MARYLAND","X",{"$f":"IF(ISNUMBER(FIND(\"MEDICAID\",A211)),\"X\",\"\")","v":""},{"$f":"IF(ISNUMBER(FIND(\"MEDICARE\",A211)),\"X\",\"\")","v":""},{"$f":"IF(ISNUMBER(FIND(\"BC/BS\",#REF!)),\"X\",\"\")","v":""}]
["AMERIGROUP NEW JERSEY","X",{"$f":"IF(ISNUMBER(FIND(\"MEDICAID\",A212)),\"X\",\"\")","v":""},{"$f":"IF(ISNUMBER(FIND(\"MEDICARE\",A212)),\"X\",\"\")","v":""},{"$f":"IF(ISNUMBER(FIND(\"BC/BS\",#REF!)),\"X\",\"\")","v":""}]
["AMERIGROUP NEW MEXICO COMMUNITY CARE","X",{"$f":"IF(ISNUMBER(FIND(\"MEDICAID\",A213)),\"X\",\"\")","v":""},{"$f":"IF(ISNUMBER(FIND(\"MEDICARE\",A213)),\"X\",\"\")","v":""},{"$f":"IF(ISNUMBER(FIND(\"BC/BS\",#REF!)),\"X\",\"\")","v":""}]
["AMERIGROUP TENNESSEE","X",{"$f":"IF(ISNUMBER(FIND(\"MEDICAID\",A214)),\"X\",\"\")","v":""},{"$f":"IF(ISNUMBER(FIND(\"MEDICARE\",A214)),\"X\",\"\")","v":""},{"$f":"IF(ISNUMBER(FIND(\"BC/BS\",#REF!)),\"X\",\"\")","v":""}]
["AMERIGROUP TEXAS","X",{"$f":"IF(ISNUMBER(FIND(\"MEDICAID\",A215)),\"X\",\"\")","v":""},{"$f":"IF(ISNUMBER(FIND(\"MEDICARE\",A215)),\"X\",\"\")","v":""},{"$f":"IF(ISNUMBER(FIND(\"BC/BS\",#REF!)),\"X\",\"\")","v":""}]
["AMERIGROUP WASHINGTON","X",{"$f":"IF(ISNUMBER(FIND(\"MEDICAID\",A216)),\"X\",\"\")","v":""},{"$f":"IF(ISNUMBER(FIND(\"MEDICARE\",A216)),\"X\",\"\")","v":""},{"$f":"IF(ISNUMBER(FIND(\"BC/BS\",#REF!)),\"X\",\"\")","v":""}]
["AMERIHEALTH ADMINISTRATORS","X",{"$f":"IF(ISNUMBER(FIND(\"MEDICAID\",A217)),\"X\",\"\")","v":""},{"$f":"IF(ISNUMBER(FIND(\"MEDICARE\",A217)),\"X\",\"\")","v":""},{"$f":"IF(ISNUMBER(FIND(\"BC/BS\",#REF!)),\"X\",\"\")","v":""}]
["AMERIHEALTH ADMINISTRATORS - BLUELINK TPA","X",{"$f":"IF(ISNUMBER(FIND(\"MEDICAID\",A218)),\"X\",\"\")","v":""},{"$f":"IF(ISNUMBER(FIND(\"MEDICARE\",A218)),\"X\",\"\")","v":""},{"$f":"IF(ISNUMBER(FIND(\"BC/BS\",#REF!)),\"X\",\"\")","v":""}]
["AMERIHEALTH CARITAS DC","X",{"$f":"IF(ISNUMBER(FIND(\"MEDICAID\",A219)),\"X\",\"\")","v":""},{"$f":"IF(ISNUMBER(FIND(\"MEDICARE\",A219)),\"X\",\"\")","v":""},{"$f":"IF(ISNUMBER(FIND(\"BC/BS\",#REF!)),\"X\",\"\")","v":""}]
["AMERIHEALTH CARITAS DELAWARE","X",{"$f":"IF(ISNUMBER(FIND(\"MEDICAID\",A220)),\"X\",\"\")","v":""},{"$f":"IF(ISNUMBER(FIND(\"MEDICARE\",A220)),\"X\",\"\")","v":""},{"$f":"IF(ISNUMBER(FIND(\"BC/BS\",#REF!)),\"X\",\"\")","v":""}]
["AMERIHEALTH CARITAS FLORIDA","X",{"$f":"IF(ISNUMBER(FIND(\"MEDICAID\",A221)),\"X\",\"\")","v":""},{"$f":"IF(ISNUMBER(FIND(\"MEDICARE\",A221)),\"X\",\"\")","v":""},{"$f":"IF(ISNUMBER(FIND(\"BC/BS\",#REF!)),\"X\",\"\")","v":""}]
["AMERIHEALTH CARITAS LOUISIANA","X",{"$f":"IF(ISNUMBER(FIND(\"MEDICAID\",A222)),\"X\",\"\")","v":""},{"$f":"IF(ISNUMBER(FIND(\"MEDICARE\",A222)),\"X\",\"\")","v":""},{"$f":"IF(ISNUMBER(FIND(\"BC/BS\",#REF!)),\"X\",\"\")","v":""}]
["AMERIHEALTH CARITAS NEW HAMPSHIRE","X",{"$f":"IF(ISNUMBER(FIND(\"MEDICAID\",A223)),\"X\",\"\")","v":""},{"$f":"IF(ISNUMBER(FIND(\"MEDICARE\",A223)),\"X\",\"\")","v":""},{"$f":"IF(ISNUMBER(FIND(\"BC/BS\",#REF!)),\"X\",\"\")","v":""}]
["AMERIHEALTH CARITAS NORTH CAROLINA","X",{"$f":"IF(ISNUMBER(FIND(\"MEDICAID\",A224)),\"X\",\"\")","v":""},{"$f":"IF(ISNUMBER(FIND(\"MEDICARE\",A224)),\"X\",\"\")","v":""},{"$f":"IF(ISNUMBER(FIND(\"BC/BS\",#REF!)),\"X\",\"\")","v":""}]
["AMERIHEALTH CARITAS PENNSYLVANIA","X",{"$f":"IF(ISNUMBER(FIND(\"MEDICAID\",A225)),\"X\",\"\")","v":""},{"$f":"IF(ISNUMBER(FIND(\"MEDICARE\",A225)),\"X\",\"\")","v":""},{"$f":"IF(ISNUMBER(FIND(\"BC/BS\",#REF!)),\"X\",\"\")","v":""}]
["AMERIHEALTH CARITAS PENNSYLVANIA COMMUNITY HEALTHCHOICES","X",{"$f":"IF(ISNUMBER(FIND(\"MEDICAID\",A226)),\"X\",\"\")","v":""},{"$f":"IF(ISNUMBER(FIND(\"MEDICARE\",A226)),\"X\",\"\")","v":""},{"$f":"IF(ISNUMBER(FIND(\"BC/BS\",#REF!)),\"X\",\"\")","v":""}]
["AMERIHEALTH CARITAS VIP CARE","X",{"$f":"IF(ISNUMBER(FIND(\"MEDICAID\",A227)),\"X\",\"\")","v":""},{"$f":"IF(ISNUMBER(FIND(\"MEDICARE\",A227)),\"X\",\"\")","v":""},{"$f":"IF(ISNUMBER(FIND(\"BC/BS\",#REF!)),\"X\",\"\")","v":""}]
["AMERIHEALTH CARITAS VIP CARE PLUS MICHIGAN MMPS (MEDICARE-MEDICAID PLANS)","X",null,null,{"$f":"IF(ISNUMBER(FIND(\"BC/BS\",#REF!)),\"X\",\"\")","v":""}]
["AMERIHEALTH CARITAS VIP PENNSYLVANIA COMMUNITY HEALTHCHOICES","X",{"$f":"IF(ISNUMBER(FIND(\"MEDICAID\",A229)),\"X\",\"\")","v":""},{"$f":"IF(ISNUMBER(FIND(\"MEDICARE\",A229)),\"X\",\"\")","v":""},{"$f":"IF(ISNUMBER(FIND(\"BC/BS\",#REF!)),\"X\",\"\")","v":""}]
["AMERIHEALTH INC","X",{"$f":"IF(ISNUMBER(FIND(\"MEDICAID\",A230)),\"X\",\"\")","v":""},{"$f":"IF(ISNUMBER(FIND(\"MEDICARE\",A230)),\"X\",\"\")","v":""},{"$f":"IF(ISNUMBER(FIND(\"BC/BS\",#REF!)),\"X\",\"\")","v":""}]
["AMERITAS LIFE INSURANCE CORP","X",{"$f":"IF(ISNUMBER(FIND(\"MEDICAID\",A231)),\"X\",\"\")","v":""},{"$f":"IF(ISNUMBER(FIND(\"MEDICARE\",A231)),\"X\",\"\")","v":""},{"$f":"IF(ISNUMBER(FIND(\"BC/BS\",#REF!)),\"X\",\"\")","v":""}]
["AMERITAS LIFE INSURANCE CORP OF NEW YORK","X",{"$f":"IF(ISNUMBER(FIND(\"MEDICAID\",A232)),\"X\",\"\")","v":""},{"$f":"IF(ISNUMBER(FIND(\"MEDICARE\",A232)),\"X\",\"\")","v":""},{"$f":"IF(ISNUMBER(FIND(\"BC/BS\",#REF!)),\"X\",\"\")","v":""}]
["AMFIRST INSURANCE COMPANY","X",{"$f":"IF(ISNUMBER(FIND(\"MEDICAID\",A233)),\"X\",\"\")","v":""},{"$f":"IF(ISNUMBER(FIND(\"MEDICARE\",A233)),\"X\",\"\")","v":""},{"$f":"IF(ISNUMBER(FIND(\"BC/BS\",#REF!)),\"X\",\"\")","v":""}]
["AMG WEST (ADVOCATE PHYSICIAN PARTNERS)",null,{"$f":"IF(ISNUMBER(FIND(\"MEDICAID\",A234)),\"X\",\"\")","v":""},{"$f":"IF(ISNUMBER(FIND(\"MEDICARE\",A234)),\"X\",\"\")","v":""},{"$f":"IF(ISNUMBER(FIND(\"BC/BS\",#REF!)),\"X\",\"\")","v":""}]
["AMH HEALTH LLC","X",{"$f":"IF(ISNUMBER(FIND(\"MEDICAID\",A235)),\"X\",\"\")","v":""},{"$f":"IF(ISNUMBER(FIND(\"MEDICARE\",A235)),\"X\",\"\")","v":""},{"$f":"IF(ISNUMBER(FIND(\"BC/BS\",#REF!)),\"X\",\"\")","v":""}]
["AMHERST CENTRAL SCHOOL DISTRICT (INDEPENDENT HEALTH)",null,{"$f":"IF(ISNUMBER(FIND(\"MEDICAID\",A236)),\"X\",\"\")","v":""},{"$f":"IF(ISNUMBER(FIND(\"MEDICARE\",A236)),\"X\",\"\")","v":""},{"$f":"IF(ISNUMBER(FIND(\"BC/BS\",#REF!)),\"X\",\"\")","v":""}]
["AMITA ADVENTHEALTH C HMO (ARCADIA SOLUTIONS)",null,{"$f":"IF(ISNUMBER(FIND(\"MEDICAID\",A237)),\"X\",\"\")","v":""},{"$f":"IF(ISNUMBER(FIND(\"MEDICARE\",A237)),\"X\",\"\")","v":""},{"$f":"IF(ISNUMBER(FIND(\"BC/BS\",#REF!)),\"X\",\"\")","v":""}]
["AMITA ASCENSION IL C HMO (ARCADIA SOLUTIONS)","X",{"$f":"IF(ISNUMBER(FIND(\"MEDICAID\",A238)),\"X\",\"\")","v":""},{"$f":"IF(ISNUMBER(FIND(\"MEDICARE\",A238)),\"X\",\"\")","v":""},{"$f":"IF(ISNUMBER(FIND(\"BC/BS\",#REF!)),\"X\",\"\")","v":""}]
["AMITA BLUE FOCUS (ARCADIA SOLUTIONS)","X",{"$f":"IF(ISNUMBER(FIND(\"MEDICAID\",A239)),\"X\",\"\")","v":""},{"$f":"IF(ISNUMBER(FIND(\"MEDICARE\",A239)),\"X\",\"\")","v":""},{"$f":"IF(ISNUMBER(FIND(\"BC/BS\",#REF!)),\"X\",\"\")","v":""}]
["AMITA CIN (ARCADIA SOLUTIONS)","X",{"$f":"IF(ISNUMBER(FIND(\"MEDICAID\",A240)),\"X\",\"\")","v":""},{"$f":"IF(ISNUMBER(FIND(\"MEDICARE\",A240)),\"X\",\"\")","v":""},{"$f":"IF(ISNUMBER(FIND(\"BC/BS\",#REF!)),\"X\",\"\")","v":""}]
["AMITA CIN CATHOLIC ERD SERVICES (ARCADIA SOLUTIONS)",null,{"$f":"IF(ISNUMBER(FIND(\"MEDICAID\",A241)),\"X\",\"\")","v":""},{"$f":"IF(ISNUMBER(FIND(\"MEDICARE\",A241)),\"X\",\"\")","v":""},{"$f":"IF(ISNUMBER(FIND(\"BC/BS\",#REF!)),\"X\",\"\")","v":""}]
["AMITA HCN (ARCADIA SOLUTIONS)","X",{"$f":"IF(ISNUMBER(FIND(\"MEDICAID\",A242)),\"X\",\"\")","v":""},{"$f":"IF(ISNUMBER(FIND(\"MEDICARE\",A242)),\"X\",\"\")","v":""},{"$f":"IF(ISNUMBER(FIND(\"BC/BS\",#REF!)),\"X\",\"\")","v":""}]
["AMITA HEALTH MEDICARE ADVANTAGE (ARCADIA SOLUTIONS)","X",{"$f":"IF(ISNUMBER(FIND(\"MEDICAID\",A243)),\"X\",\"\")","v":""},null,{"$f":"IF(ISNUMBER(FIND(\"BC/BS\",#REF!)),\"X\",\"\")","v":""}]
["AMITA HEALTH RESURRECTION MEDICAL CENTER CHICAGO (ARCADIA SOLUTIONS)","X",{"$f":"IF(ISNUMBER(FIND(\"MEDICAID\",A244)),\"X\",\"\")","v":""},{"$f":"IF(ISNUMBER(FIND(\"MEDICARE\",A244)),\"X\",\"\")","v":""},{"$f":"IF(ISNUMBER(FIND(\"BC/BS\",#REF!)),\"X\",\"\")","v":""}]
["AMITA HEALTH SAINT FRANCIS HOSPITAL EVANSTON (ARCADIA SOLUTIONS)","X",{"$f":"IF(ISNUMBER(FIND(\"MEDICAID\",A245)),\"X\",\"\")","v":""},{"$f":"IF(ISNUMBER(FIND(\"MEDICARE\",A245)),\"X\",\"\")","v":""},{"$f":"IF(ISNUMBER(FIND(\"BC/BS\",#REF!)),\"X\",\"\")","v":""}]
["AMITA HEALTH SAINT JOSEPH HOSPITAL CHICAGO (ARCADIA SOLUTIONS)","X",{"$f":"IF(ISNUMBER(FIND(\"MEDICAID\",A246)),\"X\",\"\")","v":""},{"$f":"IF(ISNUMBER(FIND(\"MEDICARE\",A246)),\"X\",\"\")","v":""},{"$f":"IF(ISNUMBER(FIND(\"BC/BS\",#REF!)),\"X\",\"\")","v":""}]
["AMITA HEALTH SAINT JOSEPH HOSPITAL ELGIN (ARCADIA SOLUTIONS)","X",{"$f":"IF(ISNUMBER(FIND(\"MEDICAID\",A247)),\"X\",\"\")","v":""},{"$f":"IF(ISNUMBER(FIND(\"MEDICARE\",A247)),\"X\",\"\")","v":""},{"$f":"IF(ISNUMBER(FIND(\"BC/BS\",#REF!)),\"X\",\"\")","v":""}]
["AMITA HEALTH SAINT JOSEPH MEDICAL CENTER JOLIET (ARCADIA SOLUTIONS)","X",{"$f":"IF(ISNUMBER(FIND(\"MEDICAID\",A248)),\"X\",\"\")","v":""},{"$f":"IF(ISNUMBER(FIND(\"MEDICARE\",A248)),\"X\",\"\")","v":""},{"$f":"IF(ISNUMBER(FIND(\"BC/BS\",#REF!)),\"X\",\"\")","v":""}]
["AMITA HEALTH ST MARYS HOSPITAL KANKAKEE (ARCADIA SOLUTIONS)",null,{"$f":"IF(ISNUMBER(FIND(\"MEDICAID\",A249)),\"X\",\"\")","v":""},{"$f":"IF(ISNUMBER(FIND(\"MEDICARE\",A249)),\"X\",\"\")","v":""},{"$f":"IF(ISNUMBER(FIND(\"BC/BS\",#REF!)),\"X\",\"\")","v":""}]
["AMITA HEALTH STS MARY AND ELIZABETH MEDICAL CENTER CHICAGO (ARCADIA SOLUTIONS)","X",{"$f":"IF(ISNUMBER(FIND(\"MEDICAID\",A250)),\"X\",\"\")","v":""},{"$f":"IF(ISNUMBER(FIND(\"MEDICARE\",A250)),\"X\",\"\")","v":""},{"$f":"IF(ISNUMBER(FIND(\"BC/BS\",#REF!)),\"X\",\"\")","v":""}]
["AMITA HUMANA ST MARY AND ELIZABETH (ARCADIA SOLUTIONS)","X",{"$f":"IF(ISNUMBER(FIND(\"MEDICAID\",A251)),\"X\",\"\")","v":""},{"$f":"IF(ISNUMBER(FIND(\"MEDICARE\",A251)),\"X\",\"\")","v":""},{"$f":"IF(ISNUMBER(FIND(\"BC/BS\",#REF!)),\"X\",\"\")","v":""}]
["AMKOR TECHNOLOGY INC (AMERIBEN)",null,{"$f":"IF(ISNUMBER(FIND(\"MEDICAID\",A252)),\"X\",\"\")","v":""},{"$f":"IF(ISNUMBER(FIND(\"MEDICARE\",A252)),\"X\",\"\")","v":""},{"$f":"IF(ISNUMBER(FIND(\"BC/BS\",#REF!)),\"X\",\"\")","v":""}]
["AMPLIFON HEARING HEALTH CARE",null,{"$f":"IF(ISNUMBER(FIND(\"MEDICAID\",A253)),\"X\",\"\")","v":""},{"$f":"IF(ISNUMBER(FIND(\"MEDICARE\",A253)),\"X\",\"\")","v":""},{"$f":"IF(ISNUMBER(FIND(\"BC/BS\",#REF!)),\"X\",\"\")","v":""}]
["AMVI CARE (PROSPECT MEDICAL SYSTEMS)",null,{"$f":"IF(ISNUMBER(FIND(\"MEDICAID\",A254)),\"X\",\"\")","v":""},{"$f":"IF(ISNUMBER(FIND(\"MEDICARE\",A254)),\"X\",\"\")","v":""},{"$f":"IF(ISNUMBER(FIND(\"BC/BS\",#REF!)),\"X\",\"\")","v":""}]
["AMVI MEDICAL GROUP (PROSPECT MEDICAL SYSTEMS)",null,{"$f":"IF(ISNUMBER(FIND(\"MEDICAID\",A255)),\"X\",\"\")","v":""},{"$f":"IF(ISNUMBER(FIND(\"MEDICARE\",A255)),\"X\",\"\")","v":""},{"$f":"IF(ISNUMBER(FIND(\"BC/BS\",#REF!)),\"X\",\"\")","v":""}]
["AMVI PROSPECT MEDICAL (PROSPECT MEDICAL SYSTEMS)",null,{"$f":"IF(ISNUMBER(FIND(\"MEDICAID\",A256)),\"X\",\"\")","v":""},{"$f":"IF(ISNUMBER(FIND(\"MEDICARE\",A256)),\"X\",\"\")","v":""},{"$f":"IF(ISNUMBER(FIND(\"BC/BS\",#REF!)),\"X\",\"\")","v":""}]
["AMWARE FULFILLMENT LLC (MAESTRO HEALTH)","X",{"$f":"IF(ISNUMBER(FIND(\"MEDICAID\",A257)),\"X\",\"\")","v":""},{"$f":"IF(ISNUMBER(FIND(\"MEDICARE\",A257)),\"X\",\"\")","v":""},{"$f":"IF(ISNUMBER(FIND(\"BC/BS\",#REF!)),\"X\",\"\")","v":""}]
["ANCHOR BENEFIT CONSULTING INC","X",{"$f":"IF(ISNUMBER(FIND(\"MEDICAID\",A258)),\"X\",\"\")","v":""},{"$f":"IF(ISNUMBER(FIND(\"MEDICARE\",A258)),\"X\",\"\")","v":""},{"$f":"IF(ISNUMBER(FIND(\"BC/BS\",#REF!)),\"X\",\"\")","v":""}]
["ANCILLARY CARE SERVICES INC","X",{"$f":"IF(ISNUMBER(FIND(\"MEDICAID\",A259)),\"X\",\"\")","v":""},{"$f":"IF(ISNUMBER(FIND(\"MEDICARE\",A259)),\"X\",\"\")","v":""},{"$f":"IF(ISNUMBER(FIND(\"BC/BS\",#REF!)),\"X\",\"\")","v":""}]
["ANCORP EBPT (90 DEGREE BENEFITS HOUSTON - ENTRUST)",null,{"$f":"IF(ISNUMBER(FIND(\"MEDICAID\",A260)),\"X\",\"\")","v":""},{"$f":"IF(ISNUMBER(FIND(\"MEDICARE\",A260)),\"X\",\"\")","v":""},{"$f":"IF(ISNUMBER(FIND(\"BC/BS\",#REF!)),\"X\",\"\")","v":""}]
["ANDERSON PRECISION INC (INDEPENDENT HEALTH)",null,{"$f":"IF(ISNUMBER(FIND(\"MEDICAID\",A261)),\"X\",\"\")","v":""},{"$f":"IF(ISNUMBER(FIND(\"MEDICARE\",A261)),\"X\",\"\")","v":""},{"$f":"IF(ISNUMBER(FIND(\"BC/BS\",#REF!)),\"X\",\"\")","v":""}]
["ANDERSONS GREENHOUSES INC (SENTARA)","X",{"$f":"IF(ISNUMBER(FIND(\"MEDICAID\",A262)),\"X\",\"\")","v":""},{"$f":"IF(ISNUMBER(FIND(\"MEDICARE\",A262)),\"X\",\"\")","v":""},{"$f":"IF(ISNUMBER(FIND(\"BC/BS\",#REF!)),\"X\",\"\")","v":""}]
["ANDREWS UNIVERSITY (ASR HEALTH BENEFITS)","X",{"$f":"IF(ISNUMBER(FIND(\"MEDICAID\",A263)),\"X\",\"\")","v":""},{"$f":"IF(ISNUMBER(FIND(\"MEDICARE\",A263)),\"X\",\"\")","v":""},{"$f":"IF(ISNUMBER(FIND(\"BC/BS\",#REF!)),\"X\",\"\")","v":""}]
["ANDRUS/HUNTINGTON GROUP INC (GROUP & PENSION ADMIN)","X",{"$f":"IF(ISNUMBER(FIND(\"MEDICAID\",A264)),\"X\",\"\")","v":""},{"$f":"IF(ISNUMBER(FIND(\"MEDICARE\",A264)),\"X\",\"\")","v":""},{"$f":"IF(ISNUMBER(FIND(\"BC/BS\",#REF!)),\"X\",\"\")","v":""}]
["ANGELINA COUNTY (GROUP & PENSION ADMIN)","X",{"$f":"IF(ISNUMBER(FIND(\"MEDICAID\",A265)),\"X\",\"\")","v":""},{"$f":"IF(ISNUMBER(FIND(\"MEDICARE\",A265)),\"X\",\"\")","v":""},{"$f":"IF(ISNUMBER(FIND(\"BC/BS\",#REF!)),\"X\",\"\")","v":""}]
["ANN ARBOR VA MEDICAL CENTER","X",{"$f":"IF(ISNUMBER(FIND(\"MEDICAID\",A266)),\"X\",\"\")","v":""},{"$f":"IF(ISNUMBER(FIND(\"MEDICARE\",A266)),\"X\",\"\")","v":""},{"$f":"IF(ISNUMBER(FIND(\"BC/BS\",#REF!)),\"X\",\"\")","v":""}]
["ANRITSU COMPANY (HEALTHCOMP)",null,{"$f":"IF(ISNUMBER(FIND(\"MEDICAID\",A267)),\"X\",\"\")","v":""},{"$f":"IF(ISNUMBER(FIND(\"MEDICARE\",A267)),\"X\",\"\")","v":""},{"$f":"IF(ISNUMBER(FIND(\"BC/BS\",#REF!)),\"X\",\"\")","v":""}]
["ANTHEM","X",{"$f":"IF(ISNUMBER(FIND(\"MEDICAID\",A268)),\"X\",\"\")","v":""},{"$f":"IF(ISNUMBER(FIND(\"MEDICARE\",A268)),\"X\",\"\")","v":""},"X"]
["ANTHEM BC LIFE & HEALTH INS CO","X",{"$f":"IF(ISNUMBER(FIND(\"MEDICAID\",A269)),\"X\",\"\")","v":""},{"$f":"IF(ISNUMBER(FIND(\"MEDICARE\",A269)),\"X\",\"\")","v":""},"X"]
["ANTHEM BCBS","X",{"$f":"IF(ISNUMBER(FIND(\"MEDICAID\",A270)),\"X\",\"\")","v":""},{"$f":"IF(ISNUMBER(FIND(\"MEDICARE\",A270)),\"X\",\"\")","v":""},"X"]
["ANTHEM BCBS HEALTH PLANS OF NEW HAMPSHIRE","X",{"$f":"IF(ISNUMBER(FIND(\"MEDICAID\",A271)),\"X\",\"\")","v":""},{"$f":"IF(ISNUMBER(FIND(\"MEDICARE\",A271)),\"X\",\"\")","v":""},"X"]
["ANTHEM BCBS HEALTHCARE SOLUTIONS","X",{"$f":"IF(ISNUMBER(FIND(\"MEDICAID\",A272)),\"X\",\"\")","v":""},{"$f":"IF(ISNUMBER(FIND(\"MEDICARE\",A272)),\"X\",\"\")","v":""},"X"]
["ANTHEM BCBS OF CONNECTICUT","X",{"$f":"IF(ISNUMBER(FIND(\"MEDICAID\",A273)),\"X\",\"\")","v":""},{"$f":"IF(ISNUMBER(FIND(\"MEDICARE\",A273)),\"X\",\"\")","v":""},"X"]
["ANTHEM BCBS OF INDIANA",null,{"$f":"IF(ISNUMBER(FIND(\"MEDICAID\",A274)),\"X\",\"\")","v":""},{"$f":"IF(ISNUMBER(FIND(\"MEDICARE\",A274)),\"X\",\"\")","v":""},"X"]
["ANTHEM BCBS OF MAINE","X",{"$f":"IF(ISNUMBER(FIND(\"MEDICAID\",A275)),\"X\",\"\")","v":""},{"$f":"IF(ISNUMBER(FIND(\"MEDICARE\",A275)),\"X\",\"\")","v":""},"X"]
["ANTHEM BCBS OF NEW HAMPSHIRE","X",{"$f":"IF(ISNUMBER(FIND(\"MEDICAID\",A276)),\"X\",\"\")","v":""},{"$f":"IF(ISNUMBER(FIND(\"MEDICARE\",A276)),\"X\",\"\")","v":""},"X"]
["ANTHEM BCBS OF WISCONSIN","X",{"$f":"IF(ISNUMBER(FIND(\"MEDICAID\",A277)),\"X\",\"\")","v":""},{"$f":"IF(ISNUMBER(FIND(\"MEDICARE\",A277)),\"X\",\"\")","v":""},"X"]
["ANTHEM BLUE CROSS","X",{"$f":"IF(ISNUMBER(FIND(\"MEDICAID\",A278)),\"X\",\"\")","v":""},{"$f":"IF(ISNUMBER(FIND(\"MEDICARE\",A278)),\"X\",\"\")","v":""},"X"]
["ANTHEM DENTAL",null,{"$f":"IF(ISNUMBER(FIND(\"MEDICAID\",A279)),\"X\",\"\")","v":""},{"$f":"IF(ISNUMBER(FIND(\"MEDICARE\",A279)),\"X\",\"\")","v":""},"X"]
["ANTHEM EMPLOYEE ASSISTANCE PROGRAM (EAP)","X",{"$f":"IF(ISNUMBER(FIND(\"MEDICAID\",A280)),\"X\",\"\")","v":""},{"$f":"IF(ISNUMBER(FIND(\"MEDICARE\",A280)),\"X\",\"\")","v":""},"X"]
["ANTHEM HEALTH PLANS OF CONNECTICUT","X",{"$f":"IF(ISNUMBER(FIND(\"MEDICAID\",A281)),\"X\",\"\")","v":""},{"$f":"IF(ISNUMBER(FIND(\"MEDICARE\",A281)),\"X\",\"\")","v":""},"X"]
["ANTHEM HEALTH PLANS OF KENTUCKY","X",{"$f":"IF(ISNUMBER(FIND(\"MEDICAID\",A282)),\"X\",\"\")","v":""},{"$f":"IF(ISNUMBER(FIND(\"MEDICARE\",A282)),\"X\",\"\")","v":""},"X"]
["ANTHEM HEALTH PLANS OF MAINE","X",{"$f":"IF(ISNUMBER(FIND(\"MEDICAID\",A283)),\"X\",\"\")","v":""},{"$f":"IF(ISNUMBER(FIND(\"MEDICARE\",A283)),\"X\",\"\")","v":""},"X"]
["ANTHEM HEALTH PLANS OF NEW HAMPSHIRE","X",{"$f":"IF(ISNUMBER(FIND(\"MEDICAID\",A284)),\"X\",\"\")","v":""},{"$f":"IF(ISNUMBER(FIND(\"MEDICARE\",A284)),\"X\",\"\")","v":""},"X"]
["ANTHEM HEALTH PLANS OF VIRGINIA","X",{"$f":"IF(ISNUMBER(FIND(\"MEDICAID\",A285)),\"X\",\"\")","v":""},{"$f":"IF(ISNUMBER(FIND(\"MEDICARE\",A285)),\"X\",\"\")","v":""},"X"]
["ANTHEM HEALTHKEEPERS","X",{"$f":"IF(ISNUMBER(FIND(\"MEDICAID\",A286)),\"X\",\"\")","v":""},{"$f":"IF(ISNUMBER(FIND(\"MEDICARE\",A286)),\"X\",\"\")","v":""},"X"]
["ANTHEM HORIZON","X",{"$f":"IF(ISNUMBER(FIND(\"MEDICAID\",A287)),\"X\",\"\")","v":""},{"$f":"IF(ISNUMBER(FIND(\"MEDICARE\",A287)),\"X\",\"\")","v":""},"X"]
["ANTHEM INSURANCE COMPANIES","X",{"$f":"IF(ISNUMBER(FIND(\"MEDICAID\",A288)),\"X\",\"\")","v":""},{"$f":"IF(ISNUMBER(FIND(\"MEDICARE\",A288)),\"X\",\"\")","v":""},{"$f":"IF(ISNUMBER(FIND(\"BC/BS\",#REF!)),\"X\",\"\")","v":""}]
["ANTHEM KENTUCKY MANAGED CARE PLAN","X",{"$f":"IF(ISNUMBER(FIND(\"MEDICAID\",A289)),\"X\",\"\")","v":""},{"$f":"IF(ISNUMBER(FIND(\"MEDICARE\",A289)),\"X\",\"\")","v":""},{"$f":"IF(ISNUMBER(FIND(\"BC/BS\",#REF!)),\"X\",\"\")","v":""}]
["ANY WAY YOU SLICE IT HOLDING CO EBP (90 DEGREE BENEFITS HOUSTON - ENTRUST)",null,{"$f":"IF(ISNUMBER(FIND(\"MEDICAID\",A290)),\"X\",\"\")","v":""},{"$f":"IF(ISNUMBER(FIND(\"MEDICARE\",A290)),\"X\",\"\")","v":""},{"$f":"IF(ISNUMBER(FIND(\"BC/BS\",#REF!)),\"X\",\"\")","v":""}]
["APACHE INDUSTRIAL SERVICES INC (GROUP & PENSION ADMIN)",null,{"$f":"IF(ISNUMBER(FIND(\"MEDICAID\",A291)),\"X\",\"\")","v":""},{"$f":"IF(ISNUMBER(FIND(\"MEDICARE\",A291)),\"X\",\"\")","v":""},{"$f":"IF(ISNUMBER(FIND(\"BC/BS\",#REF!)),\"X\",\"\")","v":""}]
["APEX HEALTH","X",{"$f":"IF(ISNUMBER(FIND(\"MEDICAID\",A292)),\"X\",\"\")","v":""},{"$f":"IF(ISNUMBER(FIND(\"MEDICARE\",A292)),\"X\",\"\")","v":""},{"$f":"IF(ISNUMBER(FIND(\"BC/BS\",#REF!)),\"X\",\"\")","v":""}]
["APEX MECHANICAL LLC (BENEFIT PLAN ADMINISTRATORS)",null,{"$f":"IF(ISNUMBER(FIND(\"MEDICAID\",A293)),\"X\",\"\")","v":""},{"$f":"IF(ISNUMBER(FIND(\"MEDICARE\",A293)),\"X\",\"\")","v":""},{"$f":"IF(ISNUMBER(FIND(\"BC/BS\",#REF!)),\"X\",\"\")","v":""}]
["API TECHNOLOGIES CORP (THE HEALTH PLAN)","X",{"$f":"IF(ISNUMBER(FIND(\"MEDICAID\",A294)),\"X\",\"\")","v":""},{"$f":"IF(ISNUMBER(FIND(\"MEDICARE\",A294)),\"X\",\"\")","v":""},{"$f":"IF(ISNUMBER(FIND(\"BC/BS\",#REF!)),\"X\",\"\")","v":""}]
["APP PAYER PRODUCTS (ADVOCATE PHYSICIAN PARTNERS)",null,{"$f":"IF(ISNUMBER(FIND(\"MEDICAID\",A295)),\"X\",\"\")","v":""},{"$f":"IF(ISNUMBER(FIND(\"MEDICARE\",A295)),\"X\",\"\")","v":""},{"$f":"IF(ISNUMBER(FIND(\"BC/BS\",#REF!)),\"X\",\"\")","v":""}]
["APPALACHIAN PLASTICS INC (90 DEGREE BENEFITS NORTH CAROLINA - CORPORATE BENEFIT SERVICES)","X",{"$f":"IF(ISNUMBER(FIND(\"MEDICAID\",A296)),\"X\",\"\")","v":""},{"$f":"IF(ISNUMBER(FIND(\"MEDICARE\",A296)),\"X\",\"\")","v":""},{"$f":"IF(ISNUMBER(FIND(\"BC/BS\",#REF!)),\"X\",\"\")","v":""}]
["APPLICATION SOFTWARE INC (MAESTRO HEALTH)",null,{"$f":"IF(ISNUMBER(FIND(\"MEDICAID\",A297)),\"X\",\"\")","v":""},{"$f":"IF(ISNUMBER(FIND(\"MEDICARE\",A297)),\"X\",\"\")","v":""},{"$f":"IF(ISNUMBER(FIND(\"BC/BS\",#REF!)),\"X\",\"\")","v":""}]
["APPLIED ENGINEERING MANAGEMENT (HEALTHCOMP)",null,{"$f":"IF(ISNUMBER(FIND(\"MEDICAID\",A298)),\"X\",\"\")","v":""},{"$f":"IF(ISNUMBER(FIND(\"MEDICARE\",A298)),\"X\",\"\")","v":""},{"$f":"IF(ISNUMBER(FIND(\"BC/BS\",#REF!)),\"X\",\"\")","v":""}]
["APS HEALTHCARE PUERTO RICO INC",null,{"$f":"IF(ISNUMBER(FIND(\"MEDICAID\",A299)),\"X\",\"\")","v":""},{"$f":"IF(ISNUMBER(FIND(\"MEDICARE\",A299)),\"X\",\"\")","v":""},{"$f":"IF(ISNUMBER(FIND(\"BC/BS\",#REF!)),\"X\",\"\")","v":""}]
["ARANSAS AUTOPLEX EBPT (90 DEGREE BENEFITS HOUSTON - ENTRUST)",null,{"$f":"IF(ISNUMBER(FIND(\"MEDICAID\",A300)),\"X\",\"\")","v":""},{"$f":"IF(ISNUMBER(FIND(\"MEDICARE\",A300)),\"X\",\"\")","v":""},{"$f":"IF(ISNUMBER(FIND(\"BC/BS\",#REF!)),\"X\",\"\")","v":""}]
["ARC ADMINISTRATORS","X",{"$f":"IF(ISNUMBER(FIND(\"MEDICAID\",A301)),\"X\",\"\")","v":""},{"$f":"IF(ISNUMBER(FIND(\"MEDICARE\",A301)),\"X\",\"\")","v":""},{"$f":"IF(ISNUMBER(FIND(\"BC/BS\",#REF!)),\"X\",\"\")","v":""}]
["ARCBEST CORPORATION","X",{"$f":"IF(ISNUMBER(FIND(\"MEDICAID\",A302)),\"X\",\"\")","v":""},{"$f":"IF(ISNUMBER(FIND(\"MEDICARE\",A302)),\"X\",\"\")","v":""},{"$f":"IF(ISNUMBER(FIND(\"BC/BS\",#REF!)),\"X\",\"\")","v":""}]
["ARCHCARE ADVANTAGE (PEAKTPA)","X",{"$f":"IF(ISNUMBER(FIND(\"MEDICAID\",A303)),\"X\",\"\")","v":""},{"$f":"IF(ISNUMBER(FIND(\"MEDICARE\",A303)),\"X\",\"\")","v":""},{"$f":"IF(ISNUMBER(FIND(\"BC/BS\",#REF!)),\"X\",\"\")","v":""}]
["ARCHCARE COMMUNITY LIFE","X",{"$f":"IF(ISNUMBER(FIND(\"MEDICAID\",A304)),\"X\",\"\")","v":""},{"$f":"IF(ISNUMBER(FIND(\"MEDICARE\",A304)),\"X\",\"\")","v":""},{"$f":"IF(ISNUMBER(FIND(\"BC/BS\",#REF!)),\"X\",\"\")","v":""}]
["ARCHER DANIELS MIDLAND COMPANY",null,{"$f":"IF(ISNUMBER(FIND(\"MEDICAID\",A305)),\"X\",\"\")","v":""},{"$f":"IF(ISNUMBER(FIND(\"MEDICARE\",A305)),\"X\",\"\")","v":""},{"$f":"IF(ISNUMBER(FIND(\"BC/BS\",#REF!)),\"X\",\"\")","v":""}]
["ARENAC CASTING INC (ASR HEALTH BENEFITS)","X",{"$f":"IF(ISNUMBER(FIND(\"MEDICAID\",A306)),\"X\",\"\")","v":""},{"$f":"IF(ISNUMBER(FIND(\"MEDICARE\",A306)),\"X\",\"\")","v":""},{"$f":"IF(ISNUMBER(FIND(\"BC/BS\",#REF!)),\"X\",\"\")","v":""}]
["ARGUS DENTAL AND VISION","X",{"$f":"IF(ISNUMBER(FIND(\"MEDICAID\",A307)),\"X\",\"\")","v":""},{"$f":"IF(ISNUMBER(FIND(\"MEDICARE\",A307)),\"X\",\"\")","v":""},{"$f":"IF(ISNUMBER(FIND(\"BC/BS\",#REF!)),\"X\",\"\")","v":""}]
["ARISE HEALTH PLAN - WPS HEALTH PLAN INC","X",{"$f":"IF(ISNUMBER(FIND(\"MEDICAID\",A308)),\"X\",\"\")","v":""},{"$f":"IF(ISNUMBER(FIND(\"MEDICARE\",A308)),\"X\",\"\")","v":""},{"$f":"IF(ISNUMBER(FIND(\"BC/BS\",#REF!)),\"X\",\"\")","v":""}]
["ARISE/ABIIC (GROUP & PENSION ADMIN)","X",{"$f":"IF(ISNUMBER(FIND(\"MEDICAID\",A309)),\"X\",\"\")","v":""},{"$f":"IF(ISNUMBER(FIND(\"MEDICARE\",A309)),\"X\",\"\")","v":""},{"$f":"IF(ISNUMBER(FIND(\"BC/BS\",#REF!)),\"X\",\"\")","v":""}]
["ARIZONA COMPLETE HEALTH - COMPLETE CARE PLAN","X",{"$f":"IF(ISNUMBER(FIND(\"MEDICAID\",A310)),\"X\",\"\")","v":""},{"$f":"IF(ISNUMBER(FIND(\"MEDICARE\",A310)),\"X\",\"\")","v":""},{"$f":"IF(ISNUMBER(FIND(\"BC/BS\",#REF!)),\"X\",\"\")","v":""}]
["ARIZONA LOCAL GOVERNMENT EBT (AMERIBEN)",null,{"$f":"IF(ISNUMBER(FIND(\"MEDICAID\",A311)),\"X\",\"\")","v":""},{"$f":"IF(ISNUMBER(FIND(\"MEDICARE\",A311)),\"X\",\"\")","v":""},{"$f":"IF(ISNUMBER(FIND(\"BC/BS\",#REF!)),\"X\",\"\")","v":""}]
["ARIZONA METROPOLITAN TRUST (AMERIBEN)",null,{"$f":"IF(ISNUMBER(FIND(\"MEDICAID\",A312)),\"X\",\"\")","v":""},{"$f":"IF(ISNUMBER(FIND(\"MEDICARE\",A312)),\"X\",\"\")","v":""},{"$f":"IF(ISNUMBER(FIND(\"BC/BS\",#REF!)),\"X\",\"\")","v":""}]
["ARIZONA PRIORITY CARE",null,{"$f":"IF(ISNUMBER(FIND(\"MEDICAID\",A313)),\"X\",\"\")","v":""},{"$f":"IF(ISNUMBER(FIND(\"MEDICARE\",A313)),\"X\",\"\")","v":""},{"$f":"IF(ISNUMBER(FIND(\"BC/BS\",#REF!)),\"X\",\"\")","v":""}]
["ARK BEHAVIORAL HEALTH EBPT (90 DEGREE BENEFITS HOUSTON - ENTRUST)","X",{"$f":"IF(ISNUMBER(FIND(\"MEDICAID\",A314)),\"X\",\"\")","v":""},{"$f":"IF(ISNUMBER(FIND(\"MEDICARE\",A314)),\"X\",\"\")","v":""},{"$f":"IF(ISNUMBER(FIND(\"BC/BS\",#REF!)),\"X\",\"\")","v":""}]
["ARKANSAS BCBS","X",{"$f":"IF(ISNUMBER(FIND(\"MEDICAID\",A315)),\"X\",\"\")","v":""},{"$f":"IF(ISNUMBER(FIND(\"MEDICARE\",A315)),\"X\",\"\")","v":""},"X"]
["ARKANSAS BCBS DBA BLUE ADVANTAGE ADMIN OF AR","X",{"$f":"IF(ISNUMBER(FIND(\"MEDICAID\",A316)),\"X\",\"\")","v":""},{"$f":"IF(ISNUMBER(FIND(\"MEDICARE\",A316)),\"X\",\"\")","v":""},"X"]
["ARKANSAS MUNICIPAL LEAGUE WORKERS' COMP PROGRAM","X",{"$f":"IF(ISNUMBER(FIND(\"MEDICAID\",A317)),\"X\",\"\")","v":""},{"$f":"IF(ISNUMBER(FIND(\"MEDICARE\",A317)),\"X\",\"\")","v":""},{"$f":"IF(ISNUMBER(FIND(\"BC/BS\",#REF!)),\"X\",\"\")","v":""}]
["ARKANSAS SUPERIOR SELECT INC","X",{"$f":"IF(ISNUMBER(FIND(\"MEDICAID\",A318)),\"X\",\"\")","v":""},{"$f":"IF(ISNUMBER(FIND(\"MEDICARE\",A318)),\"X\",\"\")","v":""},{"$f":"IF(ISNUMBER(FIND(\"BC/BS\",#REF!)),\"X\",\"\")","v":""}]
["ARKANSAS TOTAL CARE","X",{"$f":"IF(ISNUMBER(FIND(\"MEDICAID\",A319)),\"X\",\"\")","v":""},{"$f":"IF(ISNUMBER(FIND(\"MEDICARE\",A319)),\"X\",\"\")","v":""},{"$f":"IF(ISNUMBER(FIND(\"BC/BS\",#REF!)),\"X\",\"\")","v":""}]
["ARKANSAS WC CLAIMS BRANCH (AUTO-OWNERS INSURANCE COMPANY)",null,{"$f":"IF(ISNUMBER(FIND(\"MEDICAID\",A320)),\"X\",\"\")","v":""},{"$f":"IF(ISNUMBER(FIND(\"MEDICARE\",A320)),\"X\",\"\")","v":""},{"$f":"IF(ISNUMBER(FIND(\"BC/BS\",#REF!)),\"X\",\"\")","v":""},"X"]
["ARLINGTON COUNTY GOVERNMENT (WEBTPA)","X",{"$f":"IF(ISNUMBER(FIND(\"MEDICAID\",A321)),\"X\",\"\")","v":""},{"$f":"IF(ISNUMBER(FIND(\"MEDICARE\",A321)),\"X\",\"\")","v":""},{"$f":"IF(ISNUMBER(FIND(\"BC/BS\",#REF!)),\"X\",\"\")","v":""}]
["ARM LTD","X",{"$f":"IF(ISNUMBER(FIND(\"MEDICAID\",A322)),\"X\",\"\")","v":""},{"$f":"IF(ISNUMBER(FIND(\"MEDICARE\",A322)),\"X\",\"\")","v":""},{"$f":"IF(ISNUMBER(FIND(\"BC/BS\",#REF!)),\"X\",\"\")","v":""}]
["ARMSTRONG WORLD INDUSTRIES (90 DEGREE BENEFITS NORTH CAROLINA - CORPORATE BENEFIT SERVICES)","X",{"$f":"IF(ISNUMBER(FIND(\"MEDICAID\",A323)),\"X\",\"\")","v":""},{"$f":"IF(ISNUMBER(FIND(\"MEDICARE\",A323)),\"X\",\"\")","v":""},{"$f":"IF(ISNUMBER(FIND(\"BC/BS\",#REF!)),\"X\",\"\")","v":""}]
["ARNOFF MOVING & STORAGE (MVP HEALTH CARE)","X",{"$f":"IF(ISNUMBER(FIND(\"MEDICAID\",A324)),\"X\",\"\")","v":""},{"$f":"IF(ISNUMBER(FIND(\"MEDICARE\",A324)),\"X\",\"\")","v":""},{"$f":"IF(ISNUMBER(FIND(\"BC/BS\",#REF!)),\"X\",\"\")","v":""}]
["ASCEND TO WHOLENESS (WEBTPA)","X",{"$f":"IF(ISNUMBER(FIND(\"MEDICAID\",A325)),\"X\",\"\")","v":""},{"$f":"IF(ISNUMBER(FIND(\"MEDICARE\",A325)),\"X\",\"\")","v":""},{"$f":"IF(ISNUMBER(FIND(\"BC/BS\",#REF!)),\"X\",\"\")","v":""}]
["ASCENSION COMPLETE","X",{"$f":"IF(ISNUMBER(FIND(\"MEDICAID\",A326)),\"X\",\"\")","v":""},{"$f":"IF(ISNUMBER(FIND(\"MEDICARE\",A326)),\"X\",\"\")","v":""},{"$f":"IF(ISNUMBER(FIND(\"BC/BS\",#REF!)),\"X\",\"\")","v":""}]
["ASO - BENCHMADE KNIFE (PROVIDENCE HEALTH PLAN)","X",{"$f":"IF(ISNUMBER(FIND(\"MEDICAID\",A327)),\"X\",\"\")","v":""},{"$f":"IF(ISNUMBER(FIND(\"MEDICARE\",A327)),\"X\",\"\")","v":""},{"$f":"IF(ISNUMBER(FIND(\"BC/BS\",#REF!)),\"X\",\"\")","v":""}]
["ASO - CLACKAMAS COUNTY (PROVIDENCE HEALTH PLAN)","X",{"$f":"IF(ISNUMBER(FIND(\"MEDICAID\",A328)),\"X\",\"\")","v":""},{"$f":"IF(ISNUMBER(FIND(\"MEDICARE\",A328)),\"X\",\"\")","v":""},{"$f":"IF(ISNUMBER(FIND(\"BC/BS\",#REF!)),\"X\",\"\")","v":""}]
["ASO - COLLEGE NET (PROVIDENCE HEALTH PLAN)","X",{"$f":"IF(ISNUMBER(FIND(\"MEDICAID\",A329)),\"X\",\"\")","v":""},{"$f":"IF(ISNUMBER(FIND(\"MEDICARE\",A329)),\"X\",\"\")","v":""},{"$f":"IF(ISNUMBER(FIND(\"BC/BS\",#REF!)),\"X\",\"\")","v":""}]
["ASO - COLUMBIA SPORTSWEAR (PROVIDENCE HEALTH PLAN)","X",{"$f":"IF(ISNUMBER(FIND(\"MEDICAID\",A330)),\"X\",\"\")","v":""},{"$f":"IF(ISNUMBER(FIND(\"MEDICARE\",A330)),\"X\",\"\")","v":""},{"$f":"IF(ISNUMBER(FIND(\"BC/BS\",#REF!)),\"X\",\"\")","v":""}]
["ASO - INTEL CONNECTED CARE (PROVIDENCE HEALTH PLAN)","X",{"$f":"IF(ISNUMBER(FIND(\"MEDICAID\",A331)),\"X\",\"\")","v":""},{"$f":"IF(ISNUMBER(FIND(\"MEDICARE\",A331)),\"X\",\"\")","v":""},{"$f":"IF(ISNUMBER(FIND(\"BC/BS\",#REF!)),\"X\",\"\")","v":""}]
["ASO - JET INDUSTIRES (PROVIDENCE HEALTH PLAN)","X",{"$f":"IF(ISNUMBER(FIND(\"MEDICAID\",A332)),\"X\",\"\")","v":""},{"$f":"IF(ISNUMBER(FIND(\"MEDICARE\",A332)),\"X\",\"\")","v":""},{"$f":"IF(ISNUMBER(FIND(\"BC/BS\",#REF!)),\"X\",\"\")","v":""}]
["ASO - KADLEC AND PACMED (PROVIDENCE HEALTH PLAN)",null,{"$f":"IF(ISNUMBER(FIND(\"MEDICAID\",A333)),\"X\",\"\")","v":""},{"$f":"IF(ISNUMBER(FIND(\"MEDICARE\",A333)),\"X\",\"\")","v":""},{"$f":"IF(ISNUMBER(FIND(\"BC/BS\",#REF!)),\"X\",\"\")","v":""}]
["ASO - NOSLER INC (PROVIDENCE HEALTH PLAN)","X",{"$f":"IF(ISNUMBER(FIND(\"MEDICAID\",A334)),\"X\",\"\")","v":""},{"$f":"IF(ISNUMBER(FIND(\"MEDICARE\",A334)),\"X\",\"\")","v":""},{"$f":"IF(ISNUMBER(FIND(\"BC/BS\",#REF!)),\"X\",\"\")","v":""}]
["ASO - PEBB STATEWIDE (PROVIDENCE HEALTH PLAN)","X",{"$f":"IF(ISNUMBER(FIND(\"MEDICAID\",A335)),\"X\",\"\")","v":""},{"$f":"IF(ISNUMBER(FIND(\"MEDICARE\",A335)),\"X\",\"\")","v":""},{"$f":"IF(ISNUMBER(FIND(\"BC/BS\",#REF!)),\"X\",\"\")","v":""}]
["ASO - SAIF (PROVIDENCE HEALTH PLAN)","X",{"$f":"IF(ISNUMBER(FIND(\"MEDICAID\",A336)),\"X\",\"\")","v":""},{"$f":"IF(ISNUMBER(FIND(\"MEDICARE\",A336)),\"X\",\"\")","v":""},{"$f":"IF(ISNUMBER(FIND(\"BC/BS\",#REF!)),\"X\",\"\")","v":""}]
["ASO - SCHOOL DISTRICT NO 1 HEALTH & WLFARE TRUST (PROVIDENCE HEALTH PLAN)","X",{"$f":"IF(ISNUMBER(FIND(\"MEDICAID\",A337)),\"X\",\"\")","v":""},{"$f":"IF(ISNUMBER(FIND(\"MEDICARE\",A337)),\"X\",\"\")","v":""},{"$f":"IF(ISNUMBER(FIND(\"BC/BS\",#REF!)),\"X\",\"\")","v":""}]
["ASO - ST. JOSEPH HEALTH (PROVIDENCE HEALTH PLAN)","X",{"$f":"IF(ISNUMBER(FIND(\"MEDICAID\",A338)),\"X\",\"\")","v":""},{"$f":"IF(ISNUMBER(FIND(\"MEDICARE\",A338)),\"X\",\"\")","v":""},{"$f":"IF(ISNUMBER(FIND(\"BC/BS\",#REF!)),\"X\",\"\")","v":""}]
["ASO - SWEDISH (PROVIDENCE HEALTH PLAN)","X",{"$f":"IF(ISNUMBER(FIND(\"MEDICAID\",A339)),\"X\",\"\")","v":""},{"$f":"IF(ISNUMBER(FIND(\"MEDICARE\",A339)),\"X\",\"\")","v":""},{"$f":"IF(ISNUMBER(FIND(\"BC/BS\",#REF!)),\"X\",\"\")","v":""}]
["ASO - UMPQUA HEALTH (PROVIDENCE HEALTH PLAN)","X",{"$f":"IF(ISNUMBER(FIND(\"MEDICAID\",A340)),\"X\",\"\")","v":""},{"$f":"IF(ISNUMBER(FIND(\"MEDICARE\",A340)),\"X\",\"\")","v":""},{"$f":"IF(ISNUMBER(FIND(\"BC/BS\",#REF!)),\"X\",\"\")","v":""}]
["ASP BENEFITS - ADMINISTRATIVE SERVICE PROFESSIONALS","X",{"$f":"IF(ISNUMBER(FIND(\"MEDICAID\",A341)),\"X\",\"\")","v":""},{"$f":"IF(ISNUMBER(FIND(\"MEDICARE\",A341)),\"X\",\"\")","v":""},{"$f":"IF(ISNUMBER(FIND(\"BC/BS\",#REF!)),\"X\",\"\")","v":""}]
["ASPIRE HEALTH PLAN (PERFORMANCE HEALTH TECHNOLOGY)","X",{"$f":"IF(ISNUMBER(FIND(\"MEDICAID\",A342)),\"X\",\"\")","v":""},{"$f":"IF(ISNUMBER(FIND(\"MEDICARE\",A342)),\"X\",\"\")","v":""},{"$f":"IF(ISNUMBER(FIND(\"BC/BS\",#REF!)),\"X\",\"\")","v":""}]
["ASPIRUS ARISE HEALTH PLAN - WISCONSIN CLAIMS (AAHV) (WPS)",null,{"$f":"IF(ISNUMBER(FIND(\"MEDICAID\",A343)),\"X\",\"\")","v":""},{"$f":"IF(ISNUMBER(FIND(\"MEDICARE\",A343)),\"X\",\"\")","v":""},{"$f":"IF(ISNUMBER(FIND(\"BC/BS\",#REF!)),\"X\",\"\")","v":""}]
["ASPIRUS GROUP HEALTH PLAN - BMO HARRIS (WPS)","X",{"$f":"IF(ISNUMBER(FIND(\"MEDICAID\",A344)),\"X\",\"\")","v":""},{"$f":"IF(ISNUMBER(FIND(\"MEDICARE\",A344)),\"X\",\"\")","v":""},{"$f":"IF(ISNUMBER(FIND(\"BC/BS\",#REF!)),\"X\",\"\")","v":""}]
["ASPIRUS HEALTH VENTURES INC","X",{"$f":"IF(ISNUMBER(FIND(\"MEDICAID\",A345)),\"X\",\"\")","v":""},{"$f":"IF(ISNUMBER(FIND(\"MEDICARE\",A345)),\"X\",\"\")","v":""},{"$f":"IF(ISNUMBER(FIND(\"BC/BS\",#REF!)),\"X\",\"\")","v":""}]
["ASPIRUS INC","X",{"$f":"IF(ISNUMBER(FIND(\"MEDICAID\",A346)),\"X\",\"\")","v":""},{"$f":"IF(ISNUMBER(FIND(\"MEDICARE\",A346)),\"X\",\"\")","v":""},{"$f":"IF(ISNUMBER(FIND(\"BC/BS\",#REF!)),\"X\",\"\")","v":""}]
["ASR HEALTH BENEFITS","X",{"$f":"IF(ISNUMBER(FIND(\"MEDICAID\",A347)),\"X\",\"\")","v":""},{"$f":"IF(ISNUMBER(FIND(\"MEDICARE\",A347)),\"X\",\"\")","v":""},{"$f":"IF(ISNUMBER(FIND(\"BC/BS\",#REF!)),\"X\",\"\")","v":""}]
["ASRM LLC","X",{"$f":"IF(ISNUMBER(FIND(\"MEDICAID\",A348)),\"X\",\"\")","v":""},{"$f":"IF(ISNUMBER(FIND(\"MEDICARE\",A348)),\"X\",\"\")","v":""},{"$f":"IF(ISNUMBER(FIND(\"BC/BS\",#REF!)),\"X\",\"\")","v":""}]
["ASSOCIATED ADMINISTRATORS LLC","X",{"$f":"IF(ISNUMBER(FIND(\"MEDICAID\",A349)),\"X\",\"\")","v":""},{"$f":"IF(ISNUMBER(FIND(\"MEDICARE\",A349)),\"X\",\"\")","v":""},{"$f":"IF(ISNUMBER(FIND(\"BC/BS\",#REF!)),\"X\",\"\")","v":""}]
["ASSOCIATED BENEFITS (GROUP & PENSION ADMIN)","X",{"$f":"IF(ISNUMBER(FIND(\"MEDICAID\",A350)),\"X\",\"\")","v":""},{"$f":"IF(ISNUMBER(FIND(\"MEDICARE\",A350)),\"X\",\"\")","v":""},{"$f":"IF(ISNUMBER(FIND(\"BC/BS\",#REF!)),\"X\",\"\")","v":""}]
["ASSOCIATED HISP PHYS OF SO CALIFORNIA (MEDPOINT MANAGEMENT)","X",{"$f":"IF(ISNUMBER(FIND(\"MEDICAID\",A351)),\"X\",\"\")","v":""},{"$f":"IF(ISNUMBER(FIND(\"MEDICARE\",A351)),\"X\",\"\")","v":""},{"$f":"IF(ISNUMBER(FIND(\"BC/BS\",#REF!)),\"X\",\"\")","v":""}]
["ASSOCIATION COUNTY COMMISSIONERS OF GEORGIA (ACCG - GSIWCF)","X",{"$f":"IF(ISNUMBER(FIND(\"MEDICAID\",A352)),\"X\",\"\")","v":""},{"$f":"IF(ISNUMBER(FIND(\"MEDICARE\",A352)),\"X\",\"\")","v":""},{"$f":"IF(ISNUMBER(FIND(\"BC/BS\",#REF!)),\"X\",\"\")","v":""},"X"]
["ASSURED BENEFITS ADMINISTRATORS","X",{"$f":"IF(ISNUMBER(FIND(\"MEDICAID\",A353)),\"X\",\"\")","v":""},{"$f":"IF(ISNUMBER(FIND(\"MEDICARE\",A353)),\"X\",\"\")","v":""},{"$f":"IF(ISNUMBER(FIND(\"BC/BS\",#REF!)),\"X\",\"\")","v":""}]
["ASSURED LIFE ASSOCIATION (MUTUAL OF OMAHA)","X",{"$f":"IF(ISNUMBER(FIND(\"MEDICAID\",A354)),\"X\",\"\")","v":""},{"$f":"IF(ISNUMBER(FIND(\"MEDICARE\",A354)),\"X\",\"\")","v":""},{"$f":"IF(ISNUMBER(FIND(\"BC/BS\",#REF!)),\"X\",\"\")","v":""}]
["ASURIS NORTHWEST HEALTH","X",{"$f":"IF(ISNUMBER(FIND(\"MEDICAID\",A355)),\"X\",\"\")","v":""},{"$f":"IF(ISNUMBER(FIND(\"MEDICARE\",A355)),\"X\",\"\")","v":""},{"$f":"IF(ISNUMBER(FIND(\"BC/BS\",#REF!)),\"X\",\"\")","v":""}]
["ATHENS ADMINISTRATORS","X",{"$f":"IF(ISNUMBER(FIND(\"MEDICAID\",A356)),\"X\",\"\")","v":""},{"$f":"IF(ISNUMBER(FIND(\"MEDICARE\",A356)),\"X\",\"\")","v":""},{"$f":"IF(ISNUMBER(FIND(\"BC/BS\",#REF!)),\"X\",\"\")","v":""}]
["ATLANTA VA MEDICAL CENTER","X",{"$f":"IF(ISNUMBER(FIND(\"MEDICAID\",A357)),\"X\",\"\")","v":""},{"$f":"IF(ISNUMBER(FIND(\"MEDICARE\",A357)),\"X\",\"\")","v":""},{"$f":"IF(ISNUMBER(FIND(\"BC/BS\",#REF!)),\"X\",\"\")","v":""}]
["ATLANTIC BROADBAND (MAESTRO HEALTH)","X",{"$f":"IF(ISNUMBER(FIND(\"MEDICAID\",A358)),\"X\",\"\")","v":""},{"$f":"IF(ISNUMBER(FIND(\"MEDICARE\",A358)),\"X\",\"\")","v":""},{"$f":"IF(ISNUMBER(FIND(\"BC/BS\",#REF!)),\"X\",\"\")","v":""}]
["ATLANTIC COAST HEALTH PLAN (SOUTHERN BENEFIT ADMINISTRATORS)","X",{"$f":"IF(ISNUMBER(FIND(\"MEDICAID\",A359)),\"X\",\"\")","v":""},{"$f":"IF(ISNUMBER(FIND(\"MEDICARE\",A359)),\"X\",\"\")","v":""},{"$f":"IF(ISNUMBER(FIND(\"BC/BS\",#REF!)),\"X\",\"\")","v":""}]
["ATLANTIC COAST LIFE INSURANCE COMPANY (SENTINEL SECURITY)","X",{"$f":"IF(ISNUMBER(FIND(\"MEDICAID\",A360)),\"X\",\"\")","v":""},{"$f":"IF(ISNUMBER(FIND(\"MEDICARE\",A360)),\"X\",\"\")","v":""},{"$f":"IF(ISNUMBER(FIND(\"BC/BS\",#REF!)),\"X\",\"\")","v":""}]
["ATLANTIC ORTHOPAEDIC SPEC (SENTARA)","X",{"$f":"IF(ISNUMBER(FIND(\"MEDICAID\",A361)),\"X\",\"\")","v":""},{"$f":"IF(ISNUMBER(FIND(\"MEDICARE\",A361)),\"X\",\"\")","v":""},{"$f":"IF(ISNUMBER(FIND(\"BC/BS\",#REF!)),\"X\",\"\")","v":""}]
["ATLANTICARE (GEISINGER HEALTH PLAN)",null,{"$f":"IF(ISNUMBER(FIND(\"MEDICAID\",A362)),\"X\",\"\")","v":""},{"$f":"IF(ISNUMBER(FIND(\"MEDICARE\",A362)),\"X\",\"\")","v":""},{"$f":"IF(ISNUMBER(FIND(\"BC/BS\",#REF!)),\"X\",\"\")","v":""}]
["ATRIO HEALTH PLANS","X",{"$f":"IF(ISNUMBER(FIND(\"MEDICAID\",A363)),\"X\",\"\")","v":""},{"$f":"IF(ISNUMBER(FIND(\"MEDICARE\",A363)),\"X\",\"\")","v":""},{"$f":"IF(ISNUMBER(FIND(\"BC/BS\",#REF!)),\"X\",\"\")","v":""}]
["ATRIUM CENTERS INC (CONTIGO HEALTH)",null,{"$f":"IF(ISNUMBER(FIND(\"MEDICAID\",A364)),\"X\",\"\")","v":""},{"$f":"IF(ISNUMBER(FIND(\"MEDICARE\",A364)),\"X\",\"\")","v":""},{"$f":"IF(ISNUMBER(FIND(\"BC/BS\",#REF!)),\"X\",\"\")","v":""}]
["AUDIE L. MURPHY MEMORIAL VETERANS' HOSPITAL","X",{"$f":"IF(ISNUMBER(FIND(\"MEDICAID\",A365)),\"X\",\"\")","v":""},{"$f":"IF(ISNUMBER(FIND(\"MEDICARE\",A365)),\"X\",\"\")","v":""},{"$f":"IF(ISNUMBER(FIND(\"BC/BS\",#REF!)),\"X\",\"\")","v":""}]
["AUGUSTA NATIONAL (MAESTRO HEALTH)","X",{"$f":"IF(ISNUMBER(FIND(\"MEDICAID\",A366)),\"X\",\"\")","v":""},{"$f":"IF(ISNUMBER(FIND(\"MEDICARE\",A366)),\"X\",\"\")","v":""},{"$f":"IF(ISNUMBER(FIND(\"BC/BS\",#REF!)),\"X\",\"\")","v":""}]
["AULTCARE CORPORATION","X",{"$f":"IF(ISNUMBER(FIND(\"MEDICAID\",A367)),\"X\",\"\")","v":""},{"$f":"IF(ISNUMBER(FIND(\"MEDICARE\",A367)),\"X\",\"\")","v":""},{"$f":"IF(ISNUMBER(FIND(\"BC/BS\",#REF!)),\"X\",\"\")","v":""}]
["AULTCARE INSURANCE COMPANY","X",{"$f":"IF(ISNUMBER(FIND(\"MEDICAID\",A368)),\"X\",\"\")","v":""},{"$f":"IF(ISNUMBER(FIND(\"MEDICARE\",A368)),\"X\",\"\")","v":""},{"$f":"IF(ISNUMBER(FIND(\"BC/BS\",#REF!)),\"X\",\"\")","v":""}]
["AULTRA ADMINISTRATIVE GROUP","X",{"$f":"IF(ISNUMBER(FIND(\"MEDICAID\",A369)),\"X\",\"\")","v":""},{"$f":"IF(ISNUMBER(FIND(\"MEDICARE\",A369)),\"X\",\"\")","v":""},{"$f":"IF(ISNUMBER(FIND(\"BC/BS\",#REF!)),\"X\",\"\")","v":""}]
["AUTHOR BY HUMANA",null,{"$f":"IF(ISNUMBER(FIND(\"MEDICAID\",A370)),\"X\",\"\")","v":""},{"$f":"IF(ISNUMBER(FIND(\"MEDICARE\",A370)),\"X\",\"\")","v":""},{"$f":"IF(ISNUMBER(FIND(\"BC/BS\",#REF!)),\"X\",\"\")","v":""}]
["AUTO CLUB ENTERPRISES ACTIVE (WEBTPA)","X",{"$f":"IF(ISNUMBER(FIND(\"MEDICAID\",A371)),\"X\",\"\")","v":""},{"$f":"IF(ISNUMBER(FIND(\"MEDICARE\",A371)),\"X\",\"\")","v":""},{"$f":"IF(ISNUMBER(FIND(\"BC/BS\",#REF!)),\"X\",\"\")","v":""}]
["AUTO CLUB ENTERPRISES RETIREE (WEBTPA)","X",{"$f":"IF(ISNUMBER(FIND(\"MEDICAID\",A372)),\"X\",\"\")","v":""},{"$f":"IF(ISNUMBER(FIND(\"MEDICARE\",A372)),\"X\",\"\")","v":""},{"$f":"IF(ISNUMBER(FIND(\"BC/BS\",#REF!)),\"X\",\"\")","v":""}]
["AUTOMATED BENEFIT SERVICES (ABS)","X",{"$f":"IF(ISNUMBER(FIND(\"MEDICAID\",A373)),\"X\",\"\")","v":""},{"$f":"IF(ISNUMBER(FIND(\"MEDICARE\",A373)),\"X\",\"\")","v":""},{"$f":"IF(ISNUMBER(FIND(\"BC/BS\",#REF!)),\"X\",\"\")","v":""}]
["AUTOMATED BENEFIT SERVICES (ABS) US HEALTH","X",{"$f":"IF(ISNUMBER(FIND(\"MEDICAID\",A374)),\"X\",\"\")","v":""},{"$f":"IF(ISNUMBER(FIND(\"MEDICARE\",A374)),\"X\",\"\")","v":""},{"$f":"IF(ISNUMBER(FIND(\"BC/BS\",#REF!)),\"X\",\"\")","v":""}]
["AUTOMATED GROUP ADMINISTRATION","X",{"$f":"IF(ISNUMBER(FIND(\"MEDICAID\",A375)),\"X\",\"\")","v":""},{"$f":"IF(ISNUMBER(FIND(\"MEDICARE\",A375)),\"X\",\"\")","v":""},{"$f":"IF(ISNUMBER(FIND(\"BC/BS\",#REF!)),\"X\",\"\")","v":""}]
["AUTOMATION CONTROLS INC (SENTARA)","X",{"$f":"IF(ISNUMBER(FIND(\"MEDICAID\",A376)),\"X\",\"\")","v":""},{"$f":"IF(ISNUMBER(FIND(\"MEDICARE\",A376)),\"X\",\"\")","v":""},{"$f":"IF(ISNUMBER(FIND(\"BC/BS\",#REF!)),\"X\",\"\")","v":""}]
["AUXIANT","X",{"$f":"IF(ISNUMBER(FIND(\"MEDICAID\",A377)),\"X\",\"\")","v":""},{"$f":"IF(ISNUMBER(FIND(\"MEDICARE\",A377)),\"X\",\"\")","v":""},{"$f":"IF(ISNUMBER(FIND(\"BC/BS\",#REF!)),\"X\",\"\")","v":""}]
["AVALON INSURANCE COMPANY","X",{"$f":"IF(ISNUMBER(FIND(\"MEDICAID\",A378)),\"X\",\"\")","v":""},{"$f":"IF(ISNUMBER(FIND(\"MEDICARE\",A378)),\"X\",\"\")","v":""},{"$f":"IF(ISNUMBER(FIND(\"BC/BS\",#REF!)),\"X\",\"\")","v":""}]
["AVERA HEALTH PLANS","X",{"$f":"IF(ISNUMBER(FIND(\"MEDICAID\",A379)),\"X\",\"\")","v":""},{"$f":"IF(ISNUMBER(FIND(\"MEDICARE\",A379)),\"X\",\"\")","v":""},{"$f":"IF(ISNUMBER(FIND(\"BC/BS\",#REF!)),\"X\",\"\")","v":""}]
["AVERA HEALTH PLANS - MEDICARE SUPPLEMENT","X",{"$f":"IF(ISNUMBER(FIND(\"MEDICAID\",A380)),\"X\",\"\")","v":""},null,{"$f":"IF(ISNUMBER(FIND(\"BC/BS\",#REF!)),\"X\",\"\")","v":""}]
["AVESIS THIRD PARTY ADMINISTRATORS LLC","X",{"$f":"IF(ISNUMBER(FIND(\"MEDICAID\",A381)),\"X\",\"\")","v":""},{"$f":"IF(ISNUMBER(FIND(\"MEDICARE\",A381)),\"X\",\"\")","v":""},{"$f":"IF(ISNUMBER(FIND(\"BC/BS\",#REF!)),\"X\",\"\")","v":""}]
["AVMED INC","X",{"$f":"IF(ISNUMBER(FIND(\"MEDICAID\",A382)),\"X\",\"\")","v":""},{"$f":"IF(ISNUMBER(FIND(\"MEDICARE\",A382)),\"X\",\"\")","v":""},{"$f":"IF(ISNUMBER(FIND(\"BC/BS\",#REF!)),\"X\",\"\")","v":""}]
["AWI HOLDINGS INC DBA AUTO-WARES GROUP (ASR HEALTH BENEFITS)","X",{"$f":"IF(ISNUMBER(FIND(\"MEDICAID\",A383)),\"X\",\"\")","v":""},{"$f":"IF(ISNUMBER(FIND(\"MEDICARE\",A383)),\"X\",\"\")","v":""},{"$f":"IF(ISNUMBER(FIND(\"BC/BS\",#REF!)),\"X\",\"\")","v":""}]
["AXA ASSISTANCE FLORIDA INC","X",{"$f":"IF(ISNUMBER(FIND(\"MEDICAID\",A384)),\"X\",\"\")","v":""},{"$f":"IF(ISNUMBER(FIND(\"MEDICARE\",A384)),\"X\",\"\")","v":""},{"$f":"IF(ISNUMBER(FIND(\"BC/BS\",#REF!)),\"X\",\"\")","v":""}]
["AXIS COMMUNICATIONS (MAESTRO HEALTH)","X",{"$f":"IF(ISNUMBER(FIND(\"MEDICAID\",A385)),\"X\",\"\")","v":""},{"$f":"IF(ISNUMBER(FIND(\"MEDICARE\",A385)),\"X\",\"\")","v":""},{"$f":"IF(ISNUMBER(FIND(\"BC/BS\",#REF!)),\"X\",\"\")","v":""}]
["AXIS MACHINING INC (ASR HEALTH BENEFITS)",null,{"$f":"IF(ISNUMBER(FIND(\"MEDICAID\",A386)),\"X\",\"\")","v":""},{"$f":"IF(ISNUMBER(FIND(\"MEDICARE\",A386)),\"X\",\"\")","v":""},{"$f":"IF(ISNUMBER(FIND(\"BC/BS\",#REF!)),\"X\",\"\")","v":""}]
["AYRES GROUP (HEALTHCOMP)",null,{"$f":"IF(ISNUMBER(FIND(\"MEDICAID\",A387)),\"X\",\"\")","v":""},{"$f":"IF(ISNUMBER(FIND(\"MEDICARE\",A387)),\"X\",\"\")","v":""},{"$f":"IF(ISNUMBER(FIND(\"BC/BS\",#REF!)),\"X\",\"\")","v":""}]
["AZO SERVICES INC (ASR HEALTH BENEFITS)","X",{"$f":"IF(ISNUMBER(FIND(\"MEDICAID\",A388)),\"X\",\"\")","v":""},{"$f":"IF(ISNUMBER(FIND(\"MEDICARE\",A388)),\"X\",\"\")","v":""},{"$f":"IF(ISNUMBER(FIND(\"BC/BS\",#REF!)),\"X\",\"\")","v":""}]
["B H INC (MBA BENEFIT ADMINISTRATORS)","X",{"$f":"IF(ISNUMBER(FIND(\"MEDICAID\",A389)),\"X\",\"\")","v":""},{"$f":"IF(ISNUMBER(FIND(\"MEDICARE\",A389)),\"X\",\"\")","v":""},{"$f":"IF(ISNUMBER(FIND(\"BC/BS\",#REF!)),\"X\",\"\")","v":""}]
["B S AND L CORPORATION (SENTARA)","X",{"$f":"IF(ISNUMBER(FIND(\"MEDICAID\",A390)),\"X\",\"\")","v":""},{"$f":"IF(ISNUMBER(FIND(\"MEDICARE\",A390)),\"X\",\"\")","v":""},{"$f":"IF(ISNUMBER(FIND(\"BC/BS\",#REF!)),\"X\",\"\")","v":""}]
["B&D INDUSTRIAL INC (WEBTPA)",null,{"$f":"IF(ISNUMBER(FIND(\"MEDICAID\",A391)),\"X\",\"\")","v":""},{"$f":"IF(ISNUMBER(FIND(\"MEDICARE\",A391)),\"X\",\"\")","v":""},{"$f":"IF(ISNUMBER(FIND(\"BC/BS\",#REF!)),\"X\",\"\")","v":""}]
["B&G MATERIALS EBPT (90 DEGREE BENEFITS HOUSTON - ENTRUST)",null,{"$f":"IF(ISNUMBER(FIND(\"MEDICAID\",A392)),\"X\",\"\")","v":""},{"$f":"IF(ISNUMBER(FIND(\"MEDICARE\",A392)),\"X\",\"\")","v":""},{"$f":"IF(ISNUMBER(FIND(\"BC/BS\",#REF!)),\"X\",\"\")","v":""}]
["B.I.G. LOGISTICS EBPT (90 DEGREE BENEFITS HOUSTON - ENTRUST)",null,{"$f":"IF(ISNUMBER(FIND(\"MEDICAID\",A393)),\"X\",\"\")","v":""},{"$f":"IF(ISNUMBER(FIND(\"MEDICARE\",A393)),\"X\",\"\")","v":""},{"$f":"IF(ISNUMBER(FIND(\"BC/BS\",#REF!)),\"X\",\"\")","v":""}]
["BABB INS",null,{"$f":"IF(ISNUMBER(FIND(\"MEDICAID\",A394)),\"X\",\"\")","v":""},{"$f":"IF(ISNUMBER(FIND(\"MEDICARE\",A394)),\"X\",\"\")","v":""},{"$f":"IF(ISNUMBER(FIND(\"BC/BS\",#REF!)),\"X\",\"\")","v":""}]
["BABCOCK & WILCOX (THE HEALTH PLAN)","X",{"$f":"IF(ISNUMBER(FIND(\"MEDICAID\",A395)),\"X\",\"\")","v":""},{"$f":"IF(ISNUMBER(FIND(\"MEDICARE\",A395)),\"X\",\"\")","v":""},{"$f":"IF(ISNUMBER(FIND(\"BC/BS\",#REF!)),\"X\",\"\")","v":""}]
["BAC INTERNATIONAL HEALTH FUND (GEISINGER HEALTH PLAN)","X",{"$f":"IF(ISNUMBER(FIND(\"MEDICAID\",A396)),\"X\",\"\")","v":""},{"$f":"IF(ISNUMBER(FIND(\"MEDICARE\",A396)),\"X\",\"\")","v":""},{"$f":"IF(ISNUMBER(FIND(\"BC/BS\",#REF!)),\"X\",\"\")","v":""}]
["BADGE (MERCER)","X",{"$f":"IF(ISNUMBER(FIND(\"MEDICAID\",A397)),\"X\",\"\")","v":""},{"$f":"IF(ISNUMBER(FIND(\"MEDICARE\",A397)),\"X\",\"\")","v":""},{"$f":"IF(ISNUMBER(FIND(\"BC/BS\",#REF!)),\"X\",\"\")","v":""}]
["BAISCH & SKINNER (IPMG)","X",{"$f":"IF(ISNUMBER(FIND(\"MEDICAID\",A398)),\"X\",\"\")","v":""},{"$f":"IF(ISNUMBER(FIND(\"MEDICARE\",A398)),\"X\",\"\")","v":""},{"$f":"IF(ISNUMBER(FIND(\"BC/BS\",#REF!)),\"X\",\"\")","v":""}]
["BAKER COLLEGE (ASR HEALTH BENEFITS)","X",{"$f":"IF(ISNUMBER(FIND(\"MEDICAID\",A399)),\"X\",\"\")","v":""},{"$f":"IF(ISNUMBER(FIND(\"MEDICARE\",A399)),\"X\",\"\")","v":""},{"$f":"IF(ISNUMBER(FIND(\"BC/BS\",#REF!)),\"X\",\"\")","v":""}]
["BAKER HALL DBA BAKER VICTORY SERVICES (INDEPENDENT HEALTH)",null,{"$f":"IF(ISNUMBER(FIND(\"MEDICAID\",A400)),\"X\",\"\")","v":""},{"$f":"IF(ISNUMBER(FIND(\"MEDICARE\",A400)),\"X\",\"\")","v":""},{"$f":"IF(ISNUMBER(FIND(\"BC/BS\",#REF!)),\"X\",\"\")","v":""}]
["BALBOA NEPHROLOGY MEDICAL GROUP (HEALTHCOMP)","X",{"$f":"IF(ISNUMBER(FIND(\"MEDICAID\",A401)),\"X\",\"\")","v":""},{"$f":"IF(ISNUMBER(FIND(\"MEDICARE\",A401)),\"X\",\"\")","v":""},{"$f":"IF(ISNUMBER(FIND(\"BC/BS\",#REF!)),\"X\",\"\")","v":""}]
["BALDWIN HACKETT & MEEKS INC (IPMG)",null,{"$f":"IF(ISNUMBER(FIND(\"MEDICAID\",A402)),\"X\",\"\")","v":""},{"$f":"IF(ISNUMBER(FIND(\"MEDICARE\",A402)),\"X\",\"\")","v":""},{"$f":"IF(ISNUMBER(FIND(\"BC/BS\",#REF!)),\"X\",\"\")","v":""}]
["BALTIMORE VA MEDICAL CENTER","X",{"$f":"IF(ISNUMBER(FIND(\"MEDICAID\",A403)),\"X\",\"\")","v":""},{"$f":"IF(ISNUMBER(FIND(\"MEDICARE\",A403)),\"X\",\"\")","v":""},{"$f":"IF(ISNUMBER(FIND(\"BC/BS\",#REF!)),\"X\",\"\")","v":""}]
["BANDANA'S BBQ (IPMG)","X",{"$f":"IF(ISNUMBER(FIND(\"MEDICAID\",A404)),\"X\",\"\")","v":""},{"$f":"IF(ISNUMBER(FIND(\"MEDICARE\",A404)),\"X\",\"\")","v":""},{"$f":"IF(ISNUMBER(FIND(\"BC/BS\",#REF!)),\"X\",\"\")","v":""}]
["BANDIT INDUSTRIES INC (ASR HEALTH BENEFITS)","X",{"$f":"IF(ISNUMBER(FIND(\"MEDICAID\",A405)),\"X\",\"\")","v":""},{"$f":"IF(ISNUMBER(FIND(\"MEDICARE\",A405)),\"X\",\"\")","v":""},{"$f":"IF(ISNUMBER(FIND(\"BC/BS\",#REF!)),\"X\",\"\")","v":""}]
["BANK OF FRANKLIN COUNTY (IPMG)","X",{"$f":"IF(ISNUMBER(FIND(\"MEDICAID\",A406)),\"X\",\"\")","v":""},{"$f":"IF(ISNUMBER(FIND(\"MEDICARE\",A406)),\"X\",\"\")","v":""},{"$f":"IF(ISNUMBER(FIND(\"BC/BS\",#REF!)),\"X\",\"\")","v":""}]
["BANK OF OLD MONROE (IPMG)","X",{"$f":"IF(ISNUMBER(FIND(\"MEDICAID\",A407)),\"X\",\"\")","v":""},{"$f":"IF(ISNUMBER(FIND(\"MEDICARE\",A407)),\"X\",\"\")","v":""},{"$f":"IF(ISNUMBER(FIND(\"BC/BS\",#REF!)),\"X\",\"\")","v":""}]
["BANKERS CONSECO LIFE INSURANCE COMPANY (CONSECO)","X",{"$f":"IF(ISNUMBER(FIND(\"MEDICAID\",A408)),\"X\",\"\")","v":""},{"$f":"IF(ISNUMBER(FIND(\"MEDICARE\",A408)),\"X\",\"\")","v":""},{"$f":"IF(ISNUMBER(FIND(\"BC/BS\",#REF!)),\"X\",\"\")","v":""}]
["BANKERS FIDELITY LIFE INSURANCE CO","X",{"$f":"IF(ISNUMBER(FIND(\"MEDICAID\",A409)),\"X\",\"\")","v":""},{"$f":"IF(ISNUMBER(FIND(\"MEDICARE\",A409)),\"X\",\"\")","v":""},{"$f":"IF(ISNUMBER(FIND(\"BC/BS\",#REF!)),\"X\",\"\")","v":""}]
["BANKERS LIFE AND CASUALTY COMPANY (CONSECO)","X",{"$f":"IF(ISNUMBER(FIND(\"MEDICAID\",A410)),\"X\",\"\")","v":""},{"$f":"IF(ISNUMBER(FIND(\"MEDICARE\",A410)),\"X\",\"\")","v":""},{"$f":"IF(ISNUMBER(FIND(\"BC/BS\",#REF!)),\"X\",\"\")","v":""}]
["BANNER HEALTH NETWORK","X",{"$f":"IF(ISNUMBER(FIND(\"MEDICAID\",A411)),\"X\",\"\")","v":""},{"$f":"IF(ISNUMBER(FIND(\"MEDICARE\",A411)),\"X\",\"\")","v":""},{"$f":"IF(ISNUMBER(FIND(\"BC/BS\",#REF!)),\"X\",\"\")","v":""}]
["BANNER MEDICARE ADVANTAGE","X",{"$f":"IF(ISNUMBER(FIND(\"MEDICAID\",A412)),\"X\",\"\")","v":""},null,{"$f":"IF(ISNUMBER(FIND(\"BC/BS\",#REF!)),\"X\",\"\")","v":""}]
["BANNER MEDICARE ADVANTAGE DUAL HMO D- SNP","X",{"$f":"IF(ISNUMBER(FIND(\"MEDICAID\",A413)),\"X\",\"\")","v":""},null,{"$f":"IF(ISNUMBER(FIND(\"BC/BS\",#REF!)),\"X\",\"\")","v":""}]
["BANNER UNIVERSITY FAMILY CARE","X",{"$f":"IF(ISNUMBER(FIND(\"MEDICAID\",A414)),\"X\",\"\")","v":""},{"$f":"IF(ISNUMBER(FIND(\"MEDICARE\",A414)),\"X\",\"\")","v":""},{"$f":"IF(ISNUMBER(FIND(\"BC/BS\",#REF!)),\"X\",\"\")","v":""}]
["BAPTIST GENERAL (SENTARA)","X",{"$f":"IF(ISNUMBER(FIND(\"MEDICAID\",A415)),\"X\",\"\")","v":""},{"$f":"IF(ISNUMBER(FIND(\"MEDICARE\",A415)),\"X\",\"\")","v":""},{"$f":"IF(ISNUMBER(FIND(\"BC/BS\",#REF!)),\"X\",\"\")","v":""}]
["BARNESVILLE HOSPITAL (THE HEALTH PLAN)","X",{"$f":"IF(ISNUMBER(FIND(\"MEDICAID\",A416)),\"X\",\"\")","v":""},{"$f":"IF(ISNUMBER(FIND(\"MEDICARE\",A416)),\"X\",\"\")","v":""},{"$f":"IF(ISNUMBER(FIND(\"BC/BS\",#REF!)),\"X\",\"\")","v":""}]
["BARRINGER CONSTRUCTION (90 DEGREE BENEFITS NORTH CAROLINA - CORPORATE BENEFIT SERVICES)",null,{"$f":"IF(ISNUMBER(FIND(\"MEDICAID\",A417)),\"X\",\"\")","v":""},{"$f":"IF(ISNUMBER(FIND(\"MEDICARE\",A417)),\"X\",\"\")","v":""},{"$f":"IF(ISNUMBER(FIND(\"BC/BS\",#REF!)),\"X\",\"\")","v":""}]
["BARTON HEALTHCARE SYSTEM (HEALTHCOMP)",null,{"$f":"IF(ISNUMBER(FIND(\"MEDICAID\",A418)),\"X\",\"\")","v":""},{"$f":"IF(ISNUMBER(FIND(\"MEDICARE\",A418)),\"X\",\"\")","v":""},{"$f":"IF(ISNUMBER(FIND(\"BC/BS\",#REF!)),\"X\",\"\")","v":""}]
["BASHAS' WELFARE BENEFIT PLAN (AMERIBEN)",null,{"$f":"IF(ISNUMBER(FIND(\"MEDICAID\",A419)),\"X\",\"\")","v":""},{"$f":"IF(ISNUMBER(FIND(\"MEDICARE\",A419)),\"X\",\"\")","v":""},{"$f":"IF(ISNUMBER(FIND(\"BC/BS\",#REF!)),\"X\",\"\")","v":""}]
["BATESVILLE TOOL AND DIE-MEDICAL (GROUP & PENSION ADMIN)","X",{"$f":"IF(ISNUMBER(FIND(\"MEDICAID\",A420)),\"X\",\"\")","v":""},{"$f":"IF(ISNUMBER(FIND(\"MEDICARE\",A420)),\"X\",\"\")","v":""},{"$f":"IF(ISNUMBER(FIND(\"BC/BS\",#REF!)),\"X\",\"\")","v":""}]
["BATH VA MEDICAL CENTER","X",{"$f":"IF(ISNUMBER(FIND(\"MEDICAID\",A421)),\"X\",\"\")","v":""},{"$f":"IF(ISNUMBER(FIND(\"MEDICARE\",A421)),\"X\",\"\")","v":""},{"$f":"IF(ISNUMBER(FIND(\"BC/BS\",#REF!)),\"X\",\"\")","v":""}]
["BATTELLE MEMORIAL INSTITUTE (AMERIBEN)",null,{"$f":"IF(ISNUMBER(FIND(\"MEDICAID\",A422)),\"X\",\"\")","v":""},{"$f":"IF(ISNUMBER(FIND(\"MEDICARE\",A422)),\"X\",\"\")","v":""},{"$f":"IF(ISNUMBER(FIND(\"BC/BS\",#REF!)),\"X\",\"\")","v":""}]
["BATTLE CREEK VA MEDICAL CENTER","X",{"$f":"IF(ISNUMBER(FIND(\"MEDICAID\",A423)),\"X\",\"\")","v":""},{"$f":"IF(ISNUMBER(FIND(\"MEDICARE\",A423)),\"X\",\"\")","v":""},{"$f":"IF(ISNUMBER(FIND(\"BC/BS\",#REF!)),\"X\",\"\")","v":""}]
["BAXTER REGIONAL MEDICAL CENTER (WEBTPA)","X",{"$f":"IF(ISNUMBER(FIND(\"MEDICAID\",A424)),\"X\",\"\")","v":""},{"$f":"IF(ISNUMBER(FIND(\"MEDICARE\",A424)),\"X\",\"\")","v":""},{"$f":"IF(ISNUMBER(FIND(\"BC/BS\",#REF!)),\"X\",\"\")","v":""}]
["BAYLANDS FAMILY CREDIT (SENTARA)","X",{"$f":"IF(ISNUMBER(FIND(\"MEDICAID\",A425)),\"X\",\"\")","v":""},{"$f":"IF(ISNUMBER(FIND(\"MEDICARE\",A425)),\"X\",\"\")","v":""},{"$f":"IF(ISNUMBER(FIND(\"BC/BS\",#REF!)),\"X\",\"\")","v":""}]
["BAYLOR SCOTT & WHITE HEALTH PLAN","X",{"$f":"IF(ISNUMBER(FIND(\"MEDICAID\",A426)),\"X\",\"\")","v":""},{"$f":"IF(ISNUMBER(FIND(\"MEDICARE\",A426)),\"X\",\"\")","v":""},{"$f":"IF(ISNUMBER(FIND(\"BC/BS\",#REF!)),\"X\",\"\")","v":""}]
["BCBS FEP","X",{"$f":"IF(ISNUMBER(FIND(\"MEDICAID\",A427)),\"X\",\"\")","v":""},{"$f":"IF(ISNUMBER(FIND(\"MEDICARE\",A427)),\"X\",\"\")","v":""},"X"]
["BCBS HEALTHCARE PLAN OF GEORGIA","X",{"$f":"IF(ISNUMBER(FIND(\"MEDICAID\",A428)),\"X\",\"\")","v":""},{"$f":"IF(ISNUMBER(FIND(\"MEDICARE\",A428)),\"X\",\"\")","v":""},"X"]
["BCBS OF ALABAMA","X",{"$f":"IF(ISNUMBER(FIND(\"MEDICAID\",A429)),\"X\",\"\")","v":""},{"$f":"IF(ISNUMBER(FIND(\"MEDICARE\",A429)),\"X\",\"\")","v":""},"X"]
["BCBS OF ARIZONA","X",{"$f":"IF(ISNUMBER(FIND(\"MEDICAID\",A430)),\"X\",\"\")","v":""},{"$f":"IF(ISNUMBER(FIND(\"MEDICARE\",A430)),\"X\",\"\")","v":""},"X"]
["BCBS OF ARIZONA HEALTH CHOICE","X",{"$f":"IF(ISNUMBER(FIND(\"MEDICAID\",A431)),\"X\",\"\")","v":""},{"$f":"IF(ISNUMBER(FIND(\"MEDICARE\",A431)),\"X\",\"\")","v":""},"X"]
["BCBS OF ARKANSAS HEALTH ADVANTAGE (HMO PARTNERS DBA HEALTH ADVANTAGE)","X",{"$f":"IF(ISNUMBER(FIND(\"MEDICAID\",A432)),\"X\",\"\")","v":""},{"$f":"IF(ISNUMBER(FIND(\"MEDICARE\",A432)),\"X\",\"\")","v":""},"X"]
["BCBS OF FLORIDA (FLORIDA BLUE)","X",{"$f":"IF(ISNUMBER(FIND(\"MEDICAID\",A433)),\"X\",\"\")","v":""},{"$f":"IF(ISNUMBER(FIND(\"MEDICARE\",A433)),\"X\",\"\")","v":""},"X"]
["BCBS OF GEORGIA","X",{"$f":"IF(ISNUMBER(FIND(\"MEDICAID\",A434)),\"X\",\"\")","v":""},{"$f":"IF(ISNUMBER(FIND(\"MEDICARE\",A434)),\"X\",\"\")","v":""},"X"]
["BCBS OF ILLINOIS","X",{"$f":"IF(ISNUMBER(FIND(\"MEDICAID\",A435)),\"X\",\"\")","v":""},{"$f":"IF(ISNUMBER(FIND(\"MEDICARE\",A435)),\"X\",\"\")","v":""},"X"]
["BCBS OF KANSAS","X",{"$f":"IF(ISNUMBER(FIND(\"MEDICAID\",A436)),\"X\",\"\")","v":""},{"$f":"IF(ISNUMBER(FIND(\"MEDICARE\",A436)),\"X\",\"\")","v":""},"X"]
["BCBS OF KANSAS - FEP","X",{"$f":"IF(ISNUMBER(FIND(\"MEDICAID\",A437)),\"X\",\"\")","v":""},{"$f":"IF(ISNUMBER(FIND(\"MEDICARE\",A437)),\"X\",\"\")","v":""},"X"]
["BCBS OF KANSAS CITY","X",{"$f":"IF(ISNUMBER(FIND(\"MEDICAID\",A438)),\"X\",\"\")","v":""},{"$f":"IF(ISNUMBER(FIND(\"MEDICARE\",A438)),\"X\",\"\")","v":""},"X"]
["BCBS OF KANSAS CITY - BLUE ADVANTAGE PLUS","X",{"$f":"IF(ISNUMBER(FIND(\"MEDICAID\",A439)),\"X\",\"\")","v":""},{"$f":"IF(ISNUMBER(FIND(\"MEDICARE\",A439)),\"X\",\"\")","v":""},"X"]
["BCBS OF KANSAS CITY FEP - BASIC","X",{"$f":"IF(ISNUMBER(FIND(\"MEDICAID\",A440)),\"X\",\"\")","v":""},{"$f":"IF(ISNUMBER(FIND(\"MEDICARE\",A440)),\"X\",\"\")","v":""},"X"]
["BCBS OF KANSAS CITY FEP - BLUE FOCUS","X",{"$f":"IF(ISNUMBER(FIND(\"MEDICAID\",A441)),\"X\",\"\")","v":""},{"$f":"IF(ISNUMBER(FIND(\"MEDICARE\",A441)),\"X\",\"\")","v":""},"X"]
["BCBS OF KANSAS CITY FEP - STANDARD","X",{"$f":"IF(ISNUMBER(FIND(\"MEDICAID\",A442)),\"X\",\"\")","v":""},{"$f":"IF(ISNUMBER(FIND(\"MEDICARE\",A442)),\"X\",\"\")","v":""},"X"]
["BCBS OF LOUISIANA","X",{"$f":"IF(ISNUMBER(FIND(\"MEDICAID\",A443)),\"X\",\"\")","v":""},{"$f":"IF(ISNUMBER(FIND(\"MEDICARE\",A443)),\"X\",\"\")","v":""},"X"]
["BCBS OF LOUISIANA - OGB MAGNOLIA LOCAL","X",{"$f":"IF(ISNUMBER(FIND(\"MEDICAID\",A444)),\"X\",\"\")","v":""},{"$f":"IF(ISNUMBER(FIND(\"MEDICARE\",A444)),\"X\",\"\")","v":""},"X"]
["BCBS OF LOUISIANA - OGB MAGNOLIA LOCAL PLUS","X",{"$f":"IF(ISNUMBER(FIND(\"MEDICAID\",A445)),\"X\",\"\")","v":""},{"$f":"IF(ISNUMBER(FIND(\"MEDICARE\",A445)),\"X\",\"\")","v":""},"X"]
["BCBS OF LOUISIANA - OGB MAGNOLIA OPEN ACCESS","X",{"$f":"IF(ISNUMBER(FIND(\"MEDICAID\",A446)),\"X\",\"\")","v":""},{"$f":"IF(ISNUMBER(FIND(\"MEDICARE\",A446)),\"X\",\"\")","v":""},"X"]
["BCBS OF LOUISIANA - OGB PELICAN HRA 1000","X",{"$f":"IF(ISNUMBER(FIND(\"MEDICAID\",A447)),\"X\",\"\")","v":""},{"$f":"IF(ISNUMBER(FIND(\"MEDICARE\",A447)),\"X\",\"\")","v":""},"X"]
["BCBS OF LOUISIANA - OGB PELICAN HSA 775","X",{"$f":"IF(ISNUMBER(FIND(\"MEDICAID\",A448)),\"X\",\"\")","v":""},{"$f":"IF(ISNUMBER(FIND(\"MEDICARE\",A448)),\"X\",\"\")","v":""},"X"]
["BCBS OF LOUISIANA FEP","X",{"$f":"IF(ISNUMBER(FIND(\"MEDICAID\",A449)),\"X\",\"\")","v":""},{"$f":"IF(ISNUMBER(FIND(\"MEDICARE\",A449)),\"X\",\"\")","v":""},"X"]
["BCBS OF LOUISIANA HMO","X",{"$f":"IF(ISNUMBER(FIND(\"MEDICAID\",A450)),\"X\",\"\")","v":""},{"$f":"IF(ISNUMBER(FIND(\"MEDICARE\",A450)),\"X\",\"\")","v":""},"X"]
["BCBS OF MASSACHUSETTS","X",{"$f":"IF(ISNUMBER(FIND(\"MEDICAID\",A451)),\"X\",\"\")","v":""},{"$f":"IF(ISNUMBER(FIND(\"MEDICARE\",A451)),\"X\",\"\")","v":""},"X"]
["BCBS OF MICHIGAN","X",{"$f":"IF(ISNUMBER(FIND(\"MEDICAID\",A452)),\"X\",\"\")","v":""},{"$f":"IF(ISNUMBER(FIND(\"MEDICARE\",A452)),\"X\",\"\")","v":""},"X"]
["BCBS OF MICHIGAN (OPTUMRX)","X",{"$f":"IF(ISNUMBER(FIND(\"MEDICAID\",A453)),\"X\",\"\")","v":""},{"$f":"IF(ISNUMBER(FIND(\"MEDICARE\",A453)),\"X\",\"\")","v":""},"X"]
["BCBS OF MINNESOTA","X",{"$f":"IF(ISNUMBER(FIND(\"MEDICAID\",A454)),\"X\",\"\")","v":""},{"$f":"IF(ISNUMBER(FIND(\"MEDICARE\",A454)),\"X\",\"\")","v":""},"X"]
["BCBS OF MINNESOTA BLUE PLUS","X",{"$f":"IF(ISNUMBER(FIND(\"MEDICAID\",A455)),\"X\",\"\")","v":""},{"$f":"IF(ISNUMBER(FIND(\"MEDICARE\",A455)),\"X\",\"\")","v":""},"X"]
["BCBS OF MISSISSIPPI","X",{"$f":"IF(ISNUMBER(FIND(\"MEDICAID\",A456)),\"X\",\"\")","v":""},{"$f":"IF(ISNUMBER(FIND(\"MEDICARE\",A456)),\"X\",\"\")","v":""},"X"]
["BCBS OF MISSOURI FEP - HMO","X",{"$f":"IF(ISNUMBER(FIND(\"MEDICAID\",A457)),\"X\",\"\")","v":""},{"$f":"IF(ISNUMBER(FIND(\"MEDICARE\",A457)),\"X\",\"\")","v":""},"X"]
["BCBS OF MISSOURI HMO","X",{"$f":"IF(ISNUMBER(FIND(\"MEDICAID\",A458)),\"X\",\"\")","v":""},{"$f":"IF(ISNUMBER(FIND(\"MEDICARE\",A458)),\"X\",\"\")","v":""},"X"]
["BCBS OF MONTANA","X",{"$f":"IF(ISNUMBER(FIND(\"MEDICAID\",A459)),\"X\",\"\")","v":""},{"$f":"IF(ISNUMBER(FIND(\"MEDICARE\",A459)),\"X\",\"\")","v":""},"X"]
["BCBS OF NEBRASKA","X",{"$f":"IF(ISNUMBER(FIND(\"MEDICAID\",A460)),\"X\",\"\")","v":""},{"$f":"IF(ISNUMBER(FIND(\"MEDICARE\",A460)),\"X\",\"\")","v":""},"X"]
["BCBS OF NEBRASKA - SAPPHIRE EDGE INC",null,{"$f":"IF(ISNUMBER(FIND(\"MEDICAID\",A461)),\"X\",\"\")","v":""},{"$f":"IF(ISNUMBER(FIND(\"MEDICARE\",A461)),\"X\",\"\")","v":""},"X"]
["BCBS OF NEW MEXICO","X",{"$f":"IF(ISNUMBER(FIND(\"MEDICAID\",A462)),\"X\",\"\")","v":""},{"$f":"IF(ISNUMBER(FIND(\"MEDICARE\",A462)),\"X\",\"\")","v":""},"X"]
["BCBS OF NORTH CAROLINA","X",{"$f":"IF(ISNUMBER(FIND(\"MEDICAID\",A463)),\"X\",\"\")","v":""},{"$f":"IF(ISNUMBER(FIND(\"MEDICARE\",A463)),\"X\",\"\")","v":""},"X"]
["BCBS OF NORTH CAROLINA ASO","X",{"$f":"IF(ISNUMBER(FIND(\"MEDICAID\",A464)),\"X\",\"\")","v":""},{"$f":"IF(ISNUMBER(FIND(\"MEDICARE\",A464)),\"X\",\"\")","v":""},"X"]
["BCBS OF NORTH CAROLINA HOST","X",{"$f":"IF(ISNUMBER(FIND(\"MEDICAID\",A465)),\"X\",\"\")","v":""},{"$f":"IF(ISNUMBER(FIND(\"MEDICARE\",A465)),\"X\",\"\")","v":""},"X"]
["BCBS OF NORTH DAKOTA","X",{"$f":"IF(ISNUMBER(FIND(\"MEDICAID\",A466)),\"X\",\"\")","v":""},{"$f":"IF(ISNUMBER(FIND(\"MEDICARE\",A466)),\"X\",\"\")","v":""},"X"]
["BCBS OF OHIO",null,{"$f":"IF(ISNUMBER(FIND(\"MEDICAID\",A467)),\"X\",\"\")","v":""},{"$f":"IF(ISNUMBER(FIND(\"MEDICARE\",A467)),\"X\",\"\")","v":""},"X"]
["BCBS OF OKLAHOMA","X",{"$f":"IF(ISNUMBER(FIND(\"MEDICAID\",A468)),\"X\",\"\")","v":""},{"$f":"IF(ISNUMBER(FIND(\"MEDICARE\",A468)),\"X\",\"\")","v":""},"X"]
["BCBS OF RHODE ISLAND","X",{"$f":"IF(ISNUMBER(FIND(\"MEDICAID\",A469)),\"X\",\"\")","v":""},{"$f":"IF(ISNUMBER(FIND(\"MEDICARE\",A469)),\"X\",\"\")","v":""},"X"]
["BCBS OF SOUTH CAROLINA","X",{"$f":"IF(ISNUMBER(FIND(\"MEDICAID\",A470)),\"X\",\"\")","v":""},{"$f":"IF(ISNUMBER(FIND(\"MEDICARE\",A470)),\"X\",\"\")","v":""},"X"]
["BCBS OF TENNESSEE","X",{"$f":"IF(ISNUMBER(FIND(\"MEDICAID\",A471)),\"X\",\"\")","v":""},{"$f":"IF(ISNUMBER(FIND(\"MEDICARE\",A471)),\"X\",\"\")","v":""},"X"]
["BCBS OF TENNESSEE - BLUE ESSENTIAL HMO CSNP","X",{"$f":"IF(ISNUMBER(FIND(\"MEDICAID\",A472)),\"X\",\"\")","v":""},{"$f":"IF(ISNUMBER(FIND(\"MEDICARE\",A472)),\"X\",\"\")","v":""},"X"]
["BCBS OF TENNESSEE - BLUEADVANTAGE","X",{"$f":"IF(ISNUMBER(FIND(\"MEDICAID\",A473)),\"X\",\"\")","v":""},{"$f":"IF(ISNUMBER(FIND(\"MEDICARE\",A473)),\"X\",\"\")","v":""},"X"]
["BCBS OF TENNESSEE - PAYING FOR STATE OF TENNESSEE","X",{"$f":"IF(ISNUMBER(FIND(\"MEDICAID\",A474)),\"X\",\"\")","v":""},{"$f":"IF(ISNUMBER(FIND(\"MEDICARE\",A474)),\"X\",\"\")","v":""},"X"]
["BCBS OF TEXAS","X",{"$f":"IF(ISNUMBER(FIND(\"MEDICAID\",A475)),\"X\",\"\")","v":""},{"$f":"IF(ISNUMBER(FIND(\"MEDICARE\",A475)),\"X\",\"\")","v":""},"X"]
["BCBS OF TEXAS - MEDICAID STAR/CHIP/STAR KIDS","X",null,{"$f":"IF(ISNUMBER(FIND(\"MEDICARE\",A476)),\"X\",\"\")","v":""},"X"]
["BCBS OF VERMONT","X",{"$f":"IF(ISNUMBER(FIND(\"MEDICAID\",A477)),\"X\",\"\")","v":""},{"$f":"IF(ISNUMBER(FIND(\"MEDICARE\",A477)),\"X\",\"\")","v":""},"X"]
["BCBS OF VERMONT BLUE ADVANTAGE","X",{"$f":"IF(ISNUMBER(FIND(\"MEDICAID\",A478)),\"X\",\"\")","v":""},{"$f":"IF(ISNUMBER(FIND(\"MEDICARE\",A478)),\"X\",\"\")","v":""},"X"]
["BCBS OF VIRGINIA",null,{"$f":"IF(ISNUMBER(FIND(\"MEDICAID\",A479)),\"X\",\"\")","v":""},{"$f":"IF(ISNUMBER(FIND(\"MEDICARE\",A479)),\"X\",\"\")","v":""},"X"]
["BCBS OF WYOMING","X",{"$f":"IF(ISNUMBER(FIND(\"MEDICAID\",A480)),\"X\",\"\")","v":""},{"$f":"IF(ISNUMBER(FIND(\"MEDICARE\",A480)),\"X\",\"\")","v":""},"X"]
["BEACON HEALTH OPTIONS INC","X",{"$f":"IF(ISNUMBER(FIND(\"MEDICAID\",A481)),\"X\",\"\")","v":""},{"$f":"IF(ISNUMBER(FIND(\"MEDICARE\",A481)),\"X\",\"\")","v":""},{"$f":"IF(ISNUMBER(FIND(\"BC/BS\",#REF!)),\"X\",\"\")","v":""}]
["BEACON HEALTH STRATEGIES LLC","X",{"$f":"IF(ISNUMBER(FIND(\"MEDICAID\",A482)),\"X\",\"\")","v":""},{"$f":"IF(ISNUMBER(FIND(\"MEDICARE\",A482)),\"X\",\"\")","v":""},{"$f":"IF(ISNUMBER(FIND(\"BC/BS\",#REF!)),\"X\",\"\")","v":""}]
["BEAN AUTOMOTIVE GROUP (MAA / HEALTHSMART)",null,{"$f":"IF(ISNUMBER(FIND(\"MEDICAID\",A483)),\"X\",\"\")","v":""},{"$f":"IF(ISNUMBER(FIND(\"MEDICARE\",A483)),\"X\",\"\")","v":""},{"$f":"IF(ISNUMBER(FIND(\"BC/BS\",#REF!)),\"X\",\"\")","v":""}]
["BEAR CONCRETE AND CONSTRU (SENTARA)","X",{"$f":"IF(ISNUMBER(FIND(\"MEDICAID\",A484)),\"X\",\"\")","v":""},{"$f":"IF(ISNUMBER(FIND(\"MEDICARE\",A484)),\"X\",\"\")","v":""},{"$f":"IF(ISNUMBER(FIND(\"BC/BS\",#REF!)),\"X\",\"\")","v":""}]
["BEAR RIVER BAND OF ROHNERVILLE (HEALTHCOMP)","X",{"$f":"IF(ISNUMBER(FIND(\"MEDICAID\",A485)),\"X\",\"\")","v":""},{"$f":"IF(ISNUMBER(FIND(\"MEDICARE\",A485)),\"X\",\"\")","v":""},{"$f":"IF(ISNUMBER(FIND(\"BC/BS\",#REF!)),\"X\",\"\")","v":""}]
["BEAUTY BLENDER EBPT (90 DEGREE BENEFITS HOUSTON - ENTRUST)",null,{"$f":"IF(ISNUMBER(FIND(\"MEDICAID\",A486)),\"X\",\"\")","v":""},{"$f":"IF(ISNUMBER(FIND(\"MEDICARE\",A486)),\"X\",\"\")","v":""},{"$f":"IF(ISNUMBER(FIND(\"BC/BS\",#REF!)),\"X\",\"\")","v":""}]
["BEAVER MEDICAL GROUP (EPIC MANAGEMENT)","X",{"$f":"IF(ISNUMBER(FIND(\"MEDICAID\",A487)),\"X\",\"\")","v":""},{"$f":"IF(ISNUMBER(FIND(\"MEDICARE\",A487)),\"X\",\"\")","v":""},{"$f":"IF(ISNUMBER(FIND(\"BC/BS\",#REF!)),\"X\",\"\")","v":""}]
["BECK BROTHERS EBPT (90 DEGREE BENEFITS HOUSTON - ENTRUST)",null,{"$f":"IF(ISNUMBER(FIND(\"MEDICAID\",A488)),\"X\",\"\")","v":""},{"$f":"IF(ISNUMBER(FIND(\"MEDICARE\",A488)),\"X\",\"\")","v":""},{"$f":"IF(ISNUMBER(FIND(\"BC/BS\",#REF!)),\"X\",\"\")","v":""}]
["BEHAVIORAL HEALTH SYSTEMS INC","X",{"$f":"IF(ISNUMBER(FIND(\"MEDICAID\",A489)),\"X\",\"\")","v":""},{"$f":"IF(ISNUMBER(FIND(\"MEDICARE\",A489)),\"X\",\"\")","v":""},{"$f":"IF(ISNUMBER(FIND(\"BC/BS\",#REF!)),\"X\",\"\")","v":""}]
["BEHLER-YOUNG COMPANY (ASR CORP)","X",{"$f":"IF(ISNUMBER(FIND(\"MEDICAID\",A490)),\"X\",\"\")","v":""},{"$f":"IF(ISNUMBER(FIND(\"MEDICARE\",A490)),\"X\",\"\")","v":""},{"$f":"IF(ISNUMBER(FIND(\"BC/BS\",#REF!)),\"X\",\"\")","v":""}]
["BELL & EVANS (WEBTPA)",null,{"$f":"IF(ISNUMBER(FIND(\"MEDICAID\",A491)),\"X\",\"\")","v":""},{"$f":"IF(ISNUMBER(FIND(\"MEDICARE\",A491)),\"X\",\"\")","v":""},{"$f":"IF(ISNUMBER(FIND(\"BC/BS\",#REF!)),\"X\",\"\")","v":""}]
["BELLA VISTA MEDICAL GROUP INC (MEDPOINT MANAGEMENT)","X",{"$f":"IF(ISNUMBER(FIND(\"MEDICAID\",A492)),\"X\",\"\")","v":""},{"$f":"IF(ISNUMBER(FIND(\"MEDICARE\",A492)),\"X\",\"\")","v":""},{"$f":"IF(ISNUMBER(FIND(\"BC/BS\",#REF!)),\"X\",\"\")","v":""}]
["BELMONT SAVINGS BANK (THE HEALTH PLAN)",null,{"$f":"IF(ISNUMBER(FIND(\"MEDICAID\",A493)),\"X\",\"\")","v":""},{"$f":"IF(ISNUMBER(FIND(\"MEDICARE\",A493)),\"X\",\"\")","v":""},{"$f":"IF(ISNUMBER(FIND(\"BC/BS\",#REF!)),\"X\",\"\")","v":""}]
["BENCO DENTAL (GEISINGER HEALTH PLAN)","X",{"$f":"IF(ISNUMBER(FIND(\"MEDICAID\",A494)),\"X\",\"\")","v":""},{"$f":"IF(ISNUMBER(FIND(\"MEDICARE\",A494)),\"X\",\"\")","v":""},{"$f":"IF(ISNUMBER(FIND(\"BC/BS\",#REF!)),\"X\",\"\")","v":""}]
["BENEBAY - FRINGE BENEFIT COORDINATORS","X",{"$f":"IF(ISNUMBER(FIND(\"MEDICAID\",A495)),\"X\",\"\")","v":""},{"$f":"IF(ISNUMBER(FIND(\"MEDICARE\",A495)),\"X\",\"\")","v":""},{"$f":"IF(ISNUMBER(FIND(\"BC/BS\",#REF!)),\"X\",\"\")","v":""}]
["BENEFIT & RISK MANAGEMENT SERVICES - BRMS","X",{"$f":"IF(ISNUMBER(FIND(\"MEDICAID\",A496)),\"X\",\"\")","v":""},{"$f":"IF(ISNUMBER(FIND(\"MEDICARE\",A496)),\"X\",\"\")","v":""},{"$f":"IF(ISNUMBER(FIND(\"BC/BS\",#REF!)),\"X\",\"\")","v":""}]
["BENEFIT ADMINISTRATION SERVICES LTD","X",{"$f":"IF(ISNUMBER(FIND(\"MEDICAID\",A497)),\"X\",\"\")","v":""},{"$f":"IF(ISNUMBER(FIND(\"MEDICARE\",A497)),\"X\",\"\")","v":""},{"$f":"IF(ISNUMBER(FIND(\"BC/BS\",#REF!)),\"X\",\"\")","v":""}]
["BENEFIT ADMINISTRATIVE SYSTEMS","X",{"$f":"IF(ISNUMBER(FIND(\"MEDICAID\",A498)),\"X\",\"\")","v":""},{"$f":"IF(ISNUMBER(FIND(\"MEDICARE\",A498)),\"X\",\"\")","v":""},{"$f":"IF(ISNUMBER(FIND(\"BC/BS\",#REF!)),\"X\",\"\")","v":""}]
["BENEFIT ADMINISTRATIVE SYSTEMS (HEALTHCOMP)",null,{"$f":"IF(ISNUMBER(FIND(\"MEDICAID\",A499)),\"X\",\"\")","v":""},{"$f":"IF(ISNUMBER(FIND(\"MEDICARE\",A499)),\"X\",\"\")","v":""},{"$f":"IF(ISNUMBER(FIND(\"BC/BS\",#REF!)),\"X\",\"\")","v":""}]
["BENEFIT ASSISTANCE CORPORATION","X",{"$f":"IF(ISNUMBER(FIND(\"MEDICAID\",A500)),\"X\",\"\")","v":""},{"$f":"IF(ISNUMBER(FIND(\"MEDICARE\",A500)),\"X\",\"\")","v":""},{"$f":"IF(ISNUMBER(FIND(\"BC/BS\",#REF!)),\"X\",\"\")","v":""}]
["BENEFIT MANAGEMENT","X",{"$f":"IF(ISNUMBER(FIND(\"MEDICAID\",A501)),\"X\",\"\")","v":""},{"$f":"IF(ISNUMBER(FIND(\"MEDICARE\",A501)),\"X\",\"\")","v":""},{"$f":"IF(ISNUMBER(FIND(\"BC/BS\",#REF!)),\"X\",\"\")","v":""}]
["BENEFIT MANAGEMENT ADMINISTRATORS INC","X",{"$f":"IF(ISNUMBER(FIND(\"MEDICAID\",A502)),\"X\",\"\")","v":""},{"$f":"IF(ISNUMBER(FIND(\"MEDICARE\",A502)),\"X\",\"\")","v":""},{"$f":"IF(ISNUMBER(FIND(\"BC/BS\",#REF!)),\"X\",\"\")","v":""}]
["BENEFIT MANAGEMENT INC OF MISSOURI","X",{"$f":"IF(ISNUMBER(FIND(\"MEDICAID\",A503)),\"X\",\"\")","v":""},{"$f":"IF(ISNUMBER(FIND(\"MEDICARE\",A503)),\"X\",\"\")","v":""},{"$f":"IF(ISNUMBER(FIND(\"BC/BS\",#REF!)),\"X\",\"\")","v":""}]
["BENEFIT PLAN ADMINISTRATION OF WISCONSIN INC","X",{"$f":"IF(ISNUMBER(FIND(\"MEDICAID\",A504)),\"X\",\"\")","v":""},{"$f":"IF(ISNUMBER(FIND(\"MEDICARE\",A504)),\"X\",\"\")","v":""},{"$f":"IF(ISNUMBER(FIND(\"BC/BS\",#REF!)),\"X\",\"\")","v":""}]
["BENEFIT PLAN ADMINISTRATORS (EAU CLAIRE, WI)","X",{"$f":"IF(ISNUMBER(FIND(\"MEDICAID\",A505)),\"X\",\"\")","v":""},{"$f":"IF(ISNUMBER(FIND(\"MEDICARE\",A505)),\"X\",\"\")","v":""},{"$f":"IF(ISNUMBER(FIND(\"BC/BS\",#REF!)),\"X\",\"\")","v":""}]
["BENEFIT PLAN SERVICES INC","X",{"$f":"IF(ISNUMBER(FIND(\"MEDICAID\",A506)),\"X\",\"\")","v":""},{"$f":"IF(ISNUMBER(FIND(\"MEDICARE\",A506)),\"X\",\"\")","v":""},{"$f":"IF(ISNUMBER(FIND(\"BC/BS\",#REF!)),\"X\",\"\")","v":""}]
["BENEFITS MANAGEMENT GROUP","X",{"$f":"IF(ISNUMBER(FIND(\"MEDICAID\",A507)),\"X\",\"\")","v":""},{"$f":"IF(ISNUMBER(FIND(\"MEDICARE\",A507)),\"X\",\"\")","v":""},{"$f":"IF(ISNUMBER(FIND(\"BC/BS\",#REF!)),\"X\",\"\")","v":""}]
["BENESYS","X",{"$f":"IF(ISNUMBER(FIND(\"MEDICAID\",A508)),\"X\",\"\")","v":""},{"$f":"IF(ISNUMBER(FIND(\"MEDICARE\",A508)),\"X\",\"\")","v":""},{"$f":"IF(ISNUMBER(FIND(\"BC/BS\",#REF!)),\"X\",\"\")","v":""}]
["BENSON (90 DEGREE BENEFITS NORTH CAROLINA - CORPORATE BENEFIT SERVICES)",null,{"$f":"IF(ISNUMBER(FIND(\"MEDICAID\",A509)),\"X\",\"\")","v":""},{"$f":"IF(ISNUMBER(FIND(\"MEDICARE\",A509)),\"X\",\"\")","v":""},{"$f":"IF(ISNUMBER(FIND(\"BC/BS\",#REF!)),\"X\",\"\")","v":""}]
["BERING HOME CENTER (MAESTRO HEALTH)",null,{"$f":"IF(ISNUMBER(FIND(\"MEDICAID\",A510)),\"X\",\"\")","v":""},{"$f":"IF(ISNUMBER(FIND(\"MEDICARE\",A510)),\"X\",\"\")","v":""},{"$f":"IF(ISNUMBER(FIND(\"BC/BS\",#REF!)),\"X\",\"\")","v":""}]
["BERKLEY ENTERTAINMENT","X",{"$f":"IF(ISNUMBER(FIND(\"MEDICAID\",A511)),\"X\",\"\")","v":""},{"$f":"IF(ISNUMBER(FIND(\"MEDICARE\",A511)),\"X\",\"\")","v":""},{"$f":"IF(ISNUMBER(FIND(\"BC/BS\",#REF!)),\"X\",\"\")","v":""}]
["BERKLEY ENVIRONMENTAL","X",{"$f":"IF(ISNUMBER(FIND(\"MEDICAID\",A512)),\"X\",\"\")","v":""},{"$f":"IF(ISNUMBER(FIND(\"MEDICARE\",A512)),\"X\",\"\")","v":""},{"$f":"IF(ISNUMBER(FIND(\"BC/BS\",#REF!)),\"X\",\"\")","v":""}]
["BERKLEY INSURANCE COMPANY/BERKLEY INDUSTRIAL COMP","X",{"$f":"IF(ISNUMBER(FIND(\"MEDICAID\",A513)),\"X\",\"\")","v":""},{"$f":"IF(ISNUMBER(FIND(\"MEDICARE\",A513)),\"X\",\"\")","v":""},{"$f":"IF(ISNUMBER(FIND(\"BC/BS\",#REF!)),\"X\",\"\")","v":""}]
["BERKLEY NET UNDERWRITERS","X",{"$f":"IF(ISNUMBER(FIND(\"MEDICAID\",A514)),\"X\",\"\")","v":""},{"$f":"IF(ISNUMBER(FIND(\"MEDICARE\",A514)),\"X\",\"\")","v":""},{"$f":"IF(ISNUMBER(FIND(\"BC/BS\",#REF!)),\"X\",\"\")","v":""}]
["BERKLEY RISK ADMINISTRATORS COMPANY",null,{"$f":"IF(ISNUMBER(FIND(\"MEDICAID\",A515)),\"X\",\"\")","v":""},{"$f":"IF(ISNUMBER(FIND(\"MEDICARE\",A515)),\"X\",\"\")","v":""},{"$f":"IF(ISNUMBER(FIND(\"BC/BS\",#REF!)),\"X\",\"\")","v":""}]
["BERNALILLO COUNTY ASO (PRESBYTERIAN HEALTH PLAN)","X",{"$f":"IF(ISNUMBER(FIND(\"MEDICAID\",A516)),\"X\",\"\")","v":""},{"$f":"IF(ISNUMBER(FIND(\"MEDICARE\",A516)),\"X\",\"\")","v":""},{"$f":"IF(ISNUMBER(FIND(\"BC/BS\",#REF!)),\"X\",\"\")","v":""}]
["BERRIEN RESA (ASR CORP)",null,{"$f":"IF(ISNUMBER(FIND(\"MEDICAID\",A517)),\"X\",\"\")","v":""},{"$f":"IF(ISNUMBER(FIND(\"MEDICARE\",A517)),\"X\",\"\")","v":""},{"$f":"IF(ISNUMBER(FIND(\"BC/BS\",#REF!)),\"X\",\"\")","v":""}]
["BERRY BROS EBPT (90 DEGREE BENEFITS HOUSTON - ENTRUST)",null,{"$f":"IF(ISNUMBER(FIND(\"MEDICAID\",A518)),\"X\",\"\")","v":""},{"$f":"IF(ISNUMBER(FIND(\"MEDICARE\",A518)),\"X\",\"\")","v":""},{"$f":"IF(ISNUMBER(FIND(\"BC/BS\",#REF!)),\"X\",\"\")","v":""}]
["BERTCH CABINET LLC (GROUP & PENSION ADMIN)","X",{"$f":"IF(ISNUMBER(FIND(\"MEDICAID\",A519)),\"X\",\"\")","v":""},{"$f":"IF(ISNUMBER(FIND(\"MEDICARE\",A519)),\"X\",\"\")","v":""},{"$f":"IF(ISNUMBER(FIND(\"BC/BS\",#REF!)),\"X\",\"\")","v":""}]
["BEST HEALTH PLAN SLV SCHOOL (UC HEALTH PLAN ADMINISTRATORS)",null,{"$f":"IF(ISNUMBER(FIND(\"MEDICAID\",A520)),\"X\",\"\")","v":""},{"$f":"IF(ISNUMBER(FIND(\"MEDICARE\",A520)),\"X\",\"\")","v":""},{"$f":"IF(ISNUMBER(FIND(\"BC/BS\",#REF!)),\"X\",\"\")","v":""}]
["BEST LIFE AND HEALTH INSURANCE",null,{"$f":"IF(ISNUMBER(FIND(\"MEDICAID\",A521)),\"X\",\"\")","v":""},{"$f":"IF(ISNUMBER(FIND(\"MEDICARE\",A521)),\"X\",\"\")","v":""},{"$f":"IF(ISNUMBER(FIND(\"BC/BS\",#REF!)),\"X\",\"\")","v":""}]
["BFP MANAGEMENT INC (GROUP & PENSION ADMIN)","X",{"$f":"IF(ISNUMBER(FIND(\"MEDICAID\",A522)),\"X\",\"\")","v":""},{"$f":"IF(ISNUMBER(FIND(\"MEDICARE\",A522)),\"X\",\"\")","v":""},{"$f":"IF(ISNUMBER(FIND(\"BC/BS\",#REF!)),\"X\",\"\")","v":""}]
["BIERMAN ABA INC (GROUP & PENSION ADMIN)","X",{"$f":"IF(ISNUMBER(FIND(\"MEDICAID\",A523)),\"X\",\"\")","v":""},{"$f":"IF(ISNUMBER(FIND(\"MEDICARE\",A523)),\"X\",\"\")","v":""},{"$f":"IF(ISNUMBER(FIND(\"BC/BS\",#REF!)),\"X\",\"\")","v":""}]
["BIG 4 ERECTORS LP (GROUP & PENSION ADMIN)",null,{"$f":"IF(ISNUMBER(FIND(\"MEDICAID\",A524)),\"X\",\"\")","v":""},{"$f":"IF(ISNUMBER(FIND(\"MEDICARE\",A524)),\"X\",\"\")","v":""},{"$f":"IF(ISNUMBER(FIND(\"BC/BS\",#REF!)),\"X\",\"\")","v":""}]
["BIG RAPIDS PRODUCTS (ASR HEALTH BENEFITS)","X",{"$f":"IF(ISNUMBER(FIND(\"MEDICAID\",A525)),\"X\",\"\")","v":""},{"$f":"IF(ISNUMBER(FIND(\"MEDICARE\",A525)),\"X\",\"\")","v":""},{"$f":"IF(ISNUMBER(FIND(\"BC/BS\",#REF!)),\"X\",\"\")","v":""}]
["BILL L. DOVER COMPANY EBP (90 DEGREE BENEFITS HOUSTON - ENTRUST)",null,{"$f":"IF(ISNUMBER(FIND(\"MEDICAID\",A526)),\"X\",\"\")","v":""},{"$f":"IF(ISNUMBER(FIND(\"MEDICARE\",A526)),\"X\",\"\")","v":""},{"$f":"IF(ISNUMBER(FIND(\"BC/BS\",#REF!)),\"X\",\"\")","v":""}]
["BILL MILLER BAR-B-Q (GROUP & PENSION ADMIN)","X",{"$f":"IF(ISNUMBER(FIND(\"MEDICAID\",A527)),\"X\",\"\")","v":""},{"$f":"IF(ISNUMBER(FIND(\"MEDICARE\",A527)),\"X\",\"\")","v":""},{"$f":"IF(ISNUMBER(FIND(\"BC/BS\",#REF!)),\"X\",\"\")","v":""}]
["BILOXI VA MEDICAL CENTER","X",{"$f":"IF(ISNUMBER(FIND(\"MEDICAID\",A528)),\"X\",\"\")","v":""},{"$f":"IF(ISNUMBER(FIND(\"MEDICARE\",A528)),\"X\",\"\")","v":""},{"$f":"IF(ISNUMBER(FIND(\"BC/BS\",#REF!)),\"X\",\"\")","v":""}]
["BINKLEY & HURST LP (MAESTRO HEALTH)",null,{"$f":"IF(ISNUMBER(FIND(\"MEDICAID\",A529)),\"X\",\"\")","v":""},{"$f":"IF(ISNUMBER(FIND(\"MEDICARE\",A529)),\"X\",\"\")","v":""},{"$f":"IF(ISNUMBER(FIND(\"BC/BS\",#REF!)),\"X\",\"\")","v":""}]
["BIO-TECH XRAY (IPMG)","X",{"$f":"IF(ISNUMBER(FIND(\"MEDICAID\",A530)),\"X\",\"\")","v":""},{"$f":"IF(ISNUMBER(FIND(\"MEDICARE\",A530)),\"X\",\"\")","v":""},{"$f":"IF(ISNUMBER(FIND(\"BC/BS\",#REF!)),\"X\",\"\")","v":""}]
["BIRMINGHAM VA MEDICAL CENTER","X",{"$f":"IF(ISNUMBER(FIND(\"MEDICAID\",A531)),\"X\",\"\")","v":""},{"$f":"IF(ISNUMBER(FIND(\"MEDICARE\",A531)),\"X\",\"\")","v":""},{"$f":"IF(ISNUMBER(FIND(\"BC/BS\",#REF!)),\"X\",\"\")","v":""}]
["BISK EDUCATION INC (GROUP & PENSION ADMIN)","X",{"$f":"IF(ISNUMBER(FIND(\"MEDICAID\",A532)),\"X\",\"\")","v":""},{"$f":"IF(ISNUMBER(FIND(\"MEDICARE\",A532)),\"X\",\"\")","v":""},{"$f":"IF(ISNUMBER(FIND(\"BC/BS\",#REF!)),\"X\",\"\")","v":""}]
["BLACKHAWK CLAIMS SERVICES","X",{"$f":"IF(ISNUMBER(FIND(\"MEDICAID\",A533)),\"X\",\"\")","v":""},{"$f":"IF(ISNUMBER(FIND(\"MEDICARE\",A533)),\"X\",\"\")","v":""},{"$f":"IF(ISNUMBER(FIND(\"BC/BS\",#REF!)),\"X\",\"\")","v":""}]
["BLACKSTONE MEDICAL SERVICES LLC (GROUP & PENSION ADMIN)",null,{"$f":"IF(ISNUMBER(FIND(\"MEDICAID\",A534)),\"X\",\"\")","v":""},{"$f":"IF(ISNUMBER(FIND(\"MEDICARE\",A534)),\"X\",\"\")","v":""},{"$f":"IF(ISNUMBER(FIND(\"BC/BS\",#REF!)),\"X\",\"\")","v":""}]
["BLACKWATER ELECTRIC CO (SENTARA)","X",{"$f":"IF(ISNUMBER(FIND(\"MEDICAID\",A535)),\"X\",\"\")","v":""},{"$f":"IF(ISNUMBER(FIND(\"MEDICARE\",A535)),\"X\",\"\")","v":""},{"$f":"IF(ISNUMBER(FIND(\"BC/BS\",#REF!)),\"X\",\"\")","v":""}]
["BLANCHARD VALLEY HEALTH SYSTEM (CONTIGO HEALTH)","X",{"$f":"IF(ISNUMBER(FIND(\"MEDICAID\",A536)),\"X\",\"\")","v":""},{"$f":"IF(ISNUMBER(FIND(\"MEDICARE\",A536)),\"X\",\"\")","v":""},{"$f":"IF(ISNUMBER(FIND(\"BC/BS\",#REF!)),\"X\",\"\")","v":""}]
["BLCR COM INSTITUTIONAL RISK FOR PMNI (PRIMECARE MEDICAL NETWORK) (NAMM CALIFORNIA)","X",{"$f":"IF(ISNUMBER(FIND(\"MEDICAID\",A537)),\"X\",\"\")","v":""},{"$f":"IF(ISNUMBER(FIND(\"MEDICARE\",A537)),\"X\",\"\")","v":""},{"$f":"IF(ISNUMBER(FIND(\"BC/BS\",#REF!)),\"X\",\"\")","v":""}]
["BLCR SEN INSTITUTIONAL RISK FOR PMNI (PRIMECARE MEDICAL NETWORK) (NAMM CALIFORNIA)","X",{"$f":"IF(ISNUMBER(FIND(\"MEDICAID\",A538)),\"X\",\"\")","v":""},{"$f":"IF(ISNUMBER(FIND(\"MEDICARE\",A538)),\"X\",\"\")","v":""},{"$f":"IF(ISNUMBER(FIND(\"BC/BS\",#REF!)),\"X\",\"\")","v":""}]
["BLUE ADVANTAGE OF LOUISIANA","X",{"$f":"IF(ISNUMBER(FIND(\"MEDICAID\",A539)),\"X\",\"\")","v":""},{"$f":"IF(ISNUMBER(FIND(\"MEDICARE\",A539)),\"X\",\"\")","v":""},"X"]
["BLUE BENEFIT ADMINISTRATORS OF MASSACHUSETTS","X",{"$f":"IF(ISNUMBER(FIND(\"MEDICAID\",A540)),\"X\",\"\")","v":""},{"$f":"IF(ISNUMBER(FIND(\"MEDICARE\",A540)),\"X\",\"\")","v":""},{"$f":"IF(ISNUMBER(FIND(\"BC/BS\",#REF!)),\"X\",\"\")","v":""}]
["BLUE CARE NETWORK OF MICHIGAN","X",{"$f":"IF(ISNUMBER(FIND(\"MEDICAID\",A541)),\"X\",\"\")","v":""},{"$f":"IF(ISNUMBER(FIND(\"MEDICARE\",A541)),\"X\",\"\")","v":""},"X"]
["BLUE CARE NETWORK OF MICHIGAN - SELF-FUNDED","X",{"$f":"IF(ISNUMBER(FIND(\"MEDICAID\",A542)),\"X\",\"\")","v":""},{"$f":"IF(ISNUMBER(FIND(\"MEDICARE\",A542)),\"X\",\"\")","v":""},"X"]
["BLUE CARE NETWORK OF MICHIGAN - SELF-FUNDED HRA","X",{"$f":"IF(ISNUMBER(FIND(\"MEDICAID\",A543)),\"X\",\"\")","v":""},{"$f":"IF(ISNUMBER(FIND(\"MEDICARE\",A543)),\"X\",\"\")","v":""},"X"]
["BLUE CARE NETWORK OF MICHIGAN BLUECAID",null,{"$f":"IF(ISNUMBER(FIND(\"MEDICAID\",A544)),\"X\",\"\")","v":""},{"$f":"IF(ISNUMBER(FIND(\"MEDICARE\",A544)),\"X\",\"\")","v":""},"X"]
["BLUE CARE OF KANSAS CITY","X",{"$f":"IF(ISNUMBER(FIND(\"MEDICAID\",A545)),\"X\",\"\")","v":""},{"$f":"IF(ISNUMBER(FIND(\"MEDICARE\",A545)),\"X\",\"\")","v":""},"X"]
["BLUE CARE PLUS TENNESSEE(D-SNP)","X",{"$f":"IF(ISNUMBER(FIND(\"MEDICAID\",A546)),\"X\",\"\")","v":""},{"$f":"IF(ISNUMBER(FIND(\"MEDICARE\",A546)),\"X\",\"\")","v":""},"X"]
["BLUE CHOICE HEALTHPLAN OF SOUTH CAROLINA","X",{"$f":"IF(ISNUMBER(FIND(\"MEDICAID\",A547)),\"X\",\"\")","v":""},{"$f":"IF(ISNUMBER(FIND(\"MEDICARE\",A547)),\"X\",\"\")","v":""},"X"]
["BLUE CROSS COMMUNITY HEALTH PLANS","X",{"$f":"IF(ISNUMBER(FIND(\"MEDICAID\",A548)),\"X\",\"\")","v":""},{"$f":"IF(ISNUMBER(FIND(\"MEDICARE\",A548)),\"X\",\"\")","v":""},"X"]
["BLUE CROSS COMPLETE OF MICHIGAN","X",{"$f":"IF(ISNUMBER(FIND(\"MEDICAID\",A549)),\"X\",\"\")","v":""},{"$f":"IF(ISNUMBER(FIND(\"MEDICARE\",A549)),\"X\",\"\")","v":""},"X"]
["BLUE CROSS MEDICARE ADVANTAGE","X",{"$f":"IF(ISNUMBER(FIND(\"MEDICAID\",A550)),\"X\",\"\")","v":""},null,"X"]
["BLUE CROSS OF CALIFORNIA","X",{"$f":"IF(ISNUMBER(FIND(\"MEDICAID\",A551)),\"X\",\"\")","v":""},{"$f":"IF(ISNUMBER(FIND(\"MEDICARE\",A551)),\"X\",\"\")","v":""},"X"]
["BLUE CROSS OF IDAHO","X",{"$f":"IF(ISNUMBER(FIND(\"MEDICAID\",A552)),\"X\",\"\")","v":""},{"$f":"IF(ISNUMBER(FIND(\"MEDICARE\",A552)),\"X\",\"\")","v":""},"X"]
["BLUE CROSS OF NORTH CAROLINA - HEALTHY BLUE","X",{"$f":"IF(ISNUMBER(FIND(\"MEDICAID\",A553)),\"X\",\"\")","v":""},{"$f":"IF(ISNUMBER(FIND(\"MEDICARE\",A553)),\"X\",\"\")","v":""},"X"]
["BLUE CROSS OF NORTH CAROLINA - STATE HEALTH PLAN","X",{"$f":"IF(ISNUMBER(FIND(\"MEDICAID\",A554)),\"X\",\"\")","v":""},{"$f":"IF(ISNUMBER(FIND(\"MEDICARE\",A554)),\"X\",\"\")","v":""},"X"]
["BLUE DIAMOND STEEL CASTING LLC (ASR HEALTH BENEFITS)","X",{"$f":"IF(ISNUMBER(FIND(\"MEDICAID\",A555)),\"X\",\"\")","v":""},{"$f":"IF(ISNUMBER(FIND(\"MEDICARE\",A555)),\"X\",\"\")","v":""},{"$f":"IF(ISNUMBER(FIND(\"BC/BS\",#REF!)),\"X\",\"\")","v":""}]
["BLUE GRACE LOGISTICS (GROUP & PENSION ADMIN)","X",{"$f":"IF(ISNUMBER(FIND(\"MEDICAID\",A556)),\"X\",\"\")","v":""},{"$f":"IF(ISNUMBER(FIND(\"MEDICARE\",A556)),\"X\",\"\")","v":""},{"$f":"IF(ISNUMBER(FIND(\"BC/BS\",#REF!)),\"X\",\"\")","v":""}]
["BLUE LAKE RANCHERIA MEDICAL PLAN (HUMBOLDT IPA)","X",{"$f":"IF(ISNUMBER(FIND(\"MEDICAID\",A557)),\"X\",\"\")","v":""},{"$f":"IF(ISNUMBER(FIND(\"MEDICARE\",A557)),\"X\",\"\")","v":""},{"$f":"IF(ISNUMBER(FIND(\"BC/BS\",#REF!)),\"X\",\"\")","v":""}]
["BLUE MEDICARE ADVANTAGE","X",{"$f":"IF(ISNUMBER(FIND(\"MEDICAID\",A558)),\"X\",\"\")","v":""},null,"X"]
["BLUE PLUS OF MINNESOTA","X",{"$f":"IF(ISNUMBER(FIND(\"MEDICAID\",A559)),\"X\",\"\")","v":""},{"$f":"IF(ISNUMBER(FIND(\"MEDICARE\",A559)),\"X\",\"\")","v":""},"X"]
["BLUE SHIELD OF CALIFORNIA FEHBP - HMO CLAIMS (FACETS)","X",{"$f":"IF(ISNUMBER(FIND(\"MEDICAID\",A560)),\"X\",\"\")","v":""},{"$f":"IF(ISNUMBER(FIND(\"MEDICARE\",A560)),\"X\",\"\")","v":""},"X"]
["BLUE SHIELD OF CALIFORNIA FEP - BASIC (FACETS)","X",{"$f":"IF(ISNUMBER(FIND(\"MEDICAID\",A561)),\"X\",\"\")","v":""},{"$f":"IF(ISNUMBER(FIND(\"MEDICARE\",A561)),\"X\",\"\")","v":""},"X"]
["BLUE SHIELD OF CALIFORNIA FEP - PPO BLUE FOCUS","X",{"$f":"IF(ISNUMBER(FIND(\"MEDICAID\",A562)),\"X\",\"\")","v":""},{"$f":"IF(ISNUMBER(FIND(\"MEDICARE\",A562)),\"X\",\"\")","v":""},"X"]
["BLUE SHIELD OF CALIFORNIA FEP - STANDARD (FACETS)","X",{"$f":"IF(ISNUMBER(FIND(\"MEDICAID\",A563)),\"X\",\"\")","v":""},{"$f":"IF(ISNUMBER(FIND(\"MEDICARE\",A563)),\"X\",\"\")","v":""},"X"]
["BLUE SHIELD OF CALIFORNIA PROMISE HEALTH PLAN","X",{"$f":"IF(ISNUMBER(FIND(\"MEDICAID\",A564)),\"X\",\"\")","v":""},{"$f":"IF(ISNUMBER(FIND(\"MEDICARE\",A564)),\"X\",\"\")","v":""},"X"]
["BLUE SHIELD PMNI INSTITUTIONAL RISK (PRIMECARE MEDICAL NETWORK) (NAMM CALIFORNIA)","X",{"$f":"IF(ISNUMBER(FIND(\"MEDICAID\",A565)),\"X\",\"\")","v":""},{"$f":"IF(ISNUMBER(FIND(\"MEDICARE\",A565)),\"X\",\"\")","v":""},{"$f":"IF(ISNUMBER(FIND(\"BC/BS\",#REF!)),\"X\",\"\")","v":""}]
["BLUE SHIELD PRIMECARE INSTITUTIONAL RISK (NAMM CALIFORNIA)","X",{"$f":"IF(ISNUMBER(FIND(\"MEDICAID\",A566)),\"X\",\"\")","v":""},{"$f":"IF(ISNUMBER(FIND(\"MEDICARE\",A566)),\"X\",\"\")","v":""},{"$f":"IF(ISNUMBER(FIND(\"BC/BS\",#REF!)),\"X\",\"\")","v":""}]
["BLUE WATER INDUSTRIES (GROUP & PENSION ADMIN)","X",{"$f":"IF(ISNUMBER(FIND(\"MEDICAID\",A567)),\"X\",\"\")","v":""},{"$f":"IF(ISNUMBER(FIND(\"MEDICARE\",A567)),\"X\",\"\")","v":""},{"$f":"IF(ISNUMBER(FIND(\"BC/BS\",#REF!)),\"X\",\"\")","v":""}]
["BLUESTONE RESOURCES INC (THE HEALTH PLAN)",null,{"$f":"IF(ISNUMBER(FIND(\"MEDICAID\",A568)),\"X\",\"\")","v":""},{"$f":"IF(ISNUMBER(FIND(\"MEDICARE\",A568)),\"X\",\"\")","v":""},{"$f":"IF(ISNUMBER(FIND(\"BC/BS\",#REF!)),\"X\",\"\")","v":""}]
["BOB EVANS RESTAURANTS LLC (THE HEALTH PLAN)","X",{"$f":"IF(ISNUMBER(FIND(\"MEDICAID\",A569)),\"X\",\"\")","v":""},{"$f":"IF(ISNUMBER(FIND(\"MEDICARE\",A569)),\"X\",\"\")","v":""},{"$f":"IF(ISNUMBER(FIND(\"BC/BS\",#REF!)),\"X\",\"\")","v":""}]
["BOB STUMP DEPARTMENT OF VA MEDICAL CENTER",null,{"$f":"IF(ISNUMBER(FIND(\"MEDICAID\",A570)),\"X\",\"\")","v":""},{"$f":"IF(ISNUMBER(FIND(\"MEDICARE\",A570)),\"X\",\"\")","v":""},{"$f":"IF(ISNUMBER(FIND(\"BC/BS\",#REF!)),\"X\",\"\")","v":""}]
["BOB'S MARKET & GREENHOUSE INC (THE HEALTH PLAN)",null,{"$f":"IF(ISNUMBER(FIND(\"MEDICAID\",A571)),\"X\",\"\")","v":""},{"$f":"IF(ISNUMBER(FIND(\"MEDICARE\",A571)),\"X\",\"\")","v":""},{"$f":"IF(ISNUMBER(FIND(\"BC/BS\",#REF!)),\"X\",\"\")","v":""}]
["BOISE VA MEDICAL CENTER","X",{"$f":"IF(ISNUMBER(FIND(\"MEDICAID\",A572)),\"X\",\"\")","v":""},{"$f":"IF(ISNUMBER(FIND(\"MEDICARE\",A572)),\"X\",\"\")","v":""},{"$f":"IF(ISNUMBER(FIND(\"BC/BS\",#REF!)),\"X\",\"\")","v":""}]
["BOLLINGER INC","X",{"$f":"IF(ISNUMBER(FIND(\"MEDICAID\",A573)),\"X\",\"\")","v":""},{"$f":"IF(ISNUMBER(FIND(\"MEDICARE\",A573)),\"X\",\"\")","v":""},{"$f":"IF(ISNUMBER(FIND(\"BC/BS\",#REF!)),\"X\",\"\")","v":""}]
["BOMARKO INC (ASR HEALTH BENEFITS)","X",{"$f":"IF(ISNUMBER(FIND(\"MEDICAID\",A574)),\"X\",\"\")","v":""},{"$f":"IF(ISNUMBER(FIND(\"MEDICARE\",A574)),\"X\",\"\")","v":""},{"$f":"IF(ISNUMBER(FIND(\"BC/BS\",#REF!)),\"X\",\"\")","v":""}]
["BON SECOURS RICHMOND (SENTARA)","X",{"$f":"IF(ISNUMBER(FIND(\"MEDICAID\",A575)),\"X\",\"\")","v":""},{"$f":"IF(ISNUMBER(FIND(\"MEDICARE\",A575)),\"X\",\"\")","v":""},{"$f":"IF(ISNUMBER(FIND(\"BC/BS\",#REF!)),\"X\",\"\")","v":""}]
["BOON - CHAPMAN BENEFIT ADMINISTRATORS","X",{"$f":"IF(ISNUMBER(FIND(\"MEDICAID\",A576)),\"X\",\"\")","v":""},{"$f":"IF(ISNUMBER(FIND(\"MEDICARE\",A576)),\"X\",\"\")","v":""},{"$f":"IF(ISNUMBER(FIND(\"BC/BS\",#REF!)),\"X\",\"\")","v":""}]
["BOON ADMINISTRATIVE SERVICES INC","X",{"$f":"IF(ISNUMBER(FIND(\"MEDICAID\",A577)),\"X\",\"\")","v":""},{"$f":"IF(ISNUMBER(FIND(\"MEDICARE\",A577)),\"X\",\"\")","v":""},{"$f":"IF(ISNUMBER(FIND(\"BC/BS\",#REF!)),\"X\",\"\")","v":""}]
["BORROWWORKS (MAESTRO HEALTH)","X",{"$f":"IF(ISNUMBER(FIND(\"MEDICAID\",A578)),\"X\",\"\")","v":""},{"$f":"IF(ISNUMBER(FIND(\"MEDICARE\",A578)),\"X\",\"\")","v":""},{"$f":"IF(ISNUMBER(FIND(\"BC/BS\",#REF!)),\"X\",\"\")","v":""}]
["BOSTON MEDICAL CENTER HEALTHNET PLAN","X",{"$f":"IF(ISNUMBER(FIND(\"MEDICAID\",A579)),\"X\",\"\")","v":""},{"$f":"IF(ISNUMBER(FIND(\"MEDICARE\",A579)),\"X\",\"\")","v":""},{"$f":"IF(ISNUMBER(FIND(\"BC/BS\",#REF!)),\"X\",\"\")","v":""}]
["BOULDER ADMINISTRATION SERVICES","X",{"$f":"IF(ISNUMBER(FIND(\"MEDICAID\",A580)),\"X\",\"\")","v":""},{"$f":"IF(ISNUMBER(FIND(\"MEDICARE\",A580)),\"X\",\"\")","v":""},{"$f":"IF(ISNUMBER(FIND(\"BC/BS\",#REF!)),\"X\",\"\")","v":""}]
["BOYKIN ERECTORS INC (90 DEGREE BENEFITS NORTH CAROLINA - CORPORATE BENEFIT SERVICES)",null,{"$f":"IF(ISNUMBER(FIND(\"MEDICAID\",A581)),\"X\",\"\")","v":""},{"$f":"IF(ISNUMBER(FIND(\"MEDICARE\",A581)),\"X\",\"\")","v":""},{"$f":"IF(ISNUMBER(FIND(\"BC/BS\",#REF!)),\"X\",\"\")","v":""}]
["BRADFORD WHITE CORPORATION (ASR HEALTH BENEFITS)","X",{"$f":"IF(ISNUMBER(FIND(\"MEDICAID\",A582)),\"X\",\"\")","v":""},{"$f":"IF(ISNUMBER(FIND(\"MEDICARE\",A582)),\"X\",\"\")","v":""},{"$f":"IF(ISNUMBER(FIND(\"BC/BS\",#REF!)),\"X\",\"\")","v":""}]
["BRAIDWOOD MANAGEMENT EBPT (90 DEGREE BENEFITS HOUSTON - ENTRUST)",null,{"$f":"IF(ISNUMBER(FIND(\"MEDICAID\",A583)),\"X\",\"\")","v":""},{"$f":"IF(ISNUMBER(FIND(\"MEDICARE\",A583)),\"X\",\"\")","v":""},{"$f":"IF(ISNUMBER(FIND(\"BC/BS\",#REF!)),\"X\",\"\")","v":""}]
["BRANTLEY COUNTY BOARD OF COMMISSIONERS (90 DEGREE BENEFITS NORTH CAROLINA - CORPORATE BENEFIT SERVICES)",null,{"$f":"IF(ISNUMBER(FIND(\"MEDICAID\",A584)),\"X\",\"\")","v":""},{"$f":"IF(ISNUMBER(FIND(\"MEDICARE\",A584)),\"X\",\"\")","v":""},{"$f":"IF(ISNUMBER(FIND(\"BC/BS\",#REF!)),\"X\",\"\")","v":""}]
["BRAVEN HEALTH (HORIZON BCBS)","X",{"$f":"IF(ISNUMBER(FIND(\"MEDICAID\",A585)),\"X\",\"\")","v":""},{"$f":"IF(ISNUMBER(FIND(\"MEDICARE\",A585)),\"X\",\"\")","v":""},"X"]
["BRAVO EBPT (90 DEGREE BENEFITS HOUSTON - ENTRUST)",null,{"$f":"IF(ISNUMBER(FIND(\"MEDICAID\",A586)),\"X\",\"\")","v":""},{"$f":"IF(ISNUMBER(FIND(\"MEDICARE\",A586)),\"X\",\"\")","v":""},{"$f":"IF(ISNUMBER(FIND(\"BC/BS\",#REF!)),\"X\",\"\")","v":""}]
["BRAZORIA COUNTY C&R EBPT (90 DEGREE BENEFITS HOUSTON - ENTRUST)",null,{"$f":"IF(ISNUMBER(FIND(\"MEDICAID\",A587)),\"X\",\"\")","v":""},{"$f":"IF(ISNUMBER(FIND(\"MEDICARE\",A587)),\"X\",\"\")","v":""},{"$f":"IF(ISNUMBER(FIND(\"BC/BS\",#REF!)),\"X\",\"\")","v":""}]
["BREESE JOURNAL & PUBLISHING CO (IPMG)","X",{"$f":"IF(ISNUMBER(FIND(\"MEDICAID\",A588)),\"X\",\"\")","v":""},{"$f":"IF(ISNUMBER(FIND(\"MEDICARE\",A588)),\"X\",\"\")","v":""},{"$f":"IF(ISNUMBER(FIND(\"BC/BS\",#REF!)),\"X\",\"\")","v":""}]
["BREG INC (GROUP & PENSION ADMIN)","X",{"$f":"IF(ISNUMBER(FIND(\"MEDICAID\",A589)),\"X\",\"\")","v":""},{"$f":"IF(ISNUMBER(FIND(\"MEDICARE\",A589)),\"X\",\"\")","v":""},{"$f":"IF(ISNUMBER(FIND(\"BC/BS\",#REF!)),\"X\",\"\")","v":""}]
["BRENTWOOD SERVICES ADMINISTRATORS","X",{"$f":"IF(ISNUMBER(FIND(\"MEDICAID\",A590)),\"X\",\"\")","v":""},{"$f":"IF(ISNUMBER(FIND(\"MEDICARE\",A590)),\"X\",\"\")","v":""},{"$f":"IF(ISNUMBER(FIND(\"BC/BS\",#REF!)),\"X\",\"\")","v":""}]
["BRICKLAYERS & ALLIED CRAFTWORKERS LOCAL 2 (MVP HEALTH CARE)","X",{"$f":"IF(ISNUMBER(FIND(\"MEDICAID\",A591)),\"X\",\"\")","v":""},{"$f":"IF(ISNUMBER(FIND(\"MEDICARE\",A591)),\"X\",\"\")","v":""},{"$f":"IF(ISNUMBER(FIND(\"BC/BS\",#REF!)),\"X\",\"\")","v":""}]
["BRICKLAYERS & ALLIED CRAFTWORKERS LOCAL 5 NY WF (MVP HEALTH CARE)","X",{"$f":"IF(ISNUMBER(FIND(\"MEDICAID\",A592)),\"X\",\"\")","v":""},{"$f":"IF(ISNUMBER(FIND(\"MEDICARE\",A592)),\"X\",\"\")","v":""},{"$f":"IF(ISNUMBER(FIND(\"BC/BS\",#REF!)),\"X\",\"\")","v":""}]
["BRICKLAYERS 1",null,{"$f":"IF(ISNUMBER(FIND(\"MEDICAID\",A593)),\"X\",\"\")","v":""},{"$f":"IF(ISNUMBER(FIND(\"MEDICARE\",A593)),\"X\",\"\")","v":""},{"$f":"IF(ISNUMBER(FIND(\"BC/BS\",#REF!)),\"X\",\"\")","v":""}]
["BRIDGESPAN HEALTH COMPANY","X",{"$f":"IF(ISNUMBER(FIND(\"MEDICAID\",A594)),\"X\",\"\")","v":""},{"$f":"IF(ISNUMBER(FIND(\"MEDICARE\",A594)),\"X\",\"\")","v":""},{"$f":"IF(ISNUMBER(FIND(\"BC/BS\",#REF!)),\"X\",\"\")","v":""}]
["BRIDGESTONE AMERICAS (CONTIGO HEALTH)","X",{"$f":"IF(ISNUMBER(FIND(\"MEDICAID\",A595)),\"X\",\"\")","v":""},{"$f":"IF(ISNUMBER(FIND(\"MEDICARE\",A595)),\"X\",\"\")","v":""},{"$f":"IF(ISNUMBER(FIND(\"BC/BS\",#REF!)),\"X\",\"\")","v":""}]
["BRIGHT HEALTH PLAN","X",{"$f":"IF(ISNUMBER(FIND(\"MEDICAID\",A596)),\"X\",\"\")","v":""},{"$f":"IF(ISNUMBER(FIND(\"MEDICARE\",A596)),\"X\",\"\")","v":""},{"$f":"IF(ISNUMBER(FIND(\"BC/BS\",#REF!)),\"X\",\"\")","v":""}]
["BRIGHT HEALTHCARE","X",{"$f":"IF(ISNUMBER(FIND(\"MEDICAID\",A597)),\"X\",\"\")","v":""},{"$f":"IF(ISNUMBER(FIND(\"MEDICARE\",A597)),\"X\",\"\")","v":""},{"$f":"IF(ISNUMBER(FIND(\"BC/BS\",#REF!)),\"X\",\"\")","v":""}]
["BRIGHT HEALTHCARE (THE LOOMIS COMPANY)","X",{"$f":"IF(ISNUMBER(FIND(\"MEDICAID\",A598)),\"X\",\"\")","v":""},{"$f":"IF(ISNUMBER(FIND(\"MEDICARE\",A598)),\"X\",\"\")","v":""},{"$f":"IF(ISNUMBER(FIND(\"BC/BS\",#REF!)),\"X\",\"\")","v":""}]
["BRIGHTON HEALTHPLAN SOLUTION","X",{"$f":"IF(ISNUMBER(FIND(\"MEDICAID\",A599)),\"X\",\"\")","v":""},{"$f":"IF(ISNUMBER(FIND(\"MEDICARE\",A599)),\"X\",\"\")","v":""},{"$f":"IF(ISNUMBER(FIND(\"BC/BS\",#REF!)),\"X\",\"\")","v":""}]
["BRITZ FARMING (HEALTHCOMP)",null,{"$f":"IF(ISNUMBER(FIND(\"MEDICAID\",A600)),\"X\",\"\")","v":""},{"$f":"IF(ISNUMBER(FIND(\"MEDICARE\",A600)),\"X\",\"\")","v":""},{"$f":"IF(ISNUMBER(FIND(\"BC/BS\",#REF!)),\"X\",\"\")","v":""}]
["BROOKS REAL ESTATE INC (SENTARA)","X",{"$f":"IF(ISNUMBER(FIND(\"MEDICAID\",A601)),\"X\",\"\")","v":""},{"$f":"IF(ISNUMBER(FIND(\"MEDICARE\",A601)),\"X\",\"\")","v":""},{"$f":"IF(ISNUMBER(FIND(\"BC/BS\",#REF!)),\"X\",\"\")","v":""}]
["BROWN AND TOLAND HEALTH SERVICES","X",{"$f":"IF(ISNUMBER(FIND(\"MEDICAID\",A602)),\"X\",\"\")","v":""},{"$f":"IF(ISNUMBER(FIND(\"MEDICARE\",A602)),\"X\",\"\")","v":""},{"$f":"IF(ISNUMBER(FIND(\"BC/BS\",#REF!)),\"X\",\"\")","v":""}]
["BROWN AND TOLAND PHYSICIANS","X",{"$f":"IF(ISNUMBER(FIND(\"MEDICAID\",A603)),\"X\",\"\")","v":""},{"$f":"IF(ISNUMBER(FIND(\"MEDICARE\",A603)),\"X\",\"\")","v":""},{"$f":"IF(ISNUMBER(FIND(\"BC/BS\",#REF!)),\"X\",\"\")","v":""}]
["BROWN AND TOLAND PHYSICIANS PPO","X",{"$f":"IF(ISNUMBER(FIND(\"MEDICAID\",A604)),\"X\",\"\")","v":""},{"$f":"IF(ISNUMBER(FIND(\"MEDICARE\",A604)),\"X\",\"\")","v":""},{"$f":"IF(ISNUMBER(FIND(\"BC/BS\",#REF!)),\"X\",\"\")","v":""}]
["BRUCE TERMINIX CO (90 DEGREE BENEFITS NORTH CAROLINA - CORPORATE BENEFIT SERVICES)","X",{"$f":"IF(ISNUMBER(FIND(\"MEDICAID\",A605)),\"X\",\"\")","v":""},{"$f":"IF(ISNUMBER(FIND(\"MEDICARE\",A605)),\"X\",\"\")","v":""},{"$f":"IF(ISNUMBER(FIND(\"BC/BS\",#REF!)),\"X\",\"\")","v":""}]
["BRUCE W. CARTER VA MEDICAL CENTER","X",{"$f":"IF(ISNUMBER(FIND(\"MEDICAID\",A606)),\"X\",\"\")","v":""},{"$f":"IF(ISNUMBER(FIND(\"MEDICARE\",A606)),\"X\",\"\")","v":""},{"$f":"IF(ISNUMBER(FIND(\"BC/BS\",#REF!)),\"X\",\"\")","v":""}]
["BRUNDAGE-BONE CONCRETE PUMPING INC (GROUP & PENSION ADMIN)","X",{"$f":"IF(ISNUMBER(FIND(\"MEDICAID\",A607)),\"X\",\"\")","v":""},{"$f":"IF(ISNUMBER(FIND(\"MEDICARE\",A607)),\"X\",\"\")","v":""},{"$f":"IF(ISNUMBER(FIND(\"BC/BS\",#REF!)),\"X\",\"\")","v":""}]
["BRUNNER INTERNATIONAL INC (INDEPENDENT HEALTH)",null,{"$f":"IF(ISNUMBER(FIND(\"MEDICAID\",A608)),\"X\",\"\")","v":""},{"$f":"IF(ISNUMBER(FIND(\"MEDICARE\",A608)),\"X\",\"\")","v":""},{"$f":"IF(ISNUMBER(FIND(\"BC/BS\",#REF!)),\"X\",\"\")","v":""}]
["BSW TRANSPLANT SERVICES PLLC (WEBTPA)",null,{"$f":"IF(ISNUMBER(FIND(\"MEDICAID\",A609)),\"X\",\"\")","v":""},{"$f":"IF(ISNUMBER(FIND(\"MEDICARE\",A609)),\"X\",\"\")","v":""},{"$f":"IF(ISNUMBER(FIND(\"BC/BS\",#REF!)),\"X\",\"\")","v":""}]
["BTEX TRAILER MFG INC (GROUP & PENSION ADMIN)","X",{"$f":"IF(ISNUMBER(FIND(\"MEDICAID\",A610)),\"X\",\"\")","v":""},{"$f":"IF(ISNUMBER(FIND(\"MEDICARE\",A610)),\"X\",\"\")","v":""},{"$f":"IF(ISNUMBER(FIND(\"BC/BS\",#REF!)),\"X\",\"\")","v":""}]
["BUCHANAN GROUP INC (GROUP & PENSION ADMIN)","X",{"$f":"IF(ISNUMBER(FIND(\"MEDICAID\",A611)),\"X\",\"\")","v":""},{"$f":"IF(ISNUMBER(FIND(\"MEDICARE\",A611)),\"X\",\"\")","v":""},{"$f":"IF(ISNUMBER(FIND(\"BC/BS\",#REF!)),\"X\",\"\")","v":""}]
["BUCKEYE COMMUNITY HEALTH PLAN","X",{"$f":"IF(ISNUMBER(FIND(\"MEDICAID\",A612)),\"X\",\"\")","v":""},{"$f":"IF(ISNUMBER(FIND(\"MEDICARE\",A612)),\"X\",\"\")","v":""},{"$f":"IF(ISNUMBER(FIND(\"BC/BS\",#REF!)),\"X\",\"\")","v":""}]
["BUCKNELL UNIVERSITY (GEISINGER HEALTH PLAN)","X",{"$f":"IF(ISNUMBER(FIND(\"MEDICAID\",A613)),\"X\",\"\")","v":""},{"$f":"IF(ISNUMBER(FIND(\"MEDICARE\",A613)),\"X\",\"\")","v":""},{"$f":"IF(ISNUMBER(FIND(\"BC/BS\",#REF!)),\"X\",\"\")","v":""}]
["BUILDING & CONSTRUCT WELFARE (AMALGAMATED LIFE)",null,{"$f":"IF(ISNUMBER(FIND(\"MEDICAID\",A614)),\"X\",\"\")","v":""},{"$f":"IF(ISNUMBER(FIND(\"MEDICARE\",A614)),\"X\",\"\")","v":""},{"$f":"IF(ISNUMBER(FIND(\"BC/BS\",#REF!)),\"X\",\"\")","v":""}]
["BULK TRANSIT (GROUP & PENSION ADMIN)","X",{"$f":"IF(ISNUMBER(FIND(\"MEDICAID\",A615)),\"X\",\"\")","v":""},{"$f":"IF(ISNUMBER(FIND(\"MEDICARE\",A615)),\"X\",\"\")","v":""},{"$f":"IF(ISNUMBER(FIND(\"BC/BS\",#REF!)),\"X\",\"\")","v":""}]
["BUREAU OF LONG TERM SUPPORT (BLTS)",null,{"$f":"IF(ISNUMBER(FIND(\"MEDICAID\",A616)),\"X\",\"\")","v":""},{"$f":"IF(ISNUMBER(FIND(\"MEDICARE\",A616)),\"X\",\"\")","v":""},{"$f":"IF(ISNUMBER(FIND(\"BC/BS\",#REF!)),\"X\",\"\")","v":""}]
["BURGESS-SNYDER INDUSTRIES (SENTARA)","X",{"$f":"IF(ISNUMBER(FIND(\"MEDICAID\",A617)),\"X\",\"\")","v":""},{"$f":"IF(ISNUMBER(FIND(\"MEDICARE\",A617)),\"X\",\"\")","v":""},{"$f":"IF(ISNUMBER(FIND(\"BC/BS\",#REF!)),\"X\",\"\")","v":""}]
["BURNETT OIL ADMINISTERED BY GPA MEDICAL CLAIMS ACCOUNT (GROUP & PENSION ADMIN)","X",{"$f":"IF(ISNUMBER(FIND(\"MEDICAID\",A618)),\"X\",\"\")","v":""},{"$f":"IF(ISNUMBER(FIND(\"MEDICARE\",A618)),\"X\",\"\")","v":""},{"$f":"IF(ISNUMBER(FIND(\"BC/BS\",#REF!)),\"X\",\"\")","v":""}]
["BURR & BURTON ACADEMY (MVP HEALTHCARE)","X",{"$f":"IF(ISNUMBER(FIND(\"MEDICAID\",A619)),\"X\",\"\")","v":""},{"$f":"IF(ISNUMBER(FIND(\"MEDICARE\",A619)),\"X\",\"\")","v":""},{"$f":"IF(ISNUMBER(FIND(\"BC/BS\",#REF!)),\"X\",\"\")","v":""}]
["BUTLER VA MEDICAL CENTER","X",{"$f":"IF(ISNUMBER(FIND(\"MEDICAID\",A620)),\"X\",\"\")","v":""},{"$f":"IF(ISNUMBER(FIND(\"MEDICARE\",A620)),\"X\",\"\")","v":""},{"$f":"IF(ISNUMBER(FIND(\"BC/BS\",#REF!)),\"X\",\"\")","v":""}]
["BW NHHC HOLDCO INC (FRINGE BENEFIT GROUP)","X",{"$f":"IF(ISNUMBER(FIND(\"MEDICAID\",A621)),\"X\",\"\")","v":""},{"$f":"IF(ISNUMBER(FIND(\"MEDICARE\",A621)),\"X\",\"\")","v":""},{"$f":"IF(ISNUMBER(FIND(\"BC/BS\",#REF!)),\"X\",\"\")","v":""}]
["BYWATER LTD","X",{"$f":"IF(ISNUMBER(FIND(\"MEDICAID\",A622)),\"X\",\"\")","v":""},{"$f":"IF(ISNUMBER(FIND(\"MEDICARE\",A622)),\"X\",\"\")","v":""},{"$f":"IF(ISNUMBER(FIND(\"BC/BS\",#REF!)),\"X\",\"\")","v":""}]
["C A BARRS CONTRACTOR INC (SENTARA)","X",{"$f":"IF(ISNUMBER(FIND(\"MEDICAID\",A623)),\"X\",\"\")","v":""},{"$f":"IF(ISNUMBER(FIND(\"MEDICARE\",A623)),\"X\",\"\")","v":""},{"$f":"IF(ISNUMBER(FIND(\"BC/BS\",#REF!)),\"X\",\"\")","v":""}]
["C AND O EMPLOYEES HOSPITAL ASSOCIATION","X",{"$f":"IF(ISNUMBER(FIND(\"MEDICAID\",A624)),\"X\",\"\")","v":""},{"$f":"IF(ISNUMBER(FIND(\"MEDICARE\",A624)),\"X\",\"\")","v":""},{"$f":"IF(ISNUMBER(FIND(\"BC/BS\",#REF!)),\"X\",\"\")","v":""}]
["C.A.S.","X",{"$f":"IF(ISNUMBER(FIND(\"MEDICAID\",A625)),\"X\",\"\")","v":""},{"$f":"IF(ISNUMBER(FIND(\"MEDICARE\",A625)),\"X\",\"\")","v":""},{"$f":"IF(ISNUMBER(FIND(\"BC/BS\",#REF!)),\"X\",\"\")","v":""}]
["C.A.S.E. CONSTRUCTION INC (GROUP & PENSION ADMIN)",null,{"$f":"IF(ISNUMBER(FIND(\"MEDICAID\",A626)),\"X\",\"\")","v":""},{"$f":"IF(ISNUMBER(FIND(\"MEDICARE\",A626)),\"X\",\"\")","v":""},{"$f":"IF(ISNUMBER(FIND(\"BC/BS\",#REF!)),\"X\",\"\")","v":""}]
["C.T. MALE ASSOCIATES (MVP HEALTHCARE)","X",{"$f":"IF(ISNUMBER(FIND(\"MEDICAID\",A627)),\"X\",\"\")","v":""},{"$f":"IF(ISNUMBER(FIND(\"MEDICARE\",A627)),\"X\",\"\")","v":""},{"$f":"IF(ISNUMBER(FIND(\"BC/BS\",#REF!)),\"X\",\"\")","v":""}]
["C.W. BILL YOUNG VA MEDICAL CENTER",null,{"$f":"IF(ISNUMBER(FIND(\"MEDICAID\",A628)),\"X\",\"\")","v":""},{"$f":"IF(ISNUMBER(FIND(\"MEDICARE\",A628)),\"X\",\"\")","v":""},{"$f":"IF(ISNUMBER(FIND(\"BC/BS\",#REF!)),\"X\",\"\")","v":""}]
["C352 (WAREHOUSE EMPLOYEES LOCAL 570 TRUST FUND)",null,{"$f":"IF(ISNUMBER(FIND(\"MEDICAID\",A629)),\"X\",\"\")","v":""},{"$f":"IF(ISNUMBER(FIND(\"MEDICARE\",A629)),\"X\",\"\")","v":""},{"$f":"IF(ISNUMBER(FIND(\"BC/BS\",#REF!)),\"X\",\"\")","v":""}]
["CA MEDI-CAL (ANTHEM)","X",{"$f":"IF(ISNUMBER(FIND(\"MEDICAID\",A630)),\"X\",\"\")","v":""},{"$f":"IF(ISNUMBER(FIND(\"MEDICARE\",A630)),\"X\",\"\")","v":""},"X"]
["CADENCE RX",null,{"$f":"IF(ISNUMBER(FIND(\"MEDICAID\",A631)),\"X\",\"\")","v":""},{"$f":"IF(ISNUMBER(FIND(\"MEDICARE\",A631)),\"X\",\"\")","v":""},{"$f":"IF(ISNUMBER(FIND(\"BC/BS\",#REF!)),\"X\",\"\")","v":""}]
["CADILLAC PRODUCTS AUTOMOTIVE CO (ASR HEALTH BENEFITS)","X",{"$f":"IF(ISNUMBER(FIND(\"MEDICAID\",A632)),\"X\",\"\")","v":""},{"$f":"IF(ISNUMBER(FIND(\"MEDICARE\",A632)),\"X\",\"\")","v":""},{"$f":"IF(ISNUMBER(FIND(\"BC/BS\",#REF!)),\"X\",\"\")","v":""}]
["CAESARS (HOMETOWN HEALTH PLAN NEVADA)","X",{"$f":"IF(ISNUMBER(FIND(\"MEDICAID\",A633)),\"X\",\"\")","v":""},{"$f":"IF(ISNUMBER(FIND(\"MEDICARE\",A633)),\"X\",\"\")","v":""},{"$f":"IF(ISNUMBER(FIND(\"BC/BS\",#REF!)),\"X\",\"\")","v":""}]
["CAL CARE IPA (PROSPECT MEDICAL SYSTEMS)","X",{"$f":"IF(ISNUMBER(FIND(\"MEDICAID\",A634)),\"X\",\"\")","v":""},{"$f":"IF(ISNUMBER(FIND(\"MEDICARE\",A634)),\"X\",\"\")","v":""},{"$f":"IF(ISNUMBER(FIND(\"BC/BS\",#REF!)),\"X\",\"\")","v":""}]
["CALIFORNIA CASUALTY INDEMNITY EXCHANGE","X",{"$f":"IF(ISNUMBER(FIND(\"MEDICAID\",A635)),\"X\",\"\")","v":""},{"$f":"IF(ISNUMBER(FIND(\"MEDICARE\",A635)),\"X\",\"\")","v":""},{"$f":"IF(ISNUMBER(FIND(\"BC/BS\",#REF!)),\"X\",\"\")","v":""},null,"X"]
["CALIFORNIA HEALTH AND WELLNESS","X",{"$f":"IF(ISNUMBER(FIND(\"MEDICAID\",A636)),\"X\",\"\")","v":""},{"$f":"IF(ISNUMBER(FIND(\"MEDICARE\",A636)),\"X\",\"\")","v":""},{"$f":"IF(ISNUMBER(FIND(\"BC/BS\",#REF!)),\"X\",\"\")","v":""}]
["CALIFORNIA HOSPITAL MEDICAL CENTER - GLOBAL (MEDPOINT MANAGEMENT)","X",{"$f":"IF(ISNUMBER(FIND(\"MEDICAID\",A637)),\"X\",\"\")","v":""},{"$f":"IF(ISNUMBER(FIND(\"MEDICARE\",A637)),\"X\",\"\")","v":""},{"$f":"IF(ISNUMBER(FIND(\"BC/BS\",#REF!)),\"X\",\"\")","v":""}]
["CALIFORNIA HOSPITAL MEDICAL CENTER - HCLA (MEDPOINT MANAGEMENT)","X",{"$f":"IF(ISNUMBER(FIND(\"MEDICAID\",A638)),\"X\",\"\")","v":""},{"$f":"IF(ISNUMBER(FIND(\"MEDICARE\",A638)),\"X\",\"\")","v":""},{"$f":"IF(ISNUMBER(FIND(\"BC/BS\",#REF!)),\"X\",\"\")","v":""}]
["CALIFORNIA PHYSICIANS SERVICE DBA BLUE SHIELD CA","X",{"$f":"IF(ISNUMBER(FIND(\"MEDICAID\",A639)),\"X\",\"\")","v":""},{"$f":"IF(ISNUMBER(FIND(\"MEDICARE\",A639)),\"X\",\"\")","v":""},"X"]
["CALIFORNIA TEACHERS ASSOCIATION (ANTHEM)","X",{"$f":"IF(ISNUMBER(FIND(\"MEDICAID\",A640)),\"X\",\"\")","v":""},{"$f":"IF(ISNUMBER(FIND(\"MEDICARE\",A640)),\"X\",\"\")","v":""},"X"]
["CALIFORNIACARE HEALTH PLANS (HUMBOLDT IPA)","X",{"$f":"IF(ISNUMBER(FIND(\"MEDICAID\",A641)),\"X\",\"\")","v":""},{"$f":"IF(ISNUMBER(FIND(\"MEDICARE\",A641)),\"X\",\"\")","v":""},{"$f":"IF(ISNUMBER(FIND(\"BC/BS\",#REF!)),\"X\",\"\")","v":""}]
["CALOPTIMA","X",{"$f":"IF(ISNUMBER(FIND(\"MEDICAID\",A642)),\"X\",\"\")","v":""},{"$f":"IF(ISNUMBER(FIND(\"MEDICARE\",A642)),\"X\",\"\")","v":""},{"$f":"IF(ISNUMBER(FIND(\"BC/BS\",#REF!)),\"X\",\"\")","v":""}]
["CALPERS (ANTHEM)","X",{"$f":"IF(ISNUMBER(FIND(\"MEDICAID\",A643)),\"X\",\"\")","v":""},{"$f":"IF(ISNUMBER(FIND(\"MEDICARE\",A643)),\"X\",\"\")","v":""},"X"]
["CALPERS BLUE SHIELD HMO (HUMBOLDT IPA)","X",{"$f":"IF(ISNUMBER(FIND(\"MEDICAID\",A644)),\"X\",\"\")","v":""},{"$f":"IF(ISNUMBER(FIND(\"MEDICARE\",A644)),\"X\",\"\")","v":""},{"$f":"IF(ISNUMBER(FIND(\"BC/BS\",#REF!)),\"X\",\"\")","v":""}]
["CALPERS HEALTH PLAN (OPTUMRX)","X",{"$f":"IF(ISNUMBER(FIND(\"MEDICAID\",A645)),\"X\",\"\")","v":""},{"$f":"IF(ISNUMBER(FIND(\"MEDICARE\",A645)),\"X\",\"\")","v":""},{"$f":"IF(ISNUMBER(FIND(\"BC/BS\",#REF!)),\"X\",\"\")","v":""}]
["CAM INTERGRATED SOLUTIONS EBPT (90 DEGREE BENEFITS HOUSTON - ENTRUST)",null,{"$f":"IF(ISNUMBER(FIND(\"MEDICAID\",A646)),\"X\",\"\")","v":""},{"$f":"IF(ISNUMBER(FIND(\"MEDICARE\",A646)),\"X\",\"\")","v":""},{"$f":"IF(ISNUMBER(FIND(\"BC/BS\",#REF!)),\"X\",\"\")","v":""}]
["CAMARENA HEALTH (ADVANTEK BENEFIT ADMINISTRATORS)",null,{"$f":"IF(ISNUMBER(FIND(\"MEDICAID\",A647)),\"X\",\"\")","v":""},{"$f":"IF(ISNUMBER(FIND(\"MEDICARE\",A647)),\"X\",\"\")","v":""},{"$f":"IF(ISNUMBER(FIND(\"BC/BS\",#REF!)),\"X\",\"\")","v":""}]
["CAMBRO MANUFACTURING (HEALTHCOMP)",null,{"$f":"IF(ISNUMBER(FIND(\"MEDICAID\",A648)),\"X\",\"\")","v":""},{"$f":"IF(ISNUMBER(FIND(\"MEDICARE\",A648)),\"X\",\"\")","v":""},{"$f":"IF(ISNUMBER(FIND(\"BC/BS\",#REF!)),\"X\",\"\")","v":""}]
["CAMPBELL ENTERPRISES OF IL LLC (IPMG)","X",{"$f":"IF(ISNUMBER(FIND(\"MEDICAID\",A649)),\"X\",\"\")","v":""},{"$f":"IF(ISNUMBER(FIND(\"MEDICARE\",A649)),\"X\",\"\")","v":""},{"$f":"IF(ISNUMBER(FIND(\"BC/BS\",#REF!)),\"X\",\"\")","v":""}]
["CAMPBELL GLOBAL LLC (HEALTHCOMP)","X",{"$f":"IF(ISNUMBER(FIND(\"MEDICAID\",A650)),\"X\",\"\")","v":""},{"$f":"IF(ISNUMBER(FIND(\"MEDICARE\",A650)),\"X\",\"\")","v":""},{"$f":"IF(ISNUMBER(FIND(\"BC/BS\",#REF!)),\"X\",\"\")","v":""}]
["CANAL VIEW-HOUGHTON COUNTY (ASR HEALTH BENEFITS)","X",{"$f":"IF(ISNUMBER(FIND(\"MEDICAID\",A651)),\"X\",\"\")","v":""},{"$f":"IF(ISNUMBER(FIND(\"MEDICARE\",A651)),\"X\",\"\")","v":""},{"$f":"IF(ISNUMBER(FIND(\"BC/BS\",#REF!)),\"X\",\"\")","v":""}]
["CANANDAIGUA VA MEDICAL CENTER",null,{"$f":"IF(ISNUMBER(FIND(\"MEDICAID\",A652)),\"X\",\"\")","v":""},{"$f":"IF(ISNUMBER(FIND(\"MEDICARE\",A652)),\"X\",\"\")","v":""},{"$f":"IF(ISNUMBER(FIND(\"BC/BS\",#REF!)),\"X\",\"\")","v":""}]
["CANOPY HEALTH - DIGNITY-SANTA CRUZ","X",{"$f":"IF(ISNUMBER(FIND(\"MEDICAID\",A653)),\"X\",\"\")","v":""},{"$f":"IF(ISNUMBER(FIND(\"MEDICARE\",A653)),\"X\",\"\")","v":""},{"$f":"IF(ISNUMBER(FIND(\"BC/BS\",#REF!)),\"X\",\"\")","v":""}]
["CANOPY HEALTH - HILL PHYSICIANS EAST BAY","X",{"$f":"IF(ISNUMBER(FIND(\"MEDICAID\",A654)),\"X\",\"\")","v":""},{"$f":"IF(ISNUMBER(FIND(\"MEDICARE\",A654)),\"X\",\"\")","v":""},{"$f":"IF(ISNUMBER(FIND(\"BC/BS\",#REF!)),\"X\",\"\")","v":""}]
["CANOPY HEALTH - HILL PHYSICIANS SAN FRANCISCO","X",{"$f":"IF(ISNUMBER(FIND(\"MEDICAID\",A655)),\"X\",\"\")","v":""},{"$f":"IF(ISNUMBER(FIND(\"MEDICARE\",A655)),\"X\",\"\")","v":""},{"$f":"IF(ISNUMBER(FIND(\"BC/BS\",#REF!)),\"X\",\"\")","v":""}]
["CANOPY HEALTH - JOHN MUIR PHYSICIAN NETWORK","X",{"$f":"IF(ISNUMBER(FIND(\"MEDICAID\",A656)),\"X\",\"\")","v":""},{"$f":"IF(ISNUMBER(FIND(\"MEDICARE\",A656)),\"X\",\"\")","v":""},{"$f":"IF(ISNUMBER(FIND(\"BC/BS\",#REF!)),\"X\",\"\")","v":""}]
["CANOPY HEALTH - MERITAGE MEDICAL NETWORK","X",{"$f":"IF(ISNUMBER(FIND(\"MEDICAID\",A657)),\"X\",\"\")","v":""},{"$f":"IF(ISNUMBER(FIND(\"MEDICARE\",A657)),\"X\",\"\")","v":""},{"$f":"IF(ISNUMBER(FIND(\"BC/BS\",#REF!)),\"X\",\"\")","v":""}]
["CANOPY HEALTH - SANTA CLARA IPA","X",{"$f":"IF(ISNUMBER(FIND(\"MEDICAID\",A658)),\"X\",\"\")","v":""},{"$f":"IF(ISNUMBER(FIND(\"MEDICARE\",A658)),\"X\",\"\")","v":""},{"$f":"IF(ISNUMBER(FIND(\"BC/BS\",#REF!)),\"X\",\"\")","v":""}]
["CAPE ENVIRONMENTAL MANAGEMENT INC (GROUP & PENSION ADMIN)","X",{"$f":"IF(ISNUMBER(FIND(\"MEDICAID\",A659)),\"X\",\"\")","v":""},{"$f":"IF(ISNUMBER(FIND(\"MEDICARE\",A659)),\"X\",\"\")","v":""},{"$f":"IF(ISNUMBER(FIND(\"BC/BS\",#REF!)),\"X\",\"\")","v":""}]
["CAPE RESORT MANAGEMENT CO INC (GROUP & PENSION ADMIN)","X",{"$f":"IF(ISNUMBER(FIND(\"MEDICAID\",A660)),\"X\",\"\")","v":""},{"$f":"IF(ISNUMBER(FIND(\"MEDICARE\",A660)),\"X\",\"\")","v":""},{"$f":"IF(ISNUMBER(FIND(\"BC/BS\",#REF!)),\"X\",\"\")","v":""}]
["CAPITAL BLUE CROSS","X",{"$f":"IF(ISNUMBER(FIND(\"MEDICAID\",A661)),\"X\",\"\")","v":""},{"$f":"IF(ISNUMBER(FIND(\"MEDICARE\",A661)),\"X\",\"\")","v":""},"X"]
["CAPITAL DISTRICT PHYSICIANS HEALTH PLAN - UNIVERSAL BENEFITS (CDPHP)","X",{"$f":"IF(ISNUMBER(FIND(\"MEDICAID\",A662)),\"X\",\"\")","v":""},{"$f":"IF(ISNUMBER(FIND(\"MEDICARE\",A662)),\"X\",\"\")","v":""},{"$f":"IF(ISNUMBER(FIND(\"BC/BS\",#REF!)),\"X\",\"\")","v":""}]
["CAPITAL DISTRICT PHYSICIANS HEALTH PLAN INC (CDPHP)","X",{"$f":"IF(ISNUMBER(FIND(\"MEDICAID\",A663)),\"X\",\"\")","v":""},{"$f":"IF(ISNUMBER(FIND(\"MEDICARE\",A663)),\"X\",\"\")","v":""},{"$f":"IF(ISNUMBER(FIND(\"BC/BS\",#REF!)),\"X\",\"\")","v":""}]
["CAPITAL DISTRICT PHYSICIANS HEALTHCARE NETWORK (CDPHP)","X",{"$f":"IF(ISNUMBER(FIND(\"MEDICAID\",A664)),\"X\",\"\")","v":""},{"$f":"IF(ISNUMBER(FIND(\"MEDICARE\",A664)),\"X\",\"\")","v":""},{"$f":"IF(ISNUMBER(FIND(\"BC/BS\",#REF!)),\"X\",\"\")","v":""}]
["CAPITAL DISTRICT PHYSICIANS HEALTHCARE NETWORK CD (CDPHP)","X",{"$f":"IF(ISNUMBER(FIND(\"MEDICAID\",A665)),\"X\",\"\")","v":""},{"$f":"IF(ISNUMBER(FIND(\"MEDICARE\",A665)),\"X\",\"\")","v":""},{"$f":"IF(ISNUMBER(FIND(\"BC/BS\",#REF!)),\"X\",\"\")","v":""}]
["CAPITAL HEALTH PLAN","X",{"$f":"IF(ISNUMBER(FIND(\"MEDICAID\",A666)),\"X\",\"\")","v":""},{"$f":"IF(ISNUMBER(FIND(\"MEDICARE\",A666)),\"X\",\"\")","v":""},{"$f":"IF(ISNUMBER(FIND(\"BC/BS\",#REF!)),\"X\",\"\")","v":""}]
["CAPITAL RX INC",null,{"$f":"IF(ISNUMBER(FIND(\"MEDICAID\",A667)),\"X\",\"\")","v":""},{"$f":"IF(ISNUMBER(FIND(\"MEDICARE\",A667)),\"X\",\"\")","v":""},{"$f":"IF(ISNUMBER(FIND(\"BC/BS\",#REF!)),\"X\",\"\")","v":""}]
["CAPITOL LIFE INSURANCE COMPANY (AETNA SSI)","X",{"$f":"IF(ISNUMBER(FIND(\"MEDICAID\",A668)),\"X\",\"\")","v":""},{"$f":"IF(ISNUMBER(FIND(\"MEDICARE\",A668)),\"X\",\"\")","v":""},{"$f":"IF(ISNUMBER(FIND(\"BC/BS\",#REF!)),\"X\",\"\")","v":""}]
["CAPTAIN JAMES A. LOVELL FEDERAL HEALTH CARE CENTER","X",{"$f":"IF(ISNUMBER(FIND(\"MEDICAID\",A669)),\"X\",\"\")","v":""},{"$f":"IF(ISNUMBER(FIND(\"MEDICARE\",A669)),\"X\",\"\")","v":""},{"$f":"IF(ISNUMBER(FIND(\"BC/BS\",#REF!)),\"X\",\"\")","v":""}]
["CARDINAL INNOVATIONS",null,{"$f":"IF(ISNUMBER(FIND(\"MEDICAID\",A670)),\"X\",\"\")","v":""},{"$f":"IF(ISNUMBER(FIND(\"MEDICARE\",A670)),\"X\",\"\")","v":""},{"$f":"IF(ISNUMBER(FIND(\"BC/BS\",#REF!)),\"X\",\"\")","v":""}]
["CARDON & ASSOCIATES INC (GROUP & PENSION ADMIN)","X",{"$f":"IF(ISNUMBER(FIND(\"MEDICAID\",A671)),\"X\",\"\")","v":""},{"$f":"IF(ISNUMBER(FIND(\"MEDICARE\",A671)),\"X\",\"\")","v":""},{"$f":"IF(ISNUMBER(FIND(\"BC/BS\",#REF!)),\"X\",\"\")","v":""}]
["CARE IMPROVEMENT PLUS SOUTH CENTRAL INSURANCE CO (OPTUMCARE)","X",{"$f":"IF(ISNUMBER(FIND(\"MEDICAID\",A672)),\"X\",\"\")","v":""},{"$f":"IF(ISNUMBER(FIND(\"MEDICARE\",A672)),\"X\",\"\")","v":""},{"$f":"IF(ISNUMBER(FIND(\"BC/BS\",#REF!)),\"X\",\"\")","v":""}]
["CARE IMPROVEMENT PLUS SOUTH CENTRAL INSURANCE CO (UHC)","X",{"$f":"IF(ISNUMBER(FIND(\"MEDICAID\",A673)),\"X\",\"\")","v":""},{"$f":"IF(ISNUMBER(FIND(\"MEDICARE\",A673)),\"X\",\"\")","v":""},{"$f":"IF(ISNUMBER(FIND(\"BC/BS\",#REF!)),\"X\",\"\")","v":""}]
["CARE N CARE","X",{"$f":"IF(ISNUMBER(FIND(\"MEDICAID\",A674)),\"X\",\"\")","v":""},{"$f":"IF(ISNUMBER(FIND(\"MEDICARE\",A674)),\"X\",\"\")","v":""},{"$f":"IF(ISNUMBER(FIND(\"BC/BS\",#REF!)),\"X\",\"\")","v":""}]
["CARE WISCONSIN","X",{"$f":"IF(ISNUMBER(FIND(\"MEDICAID\",A675)),\"X\",\"\")","v":""},{"$f":"IF(ISNUMBER(FIND(\"MEDICARE\",A675)),\"X\",\"\")","v":""},{"$f":"IF(ISNUMBER(FIND(\"BC/BS\",#REF!)),\"X\",\"\")","v":""}]
["CARE4KIDS - CHILDRENS COMMUNITY HEALTH PLAN (DEAN HEALTH PLAN)","X",{"$f":"IF(ISNUMBER(FIND(\"MEDICAID\",A676)),\"X\",\"\")","v":""},{"$f":"IF(ISNUMBER(FIND(\"MEDICARE\",A676)),\"X\",\"\")","v":""},{"$f":"IF(ISNUMBER(FIND(\"BC/BS\",#REF!)),\"X\",\"\")","v":""}]
["CARE4KIDS - CHORUS COMMUNITY HEALTH PLAN (DEAN HEALTH PLAN)","X",{"$f":"IF(ISNUMBER(FIND(\"MEDICAID\",A677)),\"X\",\"\")","v":""},{"$f":"IF(ISNUMBER(FIND(\"MEDICARE\",A677)),\"X\",\"\")","v":""},{"$f":"IF(ISNUMBER(FIND(\"BC/BS\",#REF!)),\"X\",\"\")","v":""}]
["CARECENTRIX","X",{"$f":"IF(ISNUMBER(FIND(\"MEDICAID\",A678)),\"X\",\"\")","v":""},{"$f":"IF(ISNUMBER(FIND(\"MEDICARE\",A678)),\"X\",\"\")","v":""},{"$f":"IF(ISNUMBER(FIND(\"BC/BS\",#REF!)),\"X\",\"\")","v":""}]
["CAREFIRST ADMINISTRATORS","X",{"$f":"IF(ISNUMBER(FIND(\"MEDICAID\",A679)),\"X\",\"\")","v":""},{"$f":"IF(ISNUMBER(FIND(\"MEDICARE\",A679)),\"X\",\"\")","v":""},{"$f":"IF(ISNUMBER(FIND(\"BC/BS\",#REF!)),\"X\",\"\")","v":""}]
["CAREFIRST ADVANTAGE INC (CAREFIRST BCBS OF DC)","X",{"$f":"IF(ISNUMBER(FIND(\"MEDICAID\",A680)),\"X\",\"\")","v":""},{"$f":"IF(ISNUMBER(FIND(\"MEDICARE\",A680)),\"X\",\"\")","v":""},"X"]
["CAREFIRST ADVANTAGE PPO INC (CAREFIRST BCBS OF DC)","X",{"$f":"IF(ISNUMBER(FIND(\"MEDICAID\",A681)),\"X\",\"\")","v":""},{"$f":"IF(ISNUMBER(FIND(\"MEDICARE\",A681)),\"X\",\"\")","v":""},"X"]
["CAREFIRST BCBS COMMUNITY HEALTH PLAN DISTRICT OF COLUMBIA 775 POPLTN (CHPDC)",null,{"$f":"IF(ISNUMBER(FIND(\"MEDICAID\",A682)),\"X\",\"\")","v":""},{"$f":"IF(ISNUMBER(FIND(\"MEDICARE\",A682)),\"X\",\"\")","v":""},{"$f":"IF(ISNUMBER(FIND(\"BC/BS\",#REF!)),\"X\",\"\")","v":""}]
["CAREFIRST BCBS COMMUNITY HEALTH PLAN DISTRICT OF COLUMBIA ALLIANCE (CHPDC)",null,{"$f":"IF(ISNUMBER(FIND(\"MEDICAID\",A683)),\"X\",\"\")","v":""},{"$f":"IF(ISNUMBER(FIND(\"MEDICARE\",A683)),\"X\",\"\")","v":""},{"$f":"IF(ISNUMBER(FIND(\"BC/BS\",#REF!)),\"X\",\"\")","v":""}]
["CAREFIRST BCBS COMMUNITY HEALTH PLAN DISTRICT OF COLUMBIA HEALTHY FAMILY (CHPDC)","X",{"$f":"IF(ISNUMBER(FIND(\"MEDICAID\",A684)),\"X\",\"\")","v":""},{"$f":"IF(ISNUMBER(FIND(\"MEDICARE\",A684)),\"X\",\"\")","v":""},{"$f":"IF(ISNUMBER(FIND(\"BC/BS\",#REF!)),\"X\",\"\")","v":""}]
["CAREFIRST BCBS COMMUNITY HEALTH PLAN MD","X",{"$f":"IF(ISNUMBER(FIND(\"MEDICAID\",A685)),\"X\",\"\")","v":""},{"$f":"IF(ISNUMBER(FIND(\"MEDICARE\",A685)),\"X\",\"\")","v":""},"X"]
["CAREFIRST BCBS MEDICARE ADVANTAGE","X",{"$f":"IF(ISNUMBER(FIND(\"MEDICAID\",A686)),\"X\",\"\")","v":""},null,"X"]
["CAREFIRST BCBS OF MARYLAND","X",{"$f":"IF(ISNUMBER(FIND(\"MEDICAID\",A687)),\"X\",\"\")","v":""},{"$f":"IF(ISNUMBER(FIND(\"MEDICARE\",A687)),\"X\",\"\")","v":""},"X"]
["CAREFIRST BCBS OF NATIONAL CAPITAL AREA (DC)","X",{"$f":"IF(ISNUMBER(FIND(\"MEDICAID\",A688)),\"X\",\"\")","v":""},{"$f":"IF(ISNUMBER(FIND(\"MEDICARE\",A688)),\"X\",\"\")","v":""},"X"]
["CAREFIRST BLUECHOICE","X",{"$f":"IF(ISNUMBER(FIND(\"MEDICAID\",A689)),\"X\",\"\")","v":""},{"$f":"IF(ISNUMBER(FIND(\"MEDICARE\",A689)),\"X\",\"\")","v":""},"X"]
["CAREFIRST BLUECHOICE FEHBP HMO","X",{"$f":"IF(ISNUMBER(FIND(\"MEDICAID\",A690)),\"X\",\"\")","v":""},{"$f":"IF(ISNUMBER(FIND(\"MEDICARE\",A690)),\"X\",\"\")","v":""},"X"]
["CAREFIRST OF MARYLAND","X",{"$f":"IF(ISNUMBER(FIND(\"MEDICAID\",A691)),\"X\",\"\")","v":""},{"$f":"IF(ISNUMBER(FIND(\"MEDICARE\",A691)),\"X\",\"\")","v":""},"X"]
["CAREGIVERS AMERICA (GEISINGER HEALTH PLAN)","X",{"$f":"IF(ISNUMBER(FIND(\"MEDICAID\",A692)),\"X\",\"\")","v":""},{"$f":"IF(ISNUMBER(FIND(\"MEDICARE\",A692)),\"X\",\"\")","v":""},{"$f":"IF(ISNUMBER(FIND(\"BC/BS\",#REF!)),\"X\",\"\")","v":""}]
["CAREINGTON BENEFIT SOLUTIONS","X",{"$f":"IF(ISNUMBER(FIND(\"MEDICAID\",A693)),\"X\",\"\")","v":""},{"$f":"IF(ISNUMBER(FIND(\"MEDICARE\",A693)),\"X\",\"\")","v":""},{"$f":"IF(ISNUMBER(FIND(\"BC/BS\",#REF!)),\"X\",\"\")","v":""}]
["CAREMARK","X",{"$f":"IF(ISNUMBER(FIND(\"MEDICAID\",A694)),\"X\",\"\")","v":""},{"$f":"IF(ISNUMBER(FIND(\"MEDICARE\",A694)),\"X\",\"\")","v":""},{"$f":"IF(ISNUMBER(FIND(\"BC/BS\",#REF!)),\"X\",\"\")","v":""}]
["CAREMORE HEALTH","X",{"$f":"IF(ISNUMBER(FIND(\"MEDICAID\",A695)),\"X\",\"\")","v":""},{"$f":"IF(ISNUMBER(FIND(\"MEDICARE\",A695)),\"X\",\"\")","v":""},{"$f":"IF(ISNUMBER(FIND(\"BC/BS\",#REF!)),\"X\",\"\")","v":""}]
["CAREOREGON","X",{"$f":"IF(ISNUMBER(FIND(\"MEDICAID\",A696)),\"X\",\"\")","v":""},{"$f":"IF(ISNUMBER(FIND(\"MEDICARE\",A696)),\"X\",\"\")","v":""},{"$f":"IF(ISNUMBER(FIND(\"BC/BS\",#REF!)),\"X\",\"\")","v":""}]
["CAREPARTNERS OF CONNECTICUT INC",null,{"$f":"IF(ISNUMBER(FIND(\"MEDICAID\",A697)),\"X\",\"\")","v":""},{"$f":"IF(ISNUMBER(FIND(\"MEDICARE\",A697)),\"X\",\"\")","v":""},{"$f":"IF(ISNUMBER(FIND(\"BC/BS\",#REF!)),\"X\",\"\")","v":""}]
["CAREPLUS HEALTH PLANS INC","X",{"$f":"IF(ISNUMBER(FIND(\"MEDICAID\",A698)),\"X\",\"\")","v":""},{"$f":"IF(ISNUMBER(FIND(\"MEDICARE\",A698)),\"X\",\"\")","v":""},{"$f":"IF(ISNUMBER(FIND(\"BC/BS\",#REF!)),\"X\",\"\")","v":""}]
["CARESOURCE ARKANSAS","X",{"$f":"IF(ISNUMBER(FIND(\"MEDICAID\",A699)),\"X\",\"\")","v":""},{"$f":"IF(ISNUMBER(FIND(\"MEDICARE\",A699)),\"X\",\"\")","v":""},{"$f":"IF(ISNUMBER(FIND(\"BC/BS\",#REF!)),\"X\",\"\")","v":""}]
["CARESOURCE GEORGIA","X",{"$f":"IF(ISNUMBER(FIND(\"MEDICAID\",A700)),\"X\",\"\")","v":""},{"$f":"IF(ISNUMBER(FIND(\"MEDICARE\",A700)),\"X\",\"\")","v":""},{"$f":"IF(ISNUMBER(FIND(\"BC/BS\",#REF!)),\"X\",\"\")","v":""}]
["CARESOURCE INDIANA","X",{"$f":"IF(ISNUMBER(FIND(\"MEDICAID\",A701)),\"X\",\"\")","v":""},{"$f":"IF(ISNUMBER(FIND(\"MEDICARE\",A701)),\"X\",\"\")","v":""},{"$f":"IF(ISNUMBER(FIND(\"BC/BS\",#REF!)),\"X\",\"\")","v":""}]
["CARESOURCE KENTUCKY","X",{"$f":"IF(ISNUMBER(FIND(\"MEDICAID\",A702)),\"X\",\"\")","v":""},{"$f":"IF(ISNUMBER(FIND(\"MEDICARE\",A702)),\"X\",\"\")","v":""},{"$f":"IF(ISNUMBER(FIND(\"BC/BS\",#REF!)),\"X\",\"\")","v":""}]
["CARESOURCE OHIO","X",{"$f":"IF(ISNUMBER(FIND(\"MEDICAID\",A703)),\"X\",\"\")","v":""},{"$f":"IF(ISNUMBER(FIND(\"MEDICARE\",A703)),\"X\",\"\")","v":""},{"$f":"IF(ISNUMBER(FIND(\"BC/BS\",#REF!)),\"X\",\"\")","v":""}]
["CARESOURCE WEST VIRGINIA","X",{"$f":"IF(ISNUMBER(FIND(\"MEDICAID\",A704)),\"X\",\"\")","v":""},{"$f":"IF(ISNUMBER(FIND(\"MEDICARE\",A704)),\"X\",\"\")","v":""},{"$f":"IF(ISNUMBER(FIND(\"BC/BS\",#REF!)),\"X\",\"\")","v":""}]
["CAREWORKS","X",{"$f":"IF(ISNUMBER(FIND(\"MEDICAID\",A705)),\"X\",\"\")","v":""},{"$f":"IF(ISNUMBER(FIND(\"MEDICARE\",A705)),\"X\",\"\")","v":""},{"$f":"IF(ISNUMBER(FIND(\"BC/BS\",#REF!)),\"X\",\"\")","v":""}]
["CAREWORKS MANAGED CARE SERVICES","X",{"$f":"IF(ISNUMBER(FIND(\"MEDICAID\",A706)),\"X\",\"\")","v":""},{"$f":"IF(ISNUMBER(FIND(\"MEDICARE\",A706)),\"X\",\"\")","v":""},{"$f":"IF(ISNUMBER(FIND(\"BC/BS\",#REF!)),\"X\",\"\")","v":""}]
["CARL T. HAYDEN VA MEDICAL CENTER",null,{"$f":"IF(ISNUMBER(FIND(\"MEDICAID\",A707)),\"X\",\"\")","v":""},{"$f":"IF(ISNUMBER(FIND(\"MEDICARE\",A707)),\"X\",\"\")","v":""},{"$f":"IF(ISNUMBER(FIND(\"BC/BS\",#REF!)),\"X\",\"\")","v":""}]
["CARL VINSON VA MEDICAL CENTER","X",{"$f":"IF(ISNUMBER(FIND(\"MEDICAID\",A708)),\"X\",\"\")","v":""},{"$f":"IF(ISNUMBER(FIND(\"MEDICARE\",A708)),\"X\",\"\")","v":""},{"$f":"IF(ISNUMBER(FIND(\"BC/BS\",#REF!)),\"X\",\"\")","v":""}]
["CARO NUT (HEALTHCOMP)",null,{"$f":"IF(ISNUMBER(FIND(\"MEDICAID\",A709)),\"X\",\"\")","v":""},{"$f":"IF(ISNUMBER(FIND(\"MEDICARE\",A709)),\"X\",\"\")","v":""},{"$f":"IF(ISNUMBER(FIND(\"BC/BS\",#REF!)),\"X\",\"\")","v":""}]
["CAROLINA BEHAVIORAL HEALTH ALLIANCE (CBHA)","X",{"$f":"IF(ISNUMBER(FIND(\"MEDICAID\",A710)),\"X\",\"\")","v":""},{"$f":"IF(ISNUMBER(FIND(\"MEDICARE\",A710)),\"X\",\"\")","v":""},{"$f":"IF(ISNUMBER(FIND(\"BC/BS\",#REF!)),\"X\",\"\")","v":""}]
["CAROLINA CHEM STRIP (90 DEGREE BENEFITS NORTH CAROLINA - CORPORATE BENEFIT SERVICES)","X",{"$f":"IF(ISNUMBER(FIND(\"MEDICAID\",A711)),\"X\",\"\")","v":""},{"$f":"IF(ISNUMBER(FIND(\"MEDICARE\",A711)),\"X\",\"\")","v":""},{"$f":"IF(ISNUMBER(FIND(\"BC/BS\",#REF!)),\"X\",\"\")","v":""}]
["CAROLINA COMPLETE HEALTH INC","X",{"$f":"IF(ISNUMBER(FIND(\"MEDICAID\",A712)),\"X\",\"\")","v":""},{"$f":"IF(ISNUMBER(FIND(\"MEDICARE\",A712)),\"X\",\"\")","v":""},{"$f":"IF(ISNUMBER(FIND(\"BC/BS\",#REF!)),\"X\",\"\")","v":""}]
["CARROLL PLUMBING & HEAT (SENTARA)","X",{"$f":"IF(ISNUMBER(FIND(\"MEDICAID\",A713)),\"X\",\"\")","v":""},{"$f":"IF(ISNUMBER(FIND(\"MEDICARE\",A713)),\"X\",\"\")","v":""},{"$f":"IF(ISNUMBER(FIND(\"BC/BS\",#REF!)),\"X\",\"\")","v":""}]
["CARROLL TRUCKING INC (SENTARA)","X",{"$f":"IF(ISNUMBER(FIND(\"MEDICAID\",A714)),\"X\",\"\")","v":""},{"$f":"IF(ISNUMBER(FIND(\"MEDICARE\",A714)),\"X\",\"\")","v":""},{"$f":"IF(ISNUMBER(FIND(\"BC/BS\",#REF!)),\"X\",\"\")","v":""}]
["CARTER EXPRESS INC (GROUP & PENSION ADMIN)","X",{"$f":"IF(ISNUMBER(FIND(\"MEDICAID\",A715)),\"X\",\"\")","v":""},{"$f":"IF(ISNUMBER(FIND(\"MEDICARE\",A715)),\"X\",\"\")","v":""},{"$f":"IF(ISNUMBER(FIND(\"BC/BS\",#REF!)),\"X\",\"\")","v":""}]
["CARTER IRON AND STEEL COM (SENTARA)","X",{"$f":"IF(ISNUMBER(FIND(\"MEDICAID\",A716)),\"X\",\"\")","v":""},{"$f":"IF(ISNUMBER(FIND(\"MEDICARE\",A716)),\"X\",\"\")","v":""},{"$f":"IF(ISNUMBER(FIND(\"BC/BS\",#REF!)),\"X\",\"\")","v":""}]
["CASCADE HEALTH ALLIANCE","X",{"$f":"IF(ISNUMBER(FIND(\"MEDICAID\",A717)),\"X\",\"\")","v":""},{"$f":"IF(ISNUMBER(FIND(\"MEDICARE\",A717)),\"X\",\"\")","v":""},{"$f":"IF(ISNUMBER(FIND(\"BC/BS\",#REF!)),\"X\",\"\")","v":""}]
["CASCADE KENDALL EBPT (90 DEGREE BENEFITS HOUSTON - ENTRUST)",null,{"$f":"IF(ISNUMBER(FIND(\"MEDICAID\",A718)),\"X\",\"\")","v":""},{"$f":"IF(ISNUMBER(FIND(\"MEDICARE\",A718)),\"X\",\"\")","v":""},{"$f":"IF(ISNUMBER(FIND(\"BC/BS\",#REF!)),\"X\",\"\")","v":""}]
["CASS COUNTY (GROUP & PENSION ADMIN)","X",{"$f":"IF(ISNUMBER(FIND(\"MEDICAID\",A719)),\"X\",\"\")","v":""},{"$f":"IF(ISNUMBER(FIND(\"MEDICARE\",A719)),\"X\",\"\")","v":""},{"$f":"IF(ISNUMBER(FIND(\"BC/BS\",#REF!)),\"X\",\"\")","v":""}]
["CASSIA COUNTY (MBA BENEFIT ADMINISTRATORS)","X",{"$f":"IF(ISNUMBER(FIND(\"MEDICAID\",A720)),\"X\",\"\")","v":""},{"$f":"IF(ISNUMBER(FIND(\"MEDICARE\",A720)),\"X\",\"\")","v":""},{"$f":"IF(ISNUMBER(FIND(\"BC/BS\",#REF!)),\"X\",\"\")","v":""}]
["CASTLE FAMILY HEALTH CENTERS (MAESTRO HEALTH)",null,{"$f":"IF(ISNUMBER(FIND(\"MEDICAID\",A721)),\"X\",\"\")","v":""},{"$f":"IF(ISNUMBER(FIND(\"MEDICARE\",A721)),\"X\",\"\")","v":""},{"$f":"IF(ISNUMBER(FIND(\"BC/BS\",#REF!)),\"X\",\"\")","v":""}]
["CATHOLIC CHARITIES OF THE ARCHDIOCESE OF GALVESTON-HOUSTON (GROUP & PENSION ADMIN)","X",{"$f":"IF(ISNUMBER(FIND(\"MEDICAID\",A722)),\"X\",\"\")","v":""},{"$f":"IF(ISNUMBER(FIND(\"MEDICARE\",A722)),\"X\",\"\")","v":""},{"$f":"IF(ISNUMBER(FIND(\"BC/BS\",#REF!)),\"X\",\"\")","v":""}]
["CATHOLIC HEALTH SYSTEM (INDEPENDENT HEALTH)","X",{"$f":"IF(ISNUMBER(FIND(\"MEDICAID\",A723)),\"X\",\"\")","v":""},{"$f":"IF(ISNUMBER(FIND(\"MEDICARE\",A723)),\"X\",\"\")","v":""},{"$f":"IF(ISNUMBER(FIND(\"BC/BS\",#REF!)),\"X\",\"\")","v":""}]
["CATHOLIC LIFE INSURANCE (SENTINEL SECURITY)","X",{"$f":"IF(ISNUMBER(FIND(\"MEDICAID\",A724)),\"X\",\"\")","v":""},{"$f":"IF(ISNUMBER(FIND(\"MEDICARE\",A724)),\"X\",\"\")","v":""},{"$f":"IF(ISNUMBER(FIND(\"BC/BS\",#REF!)),\"X\",\"\")","v":""}]
["CATHOLIC UNITED FINANCIAL (SENTINEL SECURITY)","X",{"$f":"IF(ISNUMBER(FIND(\"MEDICAID\",A725)),\"X\",\"\")","v":""},{"$f":"IF(ISNUMBER(FIND(\"MEDICARE\",A725)),\"X\",\"\")","v":""},{"$f":"IF(ISNUMBER(FIND(\"BC/BS\",#REF!)),\"X\",\"\")","v":""}]
["CATILIZE HEALTH","X",{"$f":"IF(ISNUMBER(FIND(\"MEDICAID\",A726)),\"X\",\"\")","v":""},{"$f":"IF(ISNUMBER(FIND(\"MEDICARE\",A726)),\"X\",\"\")","v":""},{"$f":"IF(ISNUMBER(FIND(\"BC/BS\",#REF!)),\"X\",\"\")","v":""}]
["CATTARAUGUS COUNTY (INDEPENDENT HEALTH)",null,{"$f":"IF(ISNUMBER(FIND(\"MEDICAID\",A727)),\"X\",\"\")","v":""},{"$f":"IF(ISNUMBER(FIND(\"MEDICARE\",A727)),\"X\",\"\")","v":""},{"$f":"IF(ISNUMBER(FIND(\"BC/BS\",#REF!)),\"X\",\"\")","v":""}]
["CBA BLUE","X",{"$f":"IF(ISNUMBER(FIND(\"MEDICAID\",A728)),\"X\",\"\")","v":""},{"$f":"IF(ISNUMBER(FIND(\"MEDICARE\",A728)),\"X\",\"\")","v":""},{"$f":"IF(ISNUMBER(FIND(\"BC/BS\",#REF!)),\"X\",\"\")","v":""}]
["CCH RUN IN (HEALTHCOMP)","X",{"$f":"IF(ISNUMBER(FIND(\"MEDICAID\",A729)),\"X\",\"\")","v":""},{"$f":"IF(ISNUMBER(FIND(\"MEDICARE\",A729)),\"X\",\"\")","v":""},{"$f":"IF(ISNUMBER(FIND(\"BC/BS\",#REF!)),\"X\",\"\")","v":""}]
["CDS LIFE TRANSITIONS INC (MVP HEALTH CARE)","X",{"$f":"IF(ISNUMBER(FIND(\"MEDICAID\",A730)),\"X\",\"\")","v":""},{"$f":"IF(ISNUMBER(FIND(\"MEDICARE\",A730)),\"X\",\"\")","v":""},{"$f":"IF(ISNUMBER(FIND(\"BC/BS\",#REF!)),\"X\",\"\")","v":""}]
["CEDARS-SINAI MEDICAL CENTER",null,{"$f":"IF(ISNUMBER(FIND(\"MEDICAID\",A731)),\"X\",\"\")","v":""},{"$f":"IF(ISNUMBER(FIND(\"MEDICARE\",A731)),\"X\",\"\")","v":""},{"$f":"IF(ISNUMBER(FIND(\"BC/BS\",#REF!)),\"X\",\"\")","v":""}]
["CELTIC INSURANCE COMPANY","X",{"$f":"IF(ISNUMBER(FIND(\"MEDICAID\",A732)),\"X\",\"\")","v":""},{"$f":"IF(ISNUMBER(FIND(\"MEDICARE\",A732)),\"X\",\"\")","v":""},{"$f":"IF(ISNUMBER(FIND(\"BC/BS\",#REF!)),\"X\",\"\")","v":""}]
["CELTIC INSURANCE COMPANY (OXFORD LIFE)","X",{"$f":"IF(ISNUMBER(FIND(\"MEDICAID\",A733)),\"X\",\"\")","v":""},{"$f":"IF(ISNUMBER(FIND(\"MEDICARE\",A733)),\"X\",\"\")","v":""},{"$f":"IF(ISNUMBER(FIND(\"BC/BS\",#REF!)),\"X\",\"\")","v":""}]
["CEMENT MASONS EMPLOYERS HEALTH & WELFARE TRUST FUND","X",{"$f":"IF(ISNUMBER(FIND(\"MEDICAID\",A734)),\"X\",\"\")","v":""},{"$f":"IF(ISNUMBER(FIND(\"MEDICARE\",A734)),\"X\",\"\")","v":""},{"$f":"IF(ISNUMBER(FIND(\"BC/BS\",#REF!)),\"X\",\"\")","v":""}]
["CENCAL HEALTH","X",{"$f":"IF(ISNUMBER(FIND(\"MEDICAID\",A735)),\"X\",\"\")","v":""},{"$f":"IF(ISNUMBER(FIND(\"MEDICARE\",A735)),\"X\",\"\")","v":""},{"$f":"IF(ISNUMBER(FIND(\"BC/BS\",#REF!)),\"X\",\"\")","v":""}]
["CENERO LLC (MAESTRO HEALTH)",null,{"$f":"IF(ISNUMBER(FIND(\"MEDICAID\",A736)),\"X\",\"\")","v":""},{"$f":"IF(ISNUMBER(FIND(\"MEDICARE\",A736)),\"X\",\"\")","v":""},{"$f":"IF(ISNUMBER(FIND(\"BC/BS\",#REF!)),\"X\",\"\")","v":""}]
["CENPATICO - GEORGIA","X",{"$f":"IF(ISNUMBER(FIND(\"MEDICAID\",A737)),\"X\",\"\")","v":""},{"$f":"IF(ISNUMBER(FIND(\"MEDICARE\",A737)),\"X\",\"\")","v":""},{"$f":"IF(ISNUMBER(FIND(\"BC/BS\",#REF!)),\"X\",\"\")","v":""}]
["CENPATICO - INDIANA","X",{"$f":"IF(ISNUMBER(FIND(\"MEDICAID\",A738)),\"X\",\"\")","v":""},{"$f":"IF(ISNUMBER(FIND(\"MEDICARE\",A738)),\"X\",\"\")","v":""},{"$f":"IF(ISNUMBER(FIND(\"BC/BS\",#REF!)),\"X\",\"\")","v":""}]
["CENPATICO - KANSAS","X",{"$f":"IF(ISNUMBER(FIND(\"MEDICAID\",A739)),\"X\",\"\")","v":""},{"$f":"IF(ISNUMBER(FIND(\"MEDICARE\",A739)),\"X\",\"\")","v":""},{"$f":"IF(ISNUMBER(FIND(\"BC/BS\",#REF!)),\"X\",\"\")","v":""}]
["CENPATICO - MISSOURI","X",{"$f":"IF(ISNUMBER(FIND(\"MEDICAID\",A740)),\"X\",\"\")","v":""},{"$f":"IF(ISNUMBER(FIND(\"MEDICARE\",A740)),\"X\",\"\")","v":""},{"$f":"IF(ISNUMBER(FIND(\"BC/BS\",#REF!)),\"X\",\"\")","v":""}]
["CENPATICO - OHIO","X",{"$f":"IF(ISNUMBER(FIND(\"MEDICAID\",A741)),\"X\",\"\")","v":""},{"$f":"IF(ISNUMBER(FIND(\"MEDICARE\",A741)),\"X\",\"\")","v":""},{"$f":"IF(ISNUMBER(FIND(\"BC/BS\",#REF!)),\"X\",\"\")","v":""}]
["CENPATICO - TEXAS","X",{"$f":"IF(ISNUMBER(FIND(\"MEDICAID\",A742)),\"X\",\"\")","v":""},{"$f":"IF(ISNUMBER(FIND(\"MEDICARE\",A742)),\"X\",\"\")","v":""},{"$f":"IF(ISNUMBER(FIND(\"BC/BS\",#REF!)),\"X\",\"\")","v":""}]
["CENPATICO - WISCONSIN","X",{"$f":"IF(ISNUMBER(FIND(\"MEDICAID\",A743)),\"X\",\"\")","v":""},{"$f":"IF(ISNUMBER(FIND(\"MEDICARE\",A743)),\"X\",\"\")","v":""},{"$f":"IF(ISNUMBER(FIND(\"BC/BS\",#REF!)),\"X\",\"\")","v":""}]
["CENTENE VENTURE COMPANY ALABAMA (ASCENSION COMPLETE)","X",{"$f":"IF(ISNUMBER(FIND(\"MEDICAID\",A744)),\"X\",\"\")","v":""},{"$f":"IF(ISNUMBER(FIND(\"MEDICARE\",A744)),\"X\",\"\")","v":""},{"$f":"IF(ISNUMBER(FIND(\"BC/BS\",#REF!)),\"X\",\"\")","v":""}]
["CENTENE VENTURE COMPANY INDIANA (ASCENSION COMPLETE)","X",{"$f":"IF(ISNUMBER(FIND(\"MEDICAID\",A745)),\"X\",\"\")","v":""},{"$f":"IF(ISNUMBER(FIND(\"MEDICARE\",A745)),\"X\",\"\")","v":""},{"$f":"IF(ISNUMBER(FIND(\"BC/BS\",#REF!)),\"X\",\"\")","v":""}]
["CENTENE VENTURE COMPANY MICHIGAN (ASCENSION COMPLETE)","X",{"$f":"IF(ISNUMBER(FIND(\"MEDICAID\",A746)),\"X\",\"\")","v":""},{"$f":"IF(ISNUMBER(FIND(\"MEDICARE\",A746)),\"X\",\"\")","v":""},{"$f":"IF(ISNUMBER(FIND(\"BC/BS\",#REF!)),\"X\",\"\")","v":""}]
["CENTENE VENTURE COMPANY TENNESSEE (ASCENSION COMPLETE)","X",{"$f":"IF(ISNUMBER(FIND(\"MEDICAID\",A747)),\"X\",\"\")","v":""},{"$f":"IF(ISNUMBER(FIND(\"MEDICARE\",A747)),\"X\",\"\")","v":""},{"$f":"IF(ISNUMBER(FIND(\"BC/BS\",#REF!)),\"X\",\"\")","v":""}]
["CENTENE VENTURE COMPANY TEXAS (ASCENSION COMPLETE)","X",{"$f":"IF(ISNUMBER(FIND(\"MEDICAID\",A748)),\"X\",\"\")","v":""},{"$f":"IF(ISNUMBER(FIND(\"MEDICARE\",A748)),\"X\",\"\")","v":""},{"$f":"IF(ISNUMBER(FIND(\"BC/BS\",#REF!)),\"X\",\"\")","v":""}]
["CENTERS PLAN FOR HEALTHY LIVING-DSNP",null,{"$f":"IF(ISNUMBER(FIND(\"MEDICAID\",A749)),\"X\",\"\")","v":""},{"$f":"IF(ISNUMBER(FIND(\"MEDICARE\",A749)),\"X\",\"\")","v":""},{"$f":"IF(ISNUMBER(FIND(\"BC/BS\",#REF!)),\"X\",\"\")","v":""}]
["CENTERS PLAN FOR HEALTHY LIVING-MAP",null,{"$f":"IF(ISNUMBER(FIND(\"MEDICAID\",A750)),\"X\",\"\")","v":""},{"$f":"IF(ISNUMBER(FIND(\"MEDICARE\",A750)),\"X\",\"\")","v":""},{"$f":"IF(ISNUMBER(FIND(\"BC/BS\",#REF!)),\"X\",\"\")","v":""}]
["CENTERS PLAN FOR HEALTHY LIVING-MLTC","X",{"$f":"IF(ISNUMBER(FIND(\"MEDICAID\",A751)),\"X\",\"\")","v":""},{"$f":"IF(ISNUMBER(FIND(\"MEDICARE\",A751)),\"X\",\"\")","v":""},{"$f":"IF(ISNUMBER(FIND(\"BC/BS\",#REF!)),\"X\",\"\")","v":""}]
["CENTINELA VALLEY IPA (FORMERLY ROBERT KENNEDY IPA) (MEDPOINT MANAGEMENT)","X",{"$f":"IF(ISNUMBER(FIND(\"MEDICAID\",A752)),\"X\",\"\")","v":""},{"$f":"IF(ISNUMBER(FIND(\"MEDICARE\",A752)),\"X\",\"\")","v":""},{"$f":"IF(ISNUMBER(FIND(\"BC/BS\",#REF!)),\"X\",\"\")","v":""}]
["CENTIVO","X",{"$f":"IF(ISNUMBER(FIND(\"MEDICAID\",A753)),\"X\",\"\")","v":""},{"$f":"IF(ISNUMBER(FIND(\"MEDICARE\",A753)),\"X\",\"\")","v":""},{"$f":"IF(ISNUMBER(FIND(\"BC/BS\",#REF!)),\"X\",\"\")","v":""}]
["CENTRAL ALABAMA VA MEDICAL CENTER-MONTGOMERY",null,{"$f":"IF(ISNUMBER(FIND(\"MEDICAID\",A754)),\"X\",\"\")","v":""},{"$f":"IF(ISNUMBER(FIND(\"MEDICARE\",A754)),\"X\",\"\")","v":""},{"$f":"IF(ISNUMBER(FIND(\"BC/BS\",#REF!)),\"X\",\"\")","v":""}]
["CENTRAL ARIZONA PROJECT (AMERIBEN)",null,{"$f":"IF(ISNUMBER(FIND(\"MEDICAID\",A755)),\"X\",\"\")","v":""},{"$f":"IF(ISNUMBER(FIND(\"MEDICARE\",A755)),\"X\",\"\")","v":""},{"$f":"IF(ISNUMBER(FIND(\"BC/BS\",#REF!)),\"X\",\"\")","v":""}]
["CENTRAL CALIFORNIA ALLIANCE FOR HEALTH","X",{"$f":"IF(ISNUMBER(FIND(\"MEDICAID\",A756)),\"X\",\"\")","v":""},{"$f":"IF(ISNUMBER(FIND(\"MEDICARE\",A756)),\"X\",\"\")","v":""},{"$f":"IF(ISNUMBER(FIND(\"BC/BS\",#REF!)),\"X\",\"\")","v":""}]
["CENTRAL DATA SERVICES","X",{"$f":"IF(ISNUMBER(FIND(\"MEDICAID\",A757)),\"X\",\"\")","v":""},{"$f":"IF(ISNUMBER(FIND(\"MEDICARE\",A757)),\"X\",\"\")","v":""},{"$f":"IF(ISNUMBER(FIND(\"BC/BS\",#REF!)),\"X\",\"\")","v":""}]
["CENTRAL INDIANA CREDIT & AUTOMOTIVE (THE HEALTH PLAN)",null,{"$f":"IF(ISNUMBER(FIND(\"MEDICAID\",A758)),\"X\",\"\")","v":""},{"$f":"IF(ISNUMBER(FIND(\"MEDICARE\",A758)),\"X\",\"\")","v":""},{"$f":"IF(ISNUMBER(FIND(\"BC/BS\",#REF!)),\"X\",\"\")","v":""}]
["CENTRAL KY RADIOLOGY EBPT (90 DEGREE BENEFITS HOUSTON - ENTRUST)",null,{"$f":"IF(ISNUMBER(FIND(\"MEDICAID\",A759)),\"X\",\"\")","v":""},{"$f":"IF(ISNUMBER(FIND(\"MEDICARE\",A759)),\"X\",\"\")","v":""},{"$f":"IF(ISNUMBER(FIND(\"BC/BS\",#REF!)),\"X\",\"\")","v":""}]
["CENTRAL LABORERS WELFARE FUND",null,{"$f":"IF(ISNUMBER(FIND(\"MEDICAID\",A760)),\"X\",\"\")","v":""},{"$f":"IF(ISNUMBER(FIND(\"MEDICARE\",A760)),\"X\",\"\")","v":""},{"$f":"IF(ISNUMBER(FIND(\"BC/BS\",#REF!)),\"X\",\"\")","v":""}]
["CENTRAL PENNSYLVANIA TEAMSTERS FUND","X",{"$f":"IF(ISNUMBER(FIND(\"MEDICAID\",A761)),\"X\",\"\")","v":""},{"$f":"IF(ISNUMBER(FIND(\"MEDICARE\",A761)),\"X\",\"\")","v":""},{"$f":"IF(ISNUMBER(FIND(\"BC/BS\",#REF!)),\"X\",\"\")","v":""}]
["CENTRAL STATES HEALTH & LIFE CO OF OMAHA","X",{"$f":"IF(ISNUMBER(FIND(\"MEDICAID\",A762)),\"X\",\"\")","v":""},{"$f":"IF(ISNUMBER(FIND(\"MEDICARE\",A762)),\"X\",\"\")","v":""},{"$f":"IF(ISNUMBER(FIND(\"BC/BS\",#REF!)),\"X\",\"\")","v":""}]
["CENTRAL STATES HEALTH & LIFE CO OF OMAHA (IAS ADMIN)","X",{"$f":"IF(ISNUMBER(FIND(\"MEDICAID\",A763)),\"X\",\"\")","v":""},{"$f":"IF(ISNUMBER(FIND(\"MEDICARE\",A763)),\"X\",\"\")","v":""},{"$f":"IF(ISNUMBER(FIND(\"BC/BS\",#REF!)),\"X\",\"\")","v":""}]
["CENTRAL STATES INDEMNITY CO OF OMAHA (IAS ADMIN)","X",{"$f":"IF(ISNUMBER(FIND(\"MEDICAID\",A764)),\"X\",\"\")","v":""},{"$f":"IF(ISNUMBER(FIND(\"MEDICARE\",A764)),\"X\",\"\")","v":""},{"$f":"IF(ISNUMBER(FIND(\"BC/BS\",#REF!)),\"X\",\"\")","v":""}]
["CENTRAL STATES JOINT BOARD HEALTH AND WELFARE TRUST FUND","X",{"$f":"IF(ISNUMBER(FIND(\"MEDICAID\",A765)),\"X\",\"\")","v":""},{"$f":"IF(ISNUMBER(FIND(\"MEDICARE\",A765)),\"X\",\"\")","v":""},{"$f":"IF(ISNUMBER(FIND(\"BC/BS\",#REF!)),\"X\",\"\")","v":""}]
["CENTRAL UNIFIED SCHOOL DISTRICT (ADVANTEK BENEFIT ADMINISTRATORS)",null,{"$f":"IF(ISNUMBER(FIND(\"MEDICAID\",A766)),\"X\",\"\")","v":""},{"$f":"IF(ISNUMBER(FIND(\"MEDICARE\",A766)),\"X\",\"\")","v":""},{"$f":"IF(ISNUMBER(FIND(\"BC/BS\",#REF!)),\"X\",\"\")","v":""}]
["CENTRIC HEALTHCARE SERVICES","X",{"$f":"IF(ISNUMBER(FIND(\"MEDICAID\",A767)),\"X\",\"\")","v":""},{"$f":"IF(ISNUMBER(FIND(\"MEDICARE\",A767)),\"X\",\"\")","v":""},{"$f":"IF(ISNUMBER(FIND(\"BC/BS\",#REF!)),\"X\",\"\")","v":""}]
["CENTURION DELAWARE HEALTH PLAN","X",{"$f":"IF(ISNUMBER(FIND(\"MEDICAID\",A768)),\"X\",\"\")","v":""},{"$f":"IF(ISNUMBER(FIND(\"MEDICARE\",A768)),\"X\",\"\")","v":""},{"$f":"IF(ISNUMBER(FIND(\"BC/BS\",#REF!)),\"X\",\"\")","v":""}]
["CENTURION KANSAS HEALTH PLAN","X",{"$f":"IF(ISNUMBER(FIND(\"MEDICAID\",A769)),\"X\",\"\")","v":""},{"$f":"IF(ISNUMBER(FIND(\"MEDICARE\",A769)),\"X\",\"\")","v":""},{"$f":"IF(ISNUMBER(FIND(\"BC/BS\",#REF!)),\"X\",\"\")","v":""}]
["CENTURION OF FLORIDA","X",{"$f":"IF(ISNUMBER(FIND(\"MEDICAID\",A770)),\"X\",\"\")","v":""},{"$f":"IF(ISNUMBER(FIND(\"MEDICARE\",A770)),\"X\",\"\")","v":""},{"$f":"IF(ISNUMBER(FIND(\"BC/BS\",#REF!)),\"X\",\"\")","v":""}]
["CENTURION OF IDAHO","X",{"$f":"IF(ISNUMBER(FIND(\"MEDICAID\",A771)),\"X\",\"\")","v":""},{"$f":"IF(ISNUMBER(FIND(\"MEDICARE\",A771)),\"X\",\"\")","v":""},{"$f":"IF(ISNUMBER(FIND(\"BC/BS\",#REF!)),\"X\",\"\")","v":""}]
["CENTURION OF MISSOURI","X",{"$f":"IF(ISNUMBER(FIND(\"MEDICAID\",A772)),\"X\",\"\")","v":""},{"$f":"IF(ISNUMBER(FIND(\"MEDICARE\",A772)),\"X\",\"\")","v":""},{"$f":"IF(ISNUMBER(FIND(\"BC/BS\",#REF!)),\"X\",\"\")","v":""}]
["CENTURION OF TENNESSE","X",{"$f":"IF(ISNUMBER(FIND(\"MEDICAID\",A773)),\"X\",\"\")","v":""},{"$f":"IF(ISNUMBER(FIND(\"MEDICARE\",A773)),\"X\",\"\")","v":""},{"$f":"IF(ISNUMBER(FIND(\"BC/BS\",#REF!)),\"X\",\"\")","v":""}]
["CENTURY PLASTICS LLC (ASR HEALTH BENEFITS)","X",{"$f":"IF(ISNUMBER(FIND(\"MEDICAID\",A774)),\"X\",\"\")","v":""},{"$f":"IF(ISNUMBER(FIND(\"MEDICARE\",A774)),\"X\",\"\")","v":""},{"$f":"IF(ISNUMBER(FIND(\"BC/BS\",#REF!)),\"X\",\"\")","v":""}]
["CENTURY TOOL & GAGE (ASR HEALTH BENEFITS)",null,{"$f":"IF(ISNUMBER(FIND(\"MEDICAID\",A775)),\"X\",\"\")","v":""},{"$f":"IF(ISNUMBER(FIND(\"MEDICARE\",A775)),\"X\",\"\")","v":""},{"$f":"IF(ISNUMBER(FIND(\"BC/BS\",#REF!)),\"X\",\"\")","v":""}]
["CERCO I INC (GROUP & PENSION ADMIN)","X",{"$f":"IF(ISNUMBER(FIND(\"MEDICAID\",A776)),\"X\",\"\")","v":""},{"$f":"IF(ISNUMBER(FIND(\"MEDICARE\",A776)),\"X\",\"\")","v":""},{"$f":"IF(ISNUMBER(FIND(\"BC/BS\",#REF!)),\"X\",\"\")","v":""}]
["CERNER HEALTHPLAN SERVICES","X",{"$f":"IF(ISNUMBER(FIND(\"MEDICAID\",A777)),\"X\",\"\")","v":""},{"$f":"IF(ISNUMBER(FIND(\"MEDICARE\",A777)),\"X\",\"\")","v":""},{"$f":"IF(ISNUMBER(FIND(\"BC/BS\",#REF!)),\"X\",\"\")","v":""}]
["CG ATLANTIC MEDICAL AND LIFE LTD","X",{"$f":"IF(ISNUMBER(FIND(\"MEDICAID\",A778)),\"X\",\"\")","v":""},{"$f":"IF(ISNUMBER(FIND(\"MEDICARE\",A778)),\"X\",\"\")","v":""},{"$f":"IF(ISNUMBER(FIND(\"BC/BS\",#REF!)),\"X\",\"\")","v":""}]
["CG BRITCAY","X",{"$f":"IF(ISNUMBER(FIND(\"MEDICAID\",A779)),\"X\",\"\")","v":""},{"$f":"IF(ISNUMBER(FIND(\"MEDICARE\",A779)),\"X\",\"\")","v":""},{"$f":"IF(ISNUMBER(FIND(\"BC/BS\",#REF!)),\"X\",\"\")","v":""}]
["CG INSURANCE","X",{"$f":"IF(ISNUMBER(FIND(\"MEDICAID\",A780)),\"X\",\"\")","v":""},{"$f":"IF(ISNUMBER(FIND(\"MEDICARE\",A780)),\"X\",\"\")","v":""},{"$f":"IF(ISNUMBER(FIND(\"BC/BS\",#REF!)),\"X\",\"\")","v":""}]
["CHALMERS P. WYLIE VA AMBULATORY CARE CENTER (COLUMBUS-IOC)",null,{"$f":"IF(ISNUMBER(FIND(\"MEDICAID\",A781)),\"X\",\"\")","v":""},{"$f":"IF(ISNUMBER(FIND(\"MEDICARE\",A781)),\"X\",\"\")","v":""},{"$f":"IF(ISNUMBER(FIND(\"BC/BS\",#REF!)),\"X\",\"\")","v":""}]
["CHALMERS P. WYLIE VETERANS OUTPATIENT CLINIC","X",{"$f":"IF(ISNUMBER(FIND(\"MEDICAID\",A782)),\"X\",\"\")","v":""},{"$f":"IF(ISNUMBER(FIND(\"MEDICARE\",A782)),\"X\",\"\")","v":""},{"$f":"IF(ISNUMBER(FIND(\"BC/BS\",#REF!)),\"X\",\"\")","v":""}]
["CHAMBER BENEFIT PLAN (THE HEALTH PLAN)","X",{"$f":"IF(ISNUMBER(FIND(\"MEDICAID\",A783)),\"X\",\"\")","v":""},{"$f":"IF(ISNUMBER(FIND(\"MEDICARE\",A783)),\"X\",\"\")","v":""},{"$f":"IF(ISNUMBER(FIND(\"BC/BS\",#REF!)),\"X\",\"\")","v":""}]
["CHANGE HEALTHCARE (PHARMACY)",null,{"$f":"IF(ISNUMBER(FIND(\"MEDICAID\",A784)),\"X\",\"\")","v":""},{"$f":"IF(ISNUMBER(FIND(\"MEDICARE\",A784)),\"X\",\"\")","v":""},{"$f":"IF(ISNUMBER(FIND(\"BC/BS\",#REF!)),\"X\",\"\")","v":""}]
["CHARIOT MANAGEMENT GROUP LLC (GROUP & PENSION ADMIN)","X",{"$f":"IF(ISNUMBER(FIND(\"MEDICAID\",A785)),\"X\",\"\")","v":""},{"$f":"IF(ISNUMBER(FIND(\"MEDICARE\",A785)),\"X\",\"\")","v":""},{"$f":"IF(ISNUMBER(FIND(\"BC/BS\",#REF!)),\"X\",\"\")","v":""}]
["CHARLIE NORWOOD VA MEDICAL CENTER","X",{"$f":"IF(ISNUMBER(FIND(\"MEDICAID\",A786)),\"X\",\"\")","v":""},{"$f":"IF(ISNUMBER(FIND(\"MEDICARE\",A786)),\"X\",\"\")","v":""},{"$f":"IF(ISNUMBER(FIND(\"BC/BS\",#REF!)),\"X\",\"\")","v":""}]
["CHARLOTTE PAINT (MAESTRO HEALTH)",null,{"$f":"IF(ISNUMBER(FIND(\"MEDICAID\",A787)),\"X\",\"\")","v":""},{"$f":"IF(ISNUMBER(FIND(\"MEDICARE\",A787)),\"X\",\"\")","v":""},{"$f":"IF(ISNUMBER(FIND(\"BC/BS\",#REF!)),\"X\",\"\")","v":""}]
["CHARLOTTESVILLE DERMATOLOGY (SENTARA)","X",{"$f":"IF(ISNUMBER(FIND(\"MEDICAID\",A788)),\"X\",\"\")","v":""},{"$f":"IF(ISNUMBER(FIND(\"MEDICARE\",A788)),\"X\",\"\")","v":""},{"$f":"IF(ISNUMBER(FIND(\"BC/BS\",#REF!)),\"X\",\"\")","v":""}]
["CHAR-MAR TRUCKING INC (SENTARA)","X",{"$f":"IF(ISNUMBER(FIND(\"MEDICAID\",A789)),\"X\",\"\")","v":""},{"$f":"IF(ISNUMBER(FIND(\"MEDICARE\",A789)),\"X\",\"\")","v":""},{"$f":"IF(ISNUMBER(FIND(\"BC/BS\",#REF!)),\"X\",\"\")","v":""}]
["CHARTWAY FEDERAL CREDIT (SENTARA)","X",{"$f":"IF(ISNUMBER(FIND(\"MEDICAID\",A790)),\"X\",\"\")","v":""},{"$f":"IF(ISNUMBER(FIND(\"MEDICARE\",A790)),\"X\",\"\")","v":""},{"$f":"IF(ISNUMBER(FIND(\"BC/BS\",#REF!)),\"X\",\"\")","v":""}]
["CHARYL STOCKWELL ACADEMY - GROUP (APOSTROPHE)","X",{"$f":"IF(ISNUMBER(FIND(\"MEDICAID\",A791)),\"X\",\"\")","v":""},{"$f":"IF(ISNUMBER(FIND(\"MEDICARE\",A791)),\"X\",\"\")","v":""},{"$f":"IF(ISNUMBER(FIND(\"BC/BS\",#REF!)),\"X\",\"\")","v":""}]
["CHAUTAUQUA INSTITUTION (INDEPENDENT HEALTH)",null,{"$f":"IF(ISNUMBER(FIND(\"MEDICAID\",A792)),\"X\",\"\")","v":""},{"$f":"IF(ISNUMBER(FIND(\"MEDICARE\",A792)),\"X\",\"\")","v":""},{"$f":"IF(ISNUMBER(FIND(\"BC/BS\",#REF!)),\"X\",\"\")","v":""}]
["CHC MEDICAL PLAN","X",{"$f":"IF(ISNUMBER(FIND(\"MEDICAID\",A793)),\"X\",\"\")","v":""},{"$f":"IF(ISNUMBER(FIND(\"MEDICARE\",A793)),\"X\",\"\")","v":""},{"$f":"IF(ISNUMBER(FIND(\"BC/BS\",#REF!)),\"X\",\"\")","v":""}]
["CHCS SERVICES","X",{"$f":"IF(ISNUMBER(FIND(\"MEDICAID\",A794)),\"X\",\"\")","v":""},{"$f":"IF(ISNUMBER(FIND(\"MEDICARE\",A794)),\"X\",\"\")","v":""},{"$f":"IF(ISNUMBER(FIND(\"BC/BS\",#REF!)),\"X\",\"\")","v":""}]
["CHD FI (SIHO)","X",{"$f":"IF(ISNUMBER(FIND(\"MEDICAID\",A795)),\"X\",\"\")","v":""},{"$f":"IF(ISNUMBER(FIND(\"MEDICARE\",A795)),\"X\",\"\")","v":""},{"$f":"IF(ISNUMBER(FIND(\"BC/BS\",#REF!)),\"X\",\"\")","v":""}]
["CHEESEMAN LLC (GROUP & PENSION ADMIN)","X",{"$f":"IF(ISNUMBER(FIND(\"MEDICAID\",A796)),\"X\",\"\")","v":""},{"$f":"IF(ISNUMBER(FIND(\"MEDICARE\",A796)),\"X\",\"\")","v":""},{"$f":"IF(ISNUMBER(FIND(\"BC/BS\",#REF!)),\"X\",\"\")","v":""}]
["CHESAPEAKE BAY ASAP (SENTARA)","X",{"$f":"IF(ISNUMBER(FIND(\"MEDICAID\",A797)),\"X\",\"\")","v":""},{"$f":"IF(ISNUMBER(FIND(\"MEDICARE\",A797)),\"X\",\"\")","v":""},{"$f":"IF(ISNUMBER(FIND(\"BC/BS\",#REF!)),\"X\",\"\")","v":""}]
["CHESAPEAKE BAY BRIDGE (SENTARA)","X",{"$f":"IF(ISNUMBER(FIND(\"MEDICAID\",A798)),\"X\",\"\")","v":""},{"$f":"IF(ISNUMBER(FIND(\"MEDICARE\",A798)),\"X\",\"\")","v":""},{"$f":"IF(ISNUMBER(FIND(\"BC/BS\",#REF!)),\"X\",\"\")","v":""}]
["CHESTERFIELD RESOURCES INC","X",{"$f":"IF(ISNUMBER(FIND(\"MEDICAID\",A799)),\"X\",\"\")","v":""},{"$f":"IF(ISNUMBER(FIND(\"MEDICARE\",A799)),\"X\",\"\")","v":""},{"$f":"IF(ISNUMBER(FIND(\"BC/BS\",#REF!)),\"X\",\"\")","v":""}]
["CHEYENNE INTL (90 DEGREE BENEFITS NORTH CAROLINA - CORPORATE BENEFIT SERVICES)","X",{"$f":"IF(ISNUMBER(FIND(\"MEDICAID\",A800)),\"X\",\"\")","v":""},{"$f":"IF(ISNUMBER(FIND(\"MEDICARE\",A800)),\"X\",\"\")","v":""},{"$f":"IF(ISNUMBER(FIND(\"BC/BS\",#REF!)),\"X\",\"\")","v":""}]
["CHG COMPANIES INC (AMERIBEN)",null,{"$f":"IF(ISNUMBER(FIND(\"MEDICAID\",A801)),\"X\",\"\")","v":""},{"$f":"IF(ISNUMBER(FIND(\"MEDICARE\",A801)),\"X\",\"\")","v":""},{"$f":"IF(ISNUMBER(FIND(\"BC/BS\",#REF!)),\"X\",\"\")","v":""}]
["CHICKASAW NATION (WEBTPA)","X",{"$f":"IF(ISNUMBER(FIND(\"MEDICAID\",A802)),\"X\",\"\")","v":""},{"$f":"IF(ISNUMBER(FIND(\"MEDICARE\",A802)),\"X\",\"\")","v":""},{"$f":"IF(ISNUMBER(FIND(\"BC/BS\",#REF!)),\"X\",\"\")","v":""}]
["CHILDREN'S COMMUNITY HEALTH PLAN","X",{"$f":"IF(ISNUMBER(FIND(\"MEDICAID\",A803)),\"X\",\"\")","v":""},{"$f":"IF(ISNUMBER(FIND(\"MEDICARE\",A803)),\"X\",\"\")","v":""},{"$f":"IF(ISNUMBER(FIND(\"BC/BS\",#REF!)),\"X\",\"\")","v":""}]
["CHILDRENS' HEALTH SYSTEM (SENTARA)","X",{"$f":"IF(ISNUMBER(FIND(\"MEDICAID\",A804)),\"X\",\"\")","v":""},{"$f":"IF(ISNUMBER(FIND(\"MEDICARE\",A804)),\"X\",\"\")","v":""},{"$f":"IF(ISNUMBER(FIND(\"BC/BS\",#REF!)),\"X\",\"\")","v":""}]
["CHILLICOTHE VA MEDICAL CENTER","X",{"$f":"IF(ISNUMBER(FIND(\"MEDICAID\",A805)),\"X\",\"\")","v":""},{"$f":"IF(ISNUMBER(FIND(\"MEDICARE\",A805)),\"X\",\"\")","v":""},{"$f":"IF(ISNUMBER(FIND(\"BC/BS\",#REF!)),\"X\",\"\")","v":""}]
["CHINESE COMMUNITY HEALTH CARE ASSOCIATION (ALL AMERICAN MEDICAL GROUP)",null,{"$f":"IF(ISNUMBER(FIND(\"MEDICAID\",A806)),\"X\",\"\")","v":""},{"$f":"IF(ISNUMBER(FIND(\"MEDICARE\",A806)),\"X\",\"\")","v":""},{"$f":"IF(ISNUMBER(FIND(\"BC/BS\",#REF!)),\"X\",\"\")","v":""}]
["CHINESE COMMUNITY HEALTH SYSTEMS",null,{"$f":"IF(ISNUMBER(FIND(\"MEDICAID\",A807)),\"X\",\"\")","v":""},{"$f":"IF(ISNUMBER(FIND(\"MEDICARE\",A807)),\"X\",\"\")","v":""},{"$f":"IF(ISNUMBER(FIND(\"BC/BS\",#REF!)),\"X\",\"\")","v":""}]
["CHOC HEALTH ALLIANCE","X",{"$f":"IF(ISNUMBER(FIND(\"MEDICAID\",A808)),\"X\",\"\")","v":""},{"$f":"IF(ISNUMBER(FIND(\"MEDICARE\",A808)),\"X\",\"\")","v":""},{"$f":"IF(ISNUMBER(FIND(\"BC/BS\",#REF!)),\"X\",\"\")","v":""}]
["CHORUS COMMUNITY HEALTH PLAN (DEAN HEALTH PLAN)","X",{"$f":"IF(ISNUMBER(FIND(\"MEDICAID\",A809)),\"X\",\"\")","v":""},{"$f":"IF(ISNUMBER(FIND(\"MEDICARE\",A809)),\"X\",\"\")","v":""},{"$f":"IF(ISNUMBER(FIND(\"BC/BS\",#REF!)),\"X\",\"\")","v":""}]
["CHRISTIAN FIDELITY (OXFORD LIFE)","X",{"$f":"IF(ISNUMBER(FIND(\"MEDICAID\",A810)),\"X\",\"\")","v":""},{"$f":"IF(ISNUMBER(FIND(\"MEDICARE\",A810)),\"X\",\"\")","v":""},{"$f":"IF(ISNUMBER(FIND(\"BC/BS\",#REF!)),\"X\",\"\")","v":""}]
["CHRISTIANSON AIR CONDITIONING & PLUMBING LLC (GROUP & PENSION ADMIN)","X",{"$f":"IF(ISNUMBER(FIND(\"MEDICAID\",A811)),\"X\",\"\")","v":""},{"$f":"IF(ISNUMBER(FIND(\"MEDICARE\",A811)),\"X\",\"\")","v":""},{"$f":"IF(ISNUMBER(FIND(\"BC/BS\",#REF!)),\"X\",\"\")","v":""}]
["CHRISTUS HEALTH PLANS",null,{"$f":"IF(ISNUMBER(FIND(\"MEDICAID\",A812)),\"X\",\"\")","v":""},{"$f":"IF(ISNUMBER(FIND(\"MEDICARE\",A812)),\"X\",\"\")","v":""},{"$f":"IF(ISNUMBER(FIND(\"BC/BS\",#REF!)),\"X\",\"\")","v":""}]
["CHRISTUS HEALTH PLANS TEXAS",null,{"$f":"IF(ISNUMBER(FIND(\"MEDICAID\",A813)),\"X\",\"\")","v":""},{"$f":"IF(ISNUMBER(FIND(\"MEDICARE\",A813)),\"X\",\"\")","v":""},{"$f":"IF(ISNUMBER(FIND(\"BC/BS\",#REF!)),\"X\",\"\")","v":""}]
["CHUBB LIMITED (SENTARA)","X",{"$f":"IF(ISNUMBER(FIND(\"MEDICAID\",A814)),\"X\",\"\")","v":""},{"$f":"IF(ISNUMBER(FIND(\"MEDICARE\",A814)),\"X\",\"\")","v":""},{"$f":"IF(ISNUMBER(FIND(\"BC/BS\",#REF!)),\"X\",\"\")","v":""}]
["CHUKCHANSI TRIBAL (ADVANTEK BENEFIT ADMINISTRATORS)","X",{"$f":"IF(ISNUMBER(FIND(\"MEDICAID\",A815)),\"X\",\"\")","v":""},{"$f":"IF(ISNUMBER(FIND(\"MEDICARE\",A815)),\"X\",\"\")","v":""},{"$f":"IF(ISNUMBER(FIND(\"BC/BS\",#REF!)),\"X\",\"\")","v":""}]
["CIGNA","X",{"$f":"IF(ISNUMBER(FIND(\"MEDICAID\",A816)),\"X\",\"\")","v":""},{"$f":"IF(ISNUMBER(FIND(\"MEDICARE\",A816)),\"X\",\"\")","v":""},{"$f":"IF(ISNUMBER(FIND(\"BC/BS\",#REF!)),\"X\",\"\")","v":""}]
["CIGNA + OSCAR C/O CIGNA","X",{"$f":"IF(ISNUMBER(FIND(\"MEDICAID\",A817)),\"X\",\"\")","v":""},{"$f":"IF(ISNUMBER(FIND(\"MEDICARE\",A817)),\"X\",\"\")","v":""},{"$f":"IF(ISNUMBER(FIND(\"BC/BS\",#REF!)),\"X\",\"\")","v":""}]
["CIGNA CONNECTICUT GENERAL LIFE INSURANCE COMPANY","X",{"$f":"IF(ISNUMBER(FIND(\"MEDICAID\",A818)),\"X\",\"\")","v":""},{"$f":"IF(ISNUMBER(FIND(\"MEDICARE\",A818)),\"X\",\"\")","v":""},{"$f":"IF(ISNUMBER(FIND(\"BC/BS\",#REF!)),\"X\",\"\")","v":""}]
["CIGNA GLOBAL INSURANCE COMPANY","X",{"$f":"IF(ISNUMBER(FIND(\"MEDICAID\",A819)),\"X\",\"\")","v":""},{"$f":"IF(ISNUMBER(FIND(\"MEDICARE\",A819)),\"X\",\"\")","v":""},{"$f":"IF(ISNUMBER(FIND(\"BC/BS\",#REF!)),\"X\",\"\")","v":""}]
["CIGNA HEALTH AND LIFE INSURANCE COMPANY","X",{"$f":"IF(ISNUMBER(FIND(\"MEDICAID\",A820)),\"X\",\"\")","v":""},{"$f":"IF(ISNUMBER(FIND(\"MEDICARE\",A820)),\"X\",\"\")","v":""},{"$f":"IF(ISNUMBER(FIND(\"BC/BS\",#REF!)),\"X\",\"\")","v":""}]
["CIGNA HEALTH AND LIFE INSURANCE COMPANY (CIGNA SUPPLEMENTAL)","X",{"$f":"IF(ISNUMBER(FIND(\"MEDICAID\",A821)),\"X\",\"\")","v":""},{"$f":"IF(ISNUMBER(FIND(\"MEDICARE\",A821)),\"X\",\"\")","v":""},{"$f":"IF(ISNUMBER(FIND(\"BC/BS\",#REF!)),\"X\",\"\")","v":""}]
["CIGNA HEALTHCARE OF ARIZONA","X",{"$f":"IF(ISNUMBER(FIND(\"MEDICAID\",A822)),\"X\",\"\")","v":""},{"$f":"IF(ISNUMBER(FIND(\"MEDICARE\",A822)),\"X\",\"\")","v":""},{"$f":"IF(ISNUMBER(FIND(\"BC/BS\",#REF!)),\"X\",\"\")","v":""}]
["CIGNA HEALTHCARE OF CALIFORNIA",null,{"$f":"IF(ISNUMBER(FIND(\"MEDICAID\",A823)),\"X\",\"\")","v":""},{"$f":"IF(ISNUMBER(FIND(\"MEDICARE\",A823)),\"X\",\"\")","v":""},{"$f":"IF(ISNUMBER(FIND(\"BC/BS\",#REF!)),\"X\",\"\")","v":""}]
["CIGNA HEALTHCARE OF ILLINOIS",null,{"$f":"IF(ISNUMBER(FIND(\"MEDICAID\",A824)),\"X\",\"\")","v":""},{"$f":"IF(ISNUMBER(FIND(\"MEDICARE\",A824)),\"X\",\"\")","v":""},{"$f":"IF(ISNUMBER(FIND(\"BC/BS\",#REF!)),\"X\",\"\")","v":""}]
["CIGNA HEALTHCARE OF ST. LOUIS",null,{"$f":"IF(ISNUMBER(FIND(\"MEDICAID\",A825)),\"X\",\"\")","v":""},{"$f":"IF(ISNUMBER(FIND(\"MEDICARE\",A825)),\"X\",\"\")","v":""},{"$f":"IF(ISNUMBER(FIND(\"BC/BS\",#REF!)),\"X\",\"\")","v":""}]
["CIGNA HEALTHCARE OF TEXAS",null,{"$f":"IF(ISNUMBER(FIND(\"MEDICAID\",A826)),\"X\",\"\")","v":""},{"$f":"IF(ISNUMBER(FIND(\"MEDICARE\",A826)),\"X\",\"\")","v":""},{"$f":"IF(ISNUMBER(FIND(\"BC/BS\",#REF!)),\"X\",\"\")","v":""}]
["CIGNA HEALTHSPRING","X",{"$f":"IF(ISNUMBER(FIND(\"MEDICAID\",A827)),\"X\",\"\")","v":""},{"$f":"IF(ISNUMBER(FIND(\"MEDICARE\",A827)),\"X\",\"\")","v":""},{"$f":"IF(ISNUMBER(FIND(\"BC/BS\",#REF!)),\"X\",\"\")","v":""}]
["CIGNA INTERNATIONAL HEALTH SERVICE","X",{"$f":"IF(ISNUMBER(FIND(\"MEDICAID\",A828)),\"X\",\"\")","v":""},{"$f":"IF(ISNUMBER(FIND(\"MEDICARE\",A828)),\"X\",\"\")","v":""},{"$f":"IF(ISNUMBER(FIND(\"BC/BS\",#REF!)),\"X\",\"\")","v":""}]
["CIGNA LIFE INSURANCE COMPANY OF CANADA","X",{"$f":"IF(ISNUMBER(FIND(\"MEDICAID\",A829)),\"X\",\"\")","v":""},{"$f":"IF(ISNUMBER(FIND(\"MEDICARE\",A829)),\"X\",\"\")","v":""},{"$f":"IF(ISNUMBER(FIND(\"BC/BS\",#REF!)),\"X\",\"\")","v":""}]
["CIGNA LIFE INSURANCE COMPANY OF EUROPE","X",{"$f":"IF(ISNUMBER(FIND(\"MEDICAID\",A830)),\"X\",\"\")","v":""},{"$f":"IF(ISNUMBER(FIND(\"MEDICARE\",A830)),\"X\",\"\")","v":""},{"$f":"IF(ISNUMBER(FIND(\"BC/BS\",#REF!)),\"X\",\"\")","v":""}]
["CIGNA NARROW NETWORK (NAMM CALIFORNIA)","X",{"$f":"IF(ISNUMBER(FIND(\"MEDICAID\",A831)),\"X\",\"\")","v":""},{"$f":"IF(ISNUMBER(FIND(\"MEDICARE\",A831)),\"X\",\"\")","v":""},{"$f":"IF(ISNUMBER(FIND(\"BC/BS\",#REF!)),\"X\",\"\")","v":""}]
["CIGNA NATIONAL HEALTH INSURANCE COMPANY (CIGNA SUPPLEMENTAL)","X",{"$f":"IF(ISNUMBER(FIND(\"MEDICAID\",A832)),\"X\",\"\")","v":""},{"$f":"IF(ISNUMBER(FIND(\"MEDICARE\",A832)),\"X\",\"\")","v":""},{"$f":"IF(ISNUMBER(FIND(\"BC/BS\",#REF!)),\"X\",\"\")","v":""}]
["CIGNA SUPPLEMENTAL BENEFITS","X",{"$f":"IF(ISNUMBER(FIND(\"MEDICAID\",A833)),\"X\",\"\")","v":""},{"$f":"IF(ISNUMBER(FIND(\"MEDICARE\",A833)),\"X\",\"\")","v":""},{"$f":"IF(ISNUMBER(FIND(\"BC/BS\",#REF!)),\"X\",\"\")","v":""}]
["CINCINNATI CHILDREN'S (CONTIGO HEALTH)",null,{"$f":"IF(ISNUMBER(FIND(\"MEDICAID\",A834)),\"X\",\"\")","v":""},{"$f":"IF(ISNUMBER(FIND(\"MEDICARE\",A834)),\"X\",\"\")","v":""},{"$f":"IF(ISNUMBER(FIND(\"BC/BS\",#REF!)),\"X\",\"\")","v":""}]
["CINCINNATI VA MEDICAL CENTER","X",{"$f":"IF(ISNUMBER(FIND(\"MEDICAID\",A835)),\"X\",\"\")","v":""},{"$f":"IF(ISNUMBER(FIND(\"MEDICARE\",A835)),\"X\",\"\")","v":""},{"$f":"IF(ISNUMBER(FIND(\"BC/BS\",#REF!)),\"X\",\"\")","v":""}]
["CITY ELECTRIC SUPPLY CO (GROUP & PENSION ADMIN)","X",{"$f":"IF(ISNUMBER(FIND(\"MEDICAID\",A836)),\"X\",\"\")","v":""},{"$f":"IF(ISNUMBER(FIND(\"MEDICARE\",A836)),\"X\",\"\")","v":""},{"$f":"IF(ISNUMBER(FIND(\"BC/BS\",#REF!)),\"X\",\"\")","v":""}]
["CITY MASONRY LLC (GROUP & PENSION ADMIN)","X",{"$f":"IF(ISNUMBER(FIND(\"MEDICAID\",A837)),\"X\",\"\")","v":""},{"$f":"IF(ISNUMBER(FIND(\"MEDICARE\",A837)),\"X\",\"\")","v":""},{"$f":"IF(ISNUMBER(FIND(\"BC/BS\",#REF!)),\"X\",\"\")","v":""}]
["CITY NATIONAL BANK (IPMG)","X",{"$f":"IF(ISNUMBER(FIND(\"MEDICAID\",A838)),\"X\",\"\")","v":""},{"$f":"IF(ISNUMBER(FIND(\"MEDICARE\",A838)),\"X\",\"\")","v":""},{"$f":"IF(ISNUMBER(FIND(\"BC/BS\",#REF!)),\"X\",\"\")","v":""}]
["CITY OF ALBUQUERQUE ASO (PRESBYTERIAN HEALTH PLAN)","X",{"$f":"IF(ISNUMBER(FIND(\"MEDICAID\",A839)),\"X\",\"\")","v":""},{"$f":"IF(ISNUMBER(FIND(\"MEDICARE\",A839)),\"X\",\"\")","v":""},{"$f":"IF(ISNUMBER(FIND(\"BC/BS\",#REF!)),\"X\",\"\")","v":""}]
["CITY OF BAINBRIDGE (MAA/HEALTHSMART)",null,{"$f":"IF(ISNUMBER(FIND(\"MEDICAID\",A840)),\"X\",\"\")","v":""},{"$f":"IF(ISNUMBER(FIND(\"MEDICARE\",A840)),\"X\",\"\")","v":""},{"$f":"IF(ISNUMBER(FIND(\"BC/BS\",#REF!)),\"X\",\"\")","v":""}]
["CITY OF BEEVILLE EBPT (90 DEGREE BENEFITS HOUSTON - ENTRUST)",null,{"$f":"IF(ISNUMBER(FIND(\"MEDICAID\",A841)),\"X\",\"\")","v":""},{"$f":"IF(ISNUMBER(FIND(\"MEDICARE\",A841)),\"X\",\"\")","v":""},{"$f":"IF(ISNUMBER(FIND(\"BC/BS\",#REF!)),\"X\",\"\")","v":""}]
["CITY OF CALEXICO (PINNACLE CLAIMS MANAGEMENT)",null,{"$f":"IF(ISNUMBER(FIND(\"MEDICAID\",A842)),\"X\",\"\")","v":""},{"$f":"IF(ISNUMBER(FIND(\"MEDICARE\",A842)),\"X\",\"\")","v":""},{"$f":"IF(ISNUMBER(FIND(\"BC/BS\",#REF!)),\"X\",\"\")","v":""}]
["CITY OF CHARLESTON (THE HEALTH PLAN)","X",{"$f":"IF(ISNUMBER(FIND(\"MEDICAID\",A843)),\"X\",\"\")","v":""},{"$f":"IF(ISNUMBER(FIND(\"MEDICARE\",A843)),\"X\",\"\")","v":""},{"$f":"IF(ISNUMBER(FIND(\"BC/BS\",#REF!)),\"X\",\"\")","v":""}]
["CITY OF CHESAPEAKE (SENTARA)","X",{"$f":"IF(ISNUMBER(FIND(\"MEDICAID\",A844)),\"X\",\"\")","v":""},{"$f":"IF(ISNUMBER(FIND(\"MEDICARE\",A844)),\"X\",\"\")","v":""},{"$f":"IF(ISNUMBER(FIND(\"BC/BS\",#REF!)),\"X\",\"\")","v":""}]
["CITY OF COLORADO SPRINGS (AMERIBEN)",null,{"$f":"IF(ISNUMBER(FIND(\"MEDICAID\",A845)),\"X\",\"\")","v":""},{"$f":"IF(ISNUMBER(FIND(\"MEDICARE\",A845)),\"X\",\"\")","v":""},{"$f":"IF(ISNUMBER(FIND(\"BC/BS\",#REF!)),\"X\",\"\")","v":""}]
["CITY OF DARIEN (90 DEGREE BENEFITS NORTH CAROLINA - CORPORATE BENEFIT SERVICES)","X",{"$f":"IF(ISNUMBER(FIND(\"MEDICAID\",A846)),\"X\",\"\")","v":""},{"$f":"IF(ISNUMBER(FIND(\"MEDICARE\",A846)),\"X\",\"\")","v":""},{"$f":"IF(ISNUMBER(FIND(\"BC/BS\",#REF!)),\"X\",\"\")","v":""}]
["CITY OF DINUBA (ADVANTEK BENEFIT ADMINISTRATORS)","X",{"$f":"IF(ISNUMBER(FIND(\"MEDICAID\",A847)),\"X\",\"\")","v":""},{"$f":"IF(ISNUMBER(FIND(\"MEDICARE\",A847)),\"X\",\"\")","v":""},{"$f":"IF(ISNUMBER(FIND(\"BC/BS\",#REF!)),\"X\",\"\")","v":""}]
["CITY OF ENNIS (GROUP & PENSION ADMIN)","X",{"$f":"IF(ISNUMBER(FIND(\"MEDICAID\",A848)),\"X\",\"\")","v":""},{"$f":"IF(ISNUMBER(FIND(\"MEDICARE\",A848)),\"X\",\"\")","v":""},{"$f":"IF(ISNUMBER(FIND(\"BC/BS\",#REF!)),\"X\",\"\")","v":""}]
["CITY OF HAMPTON (SENTARA)","X",{"$f":"IF(ISNUMBER(FIND(\"MEDICAID\",A849)),\"X\",\"\")","v":""},{"$f":"IF(ISNUMBER(FIND(\"MEDICARE\",A849)),\"X\",\"\")","v":""},{"$f":"IF(ISNUMBER(FIND(\"BC/BS\",#REF!)),\"X\",\"\")","v":""}]
["CITY OF HARRISBURG (IPMG)","X",{"$f":"IF(ISNUMBER(FIND(\"MEDICAID\",A850)),\"X\",\"\")","v":""},{"$f":"IF(ISNUMBER(FIND(\"MEDICARE\",A850)),\"X\",\"\")","v":""},{"$f":"IF(ISNUMBER(FIND(\"BC/BS\",#REF!)),\"X\",\"\")","v":""}]
["CITY OF HOUSTON (TRISTAR)",null,{"$f":"IF(ISNUMBER(FIND(\"MEDICAID\",A851)),\"X\",\"\")","v":""},{"$f":"IF(ISNUMBER(FIND(\"MEDICARE\",A851)),\"X\",\"\")","v":""},{"$f":"IF(ISNUMBER(FIND(\"BC/BS\",#REF!)),\"X\",\"\")","v":""}]
["CITY OF KENTWOOD (ASR HEALTH BENEFITS)","X",{"$f":"IF(ISNUMBER(FIND(\"MEDICAID\",A852)),\"X\",\"\")","v":""},{"$f":"IF(ISNUMBER(FIND(\"MEDICARE\",A852)),\"X\",\"\")","v":""},{"$f":"IF(ISNUMBER(FIND(\"BC/BS\",#REF!)),\"X\",\"\")","v":""}]
["CITY OF LUFKIN (GROUP & PENSION ADMIN)","X",{"$f":"IF(ISNUMBER(FIND(\"MEDICAID\",A853)),\"X\",\"\")","v":""},{"$f":"IF(ISNUMBER(FIND(\"MEDICARE\",A853)),\"X\",\"\")","v":""},{"$f":"IF(ISNUMBER(FIND(\"BC/BS\",#REF!)),\"X\",\"\")","v":""}]
["CITY OF NEW FRANKLIN (GROUP & PENSION ADMIN)","X",{"$f":"IF(ISNUMBER(FIND(\"MEDICAID\",A854)),\"X\",\"\")","v":""},{"$f":"IF(ISNUMBER(FIND(\"MEDICARE\",A854)),\"X\",\"\")","v":""},{"$f":"IF(ISNUMBER(FIND(\"BC/BS\",#REF!)),\"X\",\"\")","v":""}]
["CITY OF NEWPORT NEWS (SENTARA)","X",{"$f":"IF(ISNUMBER(FIND(\"MEDICAID\",A855)),\"X\",\"\")","v":""},{"$f":"IF(ISNUMBER(FIND(\"MEDICARE\",A855)),\"X\",\"\")","v":""},{"$f":"IF(ISNUMBER(FIND(\"BC/BS\",#REF!)),\"X\",\"\")","v":""}]
["CITY OF PINCKNEYVILLE (IPMG)",null,{"$f":"IF(ISNUMBER(FIND(\"MEDICAID\",A856)),\"X\",\"\")","v":""},{"$f":"IF(ISNUMBER(FIND(\"MEDICARE\",A856)),\"X\",\"\")","v":""},{"$f":"IF(ISNUMBER(FIND(\"BC/BS\",#REF!)),\"X\",\"\")","v":""}]
["CITY OF PLANO (WEBTPA)","X",{"$f":"IF(ISNUMBER(FIND(\"MEDICAID\",A857)),\"X\",\"\")","v":""},{"$f":"IF(ISNUMBER(FIND(\"MEDICARE\",A857)),\"X\",\"\")","v":""},{"$f":"IF(ISNUMBER(FIND(\"BC/BS\",#REF!)),\"X\",\"\")","v":""}]
["CITY OF PORTSMOUTH (SENTARA)","X",{"$f":"IF(ISNUMBER(FIND(\"MEDICAID\",A858)),\"X\",\"\")","v":""},{"$f":"IF(ISNUMBER(FIND(\"MEDICARE\",A858)),\"X\",\"\")","v":""},{"$f":"IF(ISNUMBER(FIND(\"BC/BS\",#REF!)),\"X\",\"\")","v":""}]
["CITY OF RENO (HOMETOWN HEALTH NEVADA)","X",{"$f":"IF(ISNUMBER(FIND(\"MEDICAID\",A859)),\"X\",\"\")","v":""},{"$f":"IF(ISNUMBER(FIND(\"MEDICARE\",A859)),\"X\",\"\")","v":""},{"$f":"IF(ISNUMBER(FIND(\"BC/BS\",#REF!)),\"X\",\"\")","v":""}]
["CITY OF RIO RANCHO ASO (PRESBYTERIAN HEALTH PLAN)","X",{"$f":"IF(ISNUMBER(FIND(\"MEDICAID\",A860)),\"X\",\"\")","v":""},{"$f":"IF(ISNUMBER(FIND(\"MEDICARE\",A860)),\"X\",\"\")","v":""},{"$f":"IF(ISNUMBER(FIND(\"BC/BS\",#REF!)),\"X\",\"\")","v":""}]
["CITY OF ROCHESTER (MVP HEALTH CARE)","X",{"$f":"IF(ISNUMBER(FIND(\"MEDICAID\",A861)),\"X\",\"\")","v":""},{"$f":"IF(ISNUMBER(FIND(\"MEDICARE\",A861)),\"X\",\"\")","v":""},{"$f":"IF(ISNUMBER(FIND(\"BC/BS\",#REF!)),\"X\",\"\")","v":""}]
["CITY OF SCHENECTADY (MVP HEALTH CARE)","X",{"$f":"IF(ISNUMBER(FIND(\"MEDICAID\",A862)),\"X\",\"\")","v":""},{"$f":"IF(ISNUMBER(FIND(\"MEDICARE\",A862)),\"X\",\"\")","v":""},{"$f":"IF(ISNUMBER(FIND(\"BC/BS\",#REF!)),\"X\",\"\")","v":""}]
["CITY OF SHERMAN (THE HEALTH PLAN)",null,{"$f":"IF(ISNUMBER(FIND(\"MEDICAID\",A863)),\"X\",\"\")","v":""},{"$f":"IF(ISNUMBER(FIND(\"MEDICARE\",A863)),\"X\",\"\")","v":""},{"$f":"IF(ISNUMBER(FIND(\"BC/BS\",#REF!)),\"X\",\"\")","v":""}]
["CITY OF SIERRA VISTA (AMERIBEN)",null,{"$f":"IF(ISNUMBER(FIND(\"MEDICAID\",A864)),\"X\",\"\")","v":""},{"$f":"IF(ISNUMBER(FIND(\"MEDICARE\",A864)),\"X\",\"\")","v":""},{"$f":"IF(ISNUMBER(FIND(\"BC/BS\",#REF!)),\"X\",\"\")","v":""}]
["CITY OF SPARKS (HOMETOWN HEALTH PLAN NEVADA)","X",{"$f":"IF(ISNUMBER(FIND(\"MEDICAID\",A865)),\"X\",\"\")","v":""},{"$f":"IF(ISNUMBER(FIND(\"MEDICARE\",A865)),\"X\",\"\")","v":""},{"$f":"IF(ISNUMBER(FIND(\"BC/BS\",#REF!)),\"X\",\"\")","v":""}]
["CITY OF SUFFOLK (SENTARA)","X",{"$f":"IF(ISNUMBER(FIND(\"MEDICAID\",A866)),\"X\",\"\")","v":""},{"$f":"IF(ISNUMBER(FIND(\"MEDICARE\",A866)),\"X\",\"\")","v":""},{"$f":"IF(ISNUMBER(FIND(\"BC/BS\",#REF!)),\"X\",\"\")","v":""}]
["CITY OF VINITA PARK (IPMG)","X",{"$f":"IF(ISNUMBER(FIND(\"MEDICAID\",A867)),\"X\",\"\")","v":""},{"$f":"IF(ISNUMBER(FIND(\"MEDICARE\",A867)),\"X\",\"\")","v":""},{"$f":"IF(ISNUMBER(FIND(\"BC/BS\",#REF!)),\"X\",\"\")","v":""}]
["CJA AND ASSOCIATES INC (GROUP & PENSION ADMIN)","X",{"$f":"IF(ISNUMBER(FIND(\"MEDICAID\",A868)),\"X\",\"\")","v":""},{"$f":"IF(ISNUMBER(FIND(\"MEDICARE\",A868)),\"X\",\"\")","v":""},{"$f":"IF(ISNUMBER(FIND(\"BC/BS\",#REF!)),\"X\",\"\")","v":""}]
["CLAIMCHOICE","X",{"$f":"IF(ISNUMBER(FIND(\"MEDICAID\",A869)),\"X\",\"\")","v":""},{"$f":"IF(ISNUMBER(FIND(\"MEDICARE\",A869)),\"X\",\"\")","v":""},{"$f":"IF(ISNUMBER(FIND(\"BC/BS\",#REF!)),\"X\",\"\")","v":""}]
["CLARE COUNTY (ASR HEALTH BENEFITS)","X",{"$f":"IF(ISNUMBER(FIND(\"MEDICAID\",A870)),\"X\",\"\")","v":""},{"$f":"IF(ISNUMBER(FIND(\"MEDICARE\",A870)),\"X\",\"\")","v":""},{"$f":"IF(ISNUMBER(FIND(\"BC/BS\",#REF!)),\"X\",\"\")","v":""}]
["CLARENCE CENTRAL SCHOOLS (INDEPENDENT HEALTH)",null,{"$f":"IF(ISNUMBER(FIND(\"MEDICAID\",A871)),\"X\",\"\")","v":""},{"$f":"IF(ISNUMBER(FIND(\"MEDICARE\",A871)),\"X\",\"\")","v":""},{"$f":"IF(ISNUMBER(FIND(\"BC/BS\",#REF!)),\"X\",\"\")","v":""}]
["CLARK COUNTY FISCAL COURT (IPMG)",null,{"$f":"IF(ISNUMBER(FIND(\"MEDICAID\",A872)),\"X\",\"\")","v":""},{"$f":"IF(ISNUMBER(FIND(\"MEDICARE\",A872)),\"X\",\"\")","v":""},{"$f":"IF(ISNUMBER(FIND(\"BC/BS\",#REF!)),\"X\",\"\")","v":""}]
["CLASSIC CHEVROLET INC (GROUP & PENSION ADMIN)","X",{"$f":"IF(ISNUMBER(FIND(\"MEDICAID\",A873)),\"X\",\"\")","v":""},{"$f":"IF(ISNUMBER(FIND(\"MEDICARE\",A873)),\"X\",\"\")","v":""},{"$f":"IF(ISNUMBER(FIND(\"BC/BS\",#REF!)),\"X\",\"\")","v":""}]
["CLEAR HEALTH ALLIANCE","X",{"$f":"IF(ISNUMBER(FIND(\"MEDICAID\",A874)),\"X\",\"\")","v":""},{"$f":"IF(ISNUMBER(FIND(\"MEDICARE\",A874)),\"X\",\"\")","v":""},{"$f":"IF(ISNUMBER(FIND(\"BC/BS\",#REF!)),\"X\",\"\")","v":""}]
["CLEAR SPRING HEALTH","X",{"$f":"IF(ISNUMBER(FIND(\"MEDICAID\",A875)),\"X\",\"\")","v":""},{"$f":"IF(ISNUMBER(FIND(\"MEDICARE\",A875)),\"X\",\"\")","v":""},{"$f":"IF(ISNUMBER(FIND(\"BC/BS\",#REF!)),\"X\",\"\")","v":""}]
["CLEMENT J. ZABLOCKI VA MEDICAL CENTER","X",{"$f":"IF(ISNUMBER(FIND(\"MEDICAID\",A876)),\"X\",\"\")","v":""},{"$f":"IF(ISNUMBER(FIND(\"MEDICARE\",A876)),\"X\",\"\")","v":""},{"$f":"IF(ISNUMBER(FIND(\"BC/BS\",#REF!)),\"X\",\"\")","v":""}]
["CLETEX TRUCKING INC (GROUP & PENSION ADMIN)","X",{"$f":"IF(ISNUMBER(FIND(\"MEDICAID\",A877)),\"X\",\"\")","v":""},{"$f":"IF(ISNUMBER(FIND(\"MEDICARE\",A877)),\"X\",\"\")","v":""},{"$f":"IF(ISNUMBER(FIND(\"BC/BS\",#REF!)),\"X\",\"\")","v":""}]
["CLEVELAND CLINIC EHP PLAN","X",{"$f":"IF(ISNUMBER(FIND(\"MEDICAID\",A878)),\"X\",\"\")","v":""},{"$f":"IF(ISNUMBER(FIND(\"MEDICARE\",A878)),\"X\",\"\")","v":""},{"$f":"IF(ISNUMBER(FIND(\"BC/BS\",#REF!)),\"X\",\"\")","v":""}]
["CLEVELAND METROPOLITAN SCHOOL (CONTIGO HEALTH)","X",{"$f":"IF(ISNUMBER(FIND(\"MEDICAID\",A879)),\"X\",\"\")","v":""},{"$f":"IF(ISNUMBER(FIND(\"MEDICARE\",A879)),\"X\",\"\")","v":""},{"$f":"IF(ISNUMBER(FIND(\"BC/BS\",#REF!)),\"X\",\"\")","v":""}]
["CLEVER CARE OF GOLDEN STATE INC","X",{"$f":"IF(ISNUMBER(FIND(\"MEDICAID\",A880)),\"X\",\"\")","v":""},{"$f":"IF(ISNUMBER(FIND(\"MEDICARE\",A880)),\"X\",\"\")","v":""},{"$f":"IF(ISNUMBER(FIND(\"BC/BS\",#REF!)),\"X\",\"\")","v":""}]
["CLINCH MEMORIAL HOSPITAL GENERAL FUND (GROUP & PENSION ADMIN)",null,{"$f":"IF(ISNUMBER(FIND(\"MEDICAID\",A881)),\"X\",\"\")","v":""},{"$f":"IF(ISNUMBER(FIND(\"MEDICARE\",A881)),\"X\",\"\")","v":""},{"$f":"IF(ISNUMBER(FIND(\"BC/BS\",#REF!)),\"X\",\"\")","v":""}]
["CLINICA SIERRA VISTA (PINNACLE CLAIMS MANAGEMENT)","X",{"$f":"IF(ISNUMBER(FIND(\"MEDICAID\",A882)),\"X\",\"\")","v":""},{"$f":"IF(ISNUMBER(FIND(\"MEDICARE\",A882)),\"X\",\"\")","v":""},{"$f":"IF(ISNUMBER(FIND(\"BC/BS\",#REF!)),\"X\",\"\")","v":""}]
["CLOVER HEALTH","X",{"$f":"IF(ISNUMBER(FIND(\"MEDICAID\",A883)),\"X\",\"\")","v":""},{"$f":"IF(ISNUMBER(FIND(\"MEDICARE\",A883)),\"X\",\"\")","v":""},{"$f":"IF(ISNUMBER(FIND(\"BC/BS\",#REF!)),\"X\",\"\")","v":""}]
["CLUB CORP USA INC (WEBTPA)","X",{"$f":"IF(ISNUMBER(FIND(\"MEDICAID\",A884)),\"X\",\"\")","v":""},{"$f":"IF(ISNUMBER(FIND(\"MEDICARE\",A884)),\"X\",\"\")","v":""},{"$f":"IF(ISNUMBER(FIND(\"BC/BS\",#REF!)),\"X\",\"\")","v":""}]
["CNM ASO (PRESBYTERIAN HEALTH PLAN)","X",{"$f":"IF(ISNUMBER(FIND(\"MEDICAID\",A885)),\"X\",\"\")","v":""},{"$f":"IF(ISNUMBER(FIND(\"MEDICARE\",A885)),\"X\",\"\")","v":""},{"$f":"IF(ISNUMBER(FIND(\"BC/BS\",#REF!)),\"X\",\"\")","v":""}]
["COAST ALUMINUM INC (AMERIBEN)",null,{"$f":"IF(ISNUMBER(FIND(\"MEDICAID\",A886)),\"X\",\"\")","v":""},{"$f":"IF(ISNUMBER(FIND(\"MEDICARE\",A886)),\"X\",\"\")","v":""},{"$f":"IF(ISNUMBER(FIND(\"BC/BS\",#REF!)),\"X\",\"\")","v":""}]
["COASTAL ENERGY EBPT (90 DEGREE BENEFITS HOUSTON - ENTRUST)","X",{"$f":"IF(ISNUMBER(FIND(\"MEDICAID\",A887)),\"X\",\"\")","v":""},{"$f":"IF(ISNUMBER(FIND(\"MEDICARE\",A887)),\"X\",\"\")","v":""},{"$f":"IF(ISNUMBER(FIND(\"BC/BS\",#REF!)),\"X\",\"\")","v":""}]
["COASTAL HOSPITALITY ASSOC (SENTARA)","X",{"$f":"IF(ISNUMBER(FIND(\"MEDICAID\",A888)),\"X\",\"\")","v":""},{"$f":"IF(ISNUMBER(FIND(\"MEDICARE\",A888)),\"X\",\"\")","v":""},{"$f":"IF(ISNUMBER(FIND(\"BC/BS\",#REF!)),\"X\",\"\")","v":""}]
["COASTAL PLAINS COMMUNITY MHMR EBPT (90 DEGREE BENEFITS HOUSTON - ENTRUST)",null,{"$f":"IF(ISNUMBER(FIND(\"MEDICAID\",A889)),\"X\",\"\")","v":""},{"$f":"IF(ISNUMBER(FIND(\"MEDICARE\",A889)),\"X\",\"\")","v":""},{"$f":"IF(ISNUMBER(FIND(\"BC/BS\",#REF!)),\"X\",\"\")","v":""}]
["COASTAL TPA","X",{"$f":"IF(ISNUMBER(FIND(\"MEDICAID\",A890)),\"X\",\"\")","v":""},{"$f":"IF(ISNUMBER(FIND(\"MEDICARE\",A890)),\"X\",\"\")","v":""},{"$f":"IF(ISNUMBER(FIND(\"BC/BS\",#REF!)),\"X\",\"\")","v":""}]
["COATESVILLE VA MEDICAL CENTER","X",{"$f":"IF(ISNUMBER(FIND(\"MEDICAID\",A891)),\"X\",\"\")","v":""},{"$f":"IF(ISNUMBER(FIND(\"MEDICARE\",A891)),\"X\",\"\")","v":""},{"$f":"IF(ISNUMBER(FIND(\"BC/BS\",#REF!)),\"X\",\"\")","v":""}]
["COATINGS & ADHESIVES CORPORATION (GROUP & PENSION ADMIN)",null,{"$f":"IF(ISNUMBER(FIND(\"MEDICAID\",A892)),\"X\",\"\")","v":""},{"$f":"IF(ISNUMBER(FIND(\"MEDICARE\",A892)),\"X\",\"\")","v":""},{"$f":"IF(ISNUMBER(FIND(\"BC/BS\",#REF!)),\"X\",\"\")","v":""}]
["COCHISE COMBINED TRUST (AMERIBEN)",null,{"$f":"IF(ISNUMBER(FIND(\"MEDICAID\",A893)),\"X\",\"\")","v":""},{"$f":"IF(ISNUMBER(FIND(\"MEDICARE\",A893)),\"X\",\"\")","v":""},{"$f":"IF(ISNUMBER(FIND(\"BC/BS\",#REF!)),\"X\",\"\")","v":""}]
["COGNIZANT TRIZETTO HEALTHCARE (CARE WISCONSIN FIRST INC)","X",{"$f":"IF(ISNUMBER(FIND(\"MEDICAID\",A894)),\"X\",\"\")","v":""},{"$f":"IF(ISNUMBER(FIND(\"MEDICARE\",A894)),\"X\",\"\")","v":""},{"$f":"IF(ISNUMBER(FIND(\"BC/BS\",#REF!)),\"X\",\"\")","v":""}]
["COLEMAN PROFESSIONAL SERVICES (THE HEALTH PLAN)","X",{"$f":"IF(ISNUMBER(FIND(\"MEDICAID\",A895)),\"X\",\"\")","v":""},{"$f":"IF(ISNUMBER(FIND(\"MEDICARE\",A895)),\"X\",\"\")","v":""},{"$f":"IF(ISNUMBER(FIND(\"BC/BS\",#REF!)),\"X\",\"\")","v":""}]
["COLLECTIVE HEALTH ADMINISTRATORS","X",{"$f":"IF(ISNUMBER(FIND(\"MEDICAID\",A896)),\"X\",\"\")","v":""},{"$f":"IF(ISNUMBER(FIND(\"MEDICARE\",A896)),\"X\",\"\")","v":""},{"$f":"IF(ISNUMBER(FIND(\"BC/BS\",#REF!)),\"X\",\"\")","v":""}]
["COLLEGE INSURANCE PROGRAM (CIP) (HEALTHLINK HMO)","X",{"$f":"IF(ISNUMBER(FIND(\"MEDICAID\",A897)),\"X\",\"\")","v":""},{"$f":"IF(ISNUMBER(FIND(\"MEDICARE\",A897)),\"X\",\"\")","v":""},{"$f":"IF(ISNUMBER(FIND(\"BC/BS\",#REF!)),\"X\",\"\")","v":""}]
["COLLEGE OF SAINT ROSE (MVP HEALTH CARE)","X",{"$f":"IF(ISNUMBER(FIND(\"MEDICAID\",A898)),\"X\",\"\")","v":""},{"$f":"IF(ISNUMBER(FIND(\"MEDICARE\",A898)),\"X\",\"\")","v":""},{"$f":"IF(ISNUMBER(FIND(\"BC/BS\",#REF!)),\"X\",\"\")","v":""}]
["COLMERY-O'NEIL VA MEDICAL CENTER","X",{"$f":"IF(ISNUMBER(FIND(\"MEDICAID\",A899)),\"X\",\"\")","v":""},{"$f":"IF(ISNUMBER(FIND(\"MEDICARE\",A899)),\"X\",\"\")","v":""},{"$f":"IF(ISNUMBER(FIND(\"BC/BS\",#REF!)),\"X\",\"\")","v":""}]
["COLONIAL PENN LIFE INSURANCE COMPANY (CONSECO)","X",{"$f":"IF(ISNUMBER(FIND(\"MEDICAID\",A900)),\"X\",\"\")","v":""},{"$f":"IF(ISNUMBER(FIND(\"MEDICARE\",A900)),\"X\",\"\")","v":""},{"$f":"IF(ISNUMBER(FIND(\"BC/BS\",#REF!)),\"X\",\"\")","v":""}]
["COLORADO ACCESS","X",{"$f":"IF(ISNUMBER(FIND(\"MEDICAID\",A901)),\"X\",\"\")","v":""},{"$f":"IF(ISNUMBER(FIND(\"MEDICARE\",A901)),\"X\",\"\")","v":""},{"$f":"IF(ISNUMBER(FIND(\"BC/BS\",#REF!)),\"X\",\"\")","v":""}]
["COLORADO COMMUNITY HEALTH ALLIANCE (CCHA)",null,{"$f":"IF(ISNUMBER(FIND(\"MEDICAID\",A902)),\"X\",\"\")","v":""},{"$f":"IF(ISNUMBER(FIND(\"MEDICARE\",A902)),\"X\",\"\")","v":""},{"$f":"IF(ISNUMBER(FIND(\"BC/BS\",#REF!)),\"X\",\"\")","v":""}]
["COLUMBIA COUNTY (CDPHP)","X",{"$f":"IF(ISNUMBER(FIND(\"MEDICAID\",A903)),\"X\",\"\")","v":""},{"$f":"IF(ISNUMBER(FIND(\"MEDICARE\",A903)),\"X\",\"\")","v":""},{"$f":"IF(ISNUMBER(FIND(\"BC/BS\",#REF!)),\"X\",\"\")","v":""}]
["COLUMBIA ORTHOPEDIC GROUP LLP (MAESTRO HEALTH)",null,{"$f":"IF(ISNUMBER(FIND(\"MEDICAID\",A904)),\"X\",\"\")","v":""},{"$f":"IF(ISNUMBER(FIND(\"MEDICARE\",A904)),\"X\",\"\")","v":""},{"$f":"IF(ISNUMBER(FIND(\"BC/BS\",#REF!)),\"X\",\"\")","v":""}]
["COLUMBIAN MUTUAL LIFE INSURANCE COMPANY (MUTUAL OF OMAHA)","X",{"$f":"IF(ISNUMBER(FIND(\"MEDICAID\",A905)),\"X\",\"\")","v":""},{"$f":"IF(ISNUMBER(FIND(\"MEDICARE\",A905)),\"X\",\"\")","v":""},{"$f":"IF(ISNUMBER(FIND(\"BC/BS\",#REF!)),\"X\",\"\")","v":""}]
["COMBINED INSURANCE COMPANY OF AMERICA (AETNA SSI)","X",{"$f":"IF(ISNUMBER(FIND(\"MEDICAID\",A906)),\"X\",\"\")","v":""},{"$f":"IF(ISNUMBER(FIND(\"MEDICARE\",A906)),\"X\",\"\")","v":""},{"$f":"IF(ISNUMBER(FIND(\"BC/BS\",#REF!)),\"X\",\"\")","v":""}]
["COMFORTROL INC (IPMG)","X",{"$f":"IF(ISNUMBER(FIND(\"MEDICAID\",A907)),\"X\",\"\")","v":""},{"$f":"IF(ISNUMBER(FIND(\"MEDICARE\",A907)),\"X\",\"\")","v":""},{"$f":"IF(ISNUMBER(FIND(\"BC/BS\",#REF!)),\"X\",\"\")","v":""}]
["COMLUX AMERICA LLC (GROUP & PENSION ADMIN)","X",{"$f":"IF(ISNUMBER(FIND(\"MEDICAID\",A908)),\"X\",\"\")","v":""},{"$f":"IF(ISNUMBER(FIND(\"MEDICARE\",A908)),\"X\",\"\")","v":""},{"$f":"IF(ISNUMBER(FIND(\"BC/BS\",#REF!)),\"X\",\"\")","v":""}]
["COMM HOSP OF CENTRAL CA HMO (HEALTHCOMP)","X",{"$f":"IF(ISNUMBER(FIND(\"MEDICAID\",A909)),\"X\",\"\")","v":""},{"$f":"IF(ISNUMBER(FIND(\"MEDICARE\",A909)),\"X\",\"\")","v":""},{"$f":"IF(ISNUMBER(FIND(\"BC/BS\",#REF!)),\"X\",\"\")","v":""}]
["COMMERCE AND INDUSTRY INSURANCE CO (AIG)","X",{"$f":"IF(ISNUMBER(FIND(\"MEDICAID\",A910)),\"X\",\"\")","v":""},{"$f":"IF(ISNUMBER(FIND(\"MEDICARE\",A910)),\"X\",\"\")","v":""},{"$f":"IF(ISNUMBER(FIND(\"BC/BS\",#REF!)),\"X\",\"\")","v":""},"X"]
["COMMERCIAL BUILDERS INC (THE HEALTH PLAN)",null,{"$f":"IF(ISNUMBER(FIND(\"MEDICAID\",A911)),\"X\",\"\")","v":""},{"$f":"IF(ISNUMBER(FIND(\"MEDICARE\",A911)),\"X\",\"\")","v":""},{"$f":"IF(ISNUMBER(FIND(\"BC/BS\",#REF!)),\"X\",\"\")","v":""}]
["COMMON GROUND HEALTHCARE COOP","X",{"$f":"IF(ISNUMBER(FIND(\"MEDICAID\",A912)),\"X\",\"\")","v":""},{"$f":"IF(ISNUMBER(FIND(\"MEDICARE\",A912)),\"X\",\"\")","v":""},{"$f":"IF(ISNUMBER(FIND(\"BC/BS\",#REF!)),\"X\",\"\")","v":""}]
["COMMONSPIRIT HEALTH (HEALTHCOMP)",null,{"$f":"IF(ISNUMBER(FIND(\"MEDICAID\",A913)),\"X\",\"\")","v":""},{"$f":"IF(ISNUMBER(FIND(\"MEDICARE\",A913)),\"X\",\"\")","v":""},{"$f":"IF(ISNUMBER(FIND(\"BC/BS\",#REF!)),\"X\",\"\")","v":""}]
["COMMONWEALTH CARE ALLIANCE","X",{"$f":"IF(ISNUMBER(FIND(\"MEDICAID\",A914)),\"X\",\"\")","v":""},{"$f":"IF(ISNUMBER(FIND(\"MEDICARE\",A914)),\"X\",\"\")","v":""},{"$f":"IF(ISNUMBER(FIND(\"BC/BS\",#REF!)),\"X\",\"\")","v":""}]
["COMMONWEALTH EPOXY COATIN (SENTARA)","X",{"$f":"IF(ISNUMBER(FIND(\"MEDICAID\",A915)),\"X\",\"\")","v":""},{"$f":"IF(ISNUMBER(FIND(\"MEDICARE\",A915)),\"X\",\"\")","v":""},{"$f":"IF(ISNUMBER(FIND(\"BC/BS\",#REF!)),\"X\",\"\")","v":""}]
["COMMONWEALTH OF MASSACHUSETTS (UNICARE)","X",{"$f":"IF(ISNUMBER(FIND(\"MEDICAID\",A916)),\"X\",\"\")","v":""},{"$f":"IF(ISNUMBER(FIND(\"MEDICARE\",A916)),\"X\",\"\")","v":""},{"$f":"IF(ISNUMBER(FIND(\"BC/BS\",#REF!)),\"X\",\"\")","v":""}]
["COMMUNICARE HEALTH BENEFITS (AMERIBEN)",null,{"$f":"IF(ISNUMBER(FIND(\"MEDICAID\",A917)),\"X\",\"\")","v":""},{"$f":"IF(ISNUMBER(FIND(\"MEDICARE\",A917)),\"X\",\"\")","v":""},{"$f":"IF(ISNUMBER(FIND(\"BC/BS\",#REF!)),\"X\",\"\")","v":""}]
["COMMUNITIES IN SCHOOLS EBPT (90 DEGREE BENEFITS HOUSTON - ENTRUST)",null,{"$f":"IF(ISNUMBER(FIND(\"MEDICAID\",A918)),\"X\",\"\")","v":""},{"$f":"IF(ISNUMBER(FIND(\"MEDICARE\",A918)),\"X\",\"\")","v":""},{"$f":"IF(ISNUMBER(FIND(\"BC/BS\",#REF!)),\"X\",\"\")","v":""}]
["COMMUNITY CARE BEHAVIORAL HEALTH ORG","X",{"$f":"IF(ISNUMBER(FIND(\"MEDICAID\",A919)),\"X\",\"\")","v":""},{"$f":"IF(ISNUMBER(FIND(\"MEDICARE\",A919)),\"X\",\"\")","v":""},{"$f":"IF(ISNUMBER(FIND(\"BC/BS\",#REF!)),\"X\",\"\")","v":""}]
["COMMUNITY CARE HEALTH PLAN (ADVANTEK BENEFIT ADMINISTRATORS)","X",{"$f":"IF(ISNUMBER(FIND(\"MEDICAID\",A920)),\"X\",\"\")","v":""},{"$f":"IF(ISNUMBER(FIND(\"MEDICARE\",A920)),\"X\",\"\")","v":""},{"$f":"IF(ISNUMBER(FIND(\"BC/BS\",#REF!)),\"X\",\"\")","v":""}]
["COMMUNITY CARE INC - FAMILY CARE","X",{"$f":"IF(ISNUMBER(FIND(\"MEDICAID\",A921)),\"X\",\"\")","v":""},{"$f":"IF(ISNUMBER(FIND(\"MEDICARE\",A921)),\"X\",\"\")","v":""},{"$f":"IF(ISNUMBER(FIND(\"BC/BS\",#REF!)),\"X\",\"\")","v":""}]
["COMMUNITY CARE INC - MEDICAID",null,null,{"$f":"IF(ISNUMBER(FIND(\"MEDICARE\",A922)),\"X\",\"\")","v":""},{"$f":"IF(ISNUMBER(FIND(\"BC/BS\",#REF!)),\"X\",\"\")","v":""}]
["COMMUNITY CARE IPA INC (MEDPOINT MANAGEMENT)","X",{"$f":"IF(ISNUMBER(FIND(\"MEDICAID\",A923)),\"X\",\"\")","v":""},{"$f":"IF(ISNUMBER(FIND(\"MEDICARE\",A923)),\"X\",\"\")","v":""},{"$f":"IF(ISNUMBER(FIND(\"BC/BS\",#REF!)),\"X\",\"\")","v":""}]
["COMMUNITY CARE PLAN - FLORIDA HEALTHY KIDS","X",{"$f":"IF(ISNUMBER(FIND(\"MEDICAID\",A924)),\"X\",\"\")","v":""},{"$f":"IF(ISNUMBER(FIND(\"MEDICARE\",A924)),\"X\",\"\")","v":""},{"$f":"IF(ISNUMBER(FIND(\"BC/BS\",#REF!)),\"X\",\"\")","v":""}]
["COMMUNITY EPO MEDICAL PLAN (COMMUNITY HEALTH DIRECT)",null,{"$f":"IF(ISNUMBER(FIND(\"MEDICAID\",A925)),\"X\",\"\")","v":""},{"$f":"IF(ISNUMBER(FIND(\"MEDICARE\",A925)),\"X\",\"\")","v":""},{"$f":"IF(ISNUMBER(FIND(\"BC/BS\",#REF!)),\"X\",\"\")","v":""}]
["COMMUNITY FIRST HEALTH PLANS","X",{"$f":"IF(ISNUMBER(FIND(\"MEDICAID\",A926)),\"X\",\"\")","v":""},{"$f":"IF(ISNUMBER(FIND(\"MEDICARE\",A926)),\"X\",\"\")","v":""},{"$f":"IF(ISNUMBER(FIND(\"BC/BS\",#REF!)),\"X\",\"\")","v":""}]
["COMMUNITY FIRST INSURANCE PLAN","X",{"$f":"IF(ISNUMBER(FIND(\"MEDICAID\",A927)),\"X\",\"\")","v":""},{"$f":"IF(ISNUMBER(FIND(\"MEDICARE\",A927)),\"X\",\"\")","v":""},{"$f":"IF(ISNUMBER(FIND(\"BC/BS\",#REF!)),\"X\",\"\")","v":""}]
["COMMUNITY HDHP MEDICAL PLAN (COMMUNITY HEALTH DIRECT)","X",{"$f":"IF(ISNUMBER(FIND(\"MEDICAID\",A928)),\"X\",\"\")","v":""},{"$f":"IF(ISNUMBER(FIND(\"MEDICARE\",A928)),\"X\",\"\")","v":""},{"$f":"IF(ISNUMBER(FIND(\"BC/BS\",#REF!)),\"X\",\"\")","v":""}]
["COMMUNITY HEALTH CENTER NETWORK","X",{"$f":"IF(ISNUMBER(FIND(\"MEDICAID\",A929)),\"X\",\"\")","v":""},{"$f":"IF(ISNUMBER(FIND(\"MEDICARE\",A929)),\"X\",\"\")","v":""},{"$f":"IF(ISNUMBER(FIND(\"BC/BS\",#REF!)),\"X\",\"\")","v":""}]
["COMMUNITY HEALTH CHOICE","X",{"$f":"IF(ISNUMBER(FIND(\"MEDICAID\",A930)),\"X\",\"\")","v":""},{"$f":"IF(ISNUMBER(FIND(\"MEDICARE\",A930)),\"X\",\"\")","v":""},{"$f":"IF(ISNUMBER(FIND(\"BC/BS\",#REF!)),\"X\",\"\")","v":""}]
["COMMUNITY HEALTH NETWORK OF WASHINGTON","X",{"$f":"IF(ISNUMBER(FIND(\"MEDICAID\",A931)),\"X\",\"\")","v":""},{"$f":"IF(ISNUMBER(FIND(\"MEDICARE\",A931)),\"X\",\"\")","v":""},{"$f":"IF(ISNUMBER(FIND(\"BC/BS\",#REF!)),\"X\",\"\")","v":""}]
["COMMUNITY HEALTH OPTIONS","X",{"$f":"IF(ISNUMBER(FIND(\"MEDICAID\",A932)),\"X\",\"\")","v":""},{"$f":"IF(ISNUMBER(FIND(\"MEDICARE\",A932)),\"X\",\"\")","v":""},{"$f":"IF(ISNUMBER(FIND(\"BC/BS\",#REF!)),\"X\",\"\")","v":""}]
["COMMUNITY HEALTH PLAN OF WASHINGTON (CHPW)","X",{"$f":"IF(ISNUMBER(FIND(\"MEDICAID\",A933)),\"X\",\"\")","v":""},{"$f":"IF(ISNUMBER(FIND(\"MEDICARE\",A933)),\"X\",\"\")","v":""},{"$f":"IF(ISNUMBER(FIND(\"BC/BS\",#REF!)),\"X\",\"\")","v":""}]
["COMMUNITY HEALTHCARE PARTNERS (ARCADIA SOLUTIONS)","X",{"$f":"IF(ISNUMBER(FIND(\"MEDICAID\",A934)),\"X\",\"\")","v":""},{"$f":"IF(ISNUMBER(FIND(\"MEDICARE\",A934)),\"X\",\"\")","v":""},{"$f":"IF(ISNUMBER(FIND(\"BC/BS\",#REF!)),\"X\",\"\")","v":""}]
["COMMUNITY HOSP OF CENTRAL CA (HEALTHCOMP)","X",{"$f":"IF(ISNUMBER(FIND(\"MEDICAID\",A935)),\"X\",\"\")","v":""},{"$f":"IF(ISNUMBER(FIND(\"MEDICARE\",A935)),\"X\",\"\")","v":""},{"$f":"IF(ISNUMBER(FIND(\"BC/BS\",#REF!)),\"X\",\"\")","v":""}]
["COMMUNITY HRA GOLD PLAN (COMMUNITY HEALTH NETWORK)",null,{"$f":"IF(ISNUMBER(FIND(\"MEDICAID\",A936)),\"X\",\"\")","v":""},{"$f":"IF(ISNUMBER(FIND(\"MEDICARE\",A936)),\"X\",\"\")","v":""},{"$f":"IF(ISNUMBER(FIND(\"BC/BS\",#REF!)),\"X\",\"\")","v":""}]
["COMMUNITY INSURANCE COMPANY (ANTHEM)","X",{"$f":"IF(ISNUMBER(FIND(\"MEDICAID\",A937)),\"X\",\"\")","v":""},{"$f":"IF(ISNUMBER(FIND(\"MEDICARE\",A937)),\"X\",\"\")","v":""},"X"]
["COMMUNITY LINK INC - WESTERN (WPS)","X",{"$f":"IF(ISNUMBER(FIND(\"MEDICAID\",A938)),\"X\",\"\")","v":""},{"$f":"IF(ISNUMBER(FIND(\"MEDICARE\",A938)),\"X\",\"\")","v":""},{"$f":"IF(ISNUMBER(FIND(\"BC/BS\",#REF!)),\"X\",\"\")","v":""}]
["COMMUNITY MEDICAL CENTER (ADVANTEK BENEFIT ADMINISTRATORS)","X",{"$f":"IF(ISNUMBER(FIND(\"MEDICAID\",A939)),\"X\",\"\")","v":""},{"$f":"IF(ISNUMBER(FIND(\"MEDICARE\",A939)),\"X\",\"\")","v":""},{"$f":"IF(ISNUMBER(FIND(\"BC/BS\",#REF!)),\"X\",\"\")","v":""}]
["COMMUNITY PPO MEDICAL PLAN (COMMUNITY HEALTH DIRECT)",null,{"$f":"IF(ISNUMBER(FIND(\"MEDICAID\",A940)),\"X\",\"\")","v":""},{"$f":"IF(ISNUMBER(FIND(\"MEDICARE\",A940)),\"X\",\"\")","v":""},{"$f":"IF(ISNUMBER(FIND(\"BC/BS\",#REF!)),\"X\",\"\")","v":""}]
["COMMUNITYCARE HMO","X",{"$f":"IF(ISNUMBER(FIND(\"MEDICAID\",A941)),\"X\",\"\")","v":""},{"$f":"IF(ISNUMBER(FIND(\"MEDICARE\",A941)),\"X\",\"\")","v":""},{"$f":"IF(ISNUMBER(FIND(\"BC/BS\",#REF!)),\"X\",\"\")","v":""}]
["COMMUNITYCARE LIFE AND HEALTH INSURANCE COMPANY","X",{"$f":"IF(ISNUMBER(FIND(\"MEDICAID\",A942)),\"X\",\"\")","v":""},{"$f":"IF(ISNUMBER(FIND(\"MEDICARE\",A942)),\"X\",\"\")","v":""},{"$f":"IF(ISNUMBER(FIND(\"BC/BS\",#REF!)),\"X\",\"\")","v":""}]
["COMPANION LIFE (MERITAIN)",null,{"$f":"IF(ISNUMBER(FIND(\"MEDICAID\",A943)),\"X\",\"\")","v":""},{"$f":"IF(ISNUMBER(FIND(\"MEDICARE\",A943)),\"X\",\"\")","v":""},{"$f":"IF(ISNUMBER(FIND(\"BC/BS\",#REF!)),\"X\",\"\")","v":""}]
["COMPANION LIFE INSURANCE COMPANY","X",{"$f":"IF(ISNUMBER(FIND(\"MEDICAID\",A944)),\"X\",\"\")","v":""},{"$f":"IF(ISNUMBER(FIND(\"MEDICARE\",A944)),\"X\",\"\")","v":""},{"$f":"IF(ISNUMBER(FIND(\"BC/BS\",#REF!)),\"X\",\"\")","v":""}]
["COMPANY EBP (BUC-EE'S) (90 DEGREE BENEFITS HOUSTON - ENTRUST)",null,{"$f":"IF(ISNUMBER(FIND(\"MEDICAID\",A945)),\"X\",\"\")","v":""},{"$f":"IF(ISNUMBER(FIND(\"MEDICARE\",A945)),\"X\",\"\")","v":""},{"$f":"IF(ISNUMBER(FIND(\"BC/BS\",#REF!)),\"X\",\"\")","v":""}]
["COMPASS CHRISTIAN EBPT (90 DEGREE BENEFITS HOUSTON - ENTRUST)",null,{"$f":"IF(ISNUMBER(FIND(\"MEDICAID\",A946)),\"X\",\"\")","v":""},{"$f":"IF(ISNUMBER(FIND(\"MEDICARE\",A946)),\"X\",\"\")","v":""},{"$f":"IF(ISNUMBER(FIND(\"BC/BS\",#REF!)),\"X\",\"\")","v":""}]
["COMPASS HEALTH ADMINISTRATORS","X",{"$f":"IF(ISNUMBER(FIND(\"MEDICAID\",A947)),\"X\",\"\")","v":""},{"$f":"IF(ISNUMBER(FIND(\"MEDICARE\",A947)),\"X\",\"\")","v":""},{"$f":"IF(ISNUMBER(FIND(\"BC/BS\",#REF!)),\"X\",\"\")","v":""}]
["COMPCARE HEALTH SERVICE INS CORP (ANTHEM)","X",{"$f":"IF(ISNUMBER(FIND(\"MEDICAID\",A948)),\"X\",\"\")","v":""},{"$f":"IF(ISNUMBER(FIND(\"MEDICARE\",A948)),\"X\",\"\")","v":""},"X"]
["COMPREHENSIVE BENEFITS","X",{"$f":"IF(ISNUMBER(FIND(\"MEDICAID\",A949)),\"X\",\"\")","v":""},{"$f":"IF(ISNUMBER(FIND(\"MEDICARE\",A949)),\"X\",\"\")","v":""},{"$f":"IF(ISNUMBER(FIND(\"BC/BS\",#REF!)),\"X\",\"\")","v":""}]
["COMPSYCH","X",{"$f":"IF(ISNUMBER(FIND(\"MEDICAID\",A950)),\"X\",\"\")","v":""},{"$f":"IF(ISNUMBER(FIND(\"MEDICARE\",A950)),\"X\",\"\")","v":""},{"$f":"IF(ISNUMBER(FIND(\"BC/BS\",#REF!)),\"X\",\"\")","v":""}]
["COMPUSYS",null,{"$f":"IF(ISNUMBER(FIND(\"MEDICAID\",A951)),\"X\",\"\")","v":""},{"$f":"IF(ISNUMBER(FIND(\"MEDICARE\",A951)),\"X\",\"\")","v":""},{"$f":"IF(ISNUMBER(FIND(\"BC/BS\",#REF!)),\"X\",\"\")","v":""}]
["COMPUTER DEALERS & RECYCLERS GLOBAL INC (FRINGE BENEFIT GROUP)","X",{"$f":"IF(ISNUMBER(FIND(\"MEDICAID\",A952)),\"X\",\"\")","v":""},{"$f":"IF(ISNUMBER(FIND(\"MEDICARE\",A952)),\"X\",\"\")","v":""},{"$f":"IF(ISNUMBER(FIND(\"BC/BS\",#REF!)),\"X\",\"\")","v":""}]
["CONAGRA FOODS INC (GEISINGER HEALTH PLAN)","X",{"$f":"IF(ISNUMBER(FIND(\"MEDICAID\",A953)),\"X\",\"\")","v":""},{"$f":"IF(ISNUMBER(FIND(\"MEDICARE\",A953)),\"X\",\"\")","v":""},{"$f":"IF(ISNUMBER(FIND(\"BC/BS\",#REF!)),\"X\",\"\")","v":""}]
["CONAX TECHNOLOGIES LLC (INDEPENDENT HEALTH)",null,{"$f":"IF(ISNUMBER(FIND(\"MEDICAID\",A954)),\"X\",\"\")","v":""},{"$f":"IF(ISNUMBER(FIND(\"MEDICARE\",A954)),\"X\",\"\")","v":""},{"$f":"IF(ISNUMBER(FIND(\"BC/BS\",#REF!)),\"X\",\"\")","v":""}]
["CONCENTRIX INSURANCE SERVICES","X",{"$f":"IF(ISNUMBER(FIND(\"MEDICAID\",A955)),\"X\",\"\")","v":""},{"$f":"IF(ISNUMBER(FIND(\"MEDICARE\",A955)),\"X\",\"\")","v":""},{"$f":"IF(ISNUMBER(FIND(\"BC/BS\",#REF!)),\"X\",\"\")","v":""}]
["CONCORD HOSPITAL (AMERIBEN)",null,{"$f":"IF(ISNUMBER(FIND(\"MEDICAID\",A956)),\"X\",\"\")","v":""},{"$f":"IF(ISNUMBER(FIND(\"MEDICARE\",A956)),\"X\",\"\")","v":""},{"$f":"IF(ISNUMBER(FIND(\"BC/BS\",#REF!)),\"X\",\"\")","v":""}]
["CONFEDERATED TRIBES OF WARM SPRINGS (HEALTHCOMP)","X",{"$f":"IF(ISNUMBER(FIND(\"MEDICAID\",A957)),\"X\",\"\")","v":""},{"$f":"IF(ISNUMBER(FIND(\"MEDICARE\",A957)),\"X\",\"\")","v":""},{"$f":"IF(ISNUMBER(FIND(\"BC/BS\",#REF!)),\"X\",\"\")","v":""}]
["CONGREGATION OF THE SISTERS (GEISGINGER HEALTH PLAN)","X",{"$f":"IF(ISNUMBER(FIND(\"MEDICAID\",A958)),\"X\",\"\")","v":""},{"$f":"IF(ISNUMBER(FIND(\"MEDICARE\",A958)),\"X\",\"\")","v":""},{"$f":"IF(ISNUMBER(FIND(\"BC/BS\",#REF!)),\"X\",\"\")","v":""}]
["CONNECTED CARE NM ASO (PRESBYTERIAN HEALTH PLAN)","X",{"$f":"IF(ISNUMBER(FIND(\"MEDICAID\",A959)),\"X\",\"\")","v":""},{"$f":"IF(ISNUMBER(FIND(\"MEDICARE\",A959)),\"X\",\"\")","v":""},{"$f":"IF(ISNUMBER(FIND(\"BC/BS\",#REF!)),\"X\",\"\")","v":""}]
["CONNECTICARE","X",{"$f":"IF(ISNUMBER(FIND(\"MEDICAID\",A960)),\"X\",\"\")","v":""},{"$f":"IF(ISNUMBER(FIND(\"MEDICARE\",A960)),\"X\",\"\")","v":""},{"$f":"IF(ISNUMBER(FIND(\"BC/BS\",#REF!)),\"X\",\"\")","v":""}]
["CONNECTICUT INTERLOCAL RISK MANAGEMENT AGENCY","X",{"$f":"IF(ISNUMBER(FIND(\"MEDICAID\",A961)),\"X\",\"\")","v":""},{"$f":"IF(ISNUMBER(FIND(\"MEDICARE\",A961)),\"X\",\"\")","v":""},{"$f":"IF(ISNUMBER(FIND(\"BC/BS\",#REF!)),\"X\",\"\")","v":""}]
["CONSOCIATE","X",{"$f":"IF(ISNUMBER(FIND(\"MEDICAID\",A962)),\"X\",\"\")","v":""},{"$f":"IF(ISNUMBER(FIND(\"MEDICARE\",A962)),\"X\",\"\")","v":""},{"$f":"IF(ISNUMBER(FIND(\"BC/BS\",#REF!)),\"X\",\"\")","v":""}]
["CONSOLIDATED ASSOCIATIONS OF RR EMPLOYEES","X",{"$f":"IF(ISNUMBER(FIND(\"MEDICAID\",A963)),\"X\",\"\")","v":""},{"$f":"IF(ISNUMBER(FIND(\"MEDICARE\",A963)),\"X\",\"\")","v":""},{"$f":"IF(ISNUMBER(FIND(\"BC/BS\",#REF!)),\"X\",\"\")","v":""}]
["CONSOLIDATED SUPPLY CO (HEALTHCOMP)","X",{"$f":"IF(ISNUMBER(FIND(\"MEDICAID\",A964)),\"X\",\"\")","v":""},{"$f":"IF(ISNUMBER(FIND(\"MEDICARE\",A964)),\"X\",\"\")","v":""},{"$f":"IF(ISNUMBER(FIND(\"BC/BS\",#REF!)),\"X\",\"\")","v":""}]
["CONSUMERS AUTO WAREHOUSE (SENTARA)","X",{"$f":"IF(ISNUMBER(FIND(\"MEDICAID\",A965)),\"X\",\"\")","v":""},{"$f":"IF(ISNUMBER(FIND(\"MEDICARE\",A965)),\"X\",\"\")","v":""},{"$f":"IF(ISNUMBER(FIND(\"BC/BS\",#REF!)),\"X\",\"\")","v":""}]
["CONTINENTAL BENEFITS LLC","X",{"$f":"IF(ISNUMBER(FIND(\"MEDICAID\",A966)),\"X\",\"\")","v":""},{"$f":"IF(ISNUMBER(FIND(\"MEDICARE\",A966)),\"X\",\"\")","v":""},{"$f":"IF(ISNUMBER(FIND(\"BC/BS\",#REF!)),\"X\",\"\")","v":""}]
["CONTINENTAL FABRICATORS INC (IPMG)","X",{"$f":"IF(ISNUMBER(FIND(\"MEDICAID\",A967)),\"X\",\"\")","v":""},{"$f":"IF(ISNUMBER(FIND(\"MEDICARE\",A967)),\"X\",\"\")","v":""},{"$f":"IF(ISNUMBER(FIND(\"BC/BS\",#REF!)),\"X\",\"\")","v":""}]
["CONTINENTAL LIFE INSURANCE COMPANY OF BRENTWOOD (AETNA SSI)","X",{"$f":"IF(ISNUMBER(FIND(\"MEDICAID\",A968)),\"X\",\"\")","v":""},{"$f":"IF(ISNUMBER(FIND(\"MEDICARE\",A968)),\"X\",\"\")","v":""},{"$f":"IF(ISNUMBER(FIND(\"BC/BS\",#REF!)),\"X\",\"\")","v":""}]
["CONTRA COSTA HEALTH PLAN (CCHP)","X",{"$f":"IF(ISNUMBER(FIND(\"MEDICAID\",A969)),\"X\",\"\")","v":""},{"$f":"IF(ISNUMBER(FIND(\"MEDICARE\",A969)),\"X\",\"\")","v":""},{"$f":"IF(ISNUMBER(FIND(\"BC/BS\",#REF!)),\"X\",\"\")","v":""}]
["CONTROL PRODUCTS EBPT (90 DEGREE BENEFITS HOUSTON - ENTRUST)",null,{"$f":"IF(ISNUMBER(FIND(\"MEDICAID\",A970)),\"X\",\"\")","v":""},{"$f":"IF(ISNUMBER(FIND(\"MEDICARE\",A970)),\"X\",\"\")","v":""},{"$f":"IF(ISNUMBER(FIND(\"BC/BS\",#REF!)),\"X\",\"\")","v":""}]
["COOK COUNTY HEALTH & HOSPITALS SYSTEM (CCHHS) (COUNTYCARE)","X",{"$f":"IF(ISNUMBER(FIND(\"MEDICAID\",A971)),\"X\",\"\")","v":""},{"$f":"IF(ISNUMBER(FIND(\"MEDICARE\",A971)),\"X\",\"\")","v":""},{"$f":"IF(ISNUMBER(FIND(\"BC/BS\",#REF!)),\"X\",\"\")","v":""}]
["COOPER & SCULLY P.C. (GROUP & PENSION ADMIN)","X",{"$f":"IF(ISNUMBER(FIND(\"MEDICAID\",A972)),\"X\",\"\")","v":""},{"$f":"IF(ISNUMBER(FIND(\"MEDICARE\",A972)),\"X\",\"\")","v":""},{"$f":"IF(ISNUMBER(FIND(\"BC/BS\",#REF!)),\"X\",\"\")","v":""}]
["COOPER TIRE & RUBBER COMPANY (CONTIGO HEALTH)",null,{"$f":"IF(ISNUMBER(FIND(\"MEDICAID\",A973)),\"X\",\"\")","v":""},{"$f":"IF(ISNUMBER(FIND(\"MEDICARE\",A973)),\"X\",\"\")","v":""},{"$f":"IF(ISNUMBER(FIND(\"BC/BS\",#REF!)),\"X\",\"\")","v":""}]
["COOPER-BOOTH WHOLESALE COMPANY (MAESTRO HEALTH)",null,{"$f":"IF(ISNUMBER(FIND(\"MEDICAID\",A974)),\"X\",\"\")","v":""},{"$f":"IF(ISNUMBER(FIND(\"MEDICARE\",A974)),\"X\",\"\")","v":""},{"$f":"IF(ISNUMBER(FIND(\"BC/BS\",#REF!)),\"X\",\"\")","v":""}]
["COORDINATED BENEFIT PLANS","X",{"$f":"IF(ISNUMBER(FIND(\"MEDICAID\",A975)),\"X\",\"\")","v":""},{"$f":"IF(ISNUMBER(FIND(\"MEDICARE\",A975)),\"X\",\"\")","v":""},{"$f":"IF(ISNUMBER(FIND(\"BC/BS\",#REF!)),\"X\",\"\")","v":""}]
["COORDINATED CARE OF WASHINGTON","X",{"$f":"IF(ISNUMBER(FIND(\"MEDICAID\",A976)),\"X\",\"\")","v":""},{"$f":"IF(ISNUMBER(FIND(\"MEDICARE\",A976)),\"X\",\"\")","v":""},{"$f":"IF(ISNUMBER(FIND(\"BC/BS\",#REF!)),\"X\",\"\")","v":""}]
["COPELAND MEDICAL (HEALTHCOMP)","X",{"$f":"IF(ISNUMBER(FIND(\"MEDICAID\",A977)),\"X\",\"\")","v":""},{"$f":"IF(ISNUMBER(FIND(\"MEDICARE\",A977)),\"X\",\"\")","v":""},{"$f":"IF(ISNUMBER(FIND(\"BC/BS\",#REF!)),\"X\",\"\")","v":""}]
["COPPERPOINT INSURANCE COMPANY","X",{"$f":"IF(ISNUMBER(FIND(\"MEDICAID\",A978)),\"X\",\"\")","v":""},{"$f":"IF(ISNUMBER(FIND(\"MEDICARE\",A978)),\"X\",\"\")","v":""},{"$f":"IF(ISNUMBER(FIND(\"BC/BS\",#REF!)),\"X\",\"\")","v":""}]
["COR DEVELOPMENT COMPANY LLC (MVP HEALTH CARE)","X",{"$f":"IF(ISNUMBER(FIND(\"MEDICAID\",A979)),\"X\",\"\")","v":""},{"$f":"IF(ISNUMBER(FIND(\"MEDICARE\",A979)),\"X\",\"\")","v":""},{"$f":"IF(ISNUMBER(FIND(\"BC/BS\",#REF!)),\"X\",\"\")","v":""}]
["CORE & MAIN LP (AMERIBEN)",null,{"$f":"IF(ISNUMBER(FIND(\"MEDICAID\",A980)),\"X\",\"\")","v":""},{"$f":"IF(ISNUMBER(FIND(\"MEDICARE\",A980)),\"X\",\"\")","v":""},{"$f":"IF(ISNUMBER(FIND(\"BC/BS\",#REF!)),\"X\",\"\")","v":""}]
["CORE MARK INTERNATIONAL INC (GEISINGER HEALTH PLAN)","X",{"$f":"IF(ISNUMBER(FIND(\"MEDICAID\",A981)),\"X\",\"\")","v":""},{"$f":"IF(ISNUMBER(FIND(\"MEDICARE\",A981)),\"X\",\"\")","v":""},{"$f":"IF(ISNUMBER(FIND(\"BC/BS\",#REF!)),\"X\",\"\")","v":""}]
["CORESIX PRECISION GLASS (SENTARA)","X",{"$f":"IF(ISNUMBER(FIND(\"MEDICAID\",A982)),\"X\",\"\")","v":""},{"$f":"IF(ISNUMBER(FIND(\"MEDICARE\",A982)),\"X\",\"\")","v":""},{"$f":"IF(ISNUMBER(FIND(\"BC/BS\",#REF!)),\"X\",\"\")","v":""}]
["CORNELL FORGE (IPMG)",null,{"$f":"IF(ISNUMBER(FIND(\"MEDICAID\",A983)),\"X\",\"\")","v":""},{"$f":"IF(ISNUMBER(FIND(\"MEDICARE\",A983)),\"X\",\"\")","v":""},{"$f":"IF(ISNUMBER(FIND(\"BC/BS\",#REF!)),\"X\",\"\")","v":""}]
["CORNERSTONE PREFERRED RESOURCES","X",{"$f":"IF(ISNUMBER(FIND(\"MEDICAID\",A984)),\"X\",\"\")","v":""},{"$f":"IF(ISNUMBER(FIND(\"MEDICARE\",A984)),\"X\",\"\")","v":""},{"$f":"IF(ISNUMBER(FIND(\"BC/BS\",#REF!)),\"X\",\"\")","v":""}]
["CORPORAL MICHAEL J. CRESCENZ DEPARTMENT OF VETERANS AFFAIRS","X",{"$f":"IF(ISNUMBER(FIND(\"MEDICAID\",A985)),\"X\",\"\")","v":""},{"$f":"IF(ISNUMBER(FIND(\"MEDICARE\",A985)),\"X\",\"\")","v":""},{"$f":"IF(ISNUMBER(FIND(\"BC/BS\",#REF!)),\"X\",\"\")","v":""}]
["CORPORATE PLAN MANAGEMENT","X",{"$f":"IF(ISNUMBER(FIND(\"MEDICAID\",A986)),\"X\",\"\")","v":""},{"$f":"IF(ISNUMBER(FIND(\"MEDICARE\",A986)),\"X\",\"\")","v":""},{"$f":"IF(ISNUMBER(FIND(\"BC/BS\",#REF!)),\"X\",\"\")","v":""}]
["CORRECT CARE SOLUTIONS","X",{"$f":"IF(ISNUMBER(FIND(\"MEDICAID\",A987)),\"X\",\"\")","v":""},{"$f":"IF(ISNUMBER(FIND(\"MEDICARE\",A987)),\"X\",\"\")","v":""},{"$f":"IF(ISNUMBER(FIND(\"BC/BS\",#REF!)),\"X\",\"\")","v":""}]
["CORRECT CARE SOLUTIONS - FEDERAL BUREAU OF PRISONS (FBOP)","X",{"$f":"IF(ISNUMBER(FIND(\"MEDICAID\",A988)),\"X\",\"\")","v":""},{"$f":"IF(ISNUMBER(FIND(\"MEDICARE\",A988)),\"X\",\"\")","v":""},{"$f":"IF(ISNUMBER(FIND(\"BC/BS\",#REF!)),\"X\",\"\")","v":""}]
["CORRECTCARE","X",{"$f":"IF(ISNUMBER(FIND(\"MEDICAID\",A989)),\"X\",\"\")","v":""},{"$f":"IF(ISNUMBER(FIND(\"MEDICARE\",A989)),\"X\",\"\")","v":""},{"$f":"IF(ISNUMBER(FIND(\"BC/BS\",#REF!)),\"X\",\"\")","v":""}]
["CORRECTIONAL HEALTH PARTNERS","X",{"$f":"IF(ISNUMBER(FIND(\"MEDICAID\",A990)),\"X\",\"\")","v":""},{"$f":"IF(ISNUMBER(FIND(\"MEDICARE\",A990)),\"X\",\"\")","v":""},{"$f":"IF(ISNUMBER(FIND(\"BC/BS\",#REF!)),\"X\",\"\")","v":""}]
["CORTECH BENEFITS ACCOUNT (GROUP & PENSION ADMIN)","X",{"$f":"IF(ISNUMBER(FIND(\"MEDICAID\",A991)),\"X\",\"\")","v":""},{"$f":"IF(ISNUMBER(FIND(\"MEDICARE\",A991)),\"X\",\"\")","v":""},{"$f":"IF(ISNUMBER(FIND(\"BC/BS\",#REF!)),\"X\",\"\")","v":""}]
["COTTAGE HEALTH (HEALTHCOMP)","X",{"$f":"IF(ISNUMBER(FIND(\"MEDICAID\",A992)),\"X\",\"\")","v":""},{"$f":"IF(ISNUMBER(FIND(\"MEDICARE\",A992)),\"X\",\"\")","v":""},{"$f":"IF(ISNUMBER(FIND(\"BC/BS\",#REF!)),\"X\",\"\")","v":""}]
["COUNTRY LIFE INSURANCE COMPANY (IAS ADMIN)","X",{"$f":"IF(ISNUMBER(FIND(\"MEDICAID\",A993)),\"X\",\"\")","v":""},{"$f":"IF(ISNUMBER(FIND(\"MEDICARE\",A993)),\"X\",\"\")","v":""},{"$f":"IF(ISNUMBER(FIND(\"BC/BS\",#REF!)),\"X\",\"\")","v":""}]
["COUNTRYSIDE RENTALS INC (GROUP & PENSION ADMIN)","X",{"$f":"IF(ISNUMBER(FIND(\"MEDICAID\",A994)),\"X\",\"\")","v":""},{"$f":"IF(ISNUMBER(FIND(\"MEDICARE\",A994)),\"X\",\"\")","v":""},{"$f":"IF(ISNUMBER(FIND(\"BC/BS\",#REF!)),\"X\",\"\")","v":""}]
["COUNTY OF CARROLL (GROUP & PENSION ADMIN)","X",{"$f":"IF(ISNUMBER(FIND(\"MEDICAID\",A995)),\"X\",\"\")","v":""},{"$f":"IF(ISNUMBER(FIND(\"MEDICARE\",A995)),\"X\",\"\")","v":""},{"$f":"IF(ISNUMBER(FIND(\"BC/BS\",#REF!)),\"X\",\"\")","v":""}]
["COUNTY OF CHIPPEWA (AMERIBEN)",null,{"$f":"IF(ISNUMBER(FIND(\"MEDICAID\",A996)),\"X\",\"\")","v":""},{"$f":"IF(ISNUMBER(FIND(\"MEDICARE\",A996)),\"X\",\"\")","v":""},{"$f":"IF(ISNUMBER(FIND(\"BC/BS\",#REF!)),\"X\",\"\")","v":""}]
["COUNTY OF FRANKLIN (IPMG)","X",{"$f":"IF(ISNUMBER(FIND(\"MEDICAID\",A997)),\"X\",\"\")","v":""},{"$f":"IF(ISNUMBER(FIND(\"MEDICARE\",A997)),\"X\",\"\")","v":""},{"$f":"IF(ISNUMBER(FIND(\"BC/BS\",#REF!)),\"X\",\"\")","v":""}]
["COUNTY OF GENESEE (INDEPENDENT HEALTH)","X",{"$f":"IF(ISNUMBER(FIND(\"MEDICAID\",A998)),\"X\",\"\")","v":""},{"$f":"IF(ISNUMBER(FIND(\"MEDICARE\",A998)),\"X\",\"\")","v":""},{"$f":"IF(ISNUMBER(FIND(\"BC/BS\",#REF!)),\"X\",\"\")","v":""}]
["COUNTY OF MONTGOMERY  (MVP HEALTH CARE)","X",{"$f":"IF(ISNUMBER(FIND(\"MEDICAID\",A999)),\"X\",\"\")","v":""},{"$f":"IF(ISNUMBER(FIND(\"MEDICARE\",A999)),\"X\",\"\")","v":""},{"$f":"IF(ISNUMBER(FIND(\"BC/BS\",#REF!)),\"X\",\"\")","v":""}]
["COUNTYCARE HEALTH PLAN","X",{"$f":"IF(ISNUMBER(FIND(\"MEDICAID\",A1000)),\"X\",\"\")","v":""},{"$f":"IF(ISNUMBER(FIND(\"MEDICARE\",A1000)),\"X\",\"\")","v":""},{"$f":"IF(ISNUMBER(FIND(\"BC/BS\",#REF!)),\"X\",\"\")","v":""}]
["COURTESY AUTOMOTIVE GROUP (THE HEALTH PLAN)",null,{"$f":"IF(ISNUMBER(FIND(\"MEDICAID\",A1001)),\"X\",\"\")","v":""},{"$f":"IF(ISNUMBER(FIND(\"MEDICARE\",A1001)),\"X\",\"\")","v":""},{"$f":"IF(ISNUMBER(FIND(\"BC/BS\",#REF!)),\"X\",\"\")","v":""}]
["COVENANT ADMINISTRATORS LLC (90 DEGREE BENEFITS GEORGIA)","X",{"$f":"IF(ISNUMBER(FIND(\"MEDICAID\",A1002)),\"X\",\"\")","v":""},{"$f":"IF(ISNUMBER(FIND(\"MEDICARE\",A1002)),\"X\",\"\")","v":""},{"$f":"IF(ISNUMBER(FIND(\"BC/BS\",#REF!)),\"X\",\"\")","v":""}]
["COVENANT HEALTHCARE (ASR HEALTH BENEFITS)","X",{"$f":"IF(ISNUMBER(FIND(\"MEDICAID\",A1003)),\"X\",\"\")","v":""},{"$f":"IF(ISNUMBER(FIND(\"MEDICARE\",A1003)),\"X\",\"\")","v":""},{"$f":"IF(ISNUMBER(FIND(\"BC/BS\",#REF!)),\"X\",\"\")","v":""}]
["COVENTRY DENTAL (DENEX DENTAL)",null,{"$f":"IF(ISNUMBER(FIND(\"MEDICAID\",A1004)),\"X\",\"\")","v":""},{"$f":"IF(ISNUMBER(FIND(\"MEDICARE\",A1004)),\"X\",\"\")","v":""},{"$f":"IF(ISNUMBER(FIND(\"BC/BS\",#REF!)),\"X\",\"\")","v":""}]
["COVENTRY HEALTH AND LIFE INSURANCE CO (AETNA SSI)","X",{"$f":"IF(ISNUMBER(FIND(\"MEDICAID\",A1005)),\"X\",\"\")","v":""},{"$f":"IF(ISNUMBER(FIND(\"MEDICARE\",A1005)),\"X\",\"\")","v":""},{"$f":"IF(ISNUMBER(FIND(\"BC/BS\",#REF!)),\"X\",\"\")","v":""}]
["COVENTRY HEALTH CARE OF DELAWARE","X",{"$f":"IF(ISNUMBER(FIND(\"MEDICAID\",A1006)),\"X\",\"\")","v":""},{"$f":"IF(ISNUMBER(FIND(\"MEDICARE\",A1006)),\"X\",\"\")","v":""},{"$f":"IF(ISNUMBER(FIND(\"BC/BS\",#REF!)),\"X\",\"\")","v":""}]
["COVENTRY HEALTH CARE OF FLORIDA",null,{"$f":"IF(ISNUMBER(FIND(\"MEDICAID\",A1007)),\"X\",\"\")","v":""},{"$f":"IF(ISNUMBER(FIND(\"MEDICARE\",A1007)),\"X\",\"\")","v":""},{"$f":"IF(ISNUMBER(FIND(\"BC/BS\",#REF!)),\"X\",\"\")","v":""}]
["COVENTRY HEALTH CARE OF GEORGIA",null,{"$f":"IF(ISNUMBER(FIND(\"MEDICAID\",A1008)),\"X\",\"\")","v":""},{"$f":"IF(ISNUMBER(FIND(\"MEDICARE\",A1008)),\"X\",\"\")","v":""},{"$f":"IF(ISNUMBER(FIND(\"BC/BS\",#REF!)),\"X\",\"\")","v":""}]
["COVENTRY HEALTH CARE OF ILLINOIS",null,{"$f":"IF(ISNUMBER(FIND(\"MEDICAID\",A1009)),\"X\",\"\")","v":""},{"$f":"IF(ISNUMBER(FIND(\"MEDICARE\",A1009)),\"X\",\"\")","v":""},{"$f":"IF(ISNUMBER(FIND(\"BC/BS\",#REF!)),\"X\",\"\")","v":""}]
["COVENTRY HEALTH CARE OF IOWA",null,{"$f":"IF(ISNUMBER(FIND(\"MEDICAID\",A1010)),\"X\",\"\")","v":""},{"$f":"IF(ISNUMBER(FIND(\"MEDICARE\",A1010)),\"X\",\"\")","v":""},{"$f":"IF(ISNUMBER(FIND(\"BC/BS\",#REF!)),\"X\",\"\")","v":""}]
["COVENTRY HEALTH CARE OF KANSAS","X",{"$f":"IF(ISNUMBER(FIND(\"MEDICAID\",A1011)),\"X\",\"\")","v":""},{"$f":"IF(ISNUMBER(FIND(\"MEDICARE\",A1011)),\"X\",\"\")","v":""},{"$f":"IF(ISNUMBER(FIND(\"BC/BS\",#REF!)),\"X\",\"\")","v":""}]
["COVENTRY HEALTH CARE OF MISSOURI","X",{"$f":"IF(ISNUMBER(FIND(\"MEDICAID\",A1012)),\"X\",\"\")","v":""},{"$f":"IF(ISNUMBER(FIND(\"MEDICARE\",A1012)),\"X\",\"\")","v":""},{"$f":"IF(ISNUMBER(FIND(\"BC/BS\",#REF!)),\"X\",\"\")","v":""}]
["COVENTRY HEALTH CARE OF NEBRASKA",null,{"$f":"IF(ISNUMBER(FIND(\"MEDICAID\",A1013)),\"X\",\"\")","v":""},{"$f":"IF(ISNUMBER(FIND(\"MEDICARE\",A1013)),\"X\",\"\")","v":""},{"$f":"IF(ISNUMBER(FIND(\"BC/BS\",#REF!)),\"X\",\"\")","v":""}]
["COVENTRY HEALTH PLAN OF FLORIDA",null,{"$f":"IF(ISNUMBER(FIND(\"MEDICAID\",A1014)),\"X\",\"\")","v":""},{"$f":"IF(ISNUMBER(FIND(\"MEDICARE\",A1014)),\"X\",\"\")","v":""},{"$f":"IF(ISNUMBER(FIND(\"BC/BS\",#REF!)),\"X\",\"\")","v":""}]
["COVENTRY HEALTHAMERICA PENNSYLVANIA INC (AETNA)","X",{"$f":"IF(ISNUMBER(FIND(\"MEDICAID\",A1015)),\"X\",\"\")","v":""},{"$f":"IF(ISNUMBER(FIND(\"MEDICARE\",A1015)),\"X\",\"\")","v":""},{"$f":"IF(ISNUMBER(FIND(\"BC/BS\",#REF!)),\"X\",\"\")","v":""}]
["COVERAGE UNDERWRITTEN OR ADMINISTERED BY HPHC INSURANCE COMP",null,{"$f":"IF(ISNUMBER(FIND(\"MEDICAID\",A1016)),\"X\",\"\")","v":""},{"$f":"IF(ISNUMBER(FIND(\"MEDICARE\",A1016)),\"X\",\"\")","v":""},{"$f":"IF(ISNUMBER(FIND(\"BC/BS\",#REF!)),\"X\",\"\")","v":""}]
["COVERCRAFT INDUSTRIES LLC (MAESTRO HEALTH)","X",{"$f":"IF(ISNUMBER(FIND(\"MEDICAID\",A1017)),\"X\",\"\")","v":""},{"$f":"IF(ISNUMBER(FIND(\"MEDICARE\",A1017)),\"X\",\"\")","v":""},{"$f":"IF(ISNUMBER(FIND(\"BC/BS\",#REF!)),\"X\",\"\")","v":""}]
["COX HEALTH PLAN",null,{"$f":"IF(ISNUMBER(FIND(\"MEDICAID\",A1018)),\"X\",\"\")","v":""},{"$f":"IF(ISNUMBER(FIND(\"MEDICARE\",A1018)),\"X\",\"\")","v":""},{"$f":"IF(ISNUMBER(FIND(\"BC/BS\",#REF!)),\"X\",\"\")","v":""}]
["COX HEALTHPLANS HMO (CHSHMO)","X",{"$f":"IF(ISNUMBER(FIND(\"MEDICAID\",A1019)),\"X\",\"\")","v":""},{"$f":"IF(ISNUMBER(FIND(\"MEDICARE\",A1019)),\"X\",\"\")","v":""},{"$f":"IF(ISNUMBER(FIND(\"BC/BS\",#REF!)),\"X\",\"\")","v":""}]
["COX TRANSFER INC (MAESTRO HEALTH)",null,{"$f":"IF(ISNUMBER(FIND(\"MEDICAID\",A1020)),\"X\",\"\")","v":""},{"$f":"IF(ISNUMBER(FIND(\"MEDICARE\",A1020)),\"X\",\"\")","v":""},{"$f":"IF(ISNUMBER(FIND(\"BC/BS\",#REF!)),\"X\",\"\")","v":""}]
["CRAFT MACHINE WORKS (IPMG)",null,{"$f":"IF(ISNUMBER(FIND(\"MEDICAID\",A1021)),\"X\",\"\")","v":""},{"$f":"IF(ISNUMBER(FIND(\"MEDICARE\",A1021)),\"X\",\"\")","v":""},{"$f":"IF(ISNUMBER(FIND(\"BC/BS\",#REF!)),\"X\",\"\")","v":""}]
["CRAFTMASTER FURNITURE (THE HEALTH PLAN)",null,{"$f":"IF(ISNUMBER(FIND(\"MEDICAID\",A1022)),\"X\",\"\")","v":""},{"$f":"IF(ISNUMBER(FIND(\"MEDICARE\",A1022)),\"X\",\"\")","v":""},{"$f":"IF(ISNUMBER(FIND(\"BC/BS\",#REF!)),\"X\",\"\")","v":""}]
["CRAIG ENTERPRISES (SENTARA)","X",{"$f":"IF(ISNUMBER(FIND(\"MEDICAID\",A1023)),\"X\",\"\")","v":""},{"$f":"IF(ISNUMBER(FIND(\"MEDICARE\",A1023)),\"X\",\"\")","v":""},{"$f":"IF(ISNUMBER(FIND(\"BC/BS\",#REF!)),\"X\",\"\")","v":""}]
["CRANDALL CORPORATION EBPT (90 DEGREE BENEFITS HOUSTON - ENTRUST)",null,{"$f":"IF(ISNUMBER(FIND(\"MEDICAID\",A1024)),\"X\",\"\")","v":""},{"$f":"IF(ISNUMBER(FIND(\"MEDICARE\",A1024)),\"X\",\"\")","v":""},{"$f":"IF(ISNUMBER(FIND(\"BC/BS\",#REF!)),\"X\",\"\")","v":""}]
["CREATIVE ARTISTS AGENCY LLC (HEALTHCOMP)","X",{"$f":"IF(ISNUMBER(FIND(\"MEDICAID\",A1025)),\"X\",\"\")","v":""},{"$f":"IF(ISNUMBER(FIND(\"MEDICARE\",A1025)),\"X\",\"\")","v":""},{"$f":"IF(ISNUMBER(FIND(\"BC/BS\",#REF!)),\"X\",\"\")","v":""}]
["CREDITSAFE EBPT (90 DEGREE BENEFITS HOUSTON - ENTRUST)",null,{"$f":"IF(ISNUMBER(FIND(\"MEDICAID\",A1026)),\"X\",\"\")","v":""},{"$f":"IF(ISNUMBER(FIND(\"MEDICARE\",A1026)),\"X\",\"\")","v":""},{"$f":"IF(ISNUMBER(FIND(\"BC/BS\",#REF!)),\"X\",\"\")","v":""}]
["CRESCO (HEALTHCOMP)",null,{"$f":"IF(ISNUMBER(FIND(\"MEDICAID\",A1027)),\"X\",\"\")","v":""},{"$f":"IF(ISNUMBER(FIND(\"MEDICARE\",A1027)),\"X\",\"\")","v":""},{"$f":"IF(ISNUMBER(FIND(\"BC/BS\",#REF!)),\"X\",\"\")","v":""}]
["CRESTWOOD SCHOOL DISTRICT (GROUP & PENSION ADMIN)","X",{"$f":"IF(ISNUMBER(FIND(\"MEDICAID\",A1028)),\"X\",\"\")","v":""},{"$f":"IF(ISNUMBER(FIND(\"MEDICARE\",A1028)),\"X\",\"\")","v":""},{"$f":"IF(ISNUMBER(FIND(\"BC/BS\",#REF!)),\"X\",\"\")","v":""}]
["CRH AMERICAS (AMERIBEN)",null,{"$f":"IF(ISNUMBER(FIND(\"MEDICAID\",A1029)),\"X\",\"\")","v":""},{"$f":"IF(ISNUMBER(FIND(\"MEDICARE\",A1029)),\"X\",\"\")","v":""},{"$f":"IF(ISNUMBER(FIND(\"BC/BS\",#REF!)),\"X\",\"\")","v":""}]
["CRISAFULLI BROS. PLUMBING AND HEATING (CDPHP)","X",{"$f":"IF(ISNUMBER(FIND(\"MEDICAID\",A1030)),\"X\",\"\")","v":""},{"$f":"IF(ISNUMBER(FIND(\"MEDICARE\",A1030)),\"X\",\"\")","v":""},{"$f":"IF(ISNUMBER(FIND(\"BC/BS\",#REF!)),\"X\",\"\")","v":""}]
["CRUM & FORSTER","X",{"$f":"IF(ISNUMBER(FIND(\"MEDICAID\",A1031)),\"X\",\"\")","v":""},{"$f":"IF(ISNUMBER(FIND(\"MEDICARE\",A1031)),\"X\",\"\")","v":""},{"$f":"IF(ISNUMBER(FIND(\"BC/BS\",#REF!)),\"X\",\"\")","v":""}]
["CSI LIFE INSURANCE COMPANY (IAS ADMIN)","X",{"$f":"IF(ISNUMBER(FIND(\"MEDICAID\",A1032)),\"X\",\"\")","v":""},{"$f":"IF(ISNUMBER(FIND(\"MEDICARE\",A1032)),\"X\",\"\")","v":""},{"$f":"IF(ISNUMBER(FIND(\"BC/BS\",#REF!)),\"X\",\"\")","v":""}]
["CU BOULDER (AMERIBEN)",null,{"$f":"IF(ISNUMBER(FIND(\"MEDICAID\",A1033)),\"X\",\"\")","v":""},{"$f":"IF(ISNUMBER(FIND(\"MEDICARE\",A1033)),\"X\",\"\")","v":""},{"$f":"IF(ISNUMBER(FIND(\"BC/BS\",#REF!)),\"X\",\"\")","v":""}]
["CULP (MAESTRO HEALTH)","X",{"$f":"IF(ISNUMBER(FIND(\"MEDICAID\",A1034)),\"X\",\"\")","v":""},{"$f":"IF(ISNUMBER(FIND(\"MEDICARE\",A1034)),\"X\",\"\")","v":""},{"$f":"IF(ISNUMBER(FIND(\"BC/BS\",#REF!)),\"X\",\"\")","v":""}]
["CUMMING MANAGEMENT GROUP INC (HEALTHCOMP)",null,{"$f":"IF(ISNUMBER(FIND(\"MEDICAID\",A1035)),\"X\",\"\")","v":""},{"$f":"IF(ISNUMBER(FIND(\"MEDICARE\",A1035)),\"X\",\"\")","v":""},{"$f":"IF(ISNUMBER(FIND(\"BC/BS\",#REF!)),\"X\",\"\")","v":""}]
["CURTIS C GUNN INC (GROUP & PENSION ADMIN)","X",{"$f":"IF(ISNUMBER(FIND(\"MEDICAID\",A1036)),\"X\",\"\")","v":""},{"$f":"IF(ISNUMBER(FIND(\"MEDICARE\",A1036)),\"X\",\"\")","v":""},{"$f":"IF(ISNUMBER(FIND(\"BC/BS\",#REF!)),\"X\",\"\")","v":""}]
["CURTIS LUMBER COMPANY (MVP HEALTH CARE)","X",{"$f":"IF(ISNUMBER(FIND(\"MEDICAID\",A1037)),\"X\",\"\")","v":""},{"$f":"IF(ISNUMBER(FIND(\"MEDICARE\",A1037)),\"X\",\"\")","v":""},{"$f":"IF(ISNUMBER(FIND(\"BC/BS\",#REF!)),\"X\",\"\")","v":""}]
["CUSTOM DESIGN BENEFITS","X",{"$f":"IF(ISNUMBER(FIND(\"MEDICAID\",A1038)),\"X\",\"\")","v":""},{"$f":"IF(ISNUMBER(FIND(\"MEDICARE\",A1038)),\"X\",\"\")","v":""},{"$f":"IF(ISNUMBER(FIND(\"BC/BS\",#REF!)),\"X\",\"\")","v":""}]
["CUSTOM INK LLC (WEBTPA)","X",{"$f":"IF(ISNUMBER(FIND(\"MEDICAID\",A1039)),\"X\",\"\")","v":""},{"$f":"IF(ISNUMBER(FIND(\"MEDICARE\",A1039)),\"X\",\"\")","v":""},{"$f":"IF(ISNUMBER(FIND(\"BC/BS\",#REF!)),\"X\",\"\")","v":""}]
["CUSTOM MARBLE (IPMG)","X",{"$f":"IF(ISNUMBER(FIND(\"MEDICAID\",A1040)),\"X\",\"\")","v":""},{"$f":"IF(ISNUMBER(FIND(\"MEDICARE\",A1040)),\"X\",\"\")","v":""},{"$f":"IF(ISNUMBER(FIND(\"BC/BS\",#REF!)),\"X\",\"\")","v":""}]
["CUSTOM VINYL PRODUCTS LLC (SENTARA)","X",{"$f":"IF(ISNUMBER(FIND(\"MEDICAID\",A1041)),\"X\",\"\")","v":""},{"$f":"IF(ISNUMBER(FIND(\"MEDICARE\",A1041)),\"X\",\"\")","v":""},{"$f":"IF(ISNUMBER(FIND(\"BC/BS\",#REF!)),\"X\",\"\")","v":""}]
["CV INDUSTRIES (THE HEALTH PLAN)",null,{"$f":"IF(ISNUMBER(FIND(\"MEDICAID\",A1042)),\"X\",\"\")","v":""},{"$f":"IF(ISNUMBER(FIND(\"MEDICARE\",A1042)),\"X\",\"\")","v":""},{"$f":"IF(ISNUMBER(FIND(\"BC/BS\",#REF!)),\"X\",\"\")","v":""}]
["CYPRESS BENEFIT ADMINISTRATORS","X",{"$f":"IF(ISNUMBER(FIND(\"MEDICAID\",A1043)),\"X\",\"\")","v":""},{"$f":"IF(ISNUMBER(FIND(\"MEDICARE\",A1043)),\"X\",\"\")","v":""},{"$f":"IF(ISNUMBER(FIND(\"BC/BS\",#REF!)),\"X\",\"\")","v":""}]
["CYRACOM INTERNATIONAL INC (WEBTPA)","X",{"$f":"IF(ISNUMBER(FIND(\"MEDICAID\",A1044)),\"X\",\"\")","v":""},{"$f":"IF(ISNUMBER(FIND(\"MEDICARE\",A1044)),\"X\",\"\")","v":""},{"$f":"IF(ISNUMBER(FIND(\"BC/BS\",#REF!)),\"X\",\"\")","v":""}]
["D COURTNEY CONSTRUCTION INC (GROUP & PENSION ADMIN)",null,{"$f":"IF(ISNUMBER(FIND(\"MEDICAID\",A1045)),\"X\",\"\")","v":""},{"$f":"IF(ISNUMBER(FIND(\"MEDICARE\",A1045)),\"X\",\"\")","v":""},{"$f":"IF(ISNUMBER(FIND(\"BC/BS\",#REF!)),\"X\",\"\")","v":""}]
["D&L STEEL EBPT (90 DEGREE BENEFITS HOUSTON - ENTRUST)",null,{"$f":"IF(ISNUMBER(FIND(\"MEDICAID\",A1046)),\"X\",\"\")","v":""},{"$f":"IF(ISNUMBER(FIND(\"MEDICARE\",A1046)),\"X\",\"\")","v":""},{"$f":"IF(ISNUMBER(FIND(\"BC/BS\",#REF!)),\"X\",\"\")","v":""}]
["DAKOTACARE ADMINISTRATIVE SERVICES","X",{"$f":"IF(ISNUMBER(FIND(\"MEDICAID\",A1047)),\"X\",\"\")","v":""},{"$f":"IF(ISNUMBER(FIND(\"MEDICARE\",A1047)),\"X\",\"\")","v":""},{"$f":"IF(ISNUMBER(FIND(\"BC/BS\",#REF!)),\"X\",\"\")","v":""}]
["DALLAS THEOLOGICAL SEMINARY (GROUP & PENSION ADMIN)","X",{"$f":"IF(ISNUMBER(FIND(\"MEDICAID\",A1048)),\"X\",\"\")","v":""},{"$f":"IF(ISNUMBER(FIND(\"MEDICARE\",A1048)),\"X\",\"\")","v":""},{"$f":"IF(ISNUMBER(FIND(\"BC/BS\",#REF!)),\"X\",\"\")","v":""}]
["DALLAS VA MEDICAL CENTER","X",{"$f":"IF(ISNUMBER(FIND(\"MEDICAID\",A1049)),\"X\",\"\")","v":""},{"$f":"IF(ISNUMBER(FIND(\"MEDICARE\",A1049)),\"X\",\"\")","v":""},{"$f":"IF(ISNUMBER(FIND(\"BC/BS\",#REF!)),\"X\",\"\")","v":""}]
["DANIEL H. COOK ASSOCIATES INC","X",{"$f":"IF(ISNUMBER(FIND(\"MEDICAID\",A1050)),\"X\",\"\")","v":""},{"$f":"IF(ISNUMBER(FIND(\"MEDICARE\",A1050)),\"X\",\"\")","v":""},{"$f":"IF(ISNUMBER(FIND(\"BC/BS\",#REF!)),\"X\",\"\")","v":""}]
["DANVILLE VA MEDICAL CENTER","X",{"$f":"IF(ISNUMBER(FIND(\"MEDICAID\",A1051)),\"X\",\"\")","v":""},{"$f":"IF(ISNUMBER(FIND(\"MEDICARE\",A1051)),\"X\",\"\")","v":""},{"$f":"IF(ISNUMBER(FIND(\"BC/BS\",#REF!)),\"X\",\"\")","v":""}]
["DATARX MANAGEMENT",null,{"$f":"IF(ISNUMBER(FIND(\"MEDICAID\",A1052)),\"X\",\"\")","v":""},{"$f":"IF(ISNUMBER(FIND(\"MEDICARE\",A1052)),\"X\",\"\")","v":""},{"$f":"IF(ISNUMBER(FIND(\"BC/BS\",#REF!)),\"X\",\"\")","v":""}]
["DAVIES","X",{"$f":"IF(ISNUMBER(FIND(\"MEDICAID\",A1053)),\"X\",\"\")","v":""},{"$f":"IF(ISNUMBER(FIND(\"MEDICARE\",A1053)),\"X\",\"\")","v":""},{"$f":"IF(ISNUMBER(FIND(\"BC/BS\",#REF!)),\"X\",\"\")","v":""}]
["DAVIS VISION (SUPERIOR VISION)","X",{"$f":"IF(ISNUMBER(FIND(\"MEDICAID\",A1054)),\"X\",\"\")","v":""},{"$f":"IF(ISNUMBER(FIND(\"MEDICARE\",A1054)),\"X\",\"\")","v":""},{"$f":"IF(ISNUMBER(FIND(\"BC/BS\",#REF!)),\"X\",\"\")","v":""}]
["DAVIS VISION BY METLIFE","X",{"$f":"IF(ISNUMBER(FIND(\"MEDICAID\",A1055)),\"X\",\"\")","v":""},{"$f":"IF(ISNUMBER(FIND(\"MEDICARE\",A1055)),\"X\",\"\")","v":""},{"$f":"IF(ISNUMBER(FIND(\"BC/BS\",#REF!)),\"X\",\"\")","v":""}]
["DAVIS VISION IPA INC",null,{"$f":"IF(ISNUMBER(FIND(\"MEDICAID\",A1056)),\"X\",\"\")","v":""},{"$f":"IF(ISNUMBER(FIND(\"MEDICARE\",A1056)),\"X\",\"\")","v":""},{"$f":"IF(ISNUMBER(FIND(\"BC/BS\",#REF!)),\"X\",\"\")","v":""}]
["DAVITA MEDICAL IPA WASHINGTON PLLC (NORTHWEST PHYSICIANS NETWORK)","X",{"$f":"IF(ISNUMBER(FIND(\"MEDICAID\",A1057)),\"X\",\"\")","v":""},{"$f":"IF(ISNUMBER(FIND(\"MEDICARE\",A1057)),\"X\",\"\")","v":""},{"$f":"IF(ISNUMBER(FIND(\"BC/BS\",#REF!)),\"X\",\"\")","v":""}]
["DAYTON VA MEDICAL CENTER","X",{"$f":"IF(ISNUMBER(FIND(\"MEDICAID\",A1058)),\"X\",\"\")","v":""},{"$f":"IF(ISNUMBER(FIND(\"MEDICARE\",A1058)),\"X\",\"\")","v":""},{"$f":"IF(ISNUMBER(FIND(\"BC/BS\",#REF!)),\"X\",\"\")","v":""}]
["DCP SERVICES LLC (AMERIBEN)",null,{"$f":"IF(ISNUMBER(FIND(\"MEDICAID\",A1059)),\"X\",\"\")","v":""},{"$f":"IF(ISNUMBER(FIND(\"MEDICARE\",A1059)),\"X\",\"\")","v":""},{"$f":"IF(ISNUMBER(FIND(\"BC/BS\",#REF!)),\"X\",\"\")","v":""}]
["DEALERS ELECTRICAL SUPPLY CO (GROUP & PENSION ADMIN)","X",{"$f":"IF(ISNUMBER(FIND(\"MEDICAID\",A1060)),\"X\",\"\")","v":""},{"$f":"IF(ISNUMBER(FIND(\"MEDICARE\",A1060)),\"X\",\"\")","v":""},{"$f":"IF(ISNUMBER(FIND(\"BC/BS\",#REF!)),\"X\",\"\")","v":""}]
["DEAN HEALTH PLAN (WEBTPA)","X",{"$f":"IF(ISNUMBER(FIND(\"MEDICAID\",A1061)),\"X\",\"\")","v":""},{"$f":"IF(ISNUMBER(FIND(\"MEDICARE\",A1061)),\"X\",\"\")","v":""},{"$f":"IF(ISNUMBER(FIND(\"BC/BS\",#REF!)),\"X\",\"\")","v":""}]
["DEAN HEALTH PLAN INC","X",{"$f":"IF(ISNUMBER(FIND(\"MEDICAID\",A1062)),\"X\",\"\")","v":""},{"$f":"IF(ISNUMBER(FIND(\"MEDICARE\",A1062)),\"X\",\"\")","v":""},{"$f":"IF(ISNUMBER(FIND(\"BC/BS\",#REF!)),\"X\",\"\")","v":""}]
["DEARBORN NATIONAL","X",{"$f":"IF(ISNUMBER(FIND(\"MEDICAID\",A1063)),\"X\",\"\")","v":""},{"$f":"IF(ISNUMBER(FIND(\"MEDICARE\",A1063)),\"X\",\"\")","v":""},{"$f":"IF(ISNUMBER(FIND(\"BC/BS\",#REF!)),\"X\",\"\")","v":""}]
["DECATUR COUNTY BOARD OF COMMISSION (MAA/HEALTHSMART)",null,{"$f":"IF(ISNUMBER(FIND(\"MEDICAID\",A1064)),\"X\",\"\")","v":""},{"$f":"IF(ISNUMBER(FIND(\"MEDICARE\",A1064)),\"X\",\"\")","v":""},{"$f":"IF(ISNUMBER(FIND(\"BC/BS\",#REF!)),\"X\",\"\")","v":""}]
["DECRESCENTE DISTRIBUTING CO INC (CDPHP)","X",{"$f":"IF(ISNUMBER(FIND(\"MEDICAID\",A1065)),\"X\",\"\")","v":""},{"$f":"IF(ISNUMBER(FIND(\"MEDICARE\",A1065)),\"X\",\"\")","v":""},{"$f":"IF(ISNUMBER(FIND(\"BC/BS\",#REF!)),\"X\",\"\")","v":""}]
["DEDC INC (GROUP & PENSION ADMIN)",null,{"$f":"IF(ISNUMBER(FIND(\"MEDICAID\",A1066)),\"X\",\"\")","v":""},{"$f":"IF(ISNUMBER(FIND(\"MEDICARE\",A1066)),\"X\",\"\")","v":""},{"$f":"IF(ISNUMBER(FIND(\"BC/BS\",#REF!)),\"X\",\"\")","v":""}]
["DEER PARK LUMBER INC (GEISINGER HEALTH PLAN)","X",{"$f":"IF(ISNUMBER(FIND(\"MEDICAID\",A1067)),\"X\",\"\")","v":""},{"$f":"IF(ISNUMBER(FIND(\"MEDICARE\",A1067)),\"X\",\"\")","v":""},{"$f":"IF(ISNUMBER(FIND(\"BC/BS\",#REF!)),\"X\",\"\")","v":""}]
["DELAWARE COUNTY GOVERNMENT (GROUP & PENSION ADMIN)","X",{"$f":"IF(ISNUMBER(FIND(\"MEDICAID\",A1068)),\"X\",\"\")","v":""},{"$f":"IF(ISNUMBER(FIND(\"MEDICARE\",A1068)),\"X\",\"\")","v":""},{"$f":"IF(ISNUMBER(FIND(\"BC/BS\",#REF!)),\"X\",\"\")","v":""}]
["DELICATO VINEYARDS LLC (HEALTHCOMP)",null,{"$f":"IF(ISNUMBER(FIND(\"MEDICAID\",A1069)),\"X\",\"\")","v":""},{"$f":"IF(ISNUMBER(FIND(\"MEDICARE\",A1069)),\"X\",\"\")","v":""},{"$f":"IF(ISNUMBER(FIND(\"BC/BS\",#REF!)),\"X\",\"\")","v":""}]
["DELK INDUSTRIES EBPT (90 DEGREE BENEFITS HOUSTON - ENTRUST)",null,{"$f":"IF(ISNUMBER(FIND(\"MEDICAID\",A1070)),\"X\",\"\")","v":""},{"$f":"IF(ISNUMBER(FIND(\"MEDICARE\",A1070)),\"X\",\"\")","v":""},{"$f":"IF(ISNUMBER(FIND(\"BC/BS\",#REF!)),\"X\",\"\")","v":""}]
["DELL CHILDREN'S HEALTH PLAN",null,{"$f":"IF(ISNUMBER(FIND(\"MEDICAID\",A1071)),\"X\",\"\")","v":""},{"$f":"IF(ISNUMBER(FIND(\"MEDICARE\",A1071)),\"X\",\"\")","v":""},{"$f":"IF(ISNUMBER(FIND(\"BC/BS\",#REF!)),\"X\",\"\")","v":""}]
["DELTA DENTAL INSURANCE CO","X",{"$f":"IF(ISNUMBER(FIND(\"MEDICAID\",A1072)),\"X\",\"\")","v":""},{"$f":"IF(ISNUMBER(FIND(\"MEDICARE\",A1072)),\"X\",\"\")","v":""},{"$f":"IF(ISNUMBER(FIND(\"BC/BS\",#REF!)),\"X\",\"\")","v":""}]
["DELTA DENTAL OF CALIFORNIA","X",{"$f":"IF(ISNUMBER(FIND(\"MEDICAID\",A1073)),\"X\",\"\")","v":""},{"$f":"IF(ISNUMBER(FIND(\"MEDICARE\",A1073)),\"X\",\"\")","v":""},{"$f":"IF(ISNUMBER(FIND(\"BC/BS\",#REF!)),\"X\",\"\")","v":""}]
["DELTA DENTAL OF DELAWARE","X",{"$f":"IF(ISNUMBER(FIND(\"MEDICAID\",A1074)),\"X\",\"\")","v":""},{"$f":"IF(ISNUMBER(FIND(\"MEDICARE\",A1074)),\"X\",\"\")","v":""},{"$f":"IF(ISNUMBER(FIND(\"BC/BS\",#REF!)),\"X\",\"\")","v":""}]
["DELTA DENTAL OF DISTRICT OF COLUMBIA","X",{"$f":"IF(ISNUMBER(FIND(\"MEDICAID\",A1075)),\"X\",\"\")","v":""},{"$f":"IF(ISNUMBER(FIND(\"MEDICARE\",A1075)),\"X\",\"\")","v":""},{"$f":"IF(ISNUMBER(FIND(\"BC/BS\",#REF!)),\"X\",\"\")","v":""}]
["DELTA DENTAL OF IOWA","X",{"$f":"IF(ISNUMBER(FIND(\"MEDICAID\",A1076)),\"X\",\"\")","v":""},{"$f":"IF(ISNUMBER(FIND(\"MEDICARE\",A1076)),\"X\",\"\")","v":""},{"$f":"IF(ISNUMBER(FIND(\"BC/BS\",#REF!)),\"X\",\"\")","v":""}]
["DELTA DENTAL OF NEBRASKA",null,{"$f":"IF(ISNUMBER(FIND(\"MEDICAID\",A1077)),\"X\",\"\")","v":""},{"$f":"IF(ISNUMBER(FIND(\"MEDICARE\",A1077)),\"X\",\"\")","v":""},{"$f":"IF(ISNUMBER(FIND(\"BC/BS\",#REF!)),\"X\",\"\")","v":""}]
["DELTA DENTAL OF NEW YORK","X",{"$f":"IF(ISNUMBER(FIND(\"MEDICAID\",A1078)),\"X\",\"\")","v":""},{"$f":"IF(ISNUMBER(FIND(\"MEDICARE\",A1078)),\"X\",\"\")","v":""},{"$f":"IF(ISNUMBER(FIND(\"BC/BS\",#REF!)),\"X\",\"\")","v":""}]
["DELTA DENTAL OF PENNSYLVANIA","X",{"$f":"IF(ISNUMBER(FIND(\"MEDICAID\",A1079)),\"X\",\"\")","v":""},{"$f":"IF(ISNUMBER(FIND(\"MEDICARE\",A1079)),\"X\",\"\")","v":""},{"$f":"IF(ISNUMBER(FIND(\"BC/BS\",#REF!)),\"X\",\"\")","v":""}]
["DELTA HEALTH SYSTEMS","X",{"$f":"IF(ISNUMBER(FIND(\"MEDICAID\",A1080)),\"X\",\"\")","v":""},{"$f":"IF(ISNUMBER(FIND(\"MEDICARE\",A1080)),\"X\",\"\")","v":""},{"$f":"IF(ISNUMBER(FIND(\"BC/BS\",#REF!)),\"X\",\"\")","v":""}]
["DEMOESS SCRIPTS INC (EXPRESS SCRIPTS)",null,{"$f":"IF(ISNUMBER(FIND(\"MEDICAID\",A1081)),\"X\",\"\")","v":""},{"$f":"IF(ISNUMBER(FIND(\"MEDICARE\",A1081)),\"X\",\"\")","v":""},{"$f":"IF(ISNUMBER(FIND(\"BC/BS\",#REF!)),\"X\",\"\")","v":""}]
["DEMONTROND AUTOMOTIVE EBPT (90 DEGREE BENEFITS HOUSTON - ENTRUST)",null,{"$f":"IF(ISNUMBER(FIND(\"MEDICAID\",A1082)),\"X\",\"\")","v":""},{"$f":"IF(ISNUMBER(FIND(\"MEDICARE\",A1082)),\"X\",\"\")","v":""},{"$f":"IF(ISNUMBER(FIND(\"BC/BS\",#REF!)),\"X\",\"\")","v":""}]
["DENBIGH CONSTRUCTION CO (SENTARA)","X",{"$f":"IF(ISNUMBER(FIND(\"MEDICAID\",A1083)),\"X\",\"\")","v":""},{"$f":"IF(ISNUMBER(FIND(\"MEDICARE\",A1083)),\"X\",\"\")","v":""},{"$f":"IF(ISNUMBER(FIND(\"BC/BS\",#REF!)),\"X\",\"\")","v":""}]
["DENTAQUEST IPA OF NEW YORK LLC","X",{"$f":"IF(ISNUMBER(FIND(\"MEDICAID\",A1084)),\"X\",\"\")","v":""},{"$f":"IF(ISNUMBER(FIND(\"MEDICARE\",A1084)),\"X\",\"\")","v":""},{"$f":"IF(ISNUMBER(FIND(\"BC/BS\",#REF!)),\"X\",\"\")","v":""}]
["DENTAQUEST LLC","X",{"$f":"IF(ISNUMBER(FIND(\"MEDICAID\",A1085)),\"X\",\"\")","v":""},{"$f":"IF(ISNUMBER(FIND(\"MEDICARE\",A1085)),\"X\",\"\")","v":""},{"$f":"IF(ISNUMBER(FIND(\"BC/BS\",#REF!)),\"X\",\"\")","v":""}]
["DENTAQUEST OF ILLINOIS LLC","X",{"$f":"IF(ISNUMBER(FIND(\"MEDICAID\",A1086)),\"X\",\"\")","v":""},{"$f":"IF(ISNUMBER(FIND(\"MEDICARE\",A1086)),\"X\",\"\")","v":""},{"$f":"IF(ISNUMBER(FIND(\"BC/BS\",#REF!)),\"X\",\"\")","v":""}]
["DENVER HEALTH MEDICAL PLAN INC",null,{"$f":"IF(ISNUMBER(FIND(\"MEDICAID\",A1087)),\"X\",\"\")","v":""},{"$f":"IF(ISNUMBER(FIND(\"MEDICARE\",A1087)),\"X\",\"\")","v":""},{"$f":"IF(ISNUMBER(FIND(\"BC/BS\",#REF!)),\"X\",\"\")","v":""}]
["DENVER VA MEDICAL CENTER",null,{"$f":"IF(ISNUMBER(FIND(\"MEDICAID\",A1088)),\"X\",\"\")","v":""},{"$f":"IF(ISNUMBER(FIND(\"MEDICARE\",A1088)),\"X\",\"\")","v":""},{"$f":"IF(ISNUMBER(FIND(\"BC/BS\",#REF!)),\"X\",\"\")","v":""}]
["DEPARTMENT OF LABOR - ENERGY","X",{"$f":"IF(ISNUMBER(FIND(\"MEDICAID\",A1089)),\"X\",\"\")","v":""},{"$f":"IF(ISNUMBER(FIND(\"MEDICARE\",A1089)),\"X\",\"\")","v":""},{"$f":"IF(ISNUMBER(FIND(\"BC/BS\",#REF!)),\"X\",\"\")","v":""},"X"]
["DEPEW UNION FREE SCHOOL DISTRICT (INDEPENDENT HEALTH)",null,{"$f":"IF(ISNUMBER(FIND(\"MEDICAID\",A1090)),\"X\",\"\")","v":""},{"$f":"IF(ISNUMBER(FIND(\"MEDICARE\",A1090)),\"X\",\"\")","v":""},{"$f":"IF(ISNUMBER(FIND(\"BC/BS\",#REF!)),\"X\",\"\")","v":""}]
["DERBY FABRICATING SOLUTIONS (GROUP & PENSION ADMIN)","X",{"$f":"IF(ISNUMBER(FIND(\"MEDICAID\",A1091)),\"X\",\"\")","v":""},{"$f":"IF(ISNUMBER(FIND(\"MEDICARE\",A1091)),\"X\",\"\")","v":""},{"$f":"IF(ISNUMBER(FIND(\"BC/BS\",#REF!)),\"X\",\"\")","v":""}]
["DES MOINES VA MEDICAL CENTER","X",{"$f":"IF(ISNUMBER(FIND(\"MEDICAID\",A1092)),\"X\",\"\")","v":""},{"$f":"IF(ISNUMBER(FIND(\"MEDICARE\",A1092)),\"X\",\"\")","v":""},{"$f":"IF(ISNUMBER(FIND(\"BC/BS\",#REF!)),\"X\",\"\")","v":""}]
["DESERET MUTUAL BENEFIT ADMINISTRATORS -  BYU & ENSIGN COLLEGE STUDENT HEALTH PLAN ON-CAMPUS COVERAGE (DMBA)","X",{"$f":"IF(ISNUMBER(FIND(\"MEDICAID\",A1093)),\"X\",\"\")","v":""},{"$f":"IF(ISNUMBER(FIND(\"MEDICARE\",A1093)),\"X\",\"\")","v":""},{"$f":"IF(ISNUMBER(FIND(\"BC/BS\",#REF!)),\"X\",\"\")","v":""}]
["DESERET MUTUAL BENEFIT ADMINISTRATORS - BYU HAWAII STUDENT HEALTH PLAN (DMBA)","X",{"$f":"IF(ISNUMBER(FIND(\"MEDICAID\",A1094)),\"X\",\"\")","v":""},{"$f":"IF(ISNUMBER(FIND(\"MEDICARE\",A1094)),\"X\",\"\")","v":""},{"$f":"IF(ISNUMBER(FIND(\"BC/BS\",#REF!)),\"X\",\"\")","v":""}]
["DESERET MUTUAL BENEFIT ADMINISTRATORS - DESERET ALLIANCE (DMBA)","X",{"$f":"IF(ISNUMBER(FIND(\"MEDICAID\",A1095)),\"X\",\"\")","v":""},{"$f":"IF(ISNUMBER(FIND(\"MEDICARE\",A1095)),\"X\",\"\")","v":""},{"$f":"IF(ISNUMBER(FIND(\"BC/BS\",#REF!)),\"X\",\"\")","v":""}]
["DESERET MUTUAL BENEFIT ADMINISTRATORS - DESERET CHOICE HAWAII / DESERET ALLIANCE (DMBA)","X",{"$f":"IF(ISNUMBER(FIND(\"MEDICAID\",A1096)),\"X\",\"\")","v":""},{"$f":"IF(ISNUMBER(FIND(\"MEDICARE\",A1096)),\"X\",\"\")","v":""},{"$f":"IF(ISNUMBER(FIND(\"BC/BS\",#REF!)),\"X\",\"\")","v":""}]
["DESERET MUTUAL BENEFIT ADMINISTRATORS - DESERET PREMIER / DESERET ALLIANCE (DMBA)","X",{"$f":"IF(ISNUMBER(FIND(\"MEDICAID\",A1097)),\"X\",\"\")","v":""},{"$f":"IF(ISNUMBER(FIND(\"MEDICARE\",A1097)),\"X\",\"\")","v":""},{"$f":"IF(ISNUMBER(FIND(\"BC/BS\",#REF!)),\"X\",\"\")","v":""}]
["DESERET MUTUAL BENEFIT ADMINISTRATORS - DESERET PROTECT / DESERET ALLIANCE (DMBA)","X",{"$f":"IF(ISNUMBER(FIND(\"MEDICAID\",A1098)),\"X\",\"\")","v":""},{"$f":"IF(ISNUMBER(FIND(\"MEDICARE\",A1098)),\"X\",\"\")","v":""},{"$f":"IF(ISNUMBER(FIND(\"BC/BS\",#REF!)),\"X\",\"\")","v":""}]
["DESERET MUTUAL BENEFIT ADMINISTRATORS - DESERET SELECT / DESERET ALLIANCE (DMBA)","X",{"$f":"IF(ISNUMBER(FIND(\"MEDICAID\",A1099)),\"X\",\"\")","v":""},{"$f":"IF(ISNUMBER(FIND(\"MEDICARE\",A1099)),\"X\",\"\")","v":""},{"$f":"IF(ISNUMBER(FIND(\"BC/BS\",#REF!)),\"X\",\"\")","v":""}]
["DESERET MUTUAL BENEFIT ADMINISTRATORS - DESERET VALUE / DESERET ALLIANCE (DMBA)","X",{"$f":"IF(ISNUMBER(FIND(\"MEDICAID\",A1100)),\"X\",\"\")","v":""},{"$f":"IF(ISNUMBER(FIND(\"MEDICARE\",A1100)),\"X\",\"\")","v":""},{"$f":"IF(ISNUMBER(FIND(\"BC/BS\",#REF!)),\"X\",\"\")","v":""}]
["DESERET MUTUAL BENEFIT ADMINISTRATORS - MISSIONARY MEDICAL - MISSION PRESIDENT (DMBA)",null,{"$f":"IF(ISNUMBER(FIND(\"MEDICAID\",A1101)),\"X\",\"\")","v":""},{"$f":"IF(ISNUMBER(FIND(\"MEDICARE\",A1101)),\"X\",\"\")","v":""},{"$f":"IF(ISNUMBER(FIND(\"BC/BS\",#REF!)),\"X\",\"\")","v":""}]
["DESERET MUTUAL BENEFIT ADMINISTRATORS - MISSIONARY MEDICAL - YOUNG MISSIONARY (DMBA)",null,{"$f":"IF(ISNUMBER(FIND(\"MEDICAID\",A1102)),\"X\",\"\")","v":""},{"$f":"IF(ISNUMBER(FIND(\"MEDICARE\",A1102)),\"X\",\"\")","v":""},{"$f":"IF(ISNUMBER(FIND(\"BC/BS\",#REF!)),\"X\",\"\")","v":""}]
["DESERET MUTUAL BENEFIT ADMINISTRATORS - NON-MEDICAL COVERAGE ONLY (ENROLLED IN PDP)(DMBA)",null,{"$f":"IF(ISNUMBER(FIND(\"MEDICAID\",A1103)),\"X\",\"\")","v":""},{"$f":"IF(ISNUMBER(FIND(\"MEDICARE\",A1103)),\"X\",\"\")","v":""},{"$f":"IF(ISNUMBER(FIND(\"BC/BS\",#REF!)),\"X\",\"\")","v":""}]
["DESERET MUTUAL BENEFIT ADMINISTRATORS - NOT ELIGIBLE FOR MEDICAL (DMBA)",null,{"$f":"IF(ISNUMBER(FIND(\"MEDICAID\",A1104)),\"X\",\"\")","v":""},{"$f":"IF(ISNUMBER(FIND(\"MEDICARE\",A1104)),\"X\",\"\")","v":""},{"$f":"IF(ISNUMBER(FIND(\"BC/BS\",#REF!)),\"X\",\"\")","v":""}]
["DESERET MUTUAL BENEFIT ADMINISTRATORS - WAIVED ALL COVERAGE (DMBA)",null,{"$f":"IF(ISNUMBER(FIND(\"MEDICAID\",A1105)),\"X\",\"\")","v":""},{"$f":"IF(ISNUMBER(FIND(\"MEDICARE\",A1105)),\"X\",\"\")","v":""},{"$f":"IF(ISNUMBER(FIND(\"BC/BS\",#REF!)),\"X\",\"\")","v":""}]
["DESERT OASIS HEALTHCARE","X",{"$f":"IF(ISNUMBER(FIND(\"MEDICAID\",A1106)),\"X\",\"\")","v":""},{"$f":"IF(ISNUMBER(FIND(\"MEDICARE\",A1106)),\"X\",\"\")","v":""},{"$f":"IF(ISNUMBER(FIND(\"BC/BS\",#REF!)),\"X\",\"\")","v":""}]
["DETROIT RESCUE MISSION MINISTRIES (ASR HEALTH BENEFITS)","X",{"$f":"IF(ISNUMBER(FIND(\"MEDICAID\",A1107)),\"X\",\"\")","v":""},{"$f":"IF(ISNUMBER(FIND(\"MEDICARE\",A1107)),\"X\",\"\")","v":""},{"$f":"IF(ISNUMBER(FIND(\"BC/BS\",#REF!)),\"X\",\"\")","v":""}]
["DEVON ENERGY (MAA/HEALTHSMART)",null,{"$f":"IF(ISNUMBER(FIND(\"MEDICAID\",A1108)),\"X\",\"\")","v":""},{"$f":"IF(ISNUMBER(FIND(\"MEDICARE\",A1108)),\"X\",\"\")","v":""},{"$f":"IF(ISNUMBER(FIND(\"BC/BS\",#REF!)),\"X\",\"\")","v":""}]
["DEVOTED HEALTH INSURANCE COMPANY","X",{"$f":"IF(ISNUMBER(FIND(\"MEDICAID\",A1109)),\"X\",\"\")","v":""},{"$f":"IF(ISNUMBER(FIND(\"MEDICARE\",A1109)),\"X\",\"\")","v":""},{"$f":"IF(ISNUMBER(FIND(\"BC/BS\",#REF!)),\"X\",\"\")","v":""}]
["DEVOTED HEALTH INSURANCE COMPANY OF FLORIDA INC","X",{"$f":"IF(ISNUMBER(FIND(\"MEDICAID\",A1110)),\"X\",\"\")","v":""},{"$f":"IF(ISNUMBER(FIND(\"MEDICARE\",A1110)),\"X\",\"\")","v":""},{"$f":"IF(ISNUMBER(FIND(\"BC/BS\",#REF!)),\"X\",\"\")","v":""}]
["DEVOTED HEALTH PLAN OF ARIZONA INC","X",{"$f":"IF(ISNUMBER(FIND(\"MEDICAID\",A1111)),\"X\",\"\")","v":""},{"$f":"IF(ISNUMBER(FIND(\"MEDICARE\",A1111)),\"X\",\"\")","v":""},{"$f":"IF(ISNUMBER(FIND(\"BC/BS\",#REF!)),\"X\",\"\")","v":""}]
["DEVOTED HEALTH PLAN OF FLORIDA INC","X",{"$f":"IF(ISNUMBER(FIND(\"MEDICAID\",A1112)),\"X\",\"\")","v":""},{"$f":"IF(ISNUMBER(FIND(\"MEDICARE\",A1112)),\"X\",\"\")","v":""},{"$f":"IF(ISNUMBER(FIND(\"BC/BS\",#REF!)),\"X\",\"\")","v":""}]
["DEVOTED HEALTH PLAN OF ILLINOIS INC","X",{"$f":"IF(ISNUMBER(FIND(\"MEDICAID\",A1113)),\"X\",\"\")","v":""},{"$f":"IF(ISNUMBER(FIND(\"MEDICARE\",A1113)),\"X\",\"\")","v":""},{"$f":"IF(ISNUMBER(FIND(\"BC/BS\",#REF!)),\"X\",\"\")","v":""}]
["DEVOTED HEALTH PLAN OF OHIO INC","X",{"$f":"IF(ISNUMBER(FIND(\"MEDICAID\",A1114)),\"X\",\"\")","v":""},{"$f":"IF(ISNUMBER(FIND(\"MEDICARE\",A1114)),\"X\",\"\")","v":""},{"$f":"IF(ISNUMBER(FIND(\"BC/BS\",#REF!)),\"X\",\"\")","v":""}]
["DEVOTED HEALTH PLAN OF TEXAS INC","X",{"$f":"IF(ISNUMBER(FIND(\"MEDICAID\",A1115)),\"X\",\"\")","v":""},{"$f":"IF(ISNUMBER(FIND(\"MEDICARE\",A1115)),\"X\",\"\")","v":""},{"$f":"IF(ISNUMBER(FIND(\"BC/BS\",#REF!)),\"X\",\"\")","v":""}]
["DHS CAS - SIHO","X",{"$f":"IF(ISNUMBER(FIND(\"MEDICAID\",A1116)),\"X\",\"\")","v":""},{"$f":"IF(ISNUMBER(FIND(\"MEDICARE\",A1116)),\"X\",\"\")","v":""},{"$f":"IF(ISNUMBER(FIND(\"BC/BS\",#REF!)),\"X\",\"\")","v":""}]
["DHS FI (SIHO)","X",{"$f":"IF(ISNUMBER(FIND(\"MEDICAID\",A1117)),\"X\",\"\")","v":""},{"$f":"IF(ISNUMBER(FIND(\"MEDICARE\",A1117)),\"X\",\"\")","v":""},{"$f":"IF(ISNUMBER(FIND(\"BC/BS\",#REF!)),\"X\",\"\")","v":""}]
["DIAMOND GLAZING INC (SENTARA)","X",{"$f":"IF(ISNUMBER(FIND(\"MEDICAID\",A1118)),\"X\",\"\")","v":""},{"$f":"IF(ISNUMBER(FIND(\"MEDICARE\",A1118)),\"X\",\"\")","v":""},{"$f":"IF(ISNUMBER(FIND(\"BC/BS\",#REF!)),\"X\",\"\")","v":""}]
["DICK LAVY TRUCKING (GROUP & PENSION ADMIN)","X",{"$f":"IF(ISNUMBER(FIND(\"MEDICAID\",A1119)),\"X\",\"\")","v":""},{"$f":"IF(ISNUMBER(FIND(\"MEDICARE\",A1119)),\"X\",\"\")","v":""},{"$f":"IF(ISNUMBER(FIND(\"BC/BS\",#REF!)),\"X\",\"\")","v":""}]
["DIEHL OF BUTLER AUTOMOTIVE GROUP (GROUP & PENSION ADMIN)","X",{"$f":"IF(ISNUMBER(FIND(\"MEDICAID\",A1120)),\"X\",\"\")","v":""},{"$f":"IF(ISNUMBER(FIND(\"MEDICARE\",A1120)),\"X\",\"\")","v":""},{"$f":"IF(ISNUMBER(FIND(\"BC/BS\",#REF!)),\"X\",\"\")","v":""}]
["DIGNITY HEALTH - FRENCH HOSPITAL MEDICAL CENTER","X",{"$f":"IF(ISNUMBER(FIND(\"MEDICAID\",A1121)),\"X\",\"\")","v":""},{"$f":"IF(ISNUMBER(FIND(\"MEDICARE\",A1121)),\"X\",\"\")","v":""},{"$f":"IF(ISNUMBER(FIND(\"BC/BS\",#REF!)),\"X\",\"\")","v":""}]
["DIGNITY HEALTH - HILL HOSPITAL RISK",null,{"$f":"IF(ISNUMBER(FIND(\"MEDICAID\",A1122)),\"X\",\"\")","v":""},{"$f":"IF(ISNUMBER(FIND(\"MEDICARE\",A1122)),\"X\",\"\")","v":""},{"$f":"IF(ISNUMBER(FIND(\"BC/BS\",#REF!)),\"X\",\"\")","v":""}]
["DIGNITY HEALTH - INSTITUTIONAL - HPMG HOSPITAL RISK","X",{"$f":"IF(ISNUMBER(FIND(\"MEDICAID\",A1123)),\"X\",\"\")","v":""},{"$f":"IF(ISNUMBER(FIND(\"MEDICARE\",A1123)),\"X\",\"\")","v":""},{"$f":"IF(ISNUMBER(FIND(\"BC/BS\",#REF!)),\"X\",\"\")","v":""}]
["DIGNITY HEALTH - INSTITUTIONAL - MMG HOSPITAL RISK","X",{"$f":"IF(ISNUMBER(FIND(\"MEDICAID\",A1124)),\"X\",\"\")","v":""},{"$f":"IF(ISNUMBER(FIND(\"MEDICARE\",A1124)),\"X\",\"\")","v":""},{"$f":"IF(ISNUMBER(FIND(\"BC/BS\",#REF!)),\"X\",\"\")","v":""}]
["DIGNITY HEALTH - SACRAMENTO HOSPITAL RISK",null,{"$f":"IF(ISNUMBER(FIND(\"MEDICAID\",A1125)),\"X\",\"\")","v":""},{"$f":"IF(ISNUMBER(FIND(\"MEDICARE\",A1125)),\"X\",\"\")","v":""},{"$f":"IF(ISNUMBER(FIND(\"BC/BS\",#REF!)),\"X\",\"\")","v":""}]
["DIGNITY HEALTH - WHC INSTITUTIONAL-WHC HOSPITAL RISK","X",{"$f":"IF(ISNUMBER(FIND(\"MEDICAID\",A1126)),\"X\",\"\")","v":""},{"$f":"IF(ISNUMBER(FIND(\"MEDICARE\",A1126)),\"X\",\"\")","v":""},{"$f":"IF(ISNUMBER(FIND(\"BC/BS\",#REF!)),\"X\",\"\")","v":""}]
["DIGNITY HEALTH MANAGEMENT SERVICES","X",{"$f":"IF(ISNUMBER(FIND(\"MEDICAID\",A1127)),\"X\",\"\")","v":""},{"$f":"IF(ISNUMBER(FIND(\"MEDICARE\",A1127)),\"X\",\"\")","v":""},{"$f":"IF(ISNUMBER(FIND(\"BC/BS\",#REF!)),\"X\",\"\")","v":""}]
["DIGNITY HEALTH MEDICAL FOUNDATION  - MMG HOSPITAL RISK - PROFESSIONAL",null,{"$f":"IF(ISNUMBER(FIND(\"MEDICAID\",A1128)),\"X\",\"\")","v":""},{"$f":"IF(ISNUMBER(FIND(\"MEDICARE\",A1128)),\"X\",\"\")","v":""},{"$f":"IF(ISNUMBER(FIND(\"BC/BS\",#REF!)),\"X\",\"\")","v":""}]
["DIGNITY HEALTH MEDICAL FOUNDATION  - WHC HOSPITAL RISK - PROFESSIONAL",null,{"$f":"IF(ISNUMBER(FIND(\"MEDICAID\",A1129)),\"X\",\"\")","v":""},{"$f":"IF(ISNUMBER(FIND(\"MEDICARE\",A1129)),\"X\",\"\")","v":""},{"$f":"IF(ISNUMBER(FIND(\"BC/BS\",#REF!)),\"X\",\"\")","v":""}]
["DIGNITY HEALTH MEDICAL FOUNDATION - WHC HOSPITAL RISK - PROFESSIONAL",null,{"$f":"IF(ISNUMBER(FIND(\"MEDICAID\",A1130)),\"X\",\"\")","v":""},{"$f":"IF(ISNUMBER(FIND(\"MEDICARE\",A1130)),\"X\",\"\")","v":""},{"$f":"IF(ISNUMBER(FIND(\"BC/BS\",#REF!)),\"X\",\"\")","v":""}]
["DIGNITY HEALTH MEDICAL NETWORK  - INLAND EMPIRE PROFESSIONAL - IE PROFESSIONAL RISK","X",{"$f":"IF(ISNUMBER(FIND(\"MEDICAID\",A1131)),\"X\",\"\")","v":""},{"$f":"IF(ISNUMBER(FIND(\"MEDICARE\",A1131)),\"X\",\"\")","v":""},{"$f":"IF(ISNUMBER(FIND(\"BC/BS\",#REF!)),\"X\",\"\")","v":""}]
["DIGNITY HEALTH MEDICAL NETWORK - INLAND EMPIRE PROFESSIONAL - IE PROFESSIONAL RISK","X",{"$f":"IF(ISNUMBER(FIND(\"MEDICAID\",A1132)),\"X\",\"\")","v":""},{"$f":"IF(ISNUMBER(FIND(\"MEDICARE\",A1132)),\"X\",\"\")","v":""},{"$f":"IF(ISNUMBER(FIND(\"BC/BS\",#REF!)),\"X\",\"\")","v":""}]
["DIGNITY HEALTH PHYSICIAN NETWORK - MERCY INSTITUTIONAL - HILL HOSPITAL RISK","X",{"$f":"IF(ISNUMBER(FIND(\"MEDICAID\",A1133)),\"X\",\"\")","v":""},{"$f":"IF(ISNUMBER(FIND(\"MEDICARE\",A1133)),\"X\",\"\")","v":""},{"$f":"IF(ISNUMBER(FIND(\"BC/BS\",#REF!)),\"X\",\"\")","v":""}]
["DIGNITY HEALTH PHYSICIAN NETWORK - MERCY INSTITUTIONAL - SACRAMENTO HOSPITAL RISK","X",{"$f":"IF(ISNUMBER(FIND(\"MEDICAID\",A1134)),\"X\",\"\")","v":""},{"$f":"IF(ISNUMBER(FIND(\"MEDICARE\",A1134)),\"X\",\"\")","v":""},{"$f":"IF(ISNUMBER(FIND(\"BC/BS\",#REF!)),\"X\",\"\")","v":""}]
["DIGNITY HEALTH PHYSICIAN NETWORK - WOODLAND INSTITUTIONAL - HOSPITAL RISK",null,{"$f":"IF(ISNUMBER(FIND(\"MEDICAID\",A1135)),\"X\",\"\")","v":""},{"$f":"IF(ISNUMBER(FIND(\"MEDICARE\",A1135)),\"X\",\"\")","v":""},{"$f":"IF(ISNUMBER(FIND(\"BC/BS\",#REF!)),\"X\",\"\")","v":""}]
["DIGNITY HOME RECOVERY CARE LLC (CONTESSA HEALTH)","X",{"$f":"IF(ISNUMBER(FIND(\"MEDICAID\",A1136)),\"X\",\"\")","v":""},{"$f":"IF(ISNUMBER(FIND(\"MEDICARE\",A1136)),\"X\",\"\")","v":""},{"$f":"IF(ISNUMBER(FIND(\"BC/BS\",#REF!)),\"X\",\"\")","v":""}]
["DIOCESE OF ALTOONA JOHNSTOWN (MAESTRO HEALTH)",null,{"$f":"IF(ISNUMBER(FIND(\"MEDICAID\",A1137)),\"X\",\"\")","v":""},{"$f":"IF(ISNUMBER(FIND(\"MEDICARE\",A1137)),\"X\",\"\")","v":""},{"$f":"IF(ISNUMBER(FIND(\"BC/BS\",#REF!)),\"X\",\"\")","v":""}]
["DIRECT CARE ADMINISTRATORS","X",{"$f":"IF(ISNUMBER(FIND(\"MEDICAID\",A1138)),\"X\",\"\")","v":""},{"$f":"IF(ISNUMBER(FIND(\"MEDICARE\",A1138)),\"X\",\"\")","v":""},{"$f":"IF(ISNUMBER(FIND(\"BC/BS\",#REF!)),\"X\",\"\")","v":""}]
["DIRECT DIGITAL HOLDINGS EBPT (90 DEGREE BENEFITS HOUSTON - ENTRUST)",null,{"$f":"IF(ISNUMBER(FIND(\"MEDICAID\",A1139)),\"X\",\"\")","v":""},{"$f":"IF(ISNUMBER(FIND(\"MEDICARE\",A1139)),\"X\",\"\")","v":""},{"$f":"IF(ISNUMBER(FIND(\"BC/BS\",#REF!)),\"X\",\"\")","v":""}]
["DISTRIBUTION SERVICES EBPT (90 DEGREE BENEFITS HOUSTON - ENTRUST)",null,{"$f":"IF(ISNUMBER(FIND(\"MEDICAID\",A1140)),\"X\",\"\")","v":""},{"$f":"IF(ISNUMBER(FIND(\"MEDICARE\",A1140)),\"X\",\"\")","v":""},{"$f":"IF(ISNUMBER(FIND(\"BC/BS\",#REF!)),\"X\",\"\")","v":""}]
["DISTRICT NO. 9 INTERNATIONAL ASSOCIATION OF MACHINISTS & AEROSPACE WORKERS WELFARE TRUST (I. A. OF M.& A.W.)","X",{"$f":"IF(ISNUMBER(FIND(\"MEDICAID\",A1141)),\"X\",\"\")","v":""},{"$f":"IF(ISNUMBER(FIND(\"MEDICARE\",A1141)),\"X\",\"\")","v":""},{"$f":"IF(ISNUMBER(FIND(\"BC/BS\",#REF!)),\"X\",\"\")","v":""}]
["DIVERSIFIED ADMINISTRATION CORPORATION","X",{"$f":"IF(ISNUMBER(FIND(\"MEDICAID\",A1142)),\"X\",\"\")","v":""},{"$f":"IF(ISNUMBER(FIND(\"MEDICARE\",A1142)),\"X\",\"\")","v":""},{"$f":"IF(ISNUMBER(FIND(\"BC/BS\",#REF!)),\"X\",\"\")","v":""}]
["DIVERSIFIED BENEFIT ADMINISTRATORS (SOUTH GEORGIA BENEFIT ADMINISTRATORS)","X",{"$f":"IF(ISNUMBER(FIND(\"MEDICAID\",A1143)),\"X\",\"\")","v":""},{"$f":"IF(ISNUMBER(FIND(\"MEDICARE\",A1143)),\"X\",\"\")","v":""},{"$f":"IF(ISNUMBER(FIND(\"BC/BS\",#REF!)),\"X\",\"\")","v":""}]
["DIVERSIFIED CERAMICS EBPT (90 DEGREE BENEFITS HOUSTON - ENTRUST)",null,{"$f":"IF(ISNUMBER(FIND(\"MEDICAID\",A1144)),\"X\",\"\")","v":""},{"$f":"IF(ISNUMBER(FIND(\"MEDICARE\",A1144)),\"X\",\"\")","v":""},{"$f":"IF(ISNUMBER(FIND(\"BC/BS\",#REF!)),\"X\",\"\")","v":""}]
["DIVISION 1181 ATU NEW YORK WELFARE FUND","X",{"$f":"IF(ISNUMBER(FIND(\"MEDICAID\",A1145)),\"X\",\"\")","v":""},{"$f":"IF(ISNUMBER(FIND(\"MEDICARE\",A1145)),\"X\",\"\")","v":""},{"$f":"IF(ISNUMBER(FIND(\"BC/BS\",#REF!)),\"X\",\"\")","v":""}]
["DIVISION OF ENERGY EMPLOYEES OCCUPATIONAL ILLNESS COMPENSATION STATION (DEEOIC) (DEPARTMENT OF LABOR)","X",{"$f":"IF(ISNUMBER(FIND(\"MEDICAID\",A1146)),\"X\",\"\")","v":""},{"$f":"IF(ISNUMBER(FIND(\"MEDICARE\",A1146)),\"X\",\"\")","v":""},{"$f":"IF(ISNUMBER(FIND(\"BC/BS\",#REF!)),\"X\",\"\")","v":""},"X"]
["DIVISION OF FEDERAL EMPLOYEES' COMPENSATION STATION (DFEC) (DEPARTMENT OF LABOR)","X",{"$f":"IF(ISNUMBER(FIND(\"MEDICAID\",A1147)),\"X\",\"\")","v":""},{"$f":"IF(ISNUMBER(FIND(\"MEDICARE\",A1147)),\"X\",\"\")","v":""},{"$f":"IF(ISNUMBER(FIND(\"BC/BS\",#REF!)),\"X\",\"\")","v":""},"X"]
["DOCTORS HEALTHCARE PLANS","X",{"$f":"IF(ISNUMBER(FIND(\"MEDICAID\",A1148)),\"X\",\"\")","v":""},{"$f":"IF(ISNUMBER(FIND(\"MEDICARE\",A1148)),\"X\",\"\")","v":""},{"$f":"IF(ISNUMBER(FIND(\"BC/BS\",#REF!)),\"X\",\"\")","v":""}]
["DODD RV OF THE PENINSULA (SENTARA)","X",{"$f":"IF(ISNUMBER(FIND(\"MEDICAID\",A1149)),\"X\",\"\")","v":""},{"$f":"IF(ISNUMBER(FIND(\"MEDICARE\",A1149)),\"X\",\"\")","v":""},{"$f":"IF(ISNUMBER(FIND(\"BC/BS\",#REF!)),\"X\",\"\")","v":""}]
["DOLTON MEDICAL CENTER (INNOVISTA HEALTH)","X",{"$f":"IF(ISNUMBER(FIND(\"MEDICAID\",A1150)),\"X\",\"\")","v":""},{"$f":"IF(ISNUMBER(FIND(\"MEDICARE\",A1150)),\"X\",\"\")","v":""},{"$f":"IF(ISNUMBER(FIND(\"BC/BS\",#REF!)),\"X\",\"\")","v":""}]
["DOMINION NATIONAL","X",{"$f":"IF(ISNUMBER(FIND(\"MEDICAID\",A1151)),\"X\",\"\")","v":""},{"$f":"IF(ISNUMBER(FIND(\"MEDICARE\",A1151)),\"X\",\"\")","v":""},{"$f":"IF(ISNUMBER(FIND(\"BC/BS\",#REF!)),\"X\",\"\")","v":""}]
["DOMINION PATHOLOGY LAB (SENTARA)","X",{"$f":"IF(ISNUMBER(FIND(\"MEDICAID\",A1152)),\"X\",\"\")","v":""},{"$f":"IF(ISNUMBER(FIND(\"MEDICARE\",A1152)),\"X\",\"\")","v":""},{"$f":"IF(ISNUMBER(FIND(\"BC/BS\",#REF!)),\"X\",\"\")","v":""}]
["DOOR ENGINEERING CORP (SENTARA)","X",{"$f":"IF(ISNUMBER(FIND(\"MEDICAID\",A1153)),\"X\",\"\")","v":""},{"$f":"IF(ISNUMBER(FIND(\"MEDICARE\",A1153)),\"X\",\"\")","v":""},{"$f":"IF(ISNUMBER(FIND(\"BC/BS\",#REF!)),\"X\",\"\")","v":""}]
["DOUGLAS COUNTY SCHOOL DISTRICT (HOMETOWN HEALTH PLAN NEVADA)","X",{"$f":"IF(ISNUMBER(FIND(\"MEDICAID\",A1154)),\"X\",\"\")","v":""},{"$f":"IF(ISNUMBER(FIND(\"MEDICARE\",A1154)),\"X\",\"\")","v":""},{"$f":"IF(ISNUMBER(FIND(\"BC/BS\",#REF!)),\"X\",\"\")","v":""}]
["DOWNEY - IPEP",null,{"$f":"IF(ISNUMBER(FIND(\"MEDICAID\",A1155)),\"X\",\"\")","v":""},{"$f":"IF(ISNUMBER(FIND(\"MEDICARE\",A1155)),\"X\",\"\")","v":""},{"$f":"IF(ISNUMBER(FIND(\"BC/BS\",#REF!)),\"X\",\"\")","v":""}]
["DOWNEY PUBLISHING EBPT (90 DEGREE BENEFITS HOUSTON - ENTRUST)",null,{"$f":"IF(ISNUMBER(FIND(\"MEDICAID\",A1156)),\"X\",\"\")","v":""},{"$f":"IF(ISNUMBER(FIND(\"MEDICARE\",A1156)),\"X\",\"\")","v":""},{"$f":"IF(ISNUMBER(FIND(\"BC/BS\",#REF!)),\"X\",\"\")","v":""}]
["DOYLE ELECTRIC SERVICES INC (GROUP & PENSION ADMIN)","X",{"$f":"IF(ISNUMBER(FIND(\"MEDICAID\",A1157)),\"X\",\"\")","v":""},{"$f":"IF(ISNUMBER(FIND(\"MEDICARE\",A1157)),\"X\",\"\")","v":""},{"$f":"IF(ISNUMBER(FIND(\"BC/BS\",#REF!)),\"X\",\"\")","v":""}]
["DP SOLUTIONS EBPT (90 DEGREE BENEFITS HOUSTON - ENTRUST)",null,{"$f":"IF(ISNUMBER(FIND(\"MEDICAID\",A1158)),\"X\",\"\")","v":""},{"$f":"IF(ISNUMBER(FIND(\"MEDICARE\",A1158)),\"X\",\"\")","v":""},{"$f":"IF(ISNUMBER(FIND(\"BC/BS\",#REF!)),\"X\",\"\")","v":""}]
["DREWERY CONSTRUCTION EBPT (90 DEGREE BENEFITS HOUSON - ENTRUST)",null,{"$f":"IF(ISNUMBER(FIND(\"MEDICAID\",A1159)),\"X\",\"\")","v":""},{"$f":"IF(ISNUMBER(FIND(\"MEDICARE\",A1159)),\"X\",\"\")","v":""},{"$f":"IF(ISNUMBER(FIND(\"BC/BS\",#REF!)),\"X\",\"\")","v":""}]
["DRISCOLL HEALTH PLAN",null,{"$f":"IF(ISNUMBER(FIND(\"MEDICAID\",A1160)),\"X\",\"\")","v":""},{"$f":"IF(ISNUMBER(FIND(\"MEDICARE\",A1160)),\"X\",\"\")","v":""},{"$f":"IF(ISNUMBER(FIND(\"BC/BS\",#REF!)),\"X\",\"\")","v":""}]
["DRUMMOND (VIVA HEALTH PLAN)","X",{"$f":"IF(ISNUMBER(FIND(\"MEDICAID\",A1161)),\"X\",\"\")","v":""},{"$f":"IF(ISNUMBER(FIND(\"MEDICARE\",A1161)),\"X\",\"\")","v":""},{"$f":"IF(ISNUMBER(FIND(\"BC/BS\",#REF!)),\"X\",\"\")","v":""}]
["DS OPERATIONS LLC (HEALTHCOMP)",null,{"$f":"IF(ISNUMBER(FIND(\"MEDICAID\",A1162)),\"X\",\"\")","v":""},{"$f":"IF(ISNUMBER(FIND(\"MEDICARE\",A1162)),\"X\",\"\")","v":""},{"$f":"IF(ISNUMBER(FIND(\"BC/BS\",#REF!)),\"X\",\"\")","v":""}]
["DSM USA INSURANCE COMPANY INC (DENTAQUEST)","X",{"$f":"IF(ISNUMBER(FIND(\"MEDICAID\",A1163)),\"X\",\"\")","v":""},{"$f":"IF(ISNUMBER(FIND(\"MEDICARE\",A1163)),\"X\",\"\")","v":""},{"$f":"IF(ISNUMBER(FIND(\"BC/BS\",#REF!)),\"X\",\"\")","v":""}]
["DUNCAN ENTERPRISE (ADVANTEK BENEFIT ADMINISTRATORS)",null,{"$f":"IF(ISNUMBER(FIND(\"MEDICAID\",A1164)),\"X\",\"\")","v":""},{"$f":"IF(ISNUMBER(FIND(\"MEDICARE\",A1164)),\"X\",\"\")","v":""},{"$f":"IF(ISNUMBER(FIND(\"BC/BS\",#REF!)),\"X\",\"\")","v":""}]
["DUNN","X",{"$f":"IF(ISNUMBER(FIND(\"MEDICAID\",A1165)),\"X\",\"\")","v":""},{"$f":"IF(ISNUMBER(FIND(\"MEDICARE\",A1165)),\"X\",\"\")","v":""},{"$f":"IF(ISNUMBER(FIND(\"BC/BS\",#REF!)),\"X\",\"\")","v":""}]
["DUPAGE MEDICAL GROUP LTD (BONCURA HEALTH SOLUTIONS)",null,{"$f":"IF(ISNUMBER(FIND(\"MEDICAID\",A1166)),\"X\",\"\")","v":""},{"$f":"IF(ISNUMBER(FIND(\"MEDICARE\",A1166)),\"X\",\"\")","v":""},{"$f":"IF(ISNUMBER(FIND(\"BC/BS\",#REF!)),\"X\",\"\")","v":""}]
["DURHAM VA MEDICAL CENTER",null,{"$f":"IF(ISNUMBER(FIND(\"MEDICAID\",A1167)),\"X\",\"\")","v":""},{"$f":"IF(ISNUMBER(FIND(\"MEDICARE\",A1167)),\"X\",\"\")","v":""},{"$f":"IF(ISNUMBER(FIND(\"BC/BS\",#REF!)),\"X\",\"\")","v":""}]
["DUVAL COUNTY EBPT (90 DEGREE BENEFITS HOUSTON - ENTRUST)",null,{"$f":"IF(ISNUMBER(FIND(\"MEDICAID\",A1168)),\"X\",\"\")","v":""},{"$f":"IF(ISNUMBER(FIND(\"MEDICARE\",A1168)),\"X\",\"\")","v":""},{"$f":"IF(ISNUMBER(FIND(\"BC/BS\",#REF!)),\"X\",\"\")","v":""}]
["DUVAL MOTOR COMPANY (90 DEGREE BENEFITS NORTH CAROLINA - CORPORATE BENEFIT SERVICES)","X",{"$f":"IF(ISNUMBER(FIND(\"MEDICAID\",A1169)),\"X\",\"\")","v":""},{"$f":"IF(ISNUMBER(FIND(\"MEDICARE\",A1169)),\"X\",\"\")","v":""},{"$f":"IF(ISNUMBER(FIND(\"BC/BS\",#REF!)),\"X\",\"\")","v":""}]
["DYKE INDUSTRIES INC (MAA/HEALTHSMART)",null,{"$f":"IF(ISNUMBER(FIND(\"MEDICAID\",A1170)),\"X\",\"\")","v":""},{"$f":"IF(ISNUMBER(FIND(\"MEDICARE\",A1170)),\"X\",\"\")","v":""},{"$f":"IF(ISNUMBER(FIND(\"BC/BS\",#REF!)),\"X\",\"\")","v":""}]
["DYNAMIC-AIR ENGINEERING EBPT (90 DEGREE BENEFITS HOUSTON - ENTRUST)",null,{"$f":"IF(ISNUMBER(FIND(\"MEDICAID\",A1171)),\"X\",\"\")","v":""},{"$f":"IF(ISNUMBER(FIND(\"MEDICARE\",A1171)),\"X\",\"\")","v":""},{"$f":"IF(ISNUMBER(FIND(\"BC/BS\",#REF!)),\"X\",\"\")","v":""}]
["DYNAYARN (MAESTRO HEALTH)","X",{"$f":"IF(ISNUMBER(FIND(\"MEDICAID\",A1172)),\"X\",\"\")","v":""},{"$f":"IF(ISNUMBER(FIND(\"MEDICARE\",A1172)),\"X\",\"\")","v":""},{"$f":"IF(ISNUMBER(FIND(\"BC/BS\",#REF!)),\"X\",\"\")","v":""}]
["EAGLE ALUMINUM CAST PRODUCTS (ASR CORP)","X",{"$f":"IF(ISNUMBER(FIND(\"MEDICAID\",A1173)),\"X\",\"\")","v":""},{"$f":"IF(ISNUMBER(FIND(\"MEDICARE\",A1173)),\"X\",\"\")","v":""},{"$f":"IF(ISNUMBER(FIND(\"BC/BS\",#REF!)),\"X\",\"\")","v":""}]
["EAGLE AVIATION TECH LLC (SENTARA)","X",{"$f":"IF(ISNUMBER(FIND(\"MEDICAID\",A1174)),\"X\",\"\")","v":""},{"$f":"IF(ISNUMBER(FIND(\"MEDICARE\",A1174)),\"X\",\"\")","v":""},{"$f":"IF(ISNUMBER(FIND(\"BC/BS\",#REF!)),\"X\",\"\")","v":""}]
["EAGLE PASS INDEPENDENT SCHOOL DISTRICT (GROUP & PENSION ADMIN)","X",{"$f":"IF(ISNUMBER(FIND(\"MEDICAID\",A1175)),\"X\",\"\")","v":""},{"$f":"IF(ISNUMBER(FIND(\"MEDICARE\",A1175)),\"X\",\"\")","v":""},{"$f":"IF(ISNUMBER(FIND(\"BC/BS\",#REF!)),\"X\",\"\")","v":""}]
["EAS CONTRACTING EBP (90 DEGREE BENEFITS HOUSTON - ENTRUST)",null,{"$f":"IF(ISNUMBER(FIND(\"MEDICAID\",A1176)),\"X\",\"\")","v":""},{"$f":"IF(ISNUMBER(FIND(\"MEDICARE\",A1176)),\"X\",\"\")","v":""},{"$f":"IF(ISNUMBER(FIND(\"BC/BS\",#REF!)),\"X\",\"\")","v":""}]
["EAST COAST STEEL FABRIC (SENTARA)","X",{"$f":"IF(ISNUMBER(FIND(\"MEDICAID\",A1177)),\"X\",\"\")","v":""},{"$f":"IF(ISNUMBER(FIND(\"MEDICARE\",A1177)),\"X\",\"\")","v":""},{"$f":"IF(ISNUMBER(FIND(\"BC/BS\",#REF!)),\"X\",\"\")","v":""}]
["EAST OHIO HOSPITAL (THE HEALTH PLAN)",null,{"$f":"IF(ISNUMBER(FIND(\"MEDICAID\",A1178)),\"X\",\"\")","v":""},{"$f":"IF(ISNUMBER(FIND(\"MEDICARE\",A1178)),\"X\",\"\")","v":""},{"$f":"IF(ISNUMBER(FIND(\"BC/BS\",#REF!)),\"X\",\"\")","v":""}]
["EAST ORANGE VA MEDICAL CENTER","X",{"$f":"IF(ISNUMBER(FIND(\"MEDICAID\",A1179)),\"X\",\"\")","v":""},{"$f":"IF(ISNUMBER(FIND(\"MEDICARE\",A1179)),\"X\",\"\")","v":""},{"$f":"IF(ISNUMBER(FIND(\"BC/BS\",#REF!)),\"X\",\"\")","v":""}]
["EASTERN ALLIANCE INSURANCE GROUP","X",{"$f":"IF(ISNUMBER(FIND(\"MEDICAID\",A1180)),\"X\",\"\")","v":""},{"$f":"IF(ISNUMBER(FIND(\"MEDICARE\",A1180)),\"X\",\"\")","v":""},{"$f":"IF(ISNUMBER(FIND(\"BC/BS\",#REF!)),\"X\",\"\")","v":""}]
["EASTERN MAINE HEALTH SYSTEM (GEISINGER HEALTH PLAN)",null,{"$f":"IF(ISNUMBER(FIND(\"MEDICAID\",A1181)),\"X\",\"\")","v":""},{"$f":"IF(ISNUMBER(FIND(\"MEDICARE\",A1181)),\"X\",\"\")","v":""},{"$f":"IF(ISNUMBER(FIND(\"BC/BS\",#REF!)),\"X\",\"\")","v":""}]
["EASTERN MI PIP CLAIMS BRANCH (AUTO-OWNERS INSURANCE COMPANY)","X",{"$f":"IF(ISNUMBER(FIND(\"MEDICAID\",A1182)),\"X\",\"\")","v":""},{"$f":"IF(ISNUMBER(FIND(\"MEDICARE\",A1182)),\"X\",\"\")","v":""},{"$f":"IF(ISNUMBER(FIND(\"BC/BS\",#REF!)),\"X\",\"\")","v":""},null,"X"]
["EASTERN VA MEDICAL SCHOOL (SENTARA)","X",{"$f":"IF(ISNUMBER(FIND(\"MEDICAID\",A1183)),\"X\",\"\")","v":""},{"$f":"IF(ISNUMBER(FIND(\"MEDICARE\",A1183)),\"X\",\"\")","v":""},{"$f":"IF(ISNUMBER(FIND(\"BC/BS\",#REF!)),\"X\",\"\")","v":""}]
["EASTMAN KODAK COMPANY (MVP HEALTH CARE)","X",{"$f":"IF(ISNUMBER(FIND(\"MEDICAID\",A1184)),\"X\",\"\")","v":""},{"$f":"IF(ISNUMBER(FIND(\"MEDICARE\",A1184)),\"X\",\"\")","v":""},{"$f":"IF(ISNUMBER(FIND(\"BC/BS\",#REF!)),\"X\",\"\")","v":""}]
["EATING RECOVERY CENTER (HEALTHCOMP)","X",{"$f":"IF(ISNUMBER(FIND(\"MEDICAID\",A1185)),\"X\",\"\")","v":""},{"$f":"IF(ISNUMBER(FIND(\"MEDICARE\",A1185)),\"X\",\"\")","v":""},{"$f":"IF(ISNUMBER(FIND(\"BC/BS\",#REF!)),\"X\",\"\")","v":""}]
["EBAM (EMPLOYEE BENEFITS ADMINISTRATION AND MANAGEMENT)","X",{"$f":"IF(ISNUMBER(FIND(\"MEDICAID\",A1186)),\"X\",\"\")","v":""},{"$f":"IF(ISNUMBER(FIND(\"MEDICARE\",A1186)),\"X\",\"\")","v":""},{"$f":"IF(ISNUMBER(FIND(\"BC/BS\",#REF!)),\"X\",\"\")","v":""}]
["EBARA TECHNOLOGIES INC (HEALTHCOMP)",null,{"$f":"IF(ISNUMBER(FIND(\"MEDICAID\",A1187)),\"X\",\"\")","v":""},{"$f":"IF(ISNUMBER(FIND(\"MEDICARE\",A1187)),\"X\",\"\")","v":""},{"$f":"IF(ISNUMBER(FIND(\"BC/BS\",#REF!)),\"X\",\"\")","v":""}]
["EBIX HEALTH ADMINISTRATION EXCHANGE","X",{"$f":"IF(ISNUMBER(FIND(\"MEDICAID\",A1188)),\"X\",\"\")","v":""},{"$f":"IF(ISNUMBER(FIND(\"MEDICARE\",A1188)),\"X\",\"\")","v":""},{"$f":"IF(ISNUMBER(FIND(\"BC/BS\",#REF!)),\"X\",\"\")","v":""}]
["EBMC DBA CAREFACTOR","X",{"$f":"IF(ISNUMBER(FIND(\"MEDICAID\",A1189)),\"X\",\"\")","v":""},{"$f":"IF(ISNUMBER(FIND(\"MEDICARE\",A1189)),\"X\",\"\")","v":""},{"$f":"IF(ISNUMBER(FIND(\"BC/BS\",#REF!)),\"X\",\"\")","v":""}]
["EBMS (EMPLOYEE BENEFIT MANAGEMENT SERVICES)","X",{"$f":"IF(ISNUMBER(FIND(\"MEDICAID\",A1190)),\"X\",\"\")","v":""},{"$f":"IF(ISNUMBER(FIND(\"MEDICARE\",A1190)),\"X\",\"\")","v":""},{"$f":"IF(ISNUMBER(FIND(\"BC/BS\",#REF!)),\"X\",\"\")","v":""}]
["EBPA LLC","X",{"$f":"IF(ISNUMBER(FIND(\"MEDICAID\",A1191)),\"X\",\"\")","v":""},{"$f":"IF(ISNUMBER(FIND(\"MEDICARE\",A1191)),\"X\",\"\")","v":""},{"$f":"IF(ISNUMBER(FIND(\"BC/BS\",#REF!)),\"X\",\"\")","v":""}]
["EBSO INC","X",{"$f":"IF(ISNUMBER(FIND(\"MEDICAID\",A1192)),\"X\",\"\")","v":""},{"$f":"IF(ISNUMBER(FIND(\"MEDICARE\",A1192)),\"X\",\"\")","v":""},{"$f":"IF(ISNUMBER(FIND(\"BC/BS\",#REF!)),\"X\",\"\")","v":""}]
["ED MARTIN NORTH CORP (GROUP & PENSION ADMIN)","X",{"$f":"IF(ISNUMBER(FIND(\"MEDICAID\",A1193)),\"X\",\"\")","v":""},{"$f":"IF(ISNUMBER(FIND(\"MEDICARE\",A1193)),\"X\",\"\")","v":""},{"$f":"IF(ISNUMBER(FIND(\"BC/BS\",#REF!)),\"X\",\"\")","v":""}]
["EDCARE GROUP (DELTA HEALTH SYSTEMS)",null,{"$f":"IF(ISNUMBER(FIND(\"MEDICAID\",A1194)),\"X\",\"\")","v":""},{"$f":"IF(ISNUMBER(FIND(\"MEDICARE\",A1194)),\"X\",\"\")","v":""},{"$f":"IF(ISNUMBER(FIND(\"BC/BS\",#REF!)),\"X\",\"\")","v":""}]
["EDGE SYSTEMS EBPT (90 DEGREE BENEFITS HOUSTON - ENTRUST)",null,{"$f":"IF(ISNUMBER(FIND(\"MEDICAID\",A1195)),\"X\",\"\")","v":""},{"$f":"IF(ISNUMBER(FIND(\"MEDICARE\",A1195)),\"X\",\"\")","v":""},{"$f":"IF(ISNUMBER(FIND(\"BC/BS\",#REF!)),\"X\",\"\")","v":""}]
["EDINGER ORANGE COAST (MEMORIALCARE)",null,{"$f":"IF(ISNUMBER(FIND(\"MEDICAID\",A1196)),\"X\",\"\")","v":""},{"$f":"IF(ISNUMBER(FIND(\"MEDICARE\",A1196)),\"X\",\"\")","v":""},{"$f":"IF(ISNUMBER(FIND(\"BC/BS\",#REF!)),\"X\",\"\")","v":""}]
["EDMONSON ELECTRIC INC (GROUP & PENSION ADMIN)","X",{"$f":"IF(ISNUMBER(FIND(\"MEDICAID\",A1197)),\"X\",\"\")","v":""},{"$f":"IF(ISNUMBER(FIND(\"MEDICARE\",A1197)),\"X\",\"\")","v":""},{"$f":"IF(ISNUMBER(FIND(\"BC/BS\",#REF!)),\"X\",\"\")","v":""}]
["EDUCATION ADVANCED EBPT (90 DEGREE BENEFITS HOUSTON - ENTRUST)",null,{"$f":"IF(ISNUMBER(FIND(\"MEDICAID\",A1198)),\"X\",\"\")","v":""},{"$f":"IF(ISNUMBER(FIND(\"MEDICARE\",A1198)),\"X\",\"\")","v":""},{"$f":"IF(ISNUMBER(FIND(\"BC/BS\",#REF!)),\"X\",\"\")","v":""}]
["EDUCATIONAL MEDIA FOUNDATION (HEALTHCOMP)",null,{"$f":"IF(ISNUMBER(FIND(\"MEDICAID\",A1199)),\"X\",\"\")","v":""},{"$f":"IF(ISNUMBER(FIND(\"MEDICARE\",A1199)),\"X\",\"\")","v":""},{"$f":"IF(ISNUMBER(FIND(\"BC/BS\",#REF!)),\"X\",\"\")","v":""}]
["EDWARD HINES JR. VA HOSPITAL","X",{"$f":"IF(ISNUMBER(FIND(\"MEDICAID\",A1200)),\"X\",\"\")","v":""},{"$f":"IF(ISNUMBER(FIND(\"MEDICARE\",A1200)),\"X\",\"\")","v":""},{"$f":"IF(ISNUMBER(FIND(\"BC/BS\",#REF!)),\"X\",\"\")","v":""}]
["EDWARD P. BOLAND DEPARTMENT OF VETERANS AFFAIRS MEDICAL CENTER","X",{"$f":"IF(ISNUMBER(FIND(\"MEDICAID\",A1201)),\"X\",\"\")","v":""},{"$f":"IF(ISNUMBER(FIND(\"MEDICARE\",A1201)),\"X\",\"\")","v":""},{"$f":"IF(ISNUMBER(FIND(\"BC/BS\",#REF!)),\"X\",\"\")","v":""}]
["EGYPTIAN HEALTH DEPARTMENT (IPMG)","X",{"$f":"IF(ISNUMBER(FIND(\"MEDICAID\",A1202)),\"X\",\"\")","v":""},{"$f":"IF(ISNUMBER(FIND(\"MEDICARE\",A1202)),\"X\",\"\")","v":""},{"$f":"IF(ISNUMBER(FIND(\"BC/BS\",#REF!)),\"X\",\"\")","v":""}]
["EHO","X",{"$f":"IF(ISNUMBER(FIND(\"MEDICAID\",A1203)),\"X\",\"\")","v":""},{"$f":"IF(ISNUMBER(FIND(\"MEDICARE\",A1203)),\"X\",\"\")","v":""},{"$f":"IF(ISNUMBER(FIND(\"BC/BS\",#REF!)),\"X\",\"\")","v":""}]
["EHP - KANE COUNTY IPA (INNOVISTA HEALTH)","X",{"$f":"IF(ISNUMBER(FIND(\"MEDICAID\",A1204)),\"X\",\"\")","v":""},{"$f":"IF(ISNUMBER(FIND(\"MEDICARE\",A1204)),\"X\",\"\")","v":""},{"$f":"IF(ISNUMBER(FIND(\"BC/BS\",#REF!)),\"X\",\"\")","v":""}]
["EHP - NORTHWEST COMMUNITY (ARCADIA SOLUTIONS)",null,{"$f":"IF(ISNUMBER(FIND(\"MEDICAID\",A1205)),\"X\",\"\")","v":""},{"$f":"IF(ISNUMBER(FIND(\"MEDICARE\",A1205)),\"X\",\"\")","v":""},{"$f":"IF(ISNUMBER(FIND(\"BC/BS\",#REF!)),\"X\",\"\")","v":""}]
["EHP - NORTHWEST COMMUNITY (INNOVISTA HEALTH)","X",{"$f":"IF(ISNUMBER(FIND(\"MEDICAID\",A1206)),\"X\",\"\")","v":""},{"$f":"IF(ISNUMBER(FIND(\"MEDICARE\",A1206)),\"X\",\"\")","v":""},{"$f":"IF(ISNUMBER(FIND(\"BC/BS\",#REF!)),\"X\",\"\")","v":""}]
["EHP - SILVER CROSS (INNOVISTA HEALTH)","X",{"$f":"IF(ISNUMBER(FIND(\"MEDICAID\",A1207)),\"X\",\"\")","v":""},{"$f":"IF(ISNUMBER(FIND(\"MEDICARE\",A1207)),\"X\",\"\")","v":""},{"$f":"IF(ISNUMBER(FIND(\"BC/BS\",#REF!)),\"X\",\"\")","v":""}]
["EHP IPA (INNOVISTA HEALTH)","X",{"$f":"IF(ISNUMBER(FIND(\"MEDICAID\",A1208)),\"X\",\"\")","v":""},{"$f":"IF(ISNUMBER(FIND(\"MEDICARE\",A1208)),\"X\",\"\")","v":""},{"$f":"IF(ISNUMBER(FIND(\"BC/BS\",#REF!)),\"X\",\"\")","v":""}]
["EL PROYECTO DEL BARRIO INC (MEDPOINT MANAGEMENT)","X",{"$f":"IF(ISNUMBER(FIND(\"MEDICAID\",A1209)),\"X\",\"\")","v":""},{"$f":"IF(ISNUMBER(FIND(\"MEDICARE\",A1209)),\"X\",\"\")","v":""},{"$f":"IF(ISNUMBER(FIND(\"BC/BS\",#REF!)),\"X\",\"\")","v":""}]
["ELAN INSURANCE GROUP (HEALTHSMART)","X",{"$f":"IF(ISNUMBER(FIND(\"MEDICAID\",A1210)),\"X\",\"\")","v":""},{"$f":"IF(ISNUMBER(FIND(\"MEDICARE\",A1210)),\"X\",\"\")","v":""},{"$f":"IF(ISNUMBER(FIND(\"BC/BS\",#REF!)),\"X\",\"\")","v":""}]
["ELASTIC FABRICS (90 DEGREE BENEFITS NORTH CAROLINA - CORPORATE BENEFIT SERVICES)","X",{"$f":"IF(ISNUMBER(FIND(\"MEDICAID\",A1211)),\"X\",\"\")","v":""},{"$f":"IF(ISNUMBER(FIND(\"MEDICARE\",A1211)),\"X\",\"\")","v":""},{"$f":"IF(ISNUMBER(FIND(\"BC/BS\",#REF!)),\"X\",\"\")","v":""}]
["ELDER SERVE HEALTH INC","X",{"$f":"IF(ISNUMBER(FIND(\"MEDICAID\",A1212)),\"X\",\"\")","v":""},{"$f":"IF(ISNUMBER(FIND(\"MEDICARE\",A1212)),\"X\",\"\")","v":""},{"$f":"IF(ISNUMBER(FIND(\"BC/BS\",#REF!)),\"X\",\"\")","v":""}]
["ELDERPLACE SEATTLE (PROVIDENCE HEALTH PLAN)","X",{"$f":"IF(ISNUMBER(FIND(\"MEDICAID\",A1213)),\"X\",\"\")","v":""},{"$f":"IF(ISNUMBER(FIND(\"MEDICARE\",A1213)),\"X\",\"\")","v":""},{"$f":"IF(ISNUMBER(FIND(\"BC/BS\",#REF!)),\"X\",\"\")","v":""}]
["ELDERPLAN INC","X",{"$f":"IF(ISNUMBER(FIND(\"MEDICAID\",A1214)),\"X\",\"\")","v":""},{"$f":"IF(ISNUMBER(FIND(\"MEDICARE\",A1214)),\"X\",\"\")","v":""},{"$f":"IF(ISNUMBER(FIND(\"BC/BS\",#REF!)),\"X\",\"\")","v":""}]
["ELECTRICAL WELFARE TRUST","X",{"$f":"IF(ISNUMBER(FIND(\"MEDICAID\",A1215)),\"X\",\"\")","v":""},{"$f":"IF(ISNUMBER(FIND(\"MEDICARE\",A1215)),\"X\",\"\")","v":""},{"$f":"IF(ISNUMBER(FIND(\"BC/BS\",#REF!)),\"X\",\"\")","v":""}]
["ELECTRICAL WORKERS HEALTH & WELFARE FOR NORTHERN NEVADA","X",{"$f":"IF(ISNUMBER(FIND(\"MEDICAID\",A1216)),\"X\",\"\")","v":""},{"$f":"IF(ISNUMBER(FIND(\"MEDICARE\",A1216)),\"X\",\"\")","v":""},{"$f":"IF(ISNUMBER(FIND(\"BC/BS\",#REF!)),\"X\",\"\")","v":""}]
["ELECTRONIC ENVIRONMENT CO LLC (GROUP & PENSION ADMIN)","X",{"$f":"IF(ISNUMBER(FIND(\"MEDICAID\",A1217)),\"X\",\"\")","v":""},{"$f":"IF(ISNUMBER(FIND(\"MEDICARE\",A1217)),\"X\",\"\")","v":""},{"$f":"IF(ISNUMBER(FIND(\"BC/BS\",#REF!)),\"X\",\"\")","v":""}]
["ELEVATE CARE INC (BENEFIT PLAN ADMINISTRATORS)",null,{"$f":"IF(ISNUMBER(FIND(\"MEDICAID\",A1218)),\"X\",\"\")","v":""},{"$f":"IF(ISNUMBER(FIND(\"MEDICARE\",A1218)),\"X\",\"\")","v":""},{"$f":"IF(ISNUMBER(FIND(\"BC/BS\",#REF!)),\"X\",\"\")","v":""}]
["ELIPS LIFE INSURANCE COMPANY (IAS ADMIN)","X",{"$f":"IF(ISNUMBER(FIND(\"MEDICAID\",A1219)),\"X\",\"\")","v":""},{"$f":"IF(ISNUMBER(FIND(\"MEDICARE\",A1219)),\"X\",\"\")","v":""},{"$f":"IF(ISNUMBER(FIND(\"BC/BS\",#REF!)),\"X\",\"\")","v":""}]
["ELKO COUNTY (UC HEALTH PLAN ADMINISTRATORS)","X",{"$f":"IF(ISNUMBER(FIND(\"MEDICAID\",A1220)),\"X\",\"\")","v":""},{"$f":"IF(ISNUMBER(FIND(\"MEDICARE\",A1220)),\"X\",\"\")","v":""},{"$f":"IF(ISNUMBER(FIND(\"BC/BS\",#REF!)),\"X\",\"\")","v":""}]
["ELLIS HOSPITAL (MVP HEALTH CARE)","X",{"$f":"IF(ISNUMBER(FIND(\"MEDICAID\",A1221)),\"X\",\"\")","v":""},{"$f":"IF(ISNUMBER(FIND(\"MEDICARE\",A1221)),\"X\",\"\")","v":""},{"$f":"IF(ISNUMBER(FIND(\"BC/BS\",#REF!)),\"X\",\"\")","v":""}]
["ELLWOOD TEXAS FORGE NAVASOTA - GROUP (APOSTROPHE)",null,{"$f":"IF(ISNUMBER(FIND(\"MEDICAID\",A1222)),\"X\",\"\")","v":""},{"$f":"IF(ISNUMBER(FIND(\"MEDICARE\",A1222)),\"X\",\"\")","v":""},{"$f":"IF(ISNUMBER(FIND(\"BC/BS\",#REF!)),\"X\",\"\")","v":""}]
["EMANATE HEALTH MED CTR-ALTAMED (MEDPOINT MANAGEMENT)","X",{"$f":"IF(ISNUMBER(FIND(\"MEDICAID\",A1223)),\"X\",\"\")","v":""},{"$f":"IF(ISNUMBER(FIND(\"MEDICARE\",A1223)),\"X\",\"\")","v":""},{"$f":"IF(ISNUMBER(FIND(\"BC/BS\",#REF!)),\"X\",\"\")","v":""}]
["EMANATE HEALTH MED CTR-NMM (MEDPOINT MANAGEMENT)","X",{"$f":"IF(ISNUMBER(FIND(\"MEDICAID\",A1224)),\"X\",\"\")","v":""},{"$f":"IF(ISNUMBER(FIND(\"MEDICARE\",A1224)),\"X\",\"\")","v":""},{"$f":"IF(ISNUMBER(FIND(\"BC/BS\",#REF!)),\"X\",\"\")","v":""}]
["EMANATE HEALTH MED CTR-PHYS DATATRUST MSO (MEDPOINT MANAGEMENT)","X",{"$f":"IF(ISNUMBER(FIND(\"MEDICAID\",A1225)),\"X\",\"\")","v":""},{"$f":"IF(ISNUMBER(FIND(\"MEDICARE\",A1225)),\"X\",\"\")","v":""},{"$f":"IF(ISNUMBER(FIND(\"BC/BS\",#REF!)),\"X\",\"\")","v":""}]
["EMBLEMHEALTH","X",{"$f":"IF(ISNUMBER(FIND(\"MEDICAID\",A1226)),\"X\",\"\")","v":""},{"$f":"IF(ISNUMBER(FIND(\"MEDICARE\",A1226)),\"X\",\"\")","v":""},{"$f":"IF(ISNUMBER(FIND(\"BC/BS\",#REF!)),\"X\",\"\")","v":""}]
["EMBLEMHEALTH - FIDA EFT","X",{"$f":"IF(ISNUMBER(FIND(\"MEDICAID\",A1227)),\"X\",\"\")","v":""},{"$f":"IF(ISNUMBER(FIND(\"MEDICARE\",A1227)),\"X\",\"\")","v":""},{"$f":"IF(ISNUMBER(FIND(\"BC/BS\",#REF!)),\"X\",\"\")","v":""}]
["EMBLEMHEALTH - GHI FED EPO",null,{"$f":"IF(ISNUMBER(FIND(\"MEDICAID\",A1228)),\"X\",\"\")","v":""},{"$f":"IF(ISNUMBER(FIND(\"MEDICARE\",A1228)),\"X\",\"\")","v":""},{"$f":"IF(ISNUMBER(FIND(\"BC/BS\",#REF!)),\"X\",\"\")","v":""}]
["EMBLEMHEALTH - GHI NYC EFT",null,{"$f":"IF(ISNUMBER(FIND(\"MEDICAID\",A1229)),\"X\",\"\")","v":""},{"$f":"IF(ISNUMBER(FIND(\"MEDICARE\",A1229)),\"X\",\"\")","v":""},{"$f":"IF(ISNUMBER(FIND(\"BC/BS\",#REF!)),\"X\",\"\")","v":""}]
["EMBLEMHEALTH - GHI NYS DENTAL",null,{"$f":"IF(ISNUMBER(FIND(\"MEDICAID\",A1230)),\"X\",\"\")","v":""},{"$f":"IF(ISNUMBER(FIND(\"MEDICARE\",A1230)),\"X\",\"\")","v":""},{"$f":"IF(ISNUMBER(FIND(\"BC/BS\",#REF!)),\"X\",\"\")","v":""}]
["EMBLEMHEALTH - GROUP HEALTH [NEW YORK]",null,{"$f":"IF(ISNUMBER(FIND(\"MEDICAID\",A1231)),\"X\",\"\")","v":""},{"$f":"IF(ISNUMBER(FIND(\"MEDICARE\",A1231)),\"X\",\"\")","v":""},{"$f":"IF(ISNUMBER(FIND(\"BC/BS\",#REF!)),\"X\",\"\")","v":""}]
["EMBLEMHEALTH - HIP","X",{"$f":"IF(ISNUMBER(FIND(\"MEDICAID\",A1232)),\"X\",\"\")","v":""},{"$f":"IF(ISNUMBER(FIND(\"MEDICARE\",A1232)),\"X\",\"\")","v":""},{"$f":"IF(ISNUMBER(FIND(\"BC/BS\",#REF!)),\"X\",\"\")","v":""}]
["EMD SERONO","X",{"$f":"IF(ISNUMBER(FIND(\"MEDICAID\",A1233)),\"X\",\"\")","v":""},{"$f":"IF(ISNUMBER(FIND(\"MEDICARE\",A1233)),\"X\",\"\")","v":""},{"$f":"IF(ISNUMBER(FIND(\"BC/BS\",#REF!)),\"X\",\"\")","v":""}]
["EMHS EMPLOYEE HEALTH PLAN","X",{"$f":"IF(ISNUMBER(FIND(\"MEDICAID\",A1234)),\"X\",\"\")","v":""},{"$f":"IF(ISNUMBER(FIND(\"MEDICARE\",A1234)),\"X\",\"\")","v":""},{"$f":"IF(ISNUMBER(FIND(\"BC/BS\",#REF!)),\"X\",\"\")","v":""}]
["EMI HEALTH (EMIH)","X",{"$f":"IF(ISNUMBER(FIND(\"MEDICAID\",A1235)),\"X\",\"\")","v":""},{"$f":"IF(ISNUMBER(FIND(\"MEDICARE\",A1235)),\"X\",\"\")","v":""},{"$f":"IF(ISNUMBER(FIND(\"BC/BS\",#REF!)),\"X\",\"\")","v":""}]
["EMPIRE BCBS HEALTHPLUS",null,{"$f":"IF(ISNUMBER(FIND(\"MEDICAID\",A1236)),\"X\",\"\")","v":""},{"$f":"IF(ISNUMBER(FIND(\"MEDICARE\",A1236)),\"X\",\"\")","v":""},"X"]
["EMPIRE HEALTHCHOICE ASSURANCE","X",{"$f":"IF(ISNUMBER(FIND(\"MEDICAID\",A1237)),\"X\",\"\")","v":""},{"$f":"IF(ISNUMBER(FIND(\"MEDICARE\",A1237)),\"X\",\"\")","v":""},{"$f":"IF(ISNUMBER(FIND(\"BC/BS\",#REF!)),\"X\",\"\")","v":""}]
["EMPIRE HEALTHCHOICE ASSURANCE (NY)",null,{"$f":"IF(ISNUMBER(FIND(\"MEDICAID\",A1238)),\"X\",\"\")","v":""},{"$f":"IF(ISNUMBER(FIND(\"MEDICARE\",A1238)),\"X\",\"\")","v":""},{"$f":"IF(ISNUMBER(FIND(\"BC/BS\",#REF!)),\"X\",\"\")","v":""}]
["EMPIRE HEALTHCHOICE HMO","X",{"$f":"IF(ISNUMBER(FIND(\"MEDICAID\",A1239)),\"X\",\"\")","v":""},{"$f":"IF(ISNUMBER(FIND(\"MEDICARE\",A1239)),\"X\",\"\")","v":""},{"$f":"IF(ISNUMBER(FIND(\"BC/BS\",#REF!)),\"X\",\"\")","v":""}]
["EMPIRE PHYSICIANS MED GRP DBA OPTUM (NAMM CALIFORNIA)","X",{"$f":"IF(ISNUMBER(FIND(\"MEDICAID\",A1240)),\"X\",\"\")","v":""},{"$f":"IF(ISNUMBER(FIND(\"MEDICARE\",A1240)),\"X\",\"\")","v":""},{"$f":"IF(ISNUMBER(FIND(\"BC/BS\",#REF!)),\"X\",\"\")","v":""}]
["EMPIRE STATE HIGHWAY (MVP HEALTH CARE)","X",{"$f":"IF(ISNUMBER(FIND(\"MEDICAID\",A1241)),\"X\",\"\")","v":""},{"$f":"IF(ISNUMBER(FIND(\"MEDICARE\",A1241)),\"X\",\"\")","v":""},{"$f":"IF(ISNUMBER(FIND(\"BC/BS\",#REF!)),\"X\",\"\")","v":""}]
["EMPLOYEE BENEFIT SERVICES (FORT MILL, SC) (KEY BENEFIT ADMINISTRATORS)","X",{"$f":"IF(ISNUMBER(FIND(\"MEDICAID\",A1242)),\"X\",\"\")","v":""},{"$f":"IF(ISNUMBER(FIND(\"MEDICARE\",A1242)),\"X\",\"\")","v":""},{"$f":"IF(ISNUMBER(FIND(\"BC/BS\",#REF!)),\"X\",\"\")","v":""}]
["EMPLOYEE BENEFIT SERVICES INC (EBSI)","X",{"$f":"IF(ISNUMBER(FIND(\"MEDICAID\",A1243)),\"X\",\"\")","v":""},{"$f":"IF(ISNUMBER(FIND(\"MEDICARE\",A1243)),\"X\",\"\")","v":""},{"$f":"IF(ISNUMBER(FIND(\"BC/BS\",#REF!)),\"X\",\"\")","v":""}]
["EMPLOYEE BENEFIT SYSTEMS","X",{"$f":"IF(ISNUMBER(FIND(\"MEDICAID\",A1244)),\"X\",\"\")","v":""},{"$f":"IF(ISNUMBER(FIND(\"MEDICARE\",A1244)),\"X\",\"\")","v":""},{"$f":"IF(ISNUMBER(FIND(\"BC/BS\",#REF!)),\"X\",\"\")","v":""}]
["EMPLOYEE BENEFITS ADMINISTRATION AND MANAGEMENT","X",{"$f":"IF(ISNUMBER(FIND(\"MEDICAID\",A1245)),\"X\",\"\")","v":""},{"$f":"IF(ISNUMBER(FIND(\"MEDICARE\",A1245)),\"X\",\"\")","v":""},{"$f":"IF(ISNUMBER(FIND(\"BC/BS\",#REF!)),\"X\",\"\")","v":""}]
["EMPLOYEE BENEFITS CORPORATION","X",{"$f":"IF(ISNUMBER(FIND(\"MEDICAID\",A1246)),\"X\",\"\")","v":""},{"$f":"IF(ISNUMBER(FIND(\"MEDICARE\",A1246)),\"X\",\"\")","v":""},{"$f":"IF(ISNUMBER(FIND(\"BC/BS\",#REF!)),\"X\",\"\")","v":""}]
["EMPLOYEE PLANS LLC","X",{"$f":"IF(ISNUMBER(FIND(\"MEDICAID\",A1247)),\"X\",\"\")","v":""},{"$f":"IF(ISNUMBER(FIND(\"MEDICARE\",A1247)),\"X\",\"\")","v":""},{"$f":"IF(ISNUMBER(FIND(\"BC/BS\",#REF!)),\"X\",\"\")","v":""}]
["EMPLOYER DRIVEN INSURANCE SERVICES (E.D.I.S)","X",{"$f":"IF(ISNUMBER(FIND(\"MEDICAID\",A1248)),\"X\",\"\")","v":""},{"$f":"IF(ISNUMBER(FIND(\"MEDICARE\",A1248)),\"X\",\"\")","v":""},{"$f":"IF(ISNUMBER(FIND(\"BC/BS\",#REF!)),\"X\",\"\")","v":""}]
["EMPLOYER-TEAMSTER LOCALS 175 & 505","X",{"$f":"IF(ISNUMBER(FIND(\"MEDICAID\",A1249)),\"X\",\"\")","v":""},{"$f":"IF(ISNUMBER(FIND(\"MEDICARE\",A1249)),\"X\",\"\")","v":""},{"$f":"IF(ISNUMBER(FIND(\"BC/BS\",#REF!)),\"X\",\"\")","v":""}]
["EMPOWER HEALTHCARE SOLUTIONS","X",{"$f":"IF(ISNUMBER(FIND(\"MEDICAID\",A1250)),\"X\",\"\")","v":""},{"$f":"IF(ISNUMBER(FIND(\"MEDICARE\",A1250)),\"X\",\"\")","v":""},{"$f":"IF(ISNUMBER(FIND(\"BC/BS\",#REF!)),\"X\",\"\")","v":""}]
["EMSER TILE LLC (GROUP & PENSION ADMIN)","X",{"$f":"IF(ISNUMBER(FIND(\"MEDICAID\",A1251)),\"X\",\"\")","v":""},{"$f":"IF(ISNUMBER(FIND(\"MEDICARE\",A1251)),\"X\",\"\")","v":""},{"$f":"IF(ISNUMBER(FIND(\"BC/BS\",#REF!)),\"X\",\"\")","v":""}]
["ENCOMPASS SPECIALTY SURGICAL NETWORK","X",{"$f":"IF(ISNUMBER(FIND(\"MEDICAID\",A1252)),\"X\",\"\")","v":""},{"$f":"IF(ISNUMBER(FIND(\"MEDICARE\",A1252)),\"X\",\"\")","v":""},{"$f":"IF(ISNUMBER(FIND(\"BC/BS\",#REF!)),\"X\",\"\")","v":""}]
["ENERGY INSURANCE MUTUAL (MAESTRO HEALTH)","X",{"$f":"IF(ISNUMBER(FIND(\"MEDICAID\",A1253)),\"X\",\"\")","v":""},{"$f":"IF(ISNUMBER(FIND(\"MEDICARE\",A1253)),\"X\",\"\")","v":""},{"$f":"IF(ISNUMBER(FIND(\"BC/BS\",#REF!)),\"X\",\"\")","v":""}]
["ENERGY TRANSFER (AMERIBEN)",null,{"$f":"IF(ISNUMBER(FIND(\"MEDICAID\",A1254)),\"X\",\"\")","v":""},{"$f":"IF(ISNUMBER(FIND(\"MEDICARE\",A1254)),\"X\",\"\")","v":""},{"$f":"IF(ISNUMBER(FIND(\"BC/BS\",#REF!)),\"X\",\"\")","v":""}]
["ENERGYSOLUTIONS CASH RECEIPTS (GROUP & PENSION ADMIN)","X",{"$f":"IF(ISNUMBER(FIND(\"MEDICAID\",A1255)),\"X\",\"\")","v":""},{"$f":"IF(ISNUMBER(FIND(\"MEDICARE\",A1255)),\"X\",\"\")","v":""},{"$f":"IF(ISNUMBER(FIND(\"BC/BS\",#REF!)),\"X\",\"\")","v":""}]
["ENGINE POWER COMPONENTS INC (ASR CORP)","X",{"$f":"IF(ISNUMBER(FIND(\"MEDICAID\",A1256)),\"X\",\"\")","v":""},{"$f":"IF(ISNUMBER(FIND(\"MEDICARE\",A1256)),\"X\",\"\")","v":""},{"$f":"IF(ISNUMBER(FIND(\"BC/BS\",#REF!)),\"X\",\"\")","v":""}]
["ENNIS INC (GROUP & PENSION ADMIN)","X",{"$f":"IF(ISNUMBER(FIND(\"MEDICAID\",A1257)),\"X\",\"\")","v":""},{"$f":"IF(ISNUMBER(FIND(\"MEDICARE\",A1257)),\"X\",\"\")","v":""},{"$f":"IF(ISNUMBER(FIND(\"BC/BS\",#REF!)),\"X\",\"\")","v":""}]
["ENSIGN SERVICES INC (HEALTHCOMP)",null,{"$f":"IF(ISNUMBER(FIND(\"MEDICAID\",A1258)),\"X\",\"\")","v":""},{"$f":"IF(ISNUMBER(FIND(\"MEDICARE\",A1258)),\"X\",\"\")","v":""},{"$f":"IF(ISNUMBER(FIND(\"BC/BS\",#REF!)),\"X\",\"\")","v":""}]
["ENT CREDIT UNION (HEALTHCOMP)","X",{"$f":"IF(ISNUMBER(FIND(\"MEDICAID\",A1259)),\"X\",\"\")","v":""},{"$f":"IF(ISNUMBER(FIND(\"MEDICARE\",A1259)),\"X\",\"\")","v":""},{"$f":"IF(ISNUMBER(FIND(\"BC/BS\",#REF!)),\"X\",\"\")","v":""}]
["ENTERPRISE GROUP PLANNING","X",{"$f":"IF(ISNUMBER(FIND(\"MEDICAID\",A1260)),\"X\",\"\")","v":""},{"$f":"IF(ISNUMBER(FIND(\"MEDICARE\",A1260)),\"X\",\"\")","v":""},{"$f":"IF(ISNUMBER(FIND(\"BC/BS\",#REF!)),\"X\",\"\")","v":""}]
["ENVIRONMENTAL PROTECTION SERVICES (THE HEALTH PLAN)","X",{"$f":"IF(ISNUMBER(FIND(\"MEDICAID\",A1261)),\"X\",\"\")","v":""},{"$f":"IF(ISNUMBER(FIND(\"MEDICARE\",A1261)),\"X\",\"\")","v":""},{"$f":"IF(ISNUMBER(FIND(\"BC/BS\",#REF!)),\"X\",\"\")","v":""}]
["ENVISION HEALTHCARE (AMERIBEN)",null,{"$f":"IF(ISNUMBER(FIND(\"MEDICAID\",A1262)),\"X\",\"\")","v":""},{"$f":"IF(ISNUMBER(FIND(\"MEDICARE\",A1262)),\"X\",\"\")","v":""},{"$f":"IF(ISNUMBER(FIND(\"BC/BS\",#REF!)),\"X\",\"\")","v":""}]
["ENVOLVE VISION","X",{"$f":"IF(ISNUMBER(FIND(\"MEDICAID\",A1263)),\"X\",\"\")","v":""},{"$f":"IF(ISNUMBER(FIND(\"MEDICARE\",A1263)),\"X\",\"\")","v":""},{"$f":"IF(ISNUMBER(FIND(\"BC/BS\",#REF!)),\"X\",\"\")","v":""}]
["EP GRAPHICS INC (GROUP & PENSION ADMIN)","X",{"$f":"IF(ISNUMBER(FIND(\"MEDICAID\",A1264)),\"X\",\"\")","v":""},{"$f":"IF(ISNUMBER(FIND(\"MEDICARE\",A1264)),\"X\",\"\")","v":""},{"$f":"IF(ISNUMBER(FIND(\"BC/BS\",#REF!)),\"X\",\"\")","v":""}]
["EPIC CLAIMS - ASSOCIATED BANK (WPS)","X",{"$f":"IF(ISNUMBER(FIND(\"MEDICAID\",A1265)),\"X\",\"\")","v":""},{"$f":"IF(ISNUMBER(FIND(\"MEDICARE\",A1265)),\"X\",\"\")","v":""},{"$f":"IF(ISNUMBER(FIND(\"BC/BS\",#REF!)),\"X\",\"\")","v":""}]
["EPIC HEALTH PLAN (EPIC MANAGEMENT)","X",{"$f":"IF(ISNUMBER(FIND(\"MEDICAID\",A1266)),\"X\",\"\")","v":""},{"$f":"IF(ISNUMBER(FIND(\"MEDICARE\",A1266)),\"X\",\"\")","v":""},{"$f":"IF(ISNUMBER(FIND(\"BC/BS\",#REF!)),\"X\",\"\")","v":""}]
["EPIC LIFE INSURANCE COMPANY (THE) (WPS)","X",{"$f":"IF(ISNUMBER(FIND(\"MEDICAID\",A1267)),\"X\",\"\")","v":""},{"$f":"IF(ISNUMBER(FIND(\"MEDICARE\",A1267)),\"X\",\"\")","v":""},{"$f":"IF(ISNUMBER(FIND(\"BC/BS\",#REF!)),\"X\",\"\")","v":""}]
["EQUIPMENTSHARE.COM INC (MAESTRO HEALTH)","X",{"$f":"IF(ISNUMBER(FIND(\"MEDICAID\",A1268)),\"X\",\"\")","v":""},{"$f":"IF(ISNUMBER(FIND(\"MEDICARE\",A1268)),\"X\",\"\")","v":""},{"$f":"IF(ISNUMBER(FIND(\"BC/BS\",#REF!)),\"X\",\"\")","v":""}]
["EQUITABLE NATIONAL LIFE INSURANCE COMPANY (ACTUARIAL MANAGEMENT RESOURCES)","X",{"$f":"IF(ISNUMBER(FIND(\"MEDICAID\",A1269)),\"X\",\"\")","v":""},{"$f":"IF(ISNUMBER(FIND(\"MEDICARE\",A1269)),\"X\",\"\")","v":""},{"$f":"IF(ISNUMBER(FIND(\"BC/BS\",#REF!)),\"X\",\"\")","v":""}]
["ERIE 2 CHAUTAUQUA CATTARAUGUS BOCES (INDEPENDENT HEALTH)",null,{"$f":"IF(ISNUMBER(FIND(\"MEDICAID\",A1270)),\"X\",\"\")","v":""},{"$f":"IF(ISNUMBER(FIND(\"MEDICARE\",A1270)),\"X\",\"\")","v":""},{"$f":"IF(ISNUMBER(FIND(\"BC/BS\",#REF!)),\"X\",\"\")","v":""}]
["ERIE FAMILY LIFE INSURANCE CO (IAS ADMIN)","X",{"$f":"IF(ISNUMBER(FIND(\"MEDICAID\",A1271)),\"X\",\"\")","v":""},{"$f":"IF(ISNUMBER(FIND(\"MEDICARE\",A1271)),\"X\",\"\")","v":""},{"$f":"IF(ISNUMBER(FIND(\"BC/BS\",#REF!)),\"X\",\"\")","v":""}]
["ERIE INSURANCE COMPANY OF NEW YORK","X",{"$f":"IF(ISNUMBER(FIND(\"MEDICAID\",A1272)),\"X\",\"\")","v":""},{"$f":"IF(ISNUMBER(FIND(\"MEDICARE\",A1272)),\"X\",\"\")","v":""},{"$f":"IF(ISNUMBER(FIND(\"BC/BS\",#REF!)),\"X\",\"\")","v":""},"X"]
["ERIE INSURANCE EXCHANGE","X",{"$f":"IF(ISNUMBER(FIND(\"MEDICAID\",A1273)),\"X\",\"\")","v":""},{"$f":"IF(ISNUMBER(FIND(\"MEDICARE\",A1273)),\"X\",\"\")","v":""},{"$f":"IF(ISNUMBER(FIND(\"BC/BS\",#REF!)),\"X\",\"\")","v":""},"X"]
["ERIE INSURANCE GROUP","X",{"$f":"IF(ISNUMBER(FIND(\"MEDICAID\",A1274)),\"X\",\"\")","v":""},{"$f":"IF(ISNUMBER(FIND(\"MEDICARE\",A1274)),\"X\",\"\")","v":""},{"$f":"IF(ISNUMBER(FIND(\"BC/BS\",#REF!)),\"X\",\"\")","v":""},"X"]
["ERIE INSURANCE PROPERTY AND CASUALTY COMPANY","X",{"$f":"IF(ISNUMBER(FIND(\"MEDICAID\",A1275)),\"X\",\"\")","v":""},{"$f":"IF(ISNUMBER(FIND(\"MEDICARE\",A1275)),\"X\",\"\")","v":""},{"$f":"IF(ISNUMBER(FIND(\"BC/BS\",#REF!)),\"X\",\"\")","v":""},null,"X"]
["ERIE VA MEDICAL CENTER","X",{"$f":"IF(ISNUMBER(FIND(\"MEDICAID\",A1276)),\"X\",\"\")","v":""},{"$f":"IF(ISNUMBER(FIND(\"MEDICARE\",A1276)),\"X\",\"\")","v":""},{"$f":"IF(ISNUMBER(FIND(\"BC/BS\",#REF!)),\"X\",\"\")","v":""}]
["ERMANCO CONVEYOR INC (ASR HEALTH BENEFITS)","X",{"$f":"IF(ISNUMBER(FIND(\"MEDICAID\",A1277)),\"X\",\"\")","v":""},{"$f":"IF(ISNUMBER(FIND(\"MEDICARE\",A1277)),\"X\",\"\")","v":""},{"$f":"IF(ISNUMBER(FIND(\"BC/BS\",#REF!)),\"X\",\"\")","v":""}]
["ERNST & YOUNG MEDICAL PLAN (AMERIBEN)",null,{"$f":"IF(ISNUMBER(FIND(\"MEDICAID\",A1278)),\"X\",\"\")","v":""},{"$f":"IF(ISNUMBER(FIND(\"MEDICARE\",A1278)),\"X\",\"\")","v":""},{"$f":"IF(ISNUMBER(FIND(\"BC/BS\",#REF!)),\"X\",\"\")","v":""}]
["ERVIN RESOURCES SERVICES LLC (IPMG)",null,{"$f":"IF(ISNUMBER(FIND(\"MEDICAID\",A1279)),\"X\",\"\")","v":""},{"$f":"IF(ISNUMBER(FIND(\"MEDICARE\",A1279)),\"X\",\"\")","v":""},{"$f":"IF(ISNUMBER(FIND(\"BC/BS\",#REF!)),\"X\",\"\")","v":""}]
["ES BEVERIDGE AND ASSOCIATES","X",{"$f":"IF(ISNUMBER(FIND(\"MEDICAID\",A1280)),\"X\",\"\")","v":""},{"$f":"IF(ISNUMBER(FIND(\"MEDICARE\",A1280)),\"X\",\"\")","v":""},{"$f":"IF(ISNUMBER(FIND(\"BC/BS\",#REF!)),\"X\",\"\")","v":""}]
["ESKATON PROPERTIES INC (HEALTHCOMP)",null,{"$f":"IF(ISNUMBER(FIND(\"MEDICAID\",A1281)),\"X\",\"\")","v":""},{"$f":"IF(ISNUMBER(FIND(\"MEDICARE\",A1281)),\"X\",\"\")","v":""},{"$f":"IF(ISNUMBER(FIND(\"BC/BS\",#REF!)),\"X\",\"\")","v":""}]
["ESSENCE HEALTHCARE INC","X",{"$f":"IF(ISNUMBER(FIND(\"MEDICAID\",A1282)),\"X\",\"\")","v":""},{"$f":"IF(ISNUMBER(FIND(\"MEDICARE\",A1282)),\"X\",\"\")","v":""},{"$f":"IF(ISNUMBER(FIND(\"BC/BS\",#REF!)),\"X\",\"\")","v":""}]
["ESSI EBPT (90 DEGREE BENEFITS HOUSTON - ENTRUST)",null,{"$f":"IF(ISNUMBER(FIND(\"MEDICAID\",A1283)),\"X\",\"\")","v":""},{"$f":"IF(ISNUMBER(FIND(\"MEDICARE\",A1283)),\"X\",\"\")","v":""},{"$f":"IF(ISNUMBER(FIND(\"BC/BS\",#REF!)),\"X\",\"\")","v":""}]
["ESTES DESIGN AND MFG INC (GROUP & PENSION ADMIN)","X",{"$f":"IF(ISNUMBER(FIND(\"MEDICAID\",A1284)),\"X\",\"\")","v":""},{"$f":"IF(ISNUMBER(FIND(\"MEDICARE\",A1284)),\"X\",\"\")","v":""},{"$f":"IF(ISNUMBER(FIND(\"BC/BS\",#REF!)),\"X\",\"\")","v":""}]
["ETHIX CORP (SENTARA)","X",{"$f":"IF(ISNUMBER(FIND(\"MEDICAID\",A1285)),\"X\",\"\")","v":""},{"$f":"IF(ISNUMBER(FIND(\"MEDICARE\",A1285)),\"X\",\"\")","v":""},{"$f":"IF(ISNUMBER(FIND(\"BC/BS\",#REF!)),\"X\",\"\")","v":""}]
["EUCLID INDUSTRIES INC (ASR HEALTH BENEFITS)","X",{"$f":"IF(ISNUMBER(FIND(\"MEDICAID\",A1286)),\"X\",\"\")","v":""},{"$f":"IF(ISNUMBER(FIND(\"MEDICARE\",A1286)),\"X\",\"\")","v":""},{"$f":"IF(ISNUMBER(FIND(\"BC/BS\",#REF!)),\"X\",\"\")","v":""}]
["EUREKA FIRE PROTECTION DISTRICT (IPMG)","X",{"$f":"IF(ISNUMBER(FIND(\"MEDICAID\",A1287)),\"X\",\"\")","v":""},{"$f":"IF(ISNUMBER(FIND(\"MEDICARE\",A1287)),\"X\",\"\")","v":""},{"$f":"IF(ISNUMBER(FIND(\"BC/BS\",#REF!)),\"X\",\"\")","v":""}]
["EVANGELICAL COMMUNITY HOSPITAL (GEISINGER HEALTH PLAN)","X",{"$f":"IF(ISNUMBER(FIND(\"MEDICAID\",A1288)),\"X\",\"\")","v":""},{"$f":"IF(ISNUMBER(FIND(\"MEDICARE\",A1288)),\"X\",\"\")","v":""},{"$f":"IF(ISNUMBER(FIND(\"BC/BS\",#REF!)),\"X\",\"\")","v":""}]
["EVERENCE","X",{"$f":"IF(ISNUMBER(FIND(\"MEDICAID\",A1289)),\"X\",\"\")","v":""},{"$f":"IF(ISNUMBER(FIND(\"MEDICARE\",A1289)),\"X\",\"\")","v":""},{"$f":"IF(ISNUMBER(FIND(\"BC/BS\",#REF!)),\"X\",\"\")","v":""}]
["EVERENCE FINANCIAL","X",{"$f":"IF(ISNUMBER(FIND(\"MEDICAID\",A1290)),\"X\",\"\")","v":""},{"$f":"IF(ISNUMBER(FIND(\"MEDICARE\",A1290)),\"X\",\"\")","v":""},{"$f":"IF(ISNUMBER(FIND(\"BC/BS\",#REF!)),\"X\",\"\")","v":""}]
["EVEREST REINSURANCE COMPANY (IAS ADMIN)","X",{"$f":"IF(ISNUMBER(FIND(\"MEDICAID\",A1291)),\"X\",\"\")","v":""},{"$f":"IF(ISNUMBER(FIND(\"MEDICARE\",A1291)),\"X\",\"\")","v":""},{"$f":"IF(ISNUMBER(FIND(\"BC/BS\",#REF!)),\"X\",\"\")","v":""}]
["EVERNORTH BEHAVIORAL HEALTH (CIGNA)","X",{"$f":"IF(ISNUMBER(FIND(\"MEDICAID\",A1292)),\"X\",\"\")","v":""},{"$f":"IF(ISNUMBER(FIND(\"MEDICARE\",A1292)),\"X\",\"\")","v":""},{"$f":"IF(ISNUMBER(FIND(\"BC/BS\",#REF!)),\"X\",\"\")","v":""}]
["EVERNORTH BEHAVIORAL HEALTH OF CALIFORNIA (CIGNA)","X",{"$f":"IF(ISNUMBER(FIND(\"MEDICAID\",A1293)),\"X\",\"\")","v":""},{"$f":"IF(ISNUMBER(FIND(\"MEDICARE\",A1293)),\"X\",\"\")","v":""},{"$f":"IF(ISNUMBER(FIND(\"BC/BS\",#REF!)),\"X\",\"\")","v":""}]
["EVICORE HEALTHCARE MSI LLC","X",{"$f":"IF(ISNUMBER(FIND(\"MEDICAID\",A1294)),\"X\",\"\")","v":""},{"$f":"IF(ISNUMBER(FIND(\"MEDICARE\",A1294)),\"X\",\"\")","v":""},{"$f":"IF(ISNUMBER(FIND(\"BC/BS\",#REF!)),\"X\",\"\")","v":""}]
["EVOLUTION HEALTHCARE (TRUSTMARK)","X",{"$f":"IF(ISNUMBER(FIND(\"MEDICAID\",A1295)),\"X\",\"\")","v":""},{"$f":"IF(ISNUMBER(FIND(\"MEDICARE\",A1295)),\"X\",\"\")","v":""},{"$f":"IF(ISNUMBER(FIND(\"BC/BS\",#REF!)),\"X\",\"\")","v":""}]
["EXCAVATORS",null,{"$f":"IF(ISNUMBER(FIND(\"MEDICAID\",A1296)),\"X\",\"\")","v":""},{"$f":"IF(ISNUMBER(FIND(\"MEDICARE\",A1296)),\"X\",\"\")","v":""},{"$f":"IF(ISNUMBER(FIND(\"BC/BS\",#REF!)),\"X\",\"\")","v":""}]
["EXCEEDENT",null,{"$f":"IF(ISNUMBER(FIND(\"MEDICAID\",A1297)),\"X\",\"\")","v":""},{"$f":"IF(ISNUMBER(FIND(\"MEDICARE\",A1297)),\"X\",\"\")","v":""},{"$f":"IF(ISNUMBER(FIND(\"BC/BS\",#REF!)),\"X\",\"\")","v":""}]
["EXCELLIS HEALTH SOLUTIONS LLC (GROUP & PENSION ADMIN)","X",{"$f":"IF(ISNUMBER(FIND(\"MEDICAID\",A1298)),\"X\",\"\")","v":""},{"$f":"IF(ISNUMBER(FIND(\"MEDICARE\",A1298)),\"X\",\"\")","v":""},{"$f":"IF(ISNUMBER(FIND(\"BC/BS\",#REF!)),\"X\",\"\")","v":""}]
["EXCELLUS BCBS","X",{"$f":"IF(ISNUMBER(FIND(\"MEDICAID\",A1299)),\"X\",\"\")","v":""},{"$f":"IF(ISNUMBER(FIND(\"MEDICARE\",A1299)),\"X\",\"\")","v":""},"X"]
["EXCELLUS BCBS - HOSPITAL BLUE",null,{"$f":"IF(ISNUMBER(FIND(\"MEDICAID\",A1300)),\"X\",\"\")","v":""},{"$f":"IF(ISNUMBER(FIND(\"MEDICARE\",A1300)),\"X\",\"\")","v":""},"X"]
["EXCELLUS BCBS FEP","X",{"$f":"IF(ISNUMBER(FIND(\"MEDICAID\",A1301)),\"X\",\"\")","v":""},{"$f":"IF(ISNUMBER(FIND(\"MEDICARE\",A1301)),\"X\",\"\")","v":""},"X"]
["EXPRESS AUTO PARTS INC (SENTARA)","X",{"$f":"IF(ISNUMBER(FIND(\"MEDICAID\",A1302)),\"X\",\"\")","v":""},{"$f":"IF(ISNUMBER(FIND(\"MEDICARE\",A1302)),\"X\",\"\")","v":""},{"$f":"IF(ISNUMBER(FIND(\"BC/BS\",#REF!)),\"X\",\"\")","v":""}]
["EXPRESS SCRIPTS INC","X",{"$f":"IF(ISNUMBER(FIND(\"MEDICAID\",A1303)),\"X\",\"\")","v":""},{"$f":"IF(ISNUMBER(FIND(\"MEDICARE\",A1303)),\"X\",\"\")","v":""},{"$f":"IF(ISNUMBER(FIND(\"BC/BS\",#REF!)),\"X\",\"\")","v":""}]
["EXTENDED MLTC LLC",null,{"$f":"IF(ISNUMBER(FIND(\"MEDICAID\",A1304)),\"X\",\"\")","v":""},{"$f":"IF(ISNUMBER(FIND(\"MEDICARE\",A1304)),\"X\",\"\")","v":""},{"$f":"IF(ISNUMBER(FIND(\"BC/BS\",#REF!)),\"X\",\"\")","v":""}]
["FACEY MEDICAL GROUP","X",{"$f":"IF(ISNUMBER(FIND(\"MEDICAID\",A1305)),\"X\",\"\")","v":""},{"$f":"IF(ISNUMBER(FIND(\"MEDICARE\",A1305)),\"X\",\"\")","v":""},{"$f":"IF(ISNUMBER(FIND(\"BC/BS\",#REF!)),\"X\",\"\")","v":""}]
["FALLON COMMUNITY HEALTH PLAN (FCHP)","X",{"$f":"IF(ISNUMBER(FIND(\"MEDICAID\",A1306)),\"X\",\"\")","v":""},{"$f":"IF(ISNUMBER(FIND(\"MEDICARE\",A1306)),\"X\",\"\")","v":""},{"$f":"IF(ISNUMBER(FIND(\"BC/BS\",#REF!)),\"X\",\"\")","v":""}]
["FALLON HEALTH (FHW)",null,{"$f":"IF(ISNUMBER(FIND(\"MEDICAID\",A1307)),\"X\",\"\")","v":""},{"$f":"IF(ISNUMBER(FIND(\"MEDICARE\",A1307)),\"X\",\"\")","v":""},{"$f":"IF(ISNUMBER(FIND(\"BC/BS\",#REF!)),\"X\",\"\")","v":""}]
["FALLON HEALTH AND LIFE ASSURANCE COMPANY (FHLAC)","X",{"$f":"IF(ISNUMBER(FIND(\"MEDICAID\",A1308)),\"X\",\"\")","v":""},{"$f":"IF(ISNUMBER(FIND(\"MEDICARE\",A1308)),\"X\",\"\")","v":""},{"$f":"IF(ISNUMBER(FIND(\"BC/BS\",#REF!)),\"X\",\"\")","v":""}]
["FALLON HEALTH AND LIFE ASSURANCE COMPANY ASO (FHLACASO)","X",{"$f":"IF(ISNUMBER(FIND(\"MEDICAID\",A1309)),\"X\",\"\")","v":""},{"$f":"IF(ISNUMBER(FIND(\"MEDICARE\",A1309)),\"X\",\"\")","v":""},{"$f":"IF(ISNUMBER(FIND(\"BC/BS\",#REF!)),\"X\",\"\")","v":""}]
["FALLSWAY EQUIPMENT COMPANY (THE HEALTH PLAN)",null,{"$f":"IF(ISNUMBER(FIND(\"MEDICAID\",A1310)),\"X\",\"\")","v":""},{"$f":"IF(ISNUMBER(FIND(\"MEDICARE\",A1310)),\"X\",\"\")","v":""},{"$f":"IF(ISNUMBER(FIND(\"BC/BS\",#REF!)),\"X\",\"\")","v":""}]
["FAMILY HEALTH CENTER (SECURITY HEALTH PLAN)",null,{"$f":"IF(ISNUMBER(FIND(\"MEDICAID\",A1311)),\"X\",\"\")","v":""},{"$f":"IF(ISNUMBER(FIND(\"MEDICARE\",A1311)),\"X\",\"\")","v":""},{"$f":"IF(ISNUMBER(FIND(\"BC/BS\",#REF!)),\"X\",\"\")","v":""}]
["FAMILY PRACTICE MEDICAL GROUP",null,{"$f":"IF(ISNUMBER(FIND(\"MEDICAID\",A1312)),\"X\",\"\")","v":""},{"$f":"IF(ISNUMBER(FIND(\"MEDICARE\",A1312)),\"X\",\"\")","v":""},{"$f":"IF(ISNUMBER(FIND(\"BC/BS\",#REF!)),\"X\",\"\")","v":""}]
["FAMILYCARE HEALTH CENTERS (THE HEALTH PLAN)",null,{"$f":"IF(ISNUMBER(FIND(\"MEDICAID\",A1313)),\"X\",\"\")","v":""},{"$f":"IF(ISNUMBER(FIND(\"MEDICARE\",A1313)),\"X\",\"\")","v":""},{"$f":"IF(ISNUMBER(FIND(\"BC/BS\",#REF!)),\"X\",\"\")","v":""}]
["FANEUIL INC (GROUP & PENSION ADMIN)","X",{"$f":"IF(ISNUMBER(FIND(\"MEDICAID\",A1314)),\"X\",\"\")","v":""},{"$f":"IF(ISNUMBER(FIND(\"MEDICARE\",A1314)),\"X\",\"\")","v":""},{"$f":"IF(ISNUMBER(FIND(\"BC/BS\",#REF!)),\"X\",\"\")","v":""}]
["FARBEST FOODS INC (WEBTPA)","X",{"$f":"IF(ISNUMBER(FIND(\"MEDICAID\",A1315)),\"X\",\"\")","v":""},{"$f":"IF(ISNUMBER(FIND(\"MEDICARE\",A1315)),\"X\",\"\")","v":""},{"$f":"IF(ISNUMBER(FIND(\"BC/BS\",#REF!)),\"X\",\"\")","v":""}]
["FARGO VA MEDICAL CENTER","X",{"$f":"IF(ISNUMBER(FIND(\"MEDICAID\",A1316)),\"X\",\"\")","v":""},{"$f":"IF(ISNUMBER(FIND(\"MEDICARE\",A1316)),\"X\",\"\")","v":""},{"$f":"IF(ISNUMBER(FIND(\"BC/BS\",#REF!)),\"X\",\"\")","v":""}]
["FARGO VA MEDICAL/REGIONAL OFFICE",null,{"$f":"IF(ISNUMBER(FIND(\"MEDICAID\",A1317)),\"X\",\"\")","v":""},{"$f":"IF(ISNUMBER(FIND(\"MEDICARE\",A1317)),\"X\",\"\")","v":""},{"$f":"IF(ISNUMBER(FIND(\"BC/BS\",#REF!)),\"X\",\"\")","v":""}]
["FARM BUREAU HEALTH BENEFIT PLAN (WELLMARK)","X",{"$f":"IF(ISNUMBER(FIND(\"MEDICAID\",A1318)),\"X\",\"\")","v":""},{"$f":"IF(ISNUMBER(FIND(\"MEDICARE\",A1318)),\"X\",\"\")","v":""},"X"]
["FARM BUREAU HEALTH PLANS","X",{"$f":"IF(ISNUMBER(FIND(\"MEDICAID\",A1319)),\"X\",\"\")","v":""},{"$f":"IF(ISNUMBER(FIND(\"MEDICARE\",A1319)),\"X\",\"\")","v":""},{"$f":"IF(ISNUMBER(FIND(\"BC/BS\",#REF!)),\"X\",\"\")","v":""}]
["FARM BUREAU MUTUAL INSURANCE COMPANY OF MICHIGAN","X",{"$f":"IF(ISNUMBER(FIND(\"MEDICAID\",A1320)),\"X\",\"\")","v":""},{"$f":"IF(ISNUMBER(FIND(\"MEDICARE\",A1320)),\"X\",\"\")","v":""},{"$f":"IF(ISNUMBER(FIND(\"BC/BS\",#REF!)),\"X\",\"\")","v":""},null,"X"]
["FARM FAMILY CASUALTY INSURANCE COMPANY (MVP HEALTH CARE)","X",{"$f":"IF(ISNUMBER(FIND(\"MEDICAID\",A1321)),\"X\",\"\")","v":""},{"$f":"IF(ISNUMBER(FIND(\"MEDICARE\",A1321)),\"X\",\"\")","v":""},{"$f":"IF(ISNUMBER(FIND(\"BC/BS\",#REF!)),\"X\",\"\")","v":""}]
["FARWEST CORROSION CONTROL INC (HEALTHCOMP)",null,{"$f":"IF(ISNUMBER(FIND(\"MEDICAID\",A1322)),\"X\",\"\")","v":""},{"$f":"IF(ISNUMBER(FIND(\"MEDICARE\",A1322)),\"X\",\"\")","v":""},{"$f":"IF(ISNUMBER(FIND(\"BC/BS\",#REF!)),\"X\",\"\")","v":""}]
["FAYETTE COUNTY BOARD OF FINANCE (GROUP & PENSION ADMIN)","X",{"$f":"IF(ISNUMBER(FIND(\"MEDICAID\",A1323)),\"X\",\"\")","v":""},{"$f":"IF(ISNUMBER(FIND(\"MEDICARE\",A1323)),\"X\",\"\")","v":""},{"$f":"IF(ISNUMBER(FIND(\"BC/BS\",#REF!)),\"X\",\"\")","v":""}]
["FAYETTEVILLE ARKANSAS VA MEDICAL CENTER","X",{"$f":"IF(ISNUMBER(FIND(\"MEDICAID\",A1324)),\"X\",\"\")","v":""},{"$f":"IF(ISNUMBER(FIND(\"MEDICARE\",A1324)),\"X\",\"\")","v":""},{"$f":"IF(ISNUMBER(FIND(\"BC/BS\",#REF!)),\"X\",\"\")","v":""}]
["FBG - ASC INDUSTRIES (THE HEALTH PLAN)",null,{"$f":"IF(ISNUMBER(FIND(\"MEDICAID\",A1325)),\"X\",\"\")","v":""},{"$f":"IF(ISNUMBER(FIND(\"MEDICARE\",A1325)),\"X\",\"\")","v":""},{"$f":"IF(ISNUMBER(FIND(\"BC/BS\",#REF!)),\"X\",\"\")","v":""}]
["FBG - BRAKE PARTS INC (THE HEALTH PLAN)",null,{"$f":"IF(ISNUMBER(FIND(\"MEDICAID\",A1326)),\"X\",\"\")","v":""},{"$f":"IF(ISNUMBER(FIND(\"MEDICARE\",A1326)),\"X\",\"\")","v":""},{"$f":"IF(ISNUMBER(FIND(\"BC/BS\",#REF!)),\"X\",\"\")","v":""}]
["FBG - CARTER FUEL (THE HEALTH PLAN)",null,{"$f":"IF(ISNUMBER(FIND(\"MEDICAID\",A1327)),\"X\",\"\")","v":""},{"$f":"IF(ISNUMBER(FIND(\"MEDICARE\",A1327)),\"X\",\"\")","v":""},{"$f":"IF(ISNUMBER(FIND(\"BC/BS\",#REF!)),\"X\",\"\")","v":""}]
["FBG - CHAMPION LABORATORIES (THE HEALTH PLAN)",null,{"$f":"IF(ISNUMBER(FIND(\"MEDICAID\",A1328)),\"X\",\"\")","v":""},{"$f":"IF(ISNUMBER(FIND(\"MEDICARE\",A1328)),\"X\",\"\")","v":""},{"$f":"IF(ISNUMBER(FIND(\"BC/BS\",#REF!)),\"X\",\"\")","v":""}]
["FBG - FRAM (THE HEALTH PLAN)",null,{"$f":"IF(ISNUMBER(FIND(\"MEDICAID\",A1329)),\"X\",\"\")","v":""},{"$f":"IF(ISNUMBER(FIND(\"MEDICARE\",A1329)),\"X\",\"\")","v":""},{"$f":"IF(ISNUMBER(FIND(\"BC/BS\",#REF!)),\"X\",\"\")","v":""}]
["FBG - TRICO PRODUCTS (THE HEALTH PLAN)",null,{"$f":"IF(ISNUMBER(FIND(\"MEDICAID\",A1330)),\"X\",\"\")","v":""},{"$f":"IF(ISNUMBER(FIND(\"MEDICARE\",A1330)),\"X\",\"\")","v":""},{"$f":"IF(ISNUMBER(FIND(\"BC/BS\",#REF!)),\"X\",\"\")","v":""}]
["FCE BENEFITS","X",{"$f":"IF(ISNUMBER(FIND(\"MEDICAID\",A1331)),\"X\",\"\")","v":""},{"$f":"IF(ISNUMBER(FIND(\"MEDICARE\",A1331)),\"X\",\"\")","v":""},{"$f":"IF(ISNUMBER(FIND(\"BC/BS\",#REF!)),\"X\",\"\")","v":""}]
["FEDERAL EMPLOYEE AND RETIREE HEALTH BENEFITS - EPO HIGH (FEHBP)","X",{"$f":"IF(ISNUMBER(FIND(\"MEDICAID\",A1332)),\"X\",\"\")","v":""},{"$f":"IF(ISNUMBER(FIND(\"MEDICARE\",A1332)),\"X\",\"\")","v":""},{"$f":"IF(ISNUMBER(FIND(\"BC/BS\",#REF!)),\"X\",\"\")","v":""}]
["FEDERAL EMPLOYEE AND RETIREE HEALTH BENEFITS - EPO STANDARD (FEHBP)","X",{"$f":"IF(ISNUMBER(FIND(\"MEDICAID\",A1333)),\"X\",\"\")","v":""},{"$f":"IF(ISNUMBER(FIND(\"MEDICARE\",A1333)),\"X\",\"\")","v":""},{"$f":"IF(ISNUMBER(FIND(\"BC/BS\",#REF!)),\"X\",\"\")","v":""}]
["FEDERAL LIFE INSURANCE COMPANY (MUTUAL OF OMAHA)","X",{"$f":"IF(ISNUMBER(FIND(\"MEDICAID\",A1334)),\"X\",\"\")","v":""},{"$f":"IF(ISNUMBER(FIND(\"MEDICARE\",A1334)),\"X\",\"\")","v":""},{"$f":"IF(ISNUMBER(FIND(\"BC/BS\",#REF!)),\"X\",\"\")","v":""}]
["FENIX HEALTH MEDICAL GROUP (EPIC MANAGEMENT)","X",{"$f":"IF(ISNUMBER(FIND(\"MEDICAID\",A1335)),\"X\",\"\")","v":""},{"$f":"IF(ISNUMBER(FIND(\"MEDICARE\",A1335)),\"X\",\"\")","v":""},{"$f":"IF(ISNUMBER(FIND(\"BC/BS\",#REF!)),\"X\",\"\")","v":""}]
["FENIX MANAGEMENT LLC (THE HEALTH PLAN)",null,{"$f":"IF(ISNUMBER(FIND(\"MEDICAID\",A1336)),\"X\",\"\")","v":""},{"$f":"IF(ISNUMBER(FIND(\"MEDICARE\",A1336)),\"X\",\"\")","v":""},{"$f":"IF(ISNUMBER(FIND(\"BC/BS\",#REF!)),\"X\",\"\")","v":""}]
["FEP VISION (SUPERIOR VISION)","X",{"$f":"IF(ISNUMBER(FIND(\"MEDICAID\",A1337)),\"X\",\"\")","v":""},{"$f":"IF(ISNUMBER(FIND(\"MEDICARE\",A1337)),\"X\",\"\")","v":""},{"$f":"IF(ISNUMBER(FIND(\"BC/BS\",#REF!)),\"X\",\"\")","v":""}]
["FEYEN ZYLSTRA LLC (ASR CORP)","X",{"$f":"IF(ISNUMBER(FIND(\"MEDICAID\",A1338)),\"X\",\"\")","v":""},{"$f":"IF(ISNUMBER(FIND(\"MEDICARE\",A1338)),\"X\",\"\")","v":""},{"$f":"IF(ISNUMBER(FIND(\"BC/BS\",#REF!)),\"X\",\"\")","v":""}]
["FIBREBOND EBPT (90 DEGREE BENEFITS HOUSTON - ENTRUST)",null,{"$f":"IF(ISNUMBER(FIND(\"MEDICAID\",A1339)),\"X\",\"\")","v":""},{"$f":"IF(ISNUMBER(FIND(\"MEDICARE\",A1339)),\"X\",\"\")","v":""},{"$f":"IF(ISNUMBER(FIND(\"BC/BS\",#REF!)),\"X\",\"\")","v":""}]
["FIDELIS CARE NEW YORK","X",{"$f":"IF(ISNUMBER(FIND(\"MEDICAID\",A1340)),\"X\",\"\")","v":""},{"$f":"IF(ISNUMBER(FIND(\"MEDICARE\",A1340)),\"X\",\"\")","v":""},{"$f":"IF(ISNUMBER(FIND(\"BC/BS\",#REF!)),\"X\",\"\")","v":""}]
["FIDELIS CARE NEW YORK - EXCHANGES","X",{"$f":"IF(ISNUMBER(FIND(\"MEDICAID\",A1341)),\"X\",\"\")","v":""},{"$f":"IF(ISNUMBER(FIND(\"MEDICARE\",A1341)),\"X\",\"\")","v":""},{"$f":"IF(ISNUMBER(FIND(\"BC/BS\",#REF!)),\"X\",\"\")","v":""}]
["FIDELIS CARE NEW YORK - FIDELIS CARE AT HOME","X",{"$f":"IF(ISNUMBER(FIND(\"MEDICAID\",A1342)),\"X\",\"\")","v":""},{"$f":"IF(ISNUMBER(FIND(\"MEDICARE\",A1342)),\"X\",\"\")","v":""},{"$f":"IF(ISNUMBER(FIND(\"BC/BS\",#REF!)),\"X\",\"\")","v":""}]
["FIDELIS CARE NEW YORK - MEDICARE ADVANTAGE","X",{"$f":"IF(ISNUMBER(FIND(\"MEDICAID\",A1343)),\"X\",\"\")","v":""},null,{"$f":"IF(ISNUMBER(FIND(\"BC/BS\",#REF!)),\"X\",\"\")","v":""}]
["FIDELIS SECURE CARE","X",{"$f":"IF(ISNUMBER(FIND(\"MEDICAID\",A1344)),\"X\",\"\")","v":""},{"$f":"IF(ISNUMBER(FIND(\"MEDICARE\",A1344)),\"X\",\"\")","v":""},{"$f":"IF(ISNUMBER(FIND(\"BC/BS\",#REF!)),\"X\",\"\")","v":""}]
["FIDELITY SECURITY LIFE INSURANCE COMPANY (ALLIED NATIONAL)",null,{"$f":"IF(ISNUMBER(FIND(\"MEDICAID\",A1345)),\"X\",\"\")","v":""},{"$f":"IF(ISNUMBER(FIND(\"MEDICARE\",A1345)),\"X\",\"\")","v":""},{"$f":"IF(ISNUMBER(FIND(\"BC/BS\",#REF!)),\"X\",\"\")","v":""}]
["FIDELITY TECHNOLOGIES (MAESTRO HEALTH)","X",{"$f":"IF(ISNUMBER(FIND(\"MEDICAID\",A1346)),\"X\",\"\")","v":""},{"$f":"IF(ISNUMBER(FIND(\"MEDICARE\",A1346)),\"X\",\"\")","v":""},{"$f":"IF(ISNUMBER(FIND(\"BC/BS\",#REF!)),\"X\",\"\")","v":""}]
["FIRST ATLANTIC RESTORATION (SENTARA)",null,{"$f":"IF(ISNUMBER(FIND(\"MEDICAID\",A1347)),\"X\",\"\")","v":""},{"$f":"IF(ISNUMBER(FIND(\"MEDICARE\",A1347)),\"X\",\"\")","v":""},{"$f":"IF(ISNUMBER(FIND(\"BC/BS\",#REF!)),\"X\",\"\")","v":""}]
["FIRST BENEFIT ADMINISTRATORS","X",{"$f":"IF(ISNUMBER(FIND(\"MEDICAID\",A1348)),\"X\",\"\")","v":""},{"$f":"IF(ISNUMBER(FIND(\"MEDICARE\",A1348)),\"X\",\"\")","v":""},{"$f":"IF(ISNUMBER(FIND(\"BC/BS\",#REF!)),\"X\",\"\")","v":""}]
["FIRST CAROLINA CARE","X",{"$f":"IF(ISNUMBER(FIND(\"MEDICAID\",A1349)),\"X\",\"\")","v":""},{"$f":"IF(ISNUMBER(FIND(\"MEDICARE\",A1349)),\"X\",\"\")","v":""},{"$f":"IF(ISNUMBER(FIND(\"BC/BS\",#REF!)),\"X\",\"\")","v":""}]
["FIRST CHOICE HEALTH (FIRST CHOICE)","X",{"$f":"IF(ISNUMBER(FIND(\"MEDICAID\",A1350)),\"X\",\"\")","v":""},{"$f":"IF(ISNUMBER(FIND(\"MEDICARE\",A1350)),\"X\",\"\")","v":""},{"$f":"IF(ISNUMBER(FIND(\"BC/BS\",#REF!)),\"X\",\"\")","v":""}]
["FIRST CHOICE MEDICAL GROUP","X",{"$f":"IF(ISNUMBER(FIND(\"MEDICAID\",A1351)),\"X\",\"\")","v":""},{"$f":"IF(ISNUMBER(FIND(\"MEDICARE\",A1351)),\"X\",\"\")","v":""},{"$f":"IF(ISNUMBER(FIND(\"BC/BS\",#REF!)),\"X\",\"\")","v":""}]
["FIRST COMMUNITY BANK (90 DEGREE BENEFIT NORTH CAROLINA - CORPORATE BENEFITS SERVICES)","X",{"$f":"IF(ISNUMBER(FIND(\"MEDICAID\",A1352)),\"X\",\"\")","v":""},{"$f":"IF(ISNUMBER(FIND(\"MEDICARE\",A1352)),\"X\",\"\")","v":""},{"$f":"IF(ISNUMBER(FIND(\"BC/BS\",#REF!)),\"X\",\"\")","v":""}]
["FIRST COMMUNITY HEALTH PLAN","X",{"$f":"IF(ISNUMBER(FIND(\"MEDICAID\",A1353)),\"X\",\"\")","v":""},{"$f":"IF(ISNUMBER(FIND(\"MEDICARE\",A1353)),\"X\",\"\")","v":""},{"$f":"IF(ISNUMBER(FIND(\"BC/BS\",#REF!)),\"X\",\"\")","v":""}]
["FIRST COMMUNITY NATIONAL BANK (IPMG)","X",{"$f":"IF(ISNUMBER(FIND(\"MEDICAID\",A1354)),\"X\",\"\")","v":""},{"$f":"IF(ISNUMBER(FIND(\"MEDICARE\",A1354)),\"X\",\"\")","v":""},{"$f":"IF(ISNUMBER(FIND(\"BC/BS\",#REF!)),\"X\",\"\")","v":""}]
["FIRST HEALTH LIFE & HEALTH INSURANCE COMPANY (AETNA SSI)","X",{"$f":"IF(ISNUMBER(FIND(\"MEDICAID\",A1355)),\"X\",\"\")","v":""},{"$f":"IF(ISNUMBER(FIND(\"MEDICARE\",A1355)),\"X\",\"\")","v":""},{"$f":"IF(ISNUMBER(FIND(\"BC/BS\",#REF!)),\"X\",\"\")","v":""}]
["FIRST MEDICAL HEALTH PLAN",null,{"$f":"IF(ISNUMBER(FIND(\"MEDICAID\",A1356)),\"X\",\"\")","v":""},{"$f":"IF(ISNUMBER(FIND(\"MEDICARE\",A1356)),\"X\",\"\")","v":""},{"$f":"IF(ISNUMBER(FIND(\"BC/BS\",#REF!)),\"X\",\"\")","v":""}]
["FIRST RATE INC HEALTHCARE (GROUP & PENSION ADMIN)",null,{"$f":"IF(ISNUMBER(FIND(\"MEDICAID\",A1357)),\"X\",\"\")","v":""},{"$f":"IF(ISNUMBER(FIND(\"MEDICARE\",A1357)),\"X\",\"\")","v":""},{"$f":"IF(ISNUMBER(FIND(\"BC/BS\",#REF!)),\"X\",\"\")","v":""}]
["FIRST UNITED BANK (WEBTPA)","X",{"$f":"IF(ISNUMBER(FIND(\"MEDICAID\",A1358)),\"X\",\"\")","v":""},{"$f":"IF(ISNUMBER(FIND(\"MEDICARE\",A1358)),\"X\",\"\")","v":""},{"$f":"IF(ISNUMBER(FIND(\"BC/BS\",#REF!)),\"X\",\"\")","v":""}]
["FIRSTCARE","X",{"$f":"IF(ISNUMBER(FIND(\"MEDICAID\",A1359)),\"X\",\"\")","v":""},{"$f":"IF(ISNUMBER(FIND(\"MEDICARE\",A1359)),\"X\",\"\")","v":""},{"$f":"IF(ISNUMBER(FIND(\"BC/BS\",#REF!)),\"X\",\"\")","v":""}]
["FISHER COMPANIES LLC (ASR HEALTH BENEFITS)","X",{"$f":"IF(ISNUMBER(FIND(\"MEDICAID\",A1360)),\"X\",\"\")","v":""},{"$f":"IF(ISNUMBER(FIND(\"MEDICARE\",A1360)),\"X\",\"\")","v":""},{"$f":"IF(ISNUMBER(FIND(\"BC/BS\",#REF!)),\"X\",\"\")","v":""}]
["FISHER PRINTING INC (GROUP & PENSION ADMIN)","X",{"$f":"IF(ISNUMBER(FIND(\"MEDICAID\",A1361)),\"X\",\"\")","v":""},{"$f":"IF(ISNUMBER(FIND(\"MEDICARE\",A1361)),\"X\",\"\")","v":""},{"$f":"IF(ISNUMBER(FIND(\"BC/BS\",#REF!)),\"X\",\"\")","v":""}]
["FLAGSHIP CITY INSURANCE COMPANY (ERIE INSURANCE)","X",{"$f":"IF(ISNUMBER(FIND(\"MEDICAID\",A1362)),\"X\",\"\")","v":""},{"$f":"IF(ISNUMBER(FIND(\"MEDICARE\",A1362)),\"X\",\"\")","v":""},{"$f":"IF(ISNUMBER(FIND(\"BC/BS\",#REF!)),\"X\",\"\")","v":""},"X"]
["FLETCHER ACADEMY (MAESTRO HEALTH)",null,{"$f":"IF(ISNUMBER(FIND(\"MEDICAID\",A1363)),\"X\",\"\")","v":""},{"$f":"IF(ISNUMBER(FIND(\"MEDICARE\",A1363)),\"X\",\"\")","v":""},{"$f":"IF(ISNUMBER(FIND(\"BC/BS\",#REF!)),\"X\",\"\")","v":""}]
["FLOREXPO LLC (HEALTHCOMP)",null,{"$f":"IF(ISNUMBER(FIND(\"MEDICAID\",A1364)),\"X\",\"\")","v":""},{"$f":"IF(ISNUMBER(FIND(\"MEDICARE\",A1364)),\"X\",\"\")","v":""},{"$f":"IF(ISNUMBER(FIND(\"BC/BS\",#REF!)),\"X\",\"\")","v":""}]
["FLORIDA COMMUNITY CARE",null,{"$f":"IF(ISNUMBER(FIND(\"MEDICAID\",A1365)),\"X\",\"\")","v":""},{"$f":"IF(ISNUMBER(FIND(\"MEDICARE\",A1365)),\"X\",\"\")","v":""},{"$f":"IF(ISNUMBER(FIND(\"BC/BS\",#REF!)),\"X\",\"\")","v":""}]
["FLORIDA HEALTH ADMINISTRATORS INC","X",{"$f":"IF(ISNUMBER(FIND(\"MEDICAID\",A1366)),\"X\",\"\")","v":""},{"$f":"IF(ISNUMBER(FIND(\"MEDICARE\",A1366)),\"X\",\"\")","v":""},{"$f":"IF(ISNUMBER(FIND(\"BC/BS\",#REF!)),\"X\",\"\")","v":""}]
["FLORIDA HEALTH CARE PLANS (FHCP)","X",{"$f":"IF(ISNUMBER(FIND(\"MEDICAID\",A1367)),\"X\",\"\")","v":""},{"$f":"IF(ISNUMBER(FIND(\"MEDICARE\",A1367)),\"X\",\"\")","v":""},{"$f":"IF(ISNUMBER(FIND(\"BC/BS\",#REF!)),\"X\",\"\")","v":""}]
["FLORIDA WC CLAIMS BRANCH (AUTO-OWNERS INSURANCE COMPANY)","X",{"$f":"IF(ISNUMBER(FIND(\"MEDICAID\",A1368)),\"X\",\"\")","v":""},{"$f":"IF(ISNUMBER(FIND(\"MEDICARE\",A1368)),\"X\",\"\")","v":""},{"$f":"IF(ISNUMBER(FIND(\"BC/BS\",#REF!)),\"X\",\"\")","v":""},"X"]
["FLUOR MARINE PROPULSION CORPORATION LLC (CDPHP)","X",{"$f":"IF(ISNUMBER(FIND(\"MEDICAID\",A1369)),\"X\",\"\")","v":""},{"$f":"IF(ISNUMBER(FIND(\"MEDICARE\",A1369)),\"X\",\"\")","v":""},{"$f":"IF(ISNUMBER(FIND(\"BC/BS\",#REF!)),\"X\",\"\")","v":""}]
["FONDA FULTONVILLE CENTRAL SCHOOL DISTRICT (CDPHP)",null,{"$f":"IF(ISNUMBER(FIND(\"MEDICAID\",A1370)),\"X\",\"\")","v":""},{"$f":"IF(ISNUMBER(FIND(\"MEDICARE\",A1370)),\"X\",\"\")","v":""},{"$f":"IF(ISNUMBER(FIND(\"BC/BS\",#REF!)),\"X\",\"\")","v":""}]
["FOR YOUR BENEFIT (ALL AMERICAN MEDICAL GROUP)","X",{"$f":"IF(ISNUMBER(FIND(\"MEDICAID\",A1371)),\"X\",\"\")","v":""},{"$f":"IF(ISNUMBER(FIND(\"MEDICARE\",A1371)),\"X\",\"\")","v":""},{"$f":"IF(ISNUMBER(FIND(\"BC/BS\",#REF!)),\"X\",\"\")","v":""}]
["FORCE CORPORATION EBPT (90 DEGREE BENEFITS HOUSTON - ENTRUST)",null,{"$f":"IF(ISNUMBER(FIND(\"MEDICAID\",A1372)),\"X\",\"\")","v":""},{"$f":"IF(ISNUMBER(FIND(\"MEDICARE\",A1372)),\"X\",\"\")","v":""},{"$f":"IF(ISNUMBER(FIND(\"BC/BS\",#REF!)),\"X\",\"\")","v":""}]
["FOREST COUNTY POTAWATOMI COMMUNITY","X",{"$f":"IF(ISNUMBER(FIND(\"MEDICAID\",A1373)),\"X\",\"\")","v":""},{"$f":"IF(ISNUMBER(FIND(\"MEDICARE\",A1373)),\"X\",\"\")","v":""},{"$f":"IF(ISNUMBER(FIND(\"BC/BS\",#REF!)),\"X\",\"\")","v":""}]
["FOREST COUNTY POTAWATOMI INSURANCE DEPARTMENT","X",{"$f":"IF(ISNUMBER(FIND(\"MEDICAID\",A1374)),\"X\",\"\")","v":""},{"$f":"IF(ISNUMBER(FIND(\"MEDICARE\",A1374)),\"X\",\"\")","v":""},{"$f":"IF(ISNUMBER(FIND(\"BC/BS\",#REF!)),\"X\",\"\")","v":""}]
["FORT HARRISON VA MEDICAL CENTER",null,{"$f":"IF(ISNUMBER(FIND(\"MEDICAID\",A1375)),\"X\",\"\")","v":""},{"$f":"IF(ISNUMBER(FIND(\"MEDICARE\",A1375)),\"X\",\"\")","v":""},{"$f":"IF(ISNUMBER(FIND(\"BC/BS\",#REF!)),\"X\",\"\")","v":""}]
["FORT MEADE VA MEDICAL CENTER","X",{"$f":"IF(ISNUMBER(FIND(\"MEDICAID\",A1376)),\"X\",\"\")","v":""},{"$f":"IF(ISNUMBER(FIND(\"MEDICARE\",A1376)),\"X\",\"\")","v":""},{"$f":"IF(ISNUMBER(FIND(\"BC/BS\",#REF!)),\"X\",\"\")","v":""}]
["FOSTER POULTRY FARMS (HEALTHCOMP)","X",{"$f":"IF(ISNUMBER(FIND(\"MEDICAID\",A1377)),\"X\",\"\")","v":""},{"$f":"IF(ISNUMBER(FIND(\"MEDICARE\",A1377)),\"X\",\"\")","v":""},{"$f":"IF(ISNUMBER(FIND(\"BC/BS\",#REF!)),\"X\",\"\")","v":""}]
["FOUNDATION FOR MEDICAL CARE","X",{"$f":"IF(ISNUMBER(FIND(\"MEDICAID\",A1378)),\"X\",\"\")","v":""},{"$f":"IF(ISNUMBER(FIND(\"MEDICARE\",A1378)),\"X\",\"\")","v":""},{"$f":"IF(ISNUMBER(FIND(\"BC/BS\",#REF!)),\"X\",\"\")","v":""}]
["FOUR C CONSTRUCTION (SENTARA)","X",{"$f":"IF(ISNUMBER(FIND(\"MEDICAID\",A1379)),\"X\",\"\")","v":""},{"$f":"IF(ISNUMBER(FIND(\"MEDICARE\",A1379)),\"X\",\"\")","v":""},{"$f":"IF(ISNUMBER(FIND(\"BC/BS\",#REF!)),\"X\",\"\")","v":""}]
["FOWLER PACKING (HEALTHCOMP)","X",{"$f":"IF(ISNUMBER(FIND(\"MEDICAID\",A1380)),\"X\",\"\")","v":""},{"$f":"IF(ISNUMBER(FIND(\"MEDICARE\",A1380)),\"X\",\"\")","v":""},{"$f":"IF(ISNUMBER(FIND(\"BC/BS\",#REF!)),\"X\",\"\")","v":""}]
["FOX EVERETT INC","X",{"$f":"IF(ISNUMBER(FIND(\"MEDICAID\",A1381)),\"X\",\"\")","v":""},{"$f":"IF(ISNUMBER(FIND(\"MEDICARE\",A1381)),\"X\",\"\")","v":""},{"$f":"IF(ISNUMBER(FIND(\"BC/BS\",#REF!)),\"X\",\"\")","v":""}]
["FOX VALLEY LABORERS HEALTH & WELFARE FUND",null,{"$f":"IF(ISNUMBER(FIND(\"MEDICAID\",A1382)),\"X\",\"\")","v":""},{"$f":"IF(ISNUMBER(FIND(\"MEDICARE\",A1382)),\"X\",\"\")","v":""},{"$f":"IF(ISNUMBER(FIND(\"BC/BS\",#REF!)),\"X\",\"\")","v":""}]
["FOX VALLEY MEDICINE (ARCADIA SOLUTIONS)",null,{"$f":"IF(ISNUMBER(FIND(\"MEDICAID\",A1383)),\"X\",\"\")","v":""},{"$f":"IF(ISNUMBER(FIND(\"MEDICARE\",A1383)),\"X\",\"\")","v":""},{"$f":"IF(ISNUMBER(FIND(\"BC/BS\",#REF!)),\"X\",\"\")","v":""}]
["FOX VALLEY MEDICINE LTD (INNOVISTA HEALTH)","X",{"$f":"IF(ISNUMBER(FIND(\"MEDICAID\",A1384)),\"X\",\"\")","v":""},{"$f":"IF(ISNUMBER(FIND(\"MEDICARE\",A1384)),\"X\",\"\")","v":""},{"$f":"IF(ISNUMBER(FIND(\"BC/BS\",#REF!)),\"X\",\"\")","v":""}]
["FREDDY'S FAST CASH EBPT (90 DEGREE BENEFITS HOUSTON - ENTRUST)",null,{"$f":"IF(ISNUMBER(FIND(\"MEDICAID\",A1385)),\"X\",\"\")","v":""},{"$f":"IF(ISNUMBER(FIND(\"MEDICARE\",A1385)),\"X\",\"\")","v":""},{"$f":"IF(ISNUMBER(FIND(\"BC/BS\",#REF!)),\"X\",\"\")","v":""}]
["FREE MARKET ADMINISTRATORS","X",{"$f":"IF(ISNUMBER(FIND(\"MEDICAID\",A1386)),\"X\",\"\")","v":""},{"$f":"IF(ISNUMBER(FIND(\"MEDICARE\",A1386)),\"X\",\"\")","v":""},{"$f":"IF(ISNUMBER(FIND(\"BC/BS\",#REF!)),\"X\",\"\")","v":""}]
["FREEDOM HEALTH (TAMPA, FL)","X",{"$f":"IF(ISNUMBER(FIND(\"MEDICAID\",A1387)),\"X\",\"\")","v":""},{"$f":"IF(ISNUMBER(FIND(\"MEDICARE\",A1387)),\"X\",\"\")","v":""},{"$f":"IF(ISNUMBER(FIND(\"BC/BS\",#REF!)),\"X\",\"\")","v":""}]
["FRESHMARK INC (THE HEALTH PLAN)",null,{"$f":"IF(ISNUMBER(FIND(\"MEDICAID\",A1388)),\"X\",\"\")","v":""},{"$f":"IF(ISNUMBER(FIND(\"MEDICARE\",A1388)),\"X\",\"\")","v":""},{"$f":"IF(ISNUMBER(FIND(\"BC/BS\",#REF!)),\"X\",\"\")","v":""}]
["FRESNO CITY EMPLOYEE HEALTH & WELFARE TRUST (HEALTHCOMP)","X",{"$f":"IF(ISNUMBER(FIND(\"MEDICAID\",A1389)),\"X\",\"\")","v":""},{"$f":"IF(ISNUMBER(FIND(\"MEDICARE\",A1389)),\"X\",\"\")","v":""},{"$f":"IF(ISNUMBER(FIND(\"BC/BS\",#REF!)),\"X\",\"\")","v":""}]
["FRESNO ECONOMIC OPPORTUNITIES COMMISSION (PINNACLE CLAIMS MANAGEMENT)",null,{"$f":"IF(ISNUMBER(FIND(\"MEDICAID\",A1390)),\"X\",\"\")","v":""},{"$f":"IF(ISNUMBER(FIND(\"MEDICARE\",A1390)),\"X\",\"\")","v":""},{"$f":"IF(ISNUMBER(FIND(\"BC/BS\",#REF!)),\"X\",\"\")","v":""}]
["FRESNO UNIFIED SCHOOL DISTRICT (DELTA HEALTH SYSTEMS)",null,{"$f":"IF(ISNUMBER(FIND(\"MEDICAID\",A1391)),\"X\",\"\")","v":""},{"$f":"IF(ISNUMBER(FIND(\"MEDICARE\",A1391)),\"X\",\"\")","v":""},{"$f":"IF(ISNUMBER(FIND(\"BC/BS\",#REF!)),\"X\",\"\")","v":""}]
["FRESNO VA MEDICAL CENTER","X",{"$f":"IF(ISNUMBER(FIND(\"MEDICAID\",A1392)),\"X\",\"\")","v":""},{"$f":"IF(ISNUMBER(FIND(\"MEDICARE\",A1392)),\"X\",\"\")","v":""},{"$f":"IF(ISNUMBER(FIND(\"BC/BS\",#REF!)),\"X\",\"\")","v":""}]
["FRIDAY HEALTH PLANS","X",{"$f":"IF(ISNUMBER(FIND(\"MEDICAID\",A1393)),\"X\",\"\")","v":""},{"$f":"IF(ISNUMBER(FIND(\"MEDICARE\",A1393)),\"X\",\"\")","v":""},{"$f":"IF(ISNUMBER(FIND(\"BC/BS\",#REF!)),\"X\",\"\")","v":""}]
["FRINGE BENEFIT COORDINATORS / BENEBAY INC","X",{"$f":"IF(ISNUMBER(FIND(\"MEDICAID\",A1394)),\"X\",\"\")","v":""},{"$f":"IF(ISNUMBER(FIND(\"MEDICARE\",A1394)),\"X\",\"\")","v":""},{"$f":"IF(ISNUMBER(FIND(\"BC/BS\",#REF!)),\"X\",\"\")","v":""}]
["FRINGE BENEFIT GROUP","X",{"$f":"IF(ISNUMBER(FIND(\"MEDICAID\",A1395)),\"X\",\"\")","v":""},{"$f":"IF(ISNUMBER(FIND(\"MEDICARE\",A1395)),\"X\",\"\")","v":""},{"$f":"IF(ISNUMBER(FIND(\"BC/BS\",#REF!)),\"X\",\"\")","v":""}]
["FRISCH'S RESTAURANTS INC (GROUP & PENSION ADMIN)","X",{"$f":"IF(ISNUMBER(FIND(\"MEDICAID\",A1396)),\"X\",\"\")","v":""},{"$f":"IF(ISNUMBER(FIND(\"MEDICARE\",A1396)),\"X\",\"\")","v":""},{"$f":"IF(ISNUMBER(FIND(\"BC/BS\",#REF!)),\"X\",\"\")","v":""}]
["FRONTIER CENTRAL SCHOOL DISTRICT (INDEPENDENT HEALTH)",null,{"$f":"IF(ISNUMBER(FIND(\"MEDICAID\",A1397)),\"X\",\"\")","v":""},{"$f":"IF(ISNUMBER(FIND(\"MEDICARE\",A1397)),\"X\",\"\")","v":""},{"$f":"IF(ISNUMBER(FIND(\"BC/BS\",#REF!)),\"X\",\"\")","v":""}]
["FT. WORTH FIRE FIGHTERS (MAESTRO HEALTH)",null,{"$f":"IF(ISNUMBER(FIND(\"MEDICAID\",A1398)),\"X\",\"\")","v":""},{"$f":"IF(ISNUMBER(FIND(\"MEDICARE\",A1398)),\"X\",\"\")","v":""},{"$f":"IF(ISNUMBER(FIND(\"BC/BS\",#REF!)),\"X\",\"\")","v":""}]
["FUSION MANAGEMENT LLC (MAESTRO HEALTH)","X",{"$f":"IF(ISNUMBER(FIND(\"MEDICAID\",A1399)),\"X\",\"\")","v":""},{"$f":"IF(ISNUMBER(FIND(\"MEDICARE\",A1399)),\"X\",\"\")","v":""},{"$f":"IF(ISNUMBER(FIND(\"BC/BS\",#REF!)),\"X\",\"\")","v":""}]
["G.M.P. - EMPLOYERS RETIREE TRUST","X",{"$f":"IF(ISNUMBER(FIND(\"MEDICAID\",A1400)),\"X\",\"\")","v":""},{"$f":"IF(ISNUMBER(FIND(\"MEDICARE\",A1400)),\"X\",\"\")","v":""},{"$f":"IF(ISNUMBER(FIND(\"BC/BS\",#REF!)),\"X\",\"\")","v":""}]
["G.V. (SONNY) MONTGOMERY VA MEDICAL CENTER","X",{"$f":"IF(ISNUMBER(FIND(\"MEDICAID\",A1401)),\"X\",\"\")","v":""},{"$f":"IF(ISNUMBER(FIND(\"MEDICARE\",A1401)),\"X\",\"\")","v":""},{"$f":"IF(ISNUMBER(FIND(\"BC/BS\",#REF!)),\"X\",\"\")","v":""}]
["G3 ENTERPRISES INC (WEBTPA)",null,{"$f":"IF(ISNUMBER(FIND(\"MEDICAID\",A1402)),\"X\",\"\")","v":""},{"$f":"IF(ISNUMBER(FIND(\"MEDICARE\",A1402)),\"X\",\"\")","v":""},{"$f":"IF(ISNUMBER(FIND(\"BC/BS\",#REF!)),\"X\",\"\")","v":""}]
["GAINESVILLE (WEBTPA)",null,{"$f":"IF(ISNUMBER(FIND(\"MEDICAID\",A1403)),\"X\",\"\")","v":""},{"$f":"IF(ISNUMBER(FIND(\"MEDICARE\",A1403)),\"X\",\"\")","v":""},{"$f":"IF(ISNUMBER(FIND(\"BC/BS\",#REF!)),\"X\",\"\")","v":""}]
["GALLAGHER BASSETT - ALBUQUERQUE","X",{"$f":"IF(ISNUMBER(FIND(\"MEDICAID\",A1404)),\"X\",\"\")","v":""},{"$f":"IF(ISNUMBER(FIND(\"MEDICARE\",A1404)),\"X\",\"\")","v":""},{"$f":"IF(ISNUMBER(FIND(\"BC/BS\",#REF!)),\"X\",\"\")","v":""},"X","X"]
["GALLAGHER BASSETT - ARLINGTON/FIRST AMERICA","X",{"$f":"IF(ISNUMBER(FIND(\"MEDICAID\",A1405)),\"X\",\"\")","v":""},{"$f":"IF(ISNUMBER(FIND(\"MEDICARE\",A1405)),\"X\",\"\")","v":""},{"$f":"IF(ISNUMBER(FIND(\"BC/BS\",#REF!)),\"X\",\"\")","v":""},"X","X"]
["GALLAGHER BASSETT - ATLANTA WC","X",{"$f":"IF(ISNUMBER(FIND(\"MEDICAID\",A1406)),\"X\",\"\")","v":""},{"$f":"IF(ISNUMBER(FIND(\"MEDICARE\",A1406)),\"X\",\"\")","v":""},{"$f":"IF(ISNUMBER(FIND(\"BC/BS\",#REF!)),\"X\",\"\")","v":""},"X"]
["GALLAGHER BASSETT - BOISE","X",{"$f":"IF(ISNUMBER(FIND(\"MEDICAID\",A1407)),\"X\",\"\")","v":""},{"$f":"IF(ISNUMBER(FIND(\"MEDICARE\",A1407)),\"X\",\"\")","v":""},{"$f":"IF(ISNUMBER(FIND(\"BC/BS\",#REF!)),\"X\",\"\")","v":""},"X","X"]
["GALLAGHER BASSETT - BOSTON","X",{"$f":"IF(ISNUMBER(FIND(\"MEDICAID\",A1408)),\"X\",\"\")","v":""},{"$f":"IF(ISNUMBER(FIND(\"MEDICARE\",A1408)),\"X\",\"\")","v":""},{"$f":"IF(ISNUMBER(FIND(\"BC/BS\",#REF!)),\"X\",\"\")","v":""},"X","X"]
["GALLAGHER BASSETT - BURLINGTON WC  ","X",{"$f":"IF(ISNUMBER(FIND(\"MEDICAID\",A1409)),\"X\",\"\")","v":""},{"$f":"IF(ISNUMBER(FIND(\"MEDICARE\",A1409)),\"X\",\"\")","v":""},{"$f":"IF(ISNUMBER(FIND(\"BC/BS\",#REF!)),\"X\",\"\")","v":""},"X"]
["GALLAGHER BASSETT - CALIFORNIA NORTH WC",null,{"$f":"IF(ISNUMBER(FIND(\"MEDICAID\",A1410)),\"X\",\"\")","v":""},{"$f":"IF(ISNUMBER(FIND(\"MEDICARE\",A1410)),\"X\",\"\")","v":""},{"$f":"IF(ISNUMBER(FIND(\"BC/BS\",#REF!)),\"X\",\"\")","v":""},"X"]
["GALLAGHER BASSETT - CALIFORNIA SOUTH WC","X",{"$f":"IF(ISNUMBER(FIND(\"MEDICAID\",A1411)),\"X\",\"\")","v":""},{"$f":"IF(ISNUMBER(FIND(\"MEDICARE\",A1411)),\"X\",\"\")","v":""},{"$f":"IF(ISNUMBER(FIND(\"BC/BS\",#REF!)),\"X\",\"\")","v":""},"X"]
["GALLAGHER BASSETT - CARRIER CENTRAL - WC","X",{"$f":"IF(ISNUMBER(FIND(\"MEDICAID\",A1412)),\"X\",\"\")","v":""},{"$f":"IF(ISNUMBER(FIND(\"MEDICARE\",A1412)),\"X\",\"\")","v":""},{"$f":"IF(ISNUMBER(FIND(\"BC/BS\",#REF!)),\"X\",\"\")","v":""},"X"]
["GALLAGHER BASSETT - CARRIER NORTHEAST - WC","X",{"$f":"IF(ISNUMBER(FIND(\"MEDICAID\",A1413)),\"X\",\"\")","v":""},{"$f":"IF(ISNUMBER(FIND(\"MEDICARE\",A1413)),\"X\",\"\")","v":""},{"$f":"IF(ISNUMBER(FIND(\"BC/BS\",#REF!)),\"X\",\"\")","v":""},"X"]
["GALLAGHER BASSETT - CARRIER SOUTHEAST - WC","X",{"$f":"IF(ISNUMBER(FIND(\"MEDICAID\",A1414)),\"X\",\"\")","v":""},{"$f":"IF(ISNUMBER(FIND(\"MEDICARE\",A1414)),\"X\",\"\")","v":""},{"$f":"IF(ISNUMBER(FIND(\"BC/BS\",#REF!)),\"X\",\"\")","v":""},"X"]
["GALLAGHER BASSETT - CHARLOTTE","X",{"$f":"IF(ISNUMBER(FIND(\"MEDICAID\",A1415)),\"X\",\"\")","v":""},{"$f":"IF(ISNUMBER(FIND(\"MEDICARE\",A1415)),\"X\",\"\")","v":""},{"$f":"IF(ISNUMBER(FIND(\"BC/BS\",#REF!)),\"X\",\"\")","v":""},"X","X"]
["GALLAGHER BASSETT - CHICAGO LIABILITY","X",{"$f":"IF(ISNUMBER(FIND(\"MEDICAID\",A1416)),\"X\",\"\")","v":""},{"$f":"IF(ISNUMBER(FIND(\"MEDICARE\",A1416)),\"X\",\"\")","v":""},{"$f":"IF(ISNUMBER(FIND(\"BC/BS\",#REF!)),\"X\",\"\")","v":""},"X","X"]
["GALLAGHER BASSETT - CITY OF CHICAGO","X",{"$f":"IF(ISNUMBER(FIND(\"MEDICAID\",A1417)),\"X\",\"\")","v":""},{"$f":"IF(ISNUMBER(FIND(\"MEDICARE\",A1417)),\"X\",\"\")","v":""},{"$f":"IF(ISNUMBER(FIND(\"BC/BS\",#REF!)),\"X\",\"\")","v":""},"X","X"]
["GALLAGHER BASSETT - COLUMBUS","X",{"$f":"IF(ISNUMBER(FIND(\"MEDICAID\",A1418)),\"X\",\"\")","v":""},{"$f":"IF(ISNUMBER(FIND(\"MEDICARE\",A1418)),\"X\",\"\")","v":""},{"$f":"IF(ISNUMBER(FIND(\"BC/BS\",#REF!)),\"X\",\"\")","v":""},"X","X"]
["GALLAGHER BASSETT - CORNELL","X",{"$f":"IF(ISNUMBER(FIND(\"MEDICAID\",A1419)),\"X\",\"\")","v":""},{"$f":"IF(ISNUMBER(FIND(\"MEDICARE\",A1419)),\"X\",\"\")","v":""},{"$f":"IF(ISNUMBER(FIND(\"BC/BS\",#REF!)),\"X\",\"\")","v":""},"X","X"]
["GALLAGHER BASSETT - DALLAS","X",{"$f":"IF(ISNUMBER(FIND(\"MEDICAID\",A1420)),\"X\",\"\")","v":""},{"$f":"IF(ISNUMBER(FIND(\"MEDICARE\",A1420)),\"X\",\"\")","v":""},{"$f":"IF(ISNUMBER(FIND(\"BC/BS\",#REF!)),\"X\",\"\")","v":""},"X","X"]
["GALLAGHER BASSETT - DENVER","X",{"$f":"IF(ISNUMBER(FIND(\"MEDICAID\",A1421)),\"X\",\"\")","v":""},{"$f":"IF(ISNUMBER(FIND(\"MEDICARE\",A1421)),\"X\",\"\")","v":""},{"$f":"IF(ISNUMBER(FIND(\"BC/BS\",#REF!)),\"X\",\"\")","v":""},"X","X"]
["GALLAGHER BASSETT - FEDERAL ACT WC","X",{"$f":"IF(ISNUMBER(FIND(\"MEDICAID\",A1422)),\"X\",\"\")","v":""},{"$f":"IF(ISNUMBER(FIND(\"MEDICARE\",A1422)),\"X\",\"\")","v":""},{"$f":"IF(ISNUMBER(FIND(\"BC/BS\",#REF!)),\"X\",\"\")","v":""},"X"]
["GALLAGHER BASSETT - FT. LAUDERDALE","X",{"$f":"IF(ISNUMBER(FIND(\"MEDICAID\",A1423)),\"X\",\"\")","v":""},{"$f":"IF(ISNUMBER(FIND(\"MEDICARE\",A1423)),\"X\",\"\")","v":""},{"$f":"IF(ISNUMBER(FIND(\"BC/BS\",#REF!)),\"X\",\"\")","v":""},"X","X"]
["GALLAGHER BASSETT - FT.LAUDERDALE","X",{"$f":"IF(ISNUMBER(FIND(\"MEDICAID\",A1424)),\"X\",\"\")","v":""},{"$f":"IF(ISNUMBER(FIND(\"MEDICARE\",A1424)),\"X\",\"\")","v":""},{"$f":"IF(ISNUMBER(FIND(\"BC/BS\",#REF!)),\"X\",\"\")","v":""},"X","X"]
["GALLAGHER BASSETT - HOUSTON/HALLIBURTON","X",{"$f":"IF(ISNUMBER(FIND(\"MEDICAID\",A1425)),\"X\",\"\")","v":""},{"$f":"IF(ISNUMBER(FIND(\"MEDICARE\",A1425)),\"X\",\"\")","v":""},{"$f":"IF(ISNUMBER(FIND(\"BC/BS\",#REF!)),\"X\",\"\")","v":""},"X","X"]
["GALLAGHER BASSETT - KS/CMC","X",{"$f":"IF(ISNUMBER(FIND(\"MEDICAID\",A1426)),\"X\",\"\")","v":""},{"$f":"IF(ISNUMBER(FIND(\"MEDICARE\",A1426)),\"X\",\"\")","v":""},{"$f":"IF(ISNUMBER(FIND(\"BC/BS\",#REF!)),\"X\",\"\")","v":""},"X","X"]
["GALLAGHER BASSETT - LA/ALISO VIEJO","X",{"$f":"IF(ISNUMBER(FIND(\"MEDICAID\",A1427)),\"X\",\"\")","v":""},{"$f":"IF(ISNUMBER(FIND(\"MEDICARE\",A1427)),\"X\",\"\")","v":""},{"$f":"IF(ISNUMBER(FIND(\"BC/BS\",#REF!)),\"X\",\"\")","v":""},"X","X"]
["GALLAGHER BASSETT - LA/ORANGE CA","X",{"$f":"IF(ISNUMBER(FIND(\"MEDICAID\",A1428)),\"X\",\"\")","v":""},{"$f":"IF(ISNUMBER(FIND(\"MEDICARE\",A1428)),\"X\",\"\")","v":""},{"$f":"IF(ISNUMBER(FIND(\"BC/BS\",#REF!)),\"X\",\"\")","v":""},"X","X"]
["GALLAGHER BASSETT - LANSING","X",{"$f":"IF(ISNUMBER(FIND(\"MEDICAID\",A1429)),\"X\",\"\")","v":""},{"$f":"IF(ISNUMBER(FIND(\"MEDICARE\",A1429)),\"X\",\"\")","v":""},{"$f":"IF(ISNUMBER(FIND(\"BC/BS\",#REF!)),\"X\",\"\")","v":""},"X","X"]
["GALLAGHER BASSETT - LIMITED BRANDS INC","X",{"$f":"IF(ISNUMBER(FIND(\"MEDICAID\",A1430)),\"X\",\"\")","v":""},{"$f":"IF(ISNUMBER(FIND(\"MEDICARE\",A1430)),\"X\",\"\")","v":""},{"$f":"IF(ISNUMBER(FIND(\"BC/BS\",#REF!)),\"X\",\"\")","v":""},"X","X"]
["GALLAGHER BASSETT - LITTLE ROCK","X",{"$f":"IF(ISNUMBER(FIND(\"MEDICAID\",A1431)),\"X\",\"\")","v":""},{"$f":"IF(ISNUMBER(FIND(\"MEDICARE\",A1431)),\"X\",\"\")","v":""},{"$f":"IF(ISNUMBER(FIND(\"BC/BS\",#REF!)),\"X\",\"\")","v":""},"X","X"]
["GALLAGHER BASSETT - LOUISVILLE","X",{"$f":"IF(ISNUMBER(FIND(\"MEDICAID\",A1432)),\"X\",\"\")","v":""},{"$f":"IF(ISNUMBER(FIND(\"MEDICARE\",A1432)),\"X\",\"\")","v":""},{"$f":"IF(ISNUMBER(FIND(\"BC/BS\",#REF!)),\"X\",\"\")","v":""},"X","X"]
["GALLAGHER BASSETT - MECHANICSBURG LIABILITY HUB","X",{"$f":"IF(ISNUMBER(FIND(\"MEDICAID\",A1433)),\"X\",\"\")","v":""},{"$f":"IF(ISNUMBER(FIND(\"MEDICARE\",A1433)),\"X\",\"\")","v":""},{"$f":"IF(ISNUMBER(FIND(\"BC/BS\",#REF!)),\"X\",\"\")","v":""},"X","X"]
["GALLAGHER BASSETT - MILWAUKEE","X",{"$f":"IF(ISNUMBER(FIND(\"MEDICAID\",A1434)),\"X\",\"\")","v":""},{"$f":"IF(ISNUMBER(FIND(\"MEDICARE\",A1434)),\"X\",\"\")","v":""},{"$f":"IF(ISNUMBER(FIND(\"BC/BS\",#REF!)),\"X\",\"\")","v":""},"X","X"]
["GALLAGHER BASSETT - MINNEAPOLIS","X",{"$f":"IF(ISNUMBER(FIND(\"MEDICAID\",A1435)),\"X\",\"\")","v":""},{"$f":"IF(ISNUMBER(FIND(\"MEDICARE\",A1435)),\"X\",\"\")","v":""},{"$f":"IF(ISNUMBER(FIND(\"BC/BS\",#REF!)),\"X\",\"\")","v":""},"X","X"]
["GALLAGHER BASSETT - MISSOULA","X",{"$f":"IF(ISNUMBER(FIND(\"MEDICAID\",A1436)),\"X\",\"\")","v":""},{"$f":"IF(ISNUMBER(FIND(\"MEDICARE\",A1436)),\"X\",\"\")","v":""},{"$f":"IF(ISNUMBER(FIND(\"BC/BS\",#REF!)),\"X\",\"\")","v":""},"X","X"]
["GALLAGHER BASSETT - NASHVILLE","X",{"$f":"IF(ISNUMBER(FIND(\"MEDICAID\",A1437)),\"X\",\"\")","v":""},{"$f":"IF(ISNUMBER(FIND(\"MEDICARE\",A1437)),\"X\",\"\")","v":""},{"$f":"IF(ISNUMBER(FIND(\"BC/BS\",#REF!)),\"X\",\"\")","v":""},"X","X"]
["GALLAGHER BASSETT - NONSUBSCRIBE","X",{"$f":"IF(ISNUMBER(FIND(\"MEDICAID\",A1438)),\"X\",\"\")","v":""},{"$f":"IF(ISNUMBER(FIND(\"MEDICARE\",A1438)),\"X\",\"\")","v":""},{"$f":"IF(ISNUMBER(FIND(\"BC/BS\",#REF!)),\"X\",\"\")","v":""},"X","X"]
["GALLAGHER BASSETT - OKLAHOMA CITY","X",{"$f":"IF(ISNUMBER(FIND(\"MEDICAID\",A1439)),\"X\",\"\")","v":""},{"$f":"IF(ISNUMBER(FIND(\"MEDICARE\",A1439)),\"X\",\"\")","v":""},{"$f":"IF(ISNUMBER(FIND(\"BC/BS\",#REF!)),\"X\",\"\")","v":""},"X","X"]
["GALLAGHER BASSETT - ORLANDO","X",{"$f":"IF(ISNUMBER(FIND(\"MEDICAID\",A1440)),\"X\",\"\")","v":""},{"$f":"IF(ISNUMBER(FIND(\"MEDICARE\",A1440)),\"X\",\"\")","v":""},{"$f":"IF(ISNUMBER(FIND(\"BC/BS\",#REF!)),\"X\",\"\")","v":""},"X","X"]
["GALLAGHER BASSETT - PHOENIX",null,{"$f":"IF(ISNUMBER(FIND(\"MEDICAID\",A1441)),\"X\",\"\")","v":""},{"$f":"IF(ISNUMBER(FIND(\"MEDICARE\",A1441)),\"X\",\"\")","v":""},{"$f":"IF(ISNUMBER(FIND(\"BC/BS\",#REF!)),\"X\",\"\")","v":""},"X","X"]
["GALLAGHER BASSETT - PITTSBURGH","X",{"$f":"IF(ISNUMBER(FIND(\"MEDICAID\",A1442)),\"X\",\"\")","v":""},{"$f":"IF(ISNUMBER(FIND(\"MEDICARE\",A1442)),\"X\",\"\")","v":""},{"$f":"IF(ISNUMBER(FIND(\"BC/BS\",#REF!)),\"X\",\"\")","v":""},"X","X"]
["GALLAGHER BASSETT - PORTLAND, OR","X",{"$f":"IF(ISNUMBER(FIND(\"MEDICAID\",A1443)),\"X\",\"\")","v":""},{"$f":"IF(ISNUMBER(FIND(\"MEDICARE\",A1443)),\"X\",\"\")","v":""},{"$f":"IF(ISNUMBER(FIND(\"BC/BS\",#REF!)),\"X\",\"\")","v":""},"X","X"]
["GALLAGHER BASSETT - PROSIGHT AUTO",null,{"$f":"IF(ISNUMBER(FIND(\"MEDICAID\",A1444)),\"X\",\"\")","v":""},{"$f":"IF(ISNUMBER(FIND(\"MEDICARE\",A1444)),\"X\",\"\")","v":""},{"$f":"IF(ISNUMBER(FIND(\"BC/BS\",#REF!)),\"X\",\"\")","v":""},"X","X"]
["GALLAGHER BASSETT - ROLLING MEADOWS / METRO","X",{"$f":"IF(ISNUMBER(FIND(\"MEDICAID\",A1445)),\"X\",\"\")","v":""},{"$f":"IF(ISNUMBER(FIND(\"MEDICARE\",A1445)),\"X\",\"\")","v":""},{"$f":"IF(ISNUMBER(FIND(\"BC/BS\",#REF!)),\"X\",\"\")","v":""},"X","X"]
["GALLAGHER BASSETT - ROLLING MEADOWS / REGIONAL","X",{"$f":"IF(ISNUMBER(FIND(\"MEDICAID\",A1446)),\"X\",\"\")","v":""},{"$f":"IF(ISNUMBER(FIND(\"MEDICARE\",A1446)),\"X\",\"\")","v":""},{"$f":"IF(ISNUMBER(FIND(\"BC/BS\",#REF!)),\"X\",\"\")","v":""},"X","X"]
["GALLAGHER BASSETT - SACRAMENTO EAST","X",{"$f":"IF(ISNUMBER(FIND(\"MEDICAID\",A1447)),\"X\",\"\")","v":""},{"$f":"IF(ISNUMBER(FIND(\"MEDICARE\",A1447)),\"X\",\"\")","v":""},{"$f":"IF(ISNUMBER(FIND(\"BC/BS\",#REF!)),\"X\",\"\")","v":""},"X","X"]
["GALLAGHER BASSETT - SACRAMENTO WEST","X",{"$f":"IF(ISNUMBER(FIND(\"MEDICAID\",A1448)),\"X\",\"\")","v":""},{"$f":"IF(ISNUMBER(FIND(\"MEDICARE\",A1448)),\"X\",\"\")","v":""},{"$f":"IF(ISNUMBER(FIND(\"BC/BS\",#REF!)),\"X\",\"\")","v":""},"X","X"]
["GALLAGHER BASSETT - SAN DIEGO","X",{"$f":"IF(ISNUMBER(FIND(\"MEDICAID\",A1449)),\"X\",\"\")","v":""},{"$f":"IF(ISNUMBER(FIND(\"MEDICARE\",A1449)),\"X\",\"\")","v":""},{"$f":"IF(ISNUMBER(FIND(\"BC/BS\",#REF!)),\"X\",\"\")","v":""},"X","X"]
["GALLAGHER BASSETT - SOUTH BEND","X",{"$f":"IF(ISNUMBER(FIND(\"MEDICAID\",A1450)),\"X\",\"\")","v":""},{"$f":"IF(ISNUMBER(FIND(\"MEDICARE\",A1450)),\"X\",\"\")","v":""},{"$f":"IF(ISNUMBER(FIND(\"BC/BS\",#REF!)),\"X\",\"\")","v":""},"X","X"]
["GALLAGHER BASSETT - ST. LOUIS","X",{"$f":"IF(ISNUMBER(FIND(\"MEDICAID\",A1451)),\"X\",\"\")","v":""},{"$f":"IF(ISNUMBER(FIND(\"MEDICARE\",A1451)),\"X\",\"\")","v":""},{"$f":"IF(ISNUMBER(FIND(\"BC/BS\",#REF!)),\"X\",\"\")","v":""},"X","X"]
["GALLAGHER BASSETT - ST. LOUIS/ST.PETER","X",{"$f":"IF(ISNUMBER(FIND(\"MEDICAID\",A1452)),\"X\",\"\")","v":""},{"$f":"IF(ISNUMBER(FIND(\"MEDICARE\",A1452)),\"X\",\"\")","v":""},{"$f":"IF(ISNUMBER(FIND(\"BC/BS\",#REF!)),\"X\",\"\")","v":""},"X","X"]
["GALLAGHER BASSETT - SYRACUSE","X",{"$f":"IF(ISNUMBER(FIND(\"MEDICAID\",A1453)),\"X\",\"\")","v":""},{"$f":"IF(ISNUMBER(FIND(\"MEDICARE\",A1453)),\"X\",\"\")","v":""},{"$f":"IF(ISNUMBER(FIND(\"BC/BS\",#REF!)),\"X\",\"\")","v":""},"X","X"]
["GALLAGHER BASSETT - TAMPA","X",{"$f":"IF(ISNUMBER(FIND(\"MEDICAID\",A1454)),\"X\",\"\")","v":""},{"$f":"IF(ISNUMBER(FIND(\"MEDICARE\",A1454)),\"X\",\"\")","v":""},{"$f":"IF(ISNUMBER(FIND(\"BC/BS\",#REF!)),\"X\",\"\")","v":""},"X","X"]
["GALLAGHER BASSETT - WASHINGTON D.C.","X",{"$f":"IF(ISNUMBER(FIND(\"MEDICAID\",A1455)),\"X\",\"\")","v":""},{"$f":"IF(ISNUMBER(FIND(\"MEDICARE\",A1455)),\"X\",\"\")","v":""},{"$f":"IF(ISNUMBER(FIND(\"BC/BS\",#REF!)),\"X\",\"\")","v":""},"X","X"]
["GALLO HEALTH PLAN (WEBTPA)","X",{"$f":"IF(ISNUMBER(FIND(\"MEDICAID\",A1456)),\"X\",\"\")","v":""},{"$f":"IF(ISNUMBER(FIND(\"MEDICARE\",A1456)),\"X\",\"\")","v":""},{"$f":"IF(ISNUMBER(FIND(\"BC/BS\",#REF!)),\"X\",\"\")","v":""}]
["GALLO HEALTH PLAN NON-UNION (WEBTPA)","X",{"$f":"IF(ISNUMBER(FIND(\"MEDICAID\",A1457)),\"X\",\"\")","v":""},{"$f":"IF(ISNUMBER(FIND(\"MEDICARE\",A1457)),\"X\",\"\")","v":""},{"$f":"IF(ISNUMBER(FIND(\"BC/BS\",#REF!)),\"X\",\"\")","v":""}]
["GARDEN STATE LIFE INSURANCE COMPANY (AMERICAN NATIONAL INS CO)",null,{"$f":"IF(ISNUMBER(FIND(\"MEDICAID\",A1458)),\"X\",\"\")","v":""},{"$f":"IF(ISNUMBER(FIND(\"MEDICARE\",A1458)),\"X\",\"\")","v":""},{"$f":"IF(ISNUMBER(FIND(\"BC/BS\",#REF!)),\"X\",\"\")","v":""}]
["GATEWAY PHARMACY NETWORKS LLC","X",{"$f":"IF(ISNUMBER(FIND(\"MEDICAID\",A1459)),\"X\",\"\")","v":""},{"$f":"IF(ISNUMBER(FIND(\"MEDICARE\",A1459)),\"X\",\"\")","v":""},{"$f":"IF(ISNUMBER(FIND(\"BC/BS\",#REF!)),\"X\",\"\")","v":""}]
["GBS INC","X",{"$f":"IF(ISNUMBER(FIND(\"MEDICAID\",A1460)),\"X\",\"\")","v":""},{"$f":"IF(ISNUMBER(FIND(\"MEDICARE\",A1460)),\"X\",\"\")","v":""},{"$f":"IF(ISNUMBER(FIND(\"BC/BS\",#REF!)),\"X\",\"\")","v":""}]
["GEHA - GOVERNMENT EMPLOYEES HEALTH ASSOCIATION","X",{"$f":"IF(ISNUMBER(FIND(\"MEDICAID\",A1461)),\"X\",\"\")","v":""},{"$f":"IF(ISNUMBER(FIND(\"MEDICARE\",A1461)),\"X\",\"\")","v":""},{"$f":"IF(ISNUMBER(FIND(\"BC/BS\",#REF!)),\"X\",\"\")","v":""}]
["GEHA - GOVERNMENT EMPLOYEES HEALTH ASSOCIATION - CD PLUS","X",{"$f":"IF(ISNUMBER(FIND(\"MEDICAID\",A1462)),\"X\",\"\")","v":""},{"$f":"IF(ISNUMBER(FIND(\"MEDICARE\",A1462)),\"X\",\"\")","v":""},{"$f":"IF(ISNUMBER(FIND(\"BC/BS\",#REF!)),\"X\",\"\")","v":""}]
["GEHA - GOVERNMENT EMPLOYEES HEALTH ASSOCIATION - COBRA VS",null,{"$f":"IF(ISNUMBER(FIND(\"MEDICAID\",A1463)),\"X\",\"\")","v":""},{"$f":"IF(ISNUMBER(FIND(\"MEDICARE\",A1463)),\"X\",\"\")","v":""},{"$f":"IF(ISNUMBER(FIND(\"BC/BS\",#REF!)),\"X\",\"\")","v":""}]
["GEHA - GOVERNMENT EMPLOYEES HEALTH ASSOCIATION - FEDVIP","X",{"$f":"IF(ISNUMBER(FIND(\"MEDICAID\",A1464)),\"X\",\"\")","v":""},{"$f":"IF(ISNUMBER(FIND(\"MEDICARE\",A1464)),\"X\",\"\")","v":""},{"$f":"IF(ISNUMBER(FIND(\"BC/BS\",#REF!)),\"X\",\"\")","v":""}]
["GEHA - GOVERNMENT EMPLOYEES HEALTH ASSOCIATION - FEHBP","X",{"$f":"IF(ISNUMBER(FIND(\"MEDICAID\",A1465)),\"X\",\"\")","v":""},{"$f":"IF(ISNUMBER(FIND(\"MEDICARE\",A1465)),\"X\",\"\")","v":""},{"$f":"IF(ISNUMBER(FIND(\"BC/BS\",#REF!)),\"X\",\"\")","v":""}]
["GEHA - GOVERNMENT EMPLOYEES HEALTH ASSOCIATION - IBP","X",{"$f":"IF(ISNUMBER(FIND(\"MEDICAID\",A1466)),\"X\",\"\")","v":""},{"$f":"IF(ISNUMBER(FIND(\"MEDICARE\",A1466)),\"X\",\"\")","v":""},{"$f":"IF(ISNUMBER(FIND(\"BC/BS\",#REF!)),\"X\",\"\")","v":""}]
["GEHA - GOVERNMENT EMPLOYEES HEALTH ASSOCIATION (PMCS)","X",{"$f":"IF(ISNUMBER(FIND(\"MEDICAID\",A1467)),\"X\",\"\")","v":""},{"$f":"IF(ISNUMBER(FIND(\"MEDICARE\",A1467)),\"X\",\"\")","v":""},{"$f":"IF(ISNUMBER(FIND(\"BC/BS\",#REF!)),\"X\",\"\")","v":""}]
["GEISINGER HEALTH PLAN","X",{"$f":"IF(ISNUMBER(FIND(\"MEDICAID\",A1468)),\"X\",\"\")","v":""},{"$f":"IF(ISNUMBER(FIND(\"MEDICARE\",A1468)),\"X\",\"\")","v":""},{"$f":"IF(ISNUMBER(FIND(\"BC/BS\",#REF!)),\"X\",\"\")","v":""}]
["GEISINGER HEALTH SYSTEM (GEISINGER HEALTH PLAN)","X",{"$f":"IF(ISNUMBER(FIND(\"MEDICAID\",A1469)),\"X\",\"\")","v":""},{"$f":"IF(ISNUMBER(FIND(\"MEDICARE\",A1469)),\"X\",\"\")","v":""},{"$f":"IF(ISNUMBER(FIND(\"BC/BS\",#REF!)),\"X\",\"\")","v":""}]
["GEISINGER INDEMNITY INSURANCE COMPANY (GEISINGER HEALTH PLAN)","X",{"$f":"IF(ISNUMBER(FIND(\"MEDICAID\",A1470)),\"X\",\"\")","v":""},{"$f":"IF(ISNUMBER(FIND(\"MEDICARE\",A1470)),\"X\",\"\")","v":""},{"$f":"IF(ISNUMBER(FIND(\"BC/BS\",#REF!)),\"X\",\"\")","v":""}]
["GEISINGER LIFE (GEISINGER HEALTH PLAN)","X",{"$f":"IF(ISNUMBER(FIND(\"MEDICAID\",A1471)),\"X\",\"\")","v":""},{"$f":"IF(ISNUMBER(FIND(\"MEDICARE\",A1471)),\"X\",\"\")","v":""},{"$f":"IF(ISNUMBER(FIND(\"BC/BS\",#REF!)),\"X\",\"\")","v":""}]
["GEISINGER QUALITY OPTIONS (GEISINGER HEALTH PLAN)","X",{"$f":"IF(ISNUMBER(FIND(\"MEDICAID\",A1472)),\"X\",\"\")","v":""},{"$f":"IF(ISNUMBER(FIND(\"MEDICARE\",A1472)),\"X\",\"\")","v":""},{"$f":"IF(ISNUMBER(FIND(\"BC/BS\",#REF!)),\"X\",\"\")","v":""}]
["GENBLU LOGISTICS (SENTARA)","X",{"$f":"IF(ISNUMBER(FIND(\"MEDICAID\",A1473)),\"X\",\"\")","v":""},{"$f":"IF(ISNUMBER(FIND(\"MEDICARE\",A1473)),\"X\",\"\")","v":""},{"$f":"IF(ISNUMBER(FIND(\"BC/BS\",#REF!)),\"X\",\"\")","v":""}]
["GENERAL DYNAMICS OTS (GEISINGER HEALTH PLAN)","X",{"$f":"IF(ISNUMBER(FIND(\"MEDICAID\",A1474)),\"X\",\"\")","v":""},{"$f":"IF(ISNUMBER(FIND(\"MEDICARE\",A1474)),\"X\",\"\")","v":""},{"$f":"IF(ISNUMBER(FIND(\"BC/BS\",#REF!)),\"X\",\"\")","v":""}]
["GENERAL ELECTRIC (CDPHP)","X",{"$f":"IF(ISNUMBER(FIND(\"MEDICAID\",A1475)),\"X\",\"\")","v":""},{"$f":"IF(ISNUMBER(FIND(\"MEDICARE\",A1475)),\"X\",\"\")","v":""},{"$f":"IF(ISNUMBER(FIND(\"BC/BS\",#REF!)),\"X\",\"\")","v":""}]
["GENERAL RV CENTER INC (ASR HEALTH BENEFITS)","X",{"$f":"IF(ISNUMBER(FIND(\"MEDICAID\",A1476)),\"X\",\"\")","v":""},{"$f":"IF(ISNUMBER(FIND(\"MEDICARE\",A1476)),\"X\",\"\")","v":""},{"$f":"IF(ISNUMBER(FIND(\"BC/BS\",#REF!)),\"X\",\"\")","v":""}]
["GENESIS AVIATION (90 DEGREE BENEFITS NORTH CAROLINA - CORPORATE BENEFIT SERVICES)","X",{"$f":"IF(ISNUMBER(FIND(\"MEDICAID\",A1477)),\"X\",\"\")","v":""},{"$f":"IF(ISNUMBER(FIND(\"MEDICARE\",A1477)),\"X\",\"\")","v":""},{"$f":"IF(ISNUMBER(FIND(\"BC/BS\",#REF!)),\"X\",\"\")","v":""}]
["GENESIS HEALTHCARE OF SOUTHERN CALIFORNIA (PROSPECT MEDICAL SYSTEMS)","X",{"$f":"IF(ISNUMBER(FIND(\"MEDICAID\",A1478)),\"X\",\"\")","v":""},{"$f":"IF(ISNUMBER(FIND(\"MEDICARE\",A1478)),\"X\",\"\")","v":""},{"$f":"IF(ISNUMBER(FIND(\"BC/BS\",#REF!)),\"X\",\"\")","v":""}]
["GENESIS HEALTHCARE PARTNERS (HEALTHCOMP)",null,{"$f":"IF(ISNUMBER(FIND(\"MEDICAID\",A1479)),\"X\",\"\")","v":""},{"$f":"IF(ISNUMBER(FIND(\"MEDICARE\",A1479)),\"X\",\"\")","v":""},{"$f":"IF(ISNUMBER(FIND(\"BC/BS\",#REF!)),\"X\",\"\")","v":""}]
["GENESIS HEALTHCARE SYSTEM (CONTIGO HEALTH)","X",{"$f":"IF(ISNUMBER(FIND(\"MEDICAID\",A1480)),\"X\",\"\")","v":""},{"$f":"IF(ISNUMBER(FIND(\"MEDICARE\",A1480)),\"X\",\"\")","v":""},{"$f":"IF(ISNUMBER(FIND(\"BC/BS\",#REF!)),\"X\",\"\")","v":""}]
["GENESIS HEALTHCARE SYSTEM (SENTARA)","X",{"$f":"IF(ISNUMBER(FIND(\"MEDICAID\",A1481)),\"X\",\"\")","v":""},{"$f":"IF(ISNUMBER(FIND(\"MEDICARE\",A1481)),\"X\",\"\")","v":""},{"$f":"IF(ISNUMBER(FIND(\"BC/BS\",#REF!)),\"X\",\"\")","v":""}]
["GENWORTH LIFE INSURANCE COMPANY (AETNA SSI)","X",{"$f":"IF(ISNUMBER(FIND(\"MEDICAID\",A1482)),\"X\",\"\")","v":""},{"$f":"IF(ISNUMBER(FIND(\"MEDICARE\",A1482)),\"X\",\"\")","v":""},{"$f":"IF(ISNUMBER(FIND(\"BC/BS\",#REF!)),\"X\",\"\")","v":""}]
["GEORGE E. WAHLEN VA MEDICAL CENTER",null,{"$f":"IF(ISNUMBER(FIND(\"MEDICAID\",A1483)),\"X\",\"\")","v":""},{"$f":"IF(ISNUMBER(FIND(\"MEDICARE\",A1483)),\"X\",\"\")","v":""},{"$f":"IF(ISNUMBER(FIND(\"BC/BS\",#REF!)),\"X\",\"\")","v":""}]
["GEORGIA HEALTH ADVANTAGE",null,{"$f":"IF(ISNUMBER(FIND(\"MEDICAID\",A1484)),\"X\",\"\")","v":""},{"$f":"IF(ISNUMBER(FIND(\"MEDICARE\",A1484)),\"X\",\"\")","v":""},{"$f":"IF(ISNUMBER(FIND(\"BC/BS\",#REF!)),\"X\",\"\")","v":""}]
["GEORGIA WC CLAIMS BRANCH (AUTO-OWNERS INSURANCE COMPANY)","X",{"$f":"IF(ISNUMBER(FIND(\"MEDICAID\",A1485)),\"X\",\"\")","v":""},{"$f":"IF(ISNUMBER(FIND(\"MEDICARE\",A1485)),\"X\",\"\")","v":""},{"$f":"IF(ISNUMBER(FIND(\"BC/BS\",#REF!)),\"X\",\"\")","v":""},"X"]
["GERBER LIFE INSURANCE COMPANY (MUTUAL OF OMAHA)","X",{"$f":"IF(ISNUMBER(FIND(\"MEDICAID\",A1486)),\"X\",\"\")","v":""},{"$f":"IF(ISNUMBER(FIND(\"MEDICARE\",A1486)),\"X\",\"\")","v":""},{"$f":"IF(ISNUMBER(FIND(\"BC/BS\",#REF!)),\"X\",\"\")","v":""}]
["GETTEL AUTOMOTIVE INC (HEALTHSCOPE BENEFITS)",null,{"$f":"IF(ISNUMBER(FIND(\"MEDICAID\",A1487)),\"X\",\"\")","v":""},{"$f":"IF(ISNUMBER(FIND(\"MEDICARE\",A1487)),\"X\",\"\")","v":""},{"$f":"IF(ISNUMBER(FIND(\"BC/BS\",#REF!)),\"X\",\"\")","v":""}]
["GHMSI (GROUP HOSPITALIZATION MEDICAL SERVICES INC) (CAREFIRST BCBS)","X",{"$f":"IF(ISNUMBER(FIND(\"MEDICAID\",A1488)),\"X\",\"\")","v":""},{"$f":"IF(ISNUMBER(FIND(\"MEDICARE\",A1488)),\"X\",\"\")","v":""},"X"]
["GILBERT PUBLIC SCHOOLS (AMERIBEN)",null,{"$f":"IF(ISNUMBER(FIND(\"MEDICAID\",A1489)),\"X\",\"\")","v":""},{"$f":"IF(ISNUMBER(FIND(\"MEDICARE\",A1489)),\"X\",\"\")","v":""},{"$f":"IF(ISNUMBER(FIND(\"BC/BS\",#REF!)),\"X\",\"\")","v":""}]
["GILSBAR LLC","X",{"$f":"IF(ISNUMBER(FIND(\"MEDICAID\",A1490)),\"X\",\"\")","v":""},{"$f":"IF(ISNUMBER(FIND(\"MEDICARE\",A1490)),\"X\",\"\")","v":""},{"$f":"IF(ISNUMBER(FIND(\"BC/BS\",#REF!)),\"X\",\"\")","v":""}]
["GIVE ME THE VIN.COM (WEBTPA)",null,{"$f":"IF(ISNUMBER(FIND(\"MEDICAID\",A1491)),\"X\",\"\")","v":""},{"$f":"IF(ISNUMBER(FIND(\"MEDICARE\",A1491)),\"X\",\"\")","v":""},{"$f":"IF(ISNUMBER(FIND(\"BC/BS\",#REF!)),\"X\",\"\")","v":""}]
["GLENDALE ADVENTIST MEDICAL CENTER (ADVENTIST HEALTH SYSTEM WEST)","X",{"$f":"IF(ISNUMBER(FIND(\"MEDICAID\",A1492)),\"X\",\"\")","v":""},{"$f":"IF(ISNUMBER(FIND(\"MEDICARE\",A1492)),\"X\",\"\")","v":""},{"$f":"IF(ISNUMBER(FIND(\"BC/BS\",#REF!)),\"X\",\"\")","v":""}]
["GLENS FALLS HOSPITAL (CDPHP)","X",{"$f":"IF(ISNUMBER(FIND(\"MEDICAID\",A1493)),\"X\",\"\")","v":""},{"$f":"IF(ISNUMBER(FIND(\"MEDICARE\",A1493)),\"X\",\"\")","v":""},{"$f":"IF(ISNUMBER(FIND(\"BC/BS\",#REF!)),\"X\",\"\")","v":""}]
["GLOBAL CARE MEDICAL GROUP IPA (MEDPOINT MANAGEMENT)","X",{"$f":"IF(ISNUMBER(FIND(\"MEDICAID\",A1494)),\"X\",\"\")","v":""},{"$f":"IF(ISNUMBER(FIND(\"MEDICARE\",A1494)),\"X\",\"\")","v":""},{"$f":"IF(ISNUMBER(FIND(\"BC/BS\",#REF!)),\"X\",\"\")","v":""}]
["GLOBAL RISK CONSULTANTS (GROUP & PENSION ADMIN)","X",{"$f":"IF(ISNUMBER(FIND(\"MEDICAID\",A1495)),\"X\",\"\")","v":""},{"$f":"IF(ISNUMBER(FIND(\"MEDICARE\",A1495)),\"X\",\"\")","v":""},{"$f":"IF(ISNUMBER(FIND(\"BC/BS\",#REF!)),\"X\",\"\")","v":""}]
["GLOBALHEALTH","X",{"$f":"IF(ISNUMBER(FIND(\"MEDICAID\",A1496)),\"X\",\"\")","v":""},{"$f":"IF(ISNUMBER(FIND(\"MEDICARE\",A1496)),\"X\",\"\")","v":""},{"$f":"IF(ISNUMBER(FIND(\"BC/BS\",#REF!)),\"X\",\"\")","v":""}]
["GLOBE LIFE AND ACCIDENT INSURANCE COMPANY","X",{"$f":"IF(ISNUMBER(FIND(\"MEDICAID\",A1497)),\"X\",\"\")","v":""},{"$f":"IF(ISNUMBER(FIND(\"MEDICARE\",A1497)),\"X\",\"\")","v":""},{"$f":"IF(ISNUMBER(FIND(\"BC/BS\",#REF!)),\"X\",\"\")","v":""}]
["GLOBE LIFE INSURANCE COMPANY OF NEW YORK","X",{"$f":"IF(ISNUMBER(FIND(\"MEDICAID\",A1498)),\"X\",\"\")","v":""},{"$f":"IF(ISNUMBER(FIND(\"MEDICARE\",A1498)),\"X\",\"\")","v":""},{"$f":"IF(ISNUMBER(FIND(\"BC/BS\",#REF!)),\"X\",\"\")","v":""}]
["GLOECKNER WEBER LLC (SENTARA)","X",{"$f":"IF(ISNUMBER(FIND(\"MEDICAID\",A1499)),\"X\",\"\")","v":""},{"$f":"IF(ISNUMBER(FIND(\"MEDICARE\",A1499)),\"X\",\"\")","v":""},{"$f":"IF(ISNUMBER(FIND(\"BC/BS\",#REF!)),\"X\",\"\")","v":""}]
["GMS MINE REPAIR & MAINTENANCE INC (THE HEALTH PLAN)","X",{"$f":"IF(ISNUMBER(FIND(\"MEDICAID\",A1500)),\"X\",\"\")","v":""},{"$f":"IF(ISNUMBER(FIND(\"MEDICARE\",A1500)),\"X\",\"\")","v":""},{"$f":"IF(ISNUMBER(FIND(\"BC/BS\",#REF!)),\"X\",\"\")","v":""}]
["GOLD COAST EAGLE DISTRIBUTING LLP (GROUP & PENSION ADMIN)","X",{"$f":"IF(ISNUMBER(FIND(\"MEDICAID\",A1501)),\"X\",\"\")","v":""},{"$f":"IF(ISNUMBER(FIND(\"MEDICARE\",A1501)),\"X\",\"\")","v":""},{"$f":"IF(ISNUMBER(FIND(\"BC/BS\",#REF!)),\"X\",\"\")","v":""}]
["GOLD COAST HEALTH PLAN","X",{"$f":"IF(ISNUMBER(FIND(\"MEDICAID\",A1502)),\"X\",\"\")","v":""},{"$f":"IF(ISNUMBER(FIND(\"MEDICARE\",A1502)),\"X\",\"\")","v":""},{"$f":"IF(ISNUMBER(FIND(\"BC/BS\",#REF!)),\"X\",\"\")","v":""}]
["GOLD COAST JOINT BENEFITS TRUST (DELTA HEALTH SYSTEMS)",null,{"$f":"IF(ISNUMBER(FIND(\"MEDICAID\",A1503)),\"X\",\"\")","v":""},{"$f":"IF(ISNUMBER(FIND(\"MEDICARE\",A1503)),\"X\",\"\")","v":""},{"$f":"IF(ISNUMBER(FIND(\"BC/BS\",#REF!)),\"X\",\"\")","v":""}]
["GOLDCARE II (METROPLUS HEALTH PLAN)","X",{"$f":"IF(ISNUMBER(FIND(\"MEDICAID\",A1504)),\"X\",\"\")","v":""},{"$f":"IF(ISNUMBER(FIND(\"MEDICARE\",A1504)),\"X\",\"\")","v":""},{"$f":"IF(ISNUMBER(FIND(\"BC/BS\",#REF!)),\"X\",\"\")","v":""}]
["GOLDEN ROAD MOTOR INN INC (HOMETOWN HEALTH NEVADA)","X",{"$f":"IF(ISNUMBER(FIND(\"MEDICAID\",A1505)),\"X\",\"\")","v":""},{"$f":"IF(ISNUMBER(FIND(\"MEDICARE\",A1505)),\"X\",\"\")","v":""},{"$f":"IF(ISNUMBER(FIND(\"BC/BS\",#REF!)),\"X\",\"\")","v":""}]
["GOLDEN RULE INSURANCE COMPANY","X",{"$f":"IF(ISNUMBER(FIND(\"MEDICAID\",A1506)),\"X\",\"\")","v":""},{"$f":"IF(ISNUMBER(FIND(\"MEDICARE\",A1506)),\"X\",\"\")","v":""},{"$f":"IF(ISNUMBER(FIND(\"BC/BS\",#REF!)),\"X\",\"\")","v":""}]
["GOLDEN TECHNOLOGIES (GEISINGER HEALTH PLAN)","X",{"$f":"IF(ISNUMBER(FIND(\"MEDICAID\",A1507)),\"X\",\"\")","v":""},{"$f":"IF(ISNUMBER(FIND(\"MEDICARE\",A1507)),\"X\",\"\")","v":""},{"$f":"IF(ISNUMBER(FIND(\"BC/BS\",#REF!)),\"X\",\"\")","v":""}]
["GOLDMAN, SACHS & CO (CIGNA)",null,{"$f":"IF(ISNUMBER(FIND(\"MEDICAID\",A1508)),\"X\",\"\")","v":""},{"$f":"IF(ISNUMBER(FIND(\"MEDICARE\",A1508)),\"X\",\"\")","v":""},{"$f":"IF(ISNUMBER(FIND(\"BC/BS\",#REF!)),\"X\",\"\")","v":""}]
["GONZABA MEDICAL GROUP (INNOVISTA HEALTH)","X",{"$f":"IF(ISNUMBER(FIND(\"MEDICAID\",A1509)),\"X\",\"\")","v":""},{"$f":"IF(ISNUMBER(FIND(\"MEDICARE\",A1509)),\"X\",\"\")","v":""},{"$f":"IF(ISNUMBER(FIND(\"BC/BS\",#REF!)),\"X\",\"\")","v":""}]
["GOOD SAMARITAN MEDICAL PRACTICE ASSOCIATION (PROSPECT MEDICAL SYSTEMS)",null,{"$f":"IF(ISNUMBER(FIND(\"MEDICAID\",A1510)),\"X\",\"\")","v":""},{"$f":"IF(ISNUMBER(FIND(\"MEDICARE\",A1510)),\"X\",\"\")","v":""},{"$f":"IF(ISNUMBER(FIND(\"BC/BS\",#REF!)),\"X\",\"\")","v":""}]
["GOODSON'S SUPERMARKET INC (THE HEALTH PLAN)",null,{"$f":"IF(ISNUMBER(FIND(\"MEDICAID\",A1511)),\"X\",\"\")","v":""},{"$f":"IF(ISNUMBER(FIND(\"MEDICARE\",A1511)),\"X\",\"\")","v":""},{"$f":"IF(ISNUMBER(FIND(\"BC/BS\",#REF!)),\"X\",\"\")","v":""}]
["GOVERNMENT PERSONNEL MUTUAL LIFE INSURANCE COMPANY (MUTUAL OF OMAHA)","X",{"$f":"IF(ISNUMBER(FIND(\"MEDICAID\",A1512)),\"X\",\"\")","v":""},{"$f":"IF(ISNUMBER(FIND(\"MEDICARE\",A1512)),\"X\",\"\")","v":""},{"$f":"IF(ISNUMBER(FIND(\"BC/BS\",#REF!)),\"X\",\"\")","v":""}]
["GPM HEALTH AND LIFE INSURANCE COMPANY (MUTUAL OF OMAHA)","X",{"$f":"IF(ISNUMBER(FIND(\"MEDICAID\",A1513)),\"X\",\"\")","v":""},{"$f":"IF(ISNUMBER(FIND(\"MEDICARE\",A1513)),\"X\",\"\")","v":""},{"$f":"IF(ISNUMBER(FIND(\"BC/BS\",#REF!)),\"X\",\"\")","v":""}]
["GPM SOUTHEAST LLC (GROUP & PENSION ADMIN)","X",{"$f":"IF(ISNUMBER(FIND(\"MEDICAID\",A1514)),\"X\",\"\")","v":""},{"$f":"IF(ISNUMBER(FIND(\"MEDICARE\",A1514)),\"X\",\"\")","v":""},{"$f":"IF(ISNUMBER(FIND(\"BC/BS\",#REF!)),\"X\",\"\")","v":""}]
["GRACE FAMILY CHURCH INC (GROUP & PENSION ADMIN)","X",{"$f":"IF(ISNUMBER(FIND(\"MEDICAID\",A1515)),\"X\",\"\")","v":""},{"$f":"IF(ISNUMBER(FIND(\"MEDICARE\",A1515)),\"X\",\"\")","v":""},{"$f":"IF(ISNUMBER(FIND(\"BC/BS\",#REF!)),\"X\",\"\")","v":""}]
["GRACE PRESBYTERIAN EBPT (90 DEGREE BENEFITS HOUSTON - ENTRUST)",null,{"$f":"IF(ISNUMBER(FIND(\"MEDICAID\",A1516)),\"X\",\"\")","v":""},{"$f":"IF(ISNUMBER(FIND(\"MEDICARE\",A1516)),\"X\",\"\")","v":""},{"$f":"IF(ISNUMBER(FIND(\"BC/BS\",#REF!)),\"X\",\"\")","v":""}]
["GRAND ISLAND CENTRAL SCHOOL DISTRICT (INDEPENDENT HEALTH)",null,{"$f":"IF(ISNUMBER(FIND(\"MEDICAID\",A1517)),\"X\",\"\")","v":""},{"$f":"IF(ISNUMBER(FIND(\"MEDICARE\",A1517)),\"X\",\"\")","v":""},{"$f":"IF(ISNUMBER(FIND(\"BC/BS\",#REF!)),\"X\",\"\")","v":""}]
["GRAND ISLAND VA MEDICAL CENTER","X",{"$f":"IF(ISNUMBER(FIND(\"MEDICAID\",A1518)),\"X\",\"\")","v":""},{"$f":"IF(ISNUMBER(FIND(\"MEDICARE\",A1518)),\"X\",\"\")","v":""},{"$f":"IF(ISNUMBER(FIND(\"BC/BS\",#REF!)),\"X\",\"\")","v":""}]
["GRAND JUNCTION VA MEDICAL CENTER","X",{"$f":"IF(ISNUMBER(FIND(\"MEDICAID\",A1519)),\"X\",\"\")","v":""},{"$f":"IF(ISNUMBER(FIND(\"MEDICARE\",A1519)),\"X\",\"\")","v":""},{"$f":"IF(ISNUMBER(FIND(\"BC/BS\",#REF!)),\"X\",\"\")","v":""}]
["GRAND LAKE MENTAL HEALTH CENTER INC (MAA/HEALTHSMART)",null,{"$f":"IF(ISNUMBER(FIND(\"MEDICAID\",A1520)),\"X\",\"\")","v":""},{"$f":"IF(ISNUMBER(FIND(\"MEDICARE\",A1520)),\"X\",\"\")","v":""},{"$f":"IF(ISNUMBER(FIND(\"BC/BS\",#REF!)),\"X\",\"\")","v":""}]
["GRANITE STATE INSURANCE COMPANY (AIG)","X",{"$f":"IF(ISNUMBER(FIND(\"MEDICAID\",A1521)),\"X\",\"\")","v":""},{"$f":"IF(ISNUMBER(FIND(\"MEDICARE\",A1521)),\"X\",\"\")","v":""},{"$f":"IF(ISNUMBER(FIND(\"BC/BS\",#REF!)),\"X\",\"\")","v":""},"X"]
["GRAPHIC CONTROLS ACQUISITION CORP (INDEPENDENT HEALTH)",null,{"$f":"IF(ISNUMBER(FIND(\"MEDICAID\",A1522)),\"X\",\"\")","v":""},{"$f":"IF(ISNUMBER(FIND(\"MEDICARE\",A1522)),\"X\",\"\")","v":""},{"$f":"IF(ISNUMBER(FIND(\"BC/BS\",#REF!)),\"X\",\"\")","v":""}]
["GREAT SOUTHERN LIFE (IAS ADMIN)","X",{"$f":"IF(ISNUMBER(FIND(\"MEDICAID\",A1523)),\"X\",\"\")","v":""},{"$f":"IF(ISNUMBER(FIND(\"MEDICARE\",A1523)),\"X\",\"\")","v":""},{"$f":"IF(ISNUMBER(FIND(\"BC/BS\",#REF!)),\"X\",\"\")","v":""}]
["GREAT WEST HEALTHCARE - CIGNA","X",{"$f":"IF(ISNUMBER(FIND(\"MEDICAID\",A1524)),\"X\",\"\")","v":""},{"$f":"IF(ISNUMBER(FIND(\"MEDICARE\",A1524)),\"X\",\"\")","v":""},{"$f":"IF(ISNUMBER(FIND(\"BC/BS\",#REF!)),\"X\",\"\")","v":""}]
["GREATER NEWPORT PHYSICIANS (MEMORIALCARE)",null,{"$f":"IF(ISNUMBER(FIND(\"MEDICAID\",A1525)),\"X\",\"\")","v":""},{"$f":"IF(ISNUMBER(FIND(\"MEDICARE\",A1525)),\"X\",\"\")","v":""},{"$f":"IF(ISNUMBER(FIND(\"BC/BS\",#REF!)),\"X\",\"\")","v":""}]
["GREATER TRI CITIES IPA","X",{"$f":"IF(ISNUMBER(FIND(\"MEDICAID\",A1526)),\"X\",\"\")","v":""},{"$f":"IF(ISNUMBER(FIND(\"MEDICARE\",A1526)),\"X\",\"\")","v":""},{"$f":"IF(ISNUMBER(FIND(\"BC/BS\",#REF!)),\"X\",\"\")","v":""}]
["GREGG COUNTY (WEBTPA)","X",{"$f":"IF(ISNUMBER(FIND(\"MEDICAID\",A1527)),\"X\",\"\")","v":""},{"$f":"IF(ISNUMBER(FIND(\"MEDICARE\",A1527)),\"X\",\"\")","v":""},{"$f":"IF(ISNUMBER(FIND(\"BC/BS\",#REF!)),\"X\",\"\")","v":""}]
["GREGORY POOLE EQUIPMENT COMPANY (WEBTPA)","X",{"$f":"IF(ISNUMBER(FIND(\"MEDICAID\",A1528)),\"X\",\"\")","v":""},{"$f":"IF(ISNUMBER(FIND(\"MEDICARE\",A1528)),\"X\",\"\")","v":""},{"$f":"IF(ISNUMBER(FIND(\"BC/BS\",#REF!)),\"X\",\"\")","v":""}]
["GRIFFIN COMMUNICATIONS LLC (WEBTPA)","X",{"$f":"IF(ISNUMBER(FIND(\"MEDICAID\",A1529)),\"X\",\"\")","v":""},{"$f":"IF(ISNUMBER(FIND(\"MEDICARE\",A1529)),\"X\",\"\")","v":""},{"$f":"IF(ISNUMBER(FIND(\"BC/BS\",#REF!)),\"X\",\"\")","v":""}]
["GRIMMWAY ENTERPRISES INC (HEALTHCOMP)","X",{"$f":"IF(ISNUMBER(FIND(\"MEDICAID\",A1530)),\"X\",\"\")","v":""},{"$f":"IF(ISNUMBER(FIND(\"MEDICARE\",A1530)),\"X\",\"\")","v":""},{"$f":"IF(ISNUMBER(FIND(\"BC/BS\",#REF!)),\"X\",\"\")","v":""}]
["GROUP & PENSION ADMINISTRATORS INC","X",{"$f":"IF(ISNUMBER(FIND(\"MEDICAID\",A1531)),\"X\",\"\")","v":""},{"$f":"IF(ISNUMBER(FIND(\"MEDICARE\",A1531)),\"X\",\"\")","v":""},{"$f":"IF(ISNUMBER(FIND(\"BC/BS\",#REF!)),\"X\",\"\")","v":""}]
["GROUP ADMINISTRATORS LTD","X",{"$f":"IF(ISNUMBER(FIND(\"MEDICAID\",A1532)),\"X\",\"\")","v":""},{"$f":"IF(ISNUMBER(FIND(\"MEDICARE\",A1532)),\"X\",\"\")","v":""},{"$f":"IF(ISNUMBER(FIND(\"BC/BS\",#REF!)),\"X\",\"\")","v":""}]
["GROUP BENEFIT SERVICES","X",{"$f":"IF(ISNUMBER(FIND(\"MEDICAID\",A1533)),\"X\",\"\")","v":""},{"$f":"IF(ISNUMBER(FIND(\"MEDICARE\",A1533)),\"X\",\"\")","v":""},{"$f":"IF(ISNUMBER(FIND(\"BC/BS\",#REF!)),\"X\",\"\")","v":""}]
["GROUP HEALTH COOPERATIVE OF EAU CLAIRE","X",{"$f":"IF(ISNUMBER(FIND(\"MEDICAID\",A1534)),\"X\",\"\")","v":""},{"$f":"IF(ISNUMBER(FIND(\"MEDICARE\",A1534)),\"X\",\"\")","v":""},{"$f":"IF(ISNUMBER(FIND(\"BC/BS\",#REF!)),\"X\",\"\")","v":""}]
["GROUP HEALTH COOPERATIVE OF SOUTH CENTRAL WISCONSIN","X",{"$f":"IF(ISNUMBER(FIND(\"MEDICAID\",A1535)),\"X\",\"\")","v":""},{"$f":"IF(ISNUMBER(FIND(\"MEDICARE\",A1535)),\"X\",\"\")","v":""},{"$f":"IF(ISNUMBER(FIND(\"BC/BS\",#REF!)),\"X\",\"\")","v":""}]
["GROUP HEALTH PROGRAM OF NTCA (NATIONAL TELECOMMUNICATIONS COOPERATIVE ASSOCIATION)",null,{"$f":"IF(ISNUMBER(FIND(\"MEDICAID\",A1536)),\"X\",\"\")","v":""},{"$f":"IF(ISNUMBER(FIND(\"MEDICARE\",A1536)),\"X\",\"\")","v":""},{"$f":"IF(ISNUMBER(FIND(\"BC/BS\",#REF!)),\"X\",\"\")","v":""}]
["GROUP MANAGEMENT SERVICES","X",{"$f":"IF(ISNUMBER(FIND(\"MEDICAID\",A1537)),\"X\",\"\")","v":""},{"$f":"IF(ISNUMBER(FIND(\"MEDICARE\",A1537)),\"X\",\"\")","v":""},{"$f":"IF(ISNUMBER(FIND(\"BC/BS\",#REF!)),\"X\",\"\")","v":""}]
["GROUP MARKETING","X",{"$f":"IF(ISNUMBER(FIND(\"MEDICAID\",A1538)),\"X\",\"\")","v":""},{"$f":"IF(ISNUMBER(FIND(\"MEDICARE\",A1538)),\"X\",\"\")","v":""},{"$f":"IF(ISNUMBER(FIND(\"BC/BS\",#REF!)),\"X\",\"\")","v":""}]
["GSM WINGS LLC (GROUP & PENSION ADMIN)",null,{"$f":"IF(ISNUMBER(FIND(\"MEDICAID\",A1539)),\"X\",\"\")","v":""},{"$f":"IF(ISNUMBER(FIND(\"MEDICARE\",A1539)),\"X\",\"\")","v":""},{"$f":"IF(ISNUMBER(FIND(\"BC/BS\",#REF!)),\"X\",\"\")","v":""}]
["GUADALUPE VALLEY TELEPHONE COOPERATIVE (GVTC) (MAESTRO HEALTH)","X",{"$f":"IF(ISNUMBER(FIND(\"MEDICAID\",A1540)),\"X\",\"\")","v":""},{"$f":"IF(ISNUMBER(FIND(\"MEDICARE\",A1540)),\"X\",\"\")","v":""},{"$f":"IF(ISNUMBER(FIND(\"BC/BS\",#REF!)),\"X\",\"\")","v":""}]
["GUARANTEE TRUST LIFE INSURANCE COMPANY (INDEMNITY)",null,{"$f":"IF(ISNUMBER(FIND(\"MEDICAID\",A1541)),\"X\",\"\")","v":""},{"$f":"IF(ISNUMBER(FIND(\"MEDICARE\",A1541)),\"X\",\"\")","v":""},{"$f":"IF(ISNUMBER(FIND(\"BC/BS\",#REF!)),\"X\",\"\")","v":""}]
["GUARANTEE TRUST LIFE INSURANCE COMPANY (MEDICARE SUPPLEMENT)","X",{"$f":"IF(ISNUMBER(FIND(\"MEDICAID\",A1542)),\"X\",\"\")","v":""},null,{"$f":"IF(ISNUMBER(FIND(\"BC/BS\",#REF!)),\"X\",\"\")","v":""}]
["GUARDIAN LIFE INSURANCE COMPANY OF AMERICA","X",{"$f":"IF(ISNUMBER(FIND(\"MEDICAID\",A1543)),\"X\",\"\")","v":""},{"$f":"IF(ISNUMBER(FIND(\"MEDICARE\",A1543)),\"X\",\"\")","v":""},{"$f":"IF(ISNUMBER(FIND(\"BC/BS\",#REF!)),\"X\",\"\")","v":""}]
["GUIDESTONE (CIGNA)",null,{"$f":"IF(ISNUMBER(FIND(\"MEDICAID\",A1544)),\"X\",\"\")","v":""},{"$f":"IF(ISNUMBER(FIND(\"MEDICARE\",A1544)),\"X\",\"\")","v":""},{"$f":"IF(ISNUMBER(FIND(\"BC/BS\",#REF!)),\"X\",\"\")","v":""}]
["GULF GUARANTY EMPLOYEE BENEFIT SERVICES","X",{"$f":"IF(ISNUMBER(FIND(\"MEDICAID\",A1545)),\"X\",\"\")","v":""},{"$f":"IF(ISNUMBER(FIND(\"MEDICARE\",A1545)),\"X\",\"\")","v":""},{"$f":"IF(ISNUMBER(FIND(\"BC/BS\",#REF!)),\"X\",\"\")","v":""}]
["GULF GUARANTY HEALTH","X",{"$f":"IF(ISNUMBER(FIND(\"MEDICAID\",A1546)),\"X\",\"\")","v":""},{"$f":"IF(ISNUMBER(FIND(\"MEDICARE\",A1546)),\"X\",\"\")","v":""},{"$f":"IF(ISNUMBER(FIND(\"BC/BS\",#REF!)),\"X\",\"\")","v":""}]
["GULF SOUTH RISK SERVICES","X",{"$f":"IF(ISNUMBER(FIND(\"MEDICAID\",A1547)),\"X\",\"\")","v":""},{"$f":"IF(ISNUMBER(FIND(\"MEDICARE\",A1547)),\"X\",\"\")","v":""},{"$f":"IF(ISNUMBER(FIND(\"BC/BS\",#REF!)),\"X\",\"\")","v":""}]
["GUMBYS LLC (THE HEALTH PLAN)",null,{"$f":"IF(ISNUMBER(FIND(\"MEDICAID\",A1548)),\"X\",\"\")","v":""},{"$f":"IF(ISNUMBER(FIND(\"MEDICARE\",A1548)),\"X\",\"\")","v":""},{"$f":"IF(ISNUMBER(FIND(\"BC/BS\",#REF!)),\"X\",\"\")","v":""}]
["GUNDERSEN HOSPITAL AT HOME (CONTESSA HEALTH)","X",{"$f":"IF(ISNUMBER(FIND(\"MEDICAID\",A1549)),\"X\",\"\")","v":""},{"$f":"IF(ISNUMBER(FIND(\"MEDICARE\",A1549)),\"X\",\"\")","v":""},{"$f":"IF(ISNUMBER(FIND(\"BC/BS\",#REF!)),\"X\",\"\")","v":""}]
["GWINNETT COUNTY PUBLIC SCHOOLS","X",{"$f":"IF(ISNUMBER(FIND(\"MEDICAID\",A1550)),\"X\",\"\")","v":""},{"$f":"IF(ISNUMBER(FIND(\"MEDICARE\",A1550)),\"X\",\"\")","v":""},{"$f":"IF(ISNUMBER(FIND(\"BC/BS\",#REF!)),\"X\",\"\")","v":""}]
["H&W INDEMNITY (SPC) LTD","X",{"$f":"IF(ISNUMBER(FIND(\"MEDICAID\",A1551)),\"X\",\"\")","v":""},{"$f":"IF(ISNUMBER(FIND(\"MEDICARE\",A1551)),\"X\",\"\")","v":""},{"$f":"IF(ISNUMBER(FIND(\"BC/BS\",#REF!)),\"X\",\"\")","v":""}]
["H. JOHN HEINZ III DEPARTMENT OF VETERANS AFFAIRS MEDICAL CENTER","X",{"$f":"IF(ISNUMBER(FIND(\"MEDICAID\",A1552)),\"X\",\"\")","v":""},{"$f":"IF(ISNUMBER(FIND(\"MEDICARE\",A1552)),\"X\",\"\")","v":""},{"$f":"IF(ISNUMBER(FIND(\"BC/BS\",#REF!)),\"X\",\"\")","v":""}]
["HABITAT FOR HUMANITY (SENTARA)","X",{"$f":"IF(ISNUMBER(FIND(\"MEDICAID\",A1553)),\"X\",\"\")","v":""},{"$f":"IF(ISNUMBER(FIND(\"MEDICARE\",A1553)),\"X\",\"\")","v":""},{"$f":"IF(ISNUMBER(FIND(\"BC/BS\",#REF!)),\"X\",\"\")","v":""}]
["HALFF ASSOCIATES INC (GROUP & PENSION ADMIN)","X",{"$f":"IF(ISNUMBER(FIND(\"MEDICAID\",A1554)),\"X\",\"\")","v":""},{"$f":"IF(ISNUMBER(FIND(\"MEDICARE\",A1554)),\"X\",\"\")","v":""},{"$f":"IF(ISNUMBER(FIND(\"BC/BS\",#REF!)),\"X\",\"\")","v":""}]
["HAMASPIK CHOICE INC","X",{"$f":"IF(ISNUMBER(FIND(\"MEDICAID\",A1555)),\"X\",\"\")","v":""},{"$f":"IF(ISNUMBER(FIND(\"MEDICARE\",A1555)),\"X\",\"\")","v":""},{"$f":"IF(ISNUMBER(FIND(\"BC/BS\",#REF!)),\"X\",\"\")","v":""}]
["HAMASPIK INC","X",{"$f":"IF(ISNUMBER(FIND(\"MEDICAID\",A1556)),\"X\",\"\")","v":""},{"$f":"IF(ISNUMBER(FIND(\"MEDICARE\",A1556)),\"X\",\"\")","v":""},{"$f":"IF(ISNUMBER(FIND(\"BC/BS\",#REF!)),\"X\",\"\")","v":""}]
["HAMBURG CENTRAL SCHOOL DISTRICT (INDEPENDENT HEALTH)",null,{"$f":"IF(ISNUMBER(FIND(\"MEDICAID\",A1557)),\"X\",\"\")","v":""},{"$f":"IF(ISNUMBER(FIND(\"MEDICARE\",A1557)),\"X\",\"\")","v":""},{"$f":"IF(ISNUMBER(FIND(\"BC/BS\",#REF!)),\"X\",\"\")","v":""}]
["HAMILTON COUNTY, IL (IPMG)","X",{"$f":"IF(ISNUMBER(FIND(\"MEDICAID\",A1558)),\"X\",\"\")","v":""},{"$f":"IF(ISNUMBER(FIND(\"MEDICARE\",A1558)),\"X\",\"\")","v":""},{"$f":"IF(ISNUMBER(FIND(\"BC/BS\",#REF!)),\"X\",\"\")","v":""}]
["HAMPTON CITY SCHOOLS (SENTARA)","X",{"$f":"IF(ISNUMBER(FIND(\"MEDICAID\",A1559)),\"X\",\"\")","v":""},{"$f":"IF(ISNUMBER(FIND(\"MEDICARE\",A1559)),\"X\",\"\")","v":""},{"$f":"IF(ISNUMBER(FIND(\"BC/BS\",#REF!)),\"X\",\"\")","v":""}]
["HAMPTON FAMILY PRACTICE (SENTARA)","X",{"$f":"IF(ISNUMBER(FIND(\"MEDICAID\",A1560)),\"X\",\"\")","v":""},{"$f":"IF(ISNUMBER(FIND(\"MEDICARE\",A1560)),\"X\",\"\")","v":""},{"$f":"IF(ISNUMBER(FIND(\"BC/BS\",#REF!)),\"X\",\"\")","v":""}]
["HAMPTON VA MEDICAL CENTER","X",{"$f":"IF(ISNUMBER(FIND(\"MEDICAID\",A1561)),\"X\",\"\")","v":""},{"$f":"IF(ISNUMBER(FIND(\"MEDICARE\",A1561)),\"X\",\"\")","v":""},{"$f":"IF(ISNUMBER(FIND(\"BC/BS\",#REF!)),\"X\",\"\")","v":""}]
["HANCOCK & MOORE (THE HEALTH PLAN)",null,{"$f":"IF(ISNUMBER(FIND(\"MEDICAID\",A1562)),\"X\",\"\")","v":""},{"$f":"IF(ISNUMBER(FIND(\"MEDICARE\",A1562)),\"X\",\"\")","v":""},{"$f":"IF(ISNUMBER(FIND(\"BC/BS\",#REF!)),\"X\",\"\")","v":""}]
["HANKEY INVESTMENT COMPANY LP (FRINGE BENEFIT GROUP)","X",{"$f":"IF(ISNUMBER(FIND(\"MEDICAID\",A1563)),\"X\",\"\")","v":""},{"$f":"IF(ISNUMBER(FIND(\"MEDICARE\",A1563)),\"X\",\"\")","v":""},{"$f":"IF(ISNUMBER(FIND(\"BC/BS\",#REF!)),\"X\",\"\")","v":""}]
["HANNAFORD (CDPHP)",null,{"$f":"IF(ISNUMBER(FIND(\"MEDICAID\",A1564)),\"X\",\"\")","v":""},{"$f":"IF(ISNUMBER(FIND(\"MEDICARE\",A1564)),\"X\",\"\")","v":""},{"$f":"IF(ISNUMBER(FIND(\"BC/BS\",#REF!)),\"X\",\"\")","v":""}]
["HARDIES FRUIT & VEGETABLE CO (GROUP & PENSION ADMIN)","X",{"$f":"IF(ISNUMBER(FIND(\"MEDICAID\",A1565)),\"X\",\"\")","v":""},{"$f":"IF(ISNUMBER(FIND(\"MEDICARE\",A1565)),\"X\",\"\")","v":""},{"$f":"IF(ISNUMBER(FIND(\"BC/BS\",#REF!)),\"X\",\"\")","v":""}]
["HARMONY HEALTH PLAN OF ILLINOIS INC - MO (WELLCARE)",null,{"$f":"IF(ISNUMBER(FIND(\"MEDICAID\",A1566)),\"X\",\"\")","v":""},{"$f":"IF(ISNUMBER(FIND(\"MEDICARE\",A1566)),\"X\",\"\")","v":""},{"$f":"IF(ISNUMBER(FIND(\"BC/BS\",#REF!)),\"X\",\"\")","v":""}]
["HARMONY HEALTH PLAN OF ILLINOIS INC (WELLCARE)","X",{"$f":"IF(ISNUMBER(FIND(\"MEDICAID\",A1567)),\"X\",\"\")","v":""},{"$f":"IF(ISNUMBER(FIND(\"MEDICARE\",A1567)),\"X\",\"\")","v":""},{"$f":"IF(ISNUMBER(FIND(\"BC/BS\",#REF!)),\"X\",\"\")","v":""}]
["HARPER (MAESTRO HEALTH)",null,{"$f":"IF(ISNUMBER(FIND(\"MEDICAID\",A1568)),\"X\",\"\")","v":""},{"$f":"IF(ISNUMBER(FIND(\"MEDICARE\",A1568)),\"X\",\"\")","v":""},{"$f":"IF(ISNUMBER(FIND(\"BC/BS\",#REF!)),\"X\",\"\")","v":""}]
["HARRIS FARMS INC (HEALTHCOMP)",null,{"$f":"IF(ISNUMBER(FIND(\"MEDICAID\",A1569)),\"X\",\"\")","v":""},{"$f":"IF(ISNUMBER(FIND(\"MEDICARE\",A1569)),\"X\",\"\")","v":""},{"$f":"IF(ISNUMBER(FIND(\"BC/BS\",#REF!)),\"X\",\"\")","v":""}]
["HARRIS HEALTH SYSTEM",null,{"$f":"IF(ISNUMBER(FIND(\"MEDICAID\",A1570)),\"X\",\"\")","v":""},{"$f":"IF(ISNUMBER(FIND(\"MEDICARE\",A1570)),\"X\",\"\")","v":""},{"$f":"IF(ISNUMBER(FIND(\"BC/BS\",#REF!)),\"X\",\"\")","v":""}]
["HARRIS RANCH / CVMHC (HEALTHCOMP)",null,{"$f":"IF(ISNUMBER(FIND(\"MEDICAID\",A1571)),\"X\",\"\")","v":""},{"$f":"IF(ISNUMBER(FIND(\"MEDICARE\",A1571)),\"X\",\"\")","v":""},{"$f":"IF(ISNUMBER(FIND(\"BC/BS\",#REF!)),\"X\",\"\")","v":""}]
["HARRISON & LEAR INC (SENTARA)","X",{"$f":"IF(ISNUMBER(FIND(\"MEDICAID\",A1572)),\"X\",\"\")","v":""},{"$f":"IF(ISNUMBER(FIND(\"MEDICARE\",A1572)),\"X\",\"\")","v":""},{"$f":"IF(ISNUMBER(FIND(\"BC/BS\",#REF!)),\"X\",\"\")","v":""}]
["HARRISON COUNTY (BENEFIT PLAN ADMINISTRATORS)","X",{"$f":"IF(ISNUMBER(FIND(\"MEDICAID\",A1573)),\"X\",\"\")","v":""},{"$f":"IF(ISNUMBER(FIND(\"MEDICARE\",A1573)),\"X\",\"\")","v":""},{"$f":"IF(ISNUMBER(FIND(\"BC/BS\",#REF!)),\"X\",\"\")","v":""}]
["HARRISON COUNTY (GROUP & PENSION ADMIN)","X",{"$f":"IF(ISNUMBER(FIND(\"MEDICAID\",A1574)),\"X\",\"\")","v":""},{"$f":"IF(ISNUMBER(FIND(\"MEDICARE\",A1574)),\"X\",\"\")","v":""},{"$f":"IF(ISNUMBER(FIND(\"BC/BS\",#REF!)),\"X\",\"\")","v":""}]
["HARRY S. TRUMAN MEMORIAL VETERANS HOSPITAL","X",{"$f":"IF(ISNUMBER(FIND(\"MEDICAID\",A1575)),\"X\",\"\")","v":""},{"$f":"IF(ISNUMBER(FIND(\"MEDICARE\",A1575)),\"X\",\"\")","v":""},{"$f":"IF(ISNUMBER(FIND(\"BC/BS\",#REF!)),\"X\",\"\")","v":""}]
["HARTFORD LIFE & ACCIDENT INSURANCE (MERCER)","X",{"$f":"IF(ISNUMBER(FIND(\"MEDICAID\",A1576)),\"X\",\"\")","v":""},{"$f":"IF(ISNUMBER(FIND(\"MEDICARE\",A1576)),\"X\",\"\")","v":""},{"$f":"IF(ISNUMBER(FIND(\"BC/BS\",#REF!)),\"X\",\"\")","v":""}]
["HARTZELL INDUSTRIES (THE HEALTH PLAN)",null,{"$f":"IF(ISNUMBER(FIND(\"MEDICAID\",A1577)),\"X\",\"\")","v":""},{"$f":"IF(ISNUMBER(FIND(\"MEDICARE\",A1577)),\"X\",\"\")","v":""},{"$f":"IF(ISNUMBER(FIND(\"BC/BS\",#REF!)),\"X\",\"\")","v":""}]
["HARVARD PILGRIM HEALTH CARE (HPHC)","X",{"$f":"IF(ISNUMBER(FIND(\"MEDICAID\",A1578)),\"X\",\"\")","v":""},{"$f":"IF(ISNUMBER(FIND(\"MEDICARE\",A1578)),\"X\",\"\")","v":""},{"$f":"IF(ISNUMBER(FIND(\"BC/BS\",#REF!)),\"X\",\"\")","v":""}]
["HARVARD WESTLAKE SCHOOL (HEALTHCOMP)",null,{"$f":"IF(ISNUMBER(FIND(\"MEDICAID\",A1579)),\"X\",\"\")","v":""},{"$f":"IF(ISNUMBER(FIND(\"MEDICARE\",A1579)),\"X\",\"\")","v":""},{"$f":"IF(ISNUMBER(FIND(\"BC/BS\",#REF!)),\"X\",\"\")","v":""}]
["HASTINGS MUTUAL","X",{"$f":"IF(ISNUMBER(FIND(\"MEDICAID\",A1580)),\"X\",\"\")","v":""},{"$f":"IF(ISNUMBER(FIND(\"MEDICARE\",A1580)),\"X\",\"\")","v":""},{"$f":"IF(ISNUMBER(FIND(\"BC/BS\",#REF!)),\"X\",\"\")","v":""},null,"X"]
["HAUSBECK BROTHERS INC DBA DHT (ASR HEALTH BENEFITS)","X",{"$f":"IF(ISNUMBER(FIND(\"MEDICAID\",A1581)),\"X\",\"\")","v":""},{"$f":"IF(ISNUMBER(FIND(\"MEDICARE\",A1581)),\"X\",\"\")","v":""},{"$f":"IF(ISNUMBER(FIND(\"BC/BS\",#REF!)),\"X\",\"\")","v":""}]
["HAWAII LABORERS' HEALTH AND WELFARE FUND","X",{"$f":"IF(ISNUMBER(FIND(\"MEDICAID\",A1582)),\"X\",\"\")","v":""},{"$f":"IF(ISNUMBER(FIND(\"MEDICARE\",A1582)),\"X\",\"\")","v":""},{"$f":"IF(ISNUMBER(FIND(\"BC/BS\",#REF!)),\"X\",\"\")","v":""}]
["HAWAII MAINLAND ADMINISTRATORS (HMA)","X",{"$f":"IF(ISNUMBER(FIND(\"MEDICAID\",A1583)),\"X\",\"\")","v":""},{"$f":"IF(ISNUMBER(FIND(\"MEDICARE\",A1583)),\"X\",\"\")","v":""},{"$f":"IF(ISNUMBER(FIND(\"BC/BS\",#REF!)),\"X\",\"\")","v":""}]
["HAWAII MEDICAL SERVICE ASSOCIATION (HMSA)","X",{"$f":"IF(ISNUMBER(FIND(\"MEDICAID\",A1584)),\"X\",\"\")","v":""},{"$f":"IF(ISNUMBER(FIND(\"MEDICARE\",A1584)),\"X\",\"\")","v":""},{"$f":"IF(ISNUMBER(FIND(\"BC/BS\",#REF!)),\"X\",\"\")","v":""}]
["HAZEL HAWKINS MEMORIAL HOSPITAL (HEALTHCOMP)","X",{"$f":"IF(ISNUMBER(FIND(\"MEDICAID\",A1585)),\"X\",\"\")","v":""},{"$f":"IF(ISNUMBER(FIND(\"MEDICARE\",A1585)),\"X\",\"\")","v":""},{"$f":"IF(ISNUMBER(FIND(\"BC/BS\",#REF!)),\"X\",\"\")","v":""}]
["HCOS GROUP LLC (GROUP & PENSION ADMIN)",null,{"$f":"IF(ISNUMBER(FIND(\"MEDICAID\",A1586)),\"X\",\"\")","v":""},{"$f":"IF(ISNUMBER(FIND(\"MEDICARE\",A1586)),\"X\",\"\")","v":""},{"$f":"IF(ISNUMBER(FIND(\"BC/BS\",#REF!)),\"X\",\"\")","v":""}]
["HCR MANORCARE D/B/A PROMEDICA (AMERIBEN)",null,{"$f":"IF(ISNUMBER(FIND(\"MEDICAID\",A1587)),\"X\",\"\")","v":""},{"$f":"IF(ISNUMBER(FIND(\"MEDICARE\",A1587)),\"X\",\"\")","v":""},{"$f":"IF(ISNUMBER(FIND(\"BC/BS\",#REF!)),\"X\",\"\")","v":""}]
["HD SUPPLY INC (AMERIBEN)",null,{"$f":"IF(ISNUMBER(FIND(\"MEDICAID\",A1588)),\"X\",\"\")","v":""},{"$f":"IF(ISNUMBER(FIND(\"MEDICARE\",A1588)),\"X\",\"\")","v":""},{"$f":"IF(ISNUMBER(FIND(\"BC/BS\",#REF!)),\"X\",\"\")","v":""}]
["HEALTH ADMINISTRATION CENTER","X",{"$f":"IF(ISNUMBER(FIND(\"MEDICAID\",A1589)),\"X\",\"\")","v":""},{"$f":"IF(ISNUMBER(FIND(\"MEDICARE\",A1589)),\"X\",\"\")","v":""},{"$f":"IF(ISNUMBER(FIND(\"BC/BS\",#REF!)),\"X\",\"\")","v":""}]
["HEALTH ALLIANCE","X",{"$f":"IF(ISNUMBER(FIND(\"MEDICAID\",A1590)),\"X\",\"\")","v":""},{"$f":"IF(ISNUMBER(FIND(\"MEDICARE\",A1590)),\"X\",\"\")","v":""},{"$f":"IF(ISNUMBER(FIND(\"BC/BS\",#REF!)),\"X\",\"\")","v":""}]
["HEALTH ALLIANCE CONNECT","X",{"$f":"IF(ISNUMBER(FIND(\"MEDICAID\",A1591)),\"X\",\"\")","v":""},{"$f":"IF(ISNUMBER(FIND(\"MEDICARE\",A1591)),\"X\",\"\")","v":""},{"$f":"IF(ISNUMBER(FIND(\"BC/BS\",#REF!)),\"X\",\"\")","v":""}]
["HEALTH ALLIANCE NORTHWEST","X",{"$f":"IF(ISNUMBER(FIND(\"MEDICAID\",A1592)),\"X\",\"\")","v":""},{"$f":"IF(ISNUMBER(FIND(\"MEDICARE\",A1592)),\"X\",\"\")","v":""},{"$f":"IF(ISNUMBER(FIND(\"BC/BS\",#REF!)),\"X\",\"\")","v":""}]
["HEALTH ALLIANCE PLAN","X",{"$f":"IF(ISNUMBER(FIND(\"MEDICAID\",A1593)),\"X\",\"\")","v":""},{"$f":"IF(ISNUMBER(FIND(\"MEDICARE\",A1593)),\"X\",\"\")","v":""},{"$f":"IF(ISNUMBER(FIND(\"BC/BS\",#REF!)),\"X\",\"\")","v":""}]
["HEALTH CARE LA IPA (MEDPOINT MANAGEMENT)","X",{"$f":"IF(ISNUMBER(FIND(\"MEDICAID\",A1594)),\"X\",\"\")","v":""},{"$f":"IF(ISNUMBER(FIND(\"MEDICARE\",A1594)),\"X\",\"\")","v":""},{"$f":"IF(ISNUMBER(FIND(\"BC/BS\",#REF!)),\"X\",\"\")","v":""}]
["HEALTH CHOICE ARIZONA","X",{"$f":"IF(ISNUMBER(FIND(\"MEDICAID\",A1595)),\"X\",\"\")","v":""},{"$f":"IF(ISNUMBER(FIND(\"MEDICARE\",A1595)),\"X\",\"\")","v":""},{"$f":"IF(ISNUMBER(FIND(\"BC/BS\",#REF!)),\"X\",\"\")","v":""}]
["HEALTH CHOICE UTAH - MEDICAID","X",null,{"$f":"IF(ISNUMBER(FIND(\"MEDICARE\",A1596)),\"X\",\"\")","v":""},{"$f":"IF(ISNUMBER(FIND(\"BC/BS\",#REF!)),\"X\",\"\")","v":""}]
["HEALTH COST SOLUTIONS","X",{"$f":"IF(ISNUMBER(FIND(\"MEDICAID\",A1597)),\"X\",\"\")","v":""},{"$f":"IF(ISNUMBER(FIND(\"MEDICARE\",A1597)),\"X\",\"\")","v":""},{"$f":"IF(ISNUMBER(FIND(\"BC/BS\",#REF!)),\"X\",\"\")","v":""}]
["HEALTH EQUITY","X",{"$f":"IF(ISNUMBER(FIND(\"MEDICAID\",A1598)),\"X\",\"\")","v":""},{"$f":"IF(ISNUMBER(FIND(\"MEDICARE\",A1598)),\"X\",\"\")","v":""},{"$f":"IF(ISNUMBER(FIND(\"BC/BS\",#REF!)),\"X\",\"\")","v":""}]
["HEALTH EXCEL IPA INC (PROSPECT MEDICAL SYSTEMS)",null,{"$f":"IF(ISNUMBER(FIND(\"MEDICAID\",A1599)),\"X\",\"\")","v":""},{"$f":"IF(ISNUMBER(FIND(\"MEDICARE\",A1599)),\"X\",\"\")","v":""},{"$f":"IF(ISNUMBER(FIND(\"BC/BS\",#REF!)),\"X\",\"\")","v":""}]
["HEALTH FIRST [TYLER, TX]","X",{"$f":"IF(ISNUMBER(FIND(\"MEDICAID\",A1600)),\"X\",\"\")","v":""},{"$f":"IF(ISNUMBER(FIND(\"MEDICARE\",A1600)),\"X\",\"\")","v":""},{"$f":"IF(ISNUMBER(FIND(\"BC/BS\",#REF!)),\"X\",\"\")","v":""}]
["HEALTH FIRST HEALTH PLAN - COMMERCIAL [ROCKLEDGE, FL]","X",{"$f":"IF(ISNUMBER(FIND(\"MEDICAID\",A1601)),\"X\",\"\")","v":""},{"$f":"IF(ISNUMBER(FIND(\"MEDICARE\",A1601)),\"X\",\"\")","v":""},{"$f":"IF(ISNUMBER(FIND(\"BC/BS\",#REF!)),\"X\",\"\")","v":""}]
["HEALTH FIRST HEALTH PLAN - COMMERCIAL [ROCKRIDGE, FL]","X",{"$f":"IF(ISNUMBER(FIND(\"MEDICAID\",A1602)),\"X\",\"\")","v":""},{"$f":"IF(ISNUMBER(FIND(\"MEDICARE\",A1602)),\"X\",\"\")","v":""},{"$f":"IF(ISNUMBER(FIND(\"BC/BS\",#REF!)),\"X\",\"\")","v":""}]
["HEALTH FIRST HEALTH PLAN - MEDICARE [ROCKLEDGE, FL]","X",{"$f":"IF(ISNUMBER(FIND(\"MEDICAID\",A1603)),\"X\",\"\")","v":""},null,{"$f":"IF(ISNUMBER(FIND(\"BC/BS\",#REF!)),\"X\",\"\")","v":""}]
["HEALTH FIRST HEALTH PLAN - TPA [ROCKLEDGE, FL]","X",{"$f":"IF(ISNUMBER(FIND(\"MEDICAID\",A1604)),\"X\",\"\")","v":""},{"$f":"IF(ISNUMBER(FIND(\"MEDICARE\",A1604)),\"X\",\"\")","v":""},{"$f":"IF(ISNUMBER(FIND(\"BC/BS\",#REF!)),\"X\",\"\")","v":""}]
["HEALTH FIRST HEALTH PLAN - TPA [ROCKRIDGE, FL]","X",{"$f":"IF(ISNUMBER(FIND(\"MEDICAID\",A1605)),\"X\",\"\")","v":""},{"$f":"IF(ISNUMBER(FIND(\"MEDICARE\",A1605)),\"X\",\"\")","v":""},{"$f":"IF(ISNUMBER(FIND(\"BC/BS\",#REF!)),\"X\",\"\")","v":""}]
["HEALTH FIRST INDIVIDUAL","X",{"$f":"IF(ISNUMBER(FIND(\"MEDICAID\",A1606)),\"X\",\"\")","v":""},{"$f":"IF(ISNUMBER(FIND(\"MEDICARE\",A1606)),\"X\",\"\")","v":""},{"$f":"IF(ISNUMBER(FIND(\"BC/BS\",#REF!)),\"X\",\"\")","v":""}]
["HEALTH FIRST MEDICARE ADVANTAGE","X",{"$f":"IF(ISNUMBER(FIND(\"MEDICAID\",A1607)),\"X\",\"\")","v":""},null,{"$f":"IF(ISNUMBER(FIND(\"BC/BS\",#REF!)),\"X\",\"\")","v":""}]
["HEALTH INSURANCE PLAN OF GREATER NEW YORK (EMBLEMHEALTH)",null,{"$f":"IF(ISNUMBER(FIND(\"MEDICAID\",A1608)),\"X\",\"\")","v":""},{"$f":"IF(ISNUMBER(FIND(\"MEDICARE\",A1608)),\"X\",\"\")","v":""},{"$f":"IF(ISNUMBER(FIND(\"BC/BS\",#REF!)),\"X\",\"\")","v":""}]
["HEALTH NET COMMERCIAL GLOBAL RISK (NAMM CALIFORNIA)","X",{"$f":"IF(ISNUMBER(FIND(\"MEDICAID\",A1609)),\"X\",\"\")","v":""},{"$f":"IF(ISNUMBER(FIND(\"MEDICARE\",A1609)),\"X\",\"\")","v":""},{"$f":"IF(ISNUMBER(FIND(\"BC/BS\",#REF!)),\"X\",\"\")","v":""}]
["HEALTH NET COMMUNITY SOLUTIONS","X",{"$f":"IF(ISNUMBER(FIND(\"MEDICAID\",A1610)),\"X\",\"\")","v":""},{"$f":"IF(ISNUMBER(FIND(\"MEDICARE\",A1610)),\"X\",\"\")","v":""},{"$f":"IF(ISNUMBER(FIND(\"BC/BS\",#REF!)),\"X\",\"\")","v":""}]
["HEALTH NET LIFE INSURANCE COMPANY","X",{"$f":"IF(ISNUMBER(FIND(\"MEDICAID\",A1611)),\"X\",\"\")","v":""},{"$f":"IF(ISNUMBER(FIND(\"MEDICARE\",A1611)),\"X\",\"\")","v":""},{"$f":"IF(ISNUMBER(FIND(\"BC/BS\",#REF!)),\"X\",\"\")","v":""}]
["HEALTH NET LLC","X",{"$f":"IF(ISNUMBER(FIND(\"MEDICAID\",A1612)),\"X\",\"\")","v":""},{"$f":"IF(ISNUMBER(FIND(\"MEDICARE\",A1612)),\"X\",\"\")","v":""},{"$f":"IF(ISNUMBER(FIND(\"BC/BS\",#REF!)),\"X\",\"\")","v":""}]
["HEALTH NET OF ARIZONA INC","X",{"$f":"IF(ISNUMBER(FIND(\"MEDICAID\",A1613)),\"X\",\"\")","v":""},{"$f":"IF(ISNUMBER(FIND(\"MEDICARE\",A1613)),\"X\",\"\")","v":""},{"$f":"IF(ISNUMBER(FIND(\"BC/BS\",#REF!)),\"X\",\"\")","v":""}]
["HEALTH NET OF CALIFORNIA INC","X",{"$f":"IF(ISNUMBER(FIND(\"MEDICAID\",A1614)),\"X\",\"\")","v":""},{"$f":"IF(ISNUMBER(FIND(\"MEDICARE\",A1614)),\"X\",\"\")","v":""},{"$f":"IF(ISNUMBER(FIND(\"BC/BS\",#REF!)),\"X\",\"\")","v":""}]
["HEALTH NET PRIME CARE SENIOR INSTITUTE (NAMM CALIFORNIA)","X",{"$f":"IF(ISNUMBER(FIND(\"MEDICAID\",A1615)),\"X\",\"\")","v":""},{"$f":"IF(ISNUMBER(FIND(\"MEDICARE\",A1615)),\"X\",\"\")","v":""},{"$f":"IF(ISNUMBER(FIND(\"BC/BS\",#REF!)),\"X\",\"\")","v":""}]
["HEALTH NEW ENGLAND","X",{"$f":"IF(ISNUMBER(FIND(\"MEDICAID\",A1616)),\"X\",\"\")","v":""},{"$f":"IF(ISNUMBER(FIND(\"MEDICARE\",A1616)),\"X\",\"\")","v":""},{"$f":"IF(ISNUMBER(FIND(\"BC/BS\",#REF!)),\"X\",\"\")","v":""}]
["HEALTH NEW ENGLAND ADVISORY SERVICES","X",{"$f":"IF(ISNUMBER(FIND(\"MEDICAID\",A1617)),\"X\",\"\")","v":""},{"$f":"IF(ISNUMBER(FIND(\"MEDICARE\",A1617)),\"X\",\"\")","v":""},{"$f":"IF(ISNUMBER(FIND(\"BC/BS\",#REF!)),\"X\",\"\")","v":""}]
["HEALTH OPTIONS INC (FLORIDA BLUE)","X",{"$f":"IF(ISNUMBER(FIND(\"MEDICAID\",A1618)),\"X\",\"\")","v":""},{"$f":"IF(ISNUMBER(FIND(\"MEDICARE\",A1618)),\"X\",\"\")","v":""},"X"]
["HEALTH PARTNERS PLANS","X",{"$f":"IF(ISNUMBER(FIND(\"MEDICAID\",A1619)),\"X\",\"\")","v":""},{"$f":"IF(ISNUMBER(FIND(\"MEDICARE\",A1619)),\"X\",\"\")","v":""},{"$f":"IF(ISNUMBER(FIND(\"BC/BS\",#REF!)),\"X\",\"\")","v":""}]
["HEALTH PAYMENT SYSTEMS - AUXIANT (HPS)","X",{"$f":"IF(ISNUMBER(FIND(\"MEDICAID\",A1620)),\"X\",\"\")","v":""},{"$f":"IF(ISNUMBER(FIND(\"MEDICARE\",A1620)),\"X\",\"\")","v":""},{"$f":"IF(ISNUMBER(FIND(\"BC/BS\",#REF!)),\"X\",\"\")","v":""}]
["HEALTH PAYMENT SYSTEMS - CYPRESS (HPS)","X",{"$f":"IF(ISNUMBER(FIND(\"MEDICAID\",A1621)),\"X\",\"\")","v":""},{"$f":"IF(ISNUMBER(FIND(\"MEDICARE\",A1621)),\"X\",\"\")","v":""},{"$f":"IF(ISNUMBER(FIND(\"BC/BS\",#REF!)),\"X\",\"\")","v":""}]
["HEALTH PAYMENT SYSTEMS - EBSO (HPS)","X",{"$f":"IF(ISNUMBER(FIND(\"MEDICAID\",A1622)),\"X\",\"\")","v":""},{"$f":"IF(ISNUMBER(FIND(\"MEDICARE\",A1622)),\"X\",\"\")","v":""},{"$f":"IF(ISNUMBER(FIND(\"BC/BS\",#REF!)),\"X\",\"\")","v":""}]
["HEALTH PAYMENT SYSTEMS - LUCENT (HPS)","X",{"$f":"IF(ISNUMBER(FIND(\"MEDICAID\",A1623)),\"X\",\"\")","v":""},{"$f":"IF(ISNUMBER(FIND(\"MEDICARE\",A1623)),\"X\",\"\")","v":""},{"$f":"IF(ISNUMBER(FIND(\"BC/BS\",#REF!)),\"X\",\"\")","v":""}]
["HEALTH PAYMENT SYSTEMS - PRAIRIE STATES (HPS)","X",{"$f":"IF(ISNUMBER(FIND(\"MEDICAID\",A1624)),\"X\",\"\")","v":""},{"$f":"IF(ISNUMBER(FIND(\"MEDICARE\",A1624)),\"X\",\"\")","v":""},{"$f":"IF(ISNUMBER(FIND(\"BC/BS\",#REF!)),\"X\",\"\")","v":""}]
["HEALTH PLAN OF NEVADA (UHC)","X",{"$f":"IF(ISNUMBER(FIND(\"MEDICAID\",A1625)),\"X\",\"\")","v":""},{"$f":"IF(ISNUMBER(FIND(\"MEDICARE\",A1625)),\"X\",\"\")","v":""},{"$f":"IF(ISNUMBER(FIND(\"BC/BS\",#REF!)),\"X\",\"\")","v":""}]
["HEALTH PLAN OF SAN JOAQUIN","X",{"$f":"IF(ISNUMBER(FIND(\"MEDICAID\",A1626)),\"X\",\"\")","v":""},{"$f":"IF(ISNUMBER(FIND(\"MEDICARE\",A1626)),\"X\",\"\")","v":""},{"$f":"IF(ISNUMBER(FIND(\"BC/BS\",#REF!)),\"X\",\"\")","v":""}]
["HEALTH PLAN OF SAN MATEO","X",{"$f":"IF(ISNUMBER(FIND(\"MEDICAID\",A1627)),\"X\",\"\")","v":""},{"$f":"IF(ISNUMBER(FIND(\"MEDICARE\",A1627)),\"X\",\"\")","v":""},{"$f":"IF(ISNUMBER(FIND(\"BC/BS\",#REF!)),\"X\",\"\")","v":""}]
["HEALTH PLANS INC","X",{"$f":"IF(ISNUMBER(FIND(\"MEDICAID\",A1628)),\"X\",\"\")","v":""},{"$f":"IF(ISNUMBER(FIND(\"MEDICARE\",A1628)),\"X\",\"\")","v":""},{"$f":"IF(ISNUMBER(FIND(\"BC/BS\",#REF!)),\"X\",\"\")","v":""}]
["HEALTH SHARE OF OREGON",null,{"$f":"IF(ISNUMBER(FIND(\"MEDICAID\",A1629)),\"X\",\"\")","v":""},{"$f":"IF(ISNUMBER(FIND(\"MEDICARE\",A1629)),\"X\",\"\")","v":""},{"$f":"IF(ISNUMBER(FIND(\"BC/BS\",#REF!)),\"X\",\"\")","v":""}]
["HEALTH TRADITION","X",{"$f":"IF(ISNUMBER(FIND(\"MEDICAID\",A1630)),\"X\",\"\")","v":""},{"$f":"IF(ISNUMBER(FIND(\"MEDICARE\",A1630)),\"X\",\"\")","v":""},{"$f":"IF(ISNUMBER(FIND(\"BC/BS\",#REF!)),\"X\",\"\")","v":""}]
["HEALTH WEST ADMINISTRATORS","X",{"$f":"IF(ISNUMBER(FIND(\"MEDICAID\",A1631)),\"X\",\"\")","v":""},{"$f":"IF(ISNUMBER(FIND(\"MEDICARE\",A1631)),\"X\",\"\")","v":""},{"$f":"IF(ISNUMBER(FIND(\"BC/BS\",#REF!)),\"X\",\"\")","v":""}]
["HEALTHALLIANCE OF THE HUDSON VALLEY (CDPHP)","X",{"$f":"IF(ISNUMBER(FIND(\"MEDICAID\",A1632)),\"X\",\"\")","v":""},{"$f":"IF(ISNUMBER(FIND(\"MEDICARE\",A1632)),\"X\",\"\")","v":""},{"$f":"IF(ISNUMBER(FIND(\"BC/BS\",#REF!)),\"X\",\"\")","v":""}]
["HEALTHAXIS / UNITED COMMERCIAL TRAVELERS","X",{"$f":"IF(ISNUMBER(FIND(\"MEDICAID\",A1633)),\"X\",\"\")","v":""},{"$f":"IF(ISNUMBER(FIND(\"MEDICARE\",A1633)),\"X\",\"\")","v":""},{"$f":"IF(ISNUMBER(FIND(\"BC/BS\",#REF!)),\"X\",\"\")","v":""}]
["HEALTHBRIDGE","X",{"$f":"IF(ISNUMBER(FIND(\"MEDICAID\",A1634)),\"X\",\"\")","v":""},{"$f":"IF(ISNUMBER(FIND(\"MEDICARE\",A1634)),\"X\",\"\")","v":""},{"$f":"IF(ISNUMBER(FIND(\"BC/BS\",#REF!)),\"X\",\"\")","v":""}]
["HEALTHCARE ASSOCIATES OF TEXAS LLC BENEFITS (GROUP & PENSION ADMIN)","X",{"$f":"IF(ISNUMBER(FIND(\"MEDICAID\",A1635)),\"X\",\"\")","v":""},{"$f":"IF(ISNUMBER(FIND(\"MEDICARE\",A1635)),\"X\",\"\")","v":""},{"$f":"IF(ISNUMBER(FIND(\"BC/BS\",#REF!)),\"X\",\"\")","v":""}]
["HEALTHCARE MANAGEMENT ADMINISTRATORS","X",{"$f":"IF(ISNUMBER(FIND(\"MEDICAID\",A1636)),\"X\",\"\")","v":""},{"$f":"IF(ISNUMBER(FIND(\"MEDICARE\",A1636)),\"X\",\"\")","v":""},{"$f":"IF(ISNUMBER(FIND(\"BC/BS\",#REF!)),\"X\",\"\")","v":""}]
["HEALTHCARE PARTNERS IPA","X",{"$f":"IF(ISNUMBER(FIND(\"MEDICAID\",A1637)),\"X\",\"\")","v":""},{"$f":"IF(ISNUMBER(FIND(\"MEDICARE\",A1637)),\"X\",\"\")","v":""},{"$f":"IF(ISNUMBER(FIND(\"BC/BS\",#REF!)),\"X\",\"\")","v":""}]
["HEALTHCARE SERVICE GROUP INC (2019) (WEBTPA)","X",{"$f":"IF(ISNUMBER(FIND(\"MEDICAID\",A1638)),\"X\",\"\")","v":""},{"$f":"IF(ISNUMBER(FIND(\"MEDICARE\",A1638)),\"X\",\"\")","v":""},{"$f":"IF(ISNUMBER(FIND(\"BC/BS\",#REF!)),\"X\",\"\")","v":""}]
["HEALTHCARE SOLUTIONS GROUP","X",{"$f":"IF(ISNUMBER(FIND(\"MEDICAID\",A1639)),\"X\",\"\")","v":""},{"$f":"IF(ISNUMBER(FIND(\"MEDICARE\",A1639)),\"X\",\"\")","v":""},{"$f":"IF(ISNUMBER(FIND(\"BC/BS\",#REF!)),\"X\",\"\")","v":""}]
["HEALTHCHOICE","X",{"$f":"IF(ISNUMBER(FIND(\"MEDICAID\",A1640)),\"X\",\"\")","v":""},{"$f":"IF(ISNUMBER(FIND(\"MEDICARE\",A1640)),\"X\",\"\")","v":""},{"$f":"IF(ISNUMBER(FIND(\"BC/BS\",#REF!)),\"X\",\"\")","v":""}]
["HEALTHCOMP (BAS HEALTH)","X",{"$f":"IF(ISNUMBER(FIND(\"MEDICAID\",A1641)),\"X\",\"\")","v":""},{"$f":"IF(ISNUMBER(FIND(\"MEDICARE\",A1641)),\"X\",\"\")","v":""},{"$f":"IF(ISNUMBER(FIND(\"BC/BS\",#REF!)),\"X\",\"\")","v":""}]
["HEALTHCOMP ADMINISTRATORS","X",{"$f":"IF(ISNUMBER(FIND(\"MEDICAID\",A1642)),\"X\",\"\")","v":""},{"$f":"IF(ISNUMBER(FIND(\"MEDICARE\",A1642)),\"X\",\"\")","v":""},{"$f":"IF(ISNUMBER(FIND(\"BC/BS\",#REF!)),\"X\",\"\")","v":""}]
["HEALTHCOMP INTEGRATED SOLUTIONS LLC (GILSBAR)","X",{"$f":"IF(ISNUMBER(FIND(\"MEDICAID\",A1643)),\"X\",\"\")","v":""},{"$f":"IF(ISNUMBER(FIND(\"MEDICARE\",A1643)),\"X\",\"\")","v":""},{"$f":"IF(ISNUMBER(FIND(\"BC/BS\",#REF!)),\"X\",\"\")","v":""}]
["HEALTHEZ","X",{"$f":"IF(ISNUMBER(FIND(\"MEDICAID\",A1644)),\"X\",\"\")","v":""},{"$f":"IF(ISNUMBER(FIND(\"MEDICARE\",A1644)),\"X\",\"\")","v":""},{"$f":"IF(ISNUMBER(FIND(\"BC/BS\",#REF!)),\"X\",\"\")","v":""}]
["HEALTHFIRST COMMERCIAL","X",{"$f":"IF(ISNUMBER(FIND(\"MEDICAID\",A1645)),\"X\",\"\")","v":""},{"$f":"IF(ISNUMBER(FIND(\"MEDICARE\",A1645)),\"X\",\"\")","v":""},{"$f":"IF(ISNUMBER(FIND(\"BC/BS\",#REF!)),\"X\",\"\")","v":""}]
["HEALTHFIRST EARLY START - STAT","X",{"$f":"IF(ISNUMBER(FIND(\"MEDICAID\",A1646)),\"X\",\"\")","v":""},{"$f":"IF(ISNUMBER(FIND(\"MEDICARE\",A1646)),\"X\",\"\")","v":""},{"$f":"IF(ISNUMBER(FIND(\"BC/BS\",#REF!)),\"X\",\"\")","v":""}]
["HEALTHFIRST HIX PHSP INDIVIDUAL","X",{"$f":"IF(ISNUMBER(FIND(\"MEDICAID\",A1647)),\"X\",\"\")","v":""},{"$f":"IF(ISNUMBER(FIND(\"MEDICARE\",A1647)),\"X\",\"\")","v":""},{"$f":"IF(ISNUMBER(FIND(\"BC/BS\",#REF!)),\"X\",\"\")","v":""}]
["HEALTHFIRST INTEGRATED PRODUCTS","X",{"$f":"IF(ISNUMBER(FIND(\"MEDICAID\",A1648)),\"X\",\"\")","v":""},{"$f":"IF(ISNUMBER(FIND(\"MEDICARE\",A1648)),\"X\",\"\")","v":""},{"$f":"IF(ISNUMBER(FIND(\"BC/BS\",#REF!)),\"X\",\"\")","v":""}]
["HEALTHFIRST MEDICARE","X",{"$f":"IF(ISNUMBER(FIND(\"MEDICAID\",A1649)),\"X\",\"\")","v":""},null,{"$f":"IF(ISNUMBER(FIND(\"BC/BS\",#REF!)),\"X\",\"\")","v":""}]
["HEALTHFIRST PHSP INC","X",{"$f":"IF(ISNUMBER(FIND(\"MEDICAID\",A1650)),\"X\",\"\")","v":""},{"$f":"IF(ISNUMBER(FIND(\"MEDICARE\",A1650)),\"X\",\"\")","v":""},{"$f":"IF(ISNUMBER(FIND(\"BC/BS\",#REF!)),\"X\",\"\")","v":""}]
["HEALTHGRAM","X",{"$f":"IF(ISNUMBER(FIND(\"MEDICAID\",A1651)),\"X\",\"\")","v":""},{"$f":"IF(ISNUMBER(FIND(\"MEDICARE\",A1651)),\"X\",\"\")","v":""},{"$f":"IF(ISNUMBER(FIND(\"BC/BS\",#REF!)),\"X\",\"\")","v":""}]
["HEALTHLINK HMO INC","X",{"$f":"IF(ISNUMBER(FIND(\"MEDICAID\",A1652)),\"X\",\"\")","v":""},{"$f":"IF(ISNUMBER(FIND(\"MEDICARE\",A1652)),\"X\",\"\")","v":""},{"$f":"IF(ISNUMBER(FIND(\"BC/BS\",#REF!)),\"X\",\"\")","v":""}]
["HEALTHNET COMMUNITY SOLUTIONS","X",{"$f":"IF(ISNUMBER(FIND(\"MEDICAID\",A1653)),\"X\",\"\")","v":""},{"$f":"IF(ISNUMBER(FIND(\"MEDICARE\",A1653)),\"X\",\"\")","v":""},{"$f":"IF(ISNUMBER(FIND(\"BC/BS\",#REF!)),\"X\",\"\")","v":""}]
["HEALTHNET OF CALIFORNIA","X",{"$f":"IF(ISNUMBER(FIND(\"MEDICAID\",A1654)),\"X\",\"\")","v":""},{"$f":"IF(ISNUMBER(FIND(\"MEDICARE\",A1654)),\"X\",\"\")","v":""},{"$f":"IF(ISNUMBER(FIND(\"BC/BS\",#REF!)),\"X\",\"\")","v":""}]
["HEALTHNOW ADMINISTRATIVE SERVICES","X",{"$f":"IF(ISNUMBER(FIND(\"MEDICAID\",A1655)),\"X\",\"\")","v":""},{"$f":"IF(ISNUMBER(FIND(\"MEDICARE\",A1655)),\"X\",\"\")","v":""},{"$f":"IF(ISNUMBER(FIND(\"BC/BS\",#REF!)),\"X\",\"\")","v":""}]
["HEALTHNOW ADMINISTRATORS","X",{"$f":"IF(ISNUMBER(FIND(\"MEDICAID\",A1656)),\"X\",\"\")","v":""},{"$f":"IF(ISNUMBER(FIND(\"MEDICARE\",A1656)),\"X\",\"\")","v":""},{"$f":"IF(ISNUMBER(FIND(\"BC/BS\",#REF!)),\"X\",\"\")","v":""}]
["HEALTHNOW INC","X",{"$f":"IF(ISNUMBER(FIND(\"MEDICAID\",A1657)),\"X\",\"\")","v":""},{"$f":"IF(ISNUMBER(FIND(\"MEDICARE\",A1657)),\"X\",\"\")","v":""},{"$f":"IF(ISNUMBER(FIND(\"BC/BS\",#REF!)),\"X\",\"\")","v":""}]
["HEALTHNOW NEW YORK INC","X",{"$f":"IF(ISNUMBER(FIND(\"MEDICAID\",A1658)),\"X\",\"\")","v":""},{"$f":"IF(ISNUMBER(FIND(\"MEDICARE\",A1658)),\"X\",\"\")","v":""},{"$f":"IF(ISNUMBER(FIND(\"BC/BS\",#REF!)),\"X\",\"\")","v":""}]
["HEALTHPARTNERS","X",{"$f":"IF(ISNUMBER(FIND(\"MEDICAID\",A1659)),\"X\",\"\")","v":""},{"$f":"IF(ISNUMBER(FIND(\"MEDICARE\",A1659)),\"X\",\"\")","v":""},{"$f":"IF(ISNUMBER(FIND(\"BC/BS\",#REF!)),\"X\",\"\")","v":""}]
["HEALTHPLUS HP LLC","X",{"$f":"IF(ISNUMBER(FIND(\"MEDICAID\",A1660)),\"X\",\"\")","v":""},{"$f":"IF(ISNUMBER(FIND(\"MEDICARE\",A1660)),\"X\",\"\")","v":""},{"$f":"IF(ISNUMBER(FIND(\"BC/BS\",#REF!)),\"X\",\"\")","v":""}]
["HEALTHRIVE HEALTHAXIS",null,{"$f":"IF(ISNUMBER(FIND(\"MEDICAID\",A1661)),\"X\",\"\")","v":""},{"$f":"IF(ISNUMBER(FIND(\"MEDICARE\",A1661)),\"X\",\"\")","v":""},{"$f":"IF(ISNUMBER(FIND(\"BC/BS\",#REF!)),\"X\",\"\")","v":""}]
["HEALTHSCOPE BENEFITS","X",{"$f":"IF(ISNUMBER(FIND(\"MEDICAID\",A1662)),\"X\",\"\")","v":""},{"$f":"IF(ISNUMBER(FIND(\"MEDICARE\",A1662)),\"X\",\"\")","v":""},{"$f":"IF(ISNUMBER(FIND(\"BC/BS\",#REF!)),\"X\",\"\")","v":""}]
["HEALTHSMART BENEFIT SOLUTIONS","X",{"$f":"IF(ISNUMBER(FIND(\"MEDICAID\",A1663)),\"X\",\"\")","v":""},{"$f":"IF(ISNUMBER(FIND(\"MEDICARE\",A1663)),\"X\",\"\")","v":""},{"$f":"IF(ISNUMBER(FIND(\"BC/BS\",#REF!)),\"X\",\"\")","v":""}]
["HEALTHSMART MSO",null,{"$f":"IF(ISNUMBER(FIND(\"MEDICAID\",A1664)),\"X\",\"\")","v":""},{"$f":"IF(ISNUMBER(FIND(\"MEDICARE\",A1664)),\"X\",\"\")","v":""},{"$f":"IF(ISNUMBER(FIND(\"BC/BS\",#REF!)),\"X\",\"\")","v":""}]
["HEALTHSMART PREFERRED NETWORK","X",{"$f":"IF(ISNUMBER(FIND(\"MEDICAID\",A1665)),\"X\",\"\")","v":""},{"$f":"IF(ISNUMBER(FIND(\"MEDICARE\",A1665)),\"X\",\"\")","v":""},{"$f":"IF(ISNUMBER(FIND(\"BC/BS\",#REF!)),\"X\",\"\")","v":""}]
["HEALTHTEAM ADVANTAGE",null,{"$f":"IF(ISNUMBER(FIND(\"MEDICAID\",A1666)),\"X\",\"\")","v":""},{"$f":"IF(ISNUMBER(FIND(\"MEDICARE\",A1666)),\"X\",\"\")","v":""},{"$f":"IF(ISNUMBER(FIND(\"BC/BS\",#REF!)),\"X\",\"\")","v":""}]
["HEALTHTEAM ADVANTAGE DIABETES AND HEART CARE",null,{"$f":"IF(ISNUMBER(FIND(\"MEDICAID\",A1667)),\"X\",\"\")","v":""},{"$f":"IF(ISNUMBER(FIND(\"MEDICARE\",A1667)),\"X\",\"\")","v":""},{"$f":"IF(ISNUMBER(FIND(\"BC/BS\",#REF!)),\"X\",\"\")","v":""}]
["HEALTHY ALLIANCE LIFE INSURANCE COMPANY","X",{"$f":"IF(ISNUMBER(FIND(\"MEDICAID\",A1668)),\"X\",\"\")","v":""},{"$f":"IF(ISNUMBER(FIND(\"MEDICARE\",A1668)),\"X\",\"\")","v":""},{"$f":"IF(ISNUMBER(FIND(\"BC/BS\",#REF!)),\"X\",\"\")","v":""}]
["HEALTHY BLUE LOUISIANA","X",{"$f":"IF(ISNUMBER(FIND(\"MEDICAID\",A1669)),\"X\",\"\")","v":""},{"$f":"IF(ISNUMBER(FIND(\"MEDICARE\",A1669)),\"X\",\"\")","v":""},"X"]
["HEALTHY BLUE MISSOURI","X",{"$f":"IF(ISNUMBER(FIND(\"MEDICAID\",A1670)),\"X\",\"\")","v":""},{"$f":"IF(ISNUMBER(FIND(\"MEDICARE\",A1670)),\"X\",\"\")","v":""},"X"]
["HEALTHY BLUE NEBRASKA","X",{"$f":"IF(ISNUMBER(FIND(\"MEDICAID\",A1671)),\"X\",\"\")","v":""},{"$f":"IF(ISNUMBER(FIND(\"MEDICARE\",A1671)),\"X\",\"\")","v":""},"X"]
["HEALTHY BLUE NORTH CAROLINA","X",{"$f":"IF(ISNUMBER(FIND(\"MEDICAID\",A1672)),\"X\",\"\")","v":""},{"$f":"IF(ISNUMBER(FIND(\"MEDICARE\",A1672)),\"X\",\"\")","v":""},"X"]
["HEALTHY BLUE SOUTH CAROLINA","X",{"$f":"IF(ISNUMBER(FIND(\"MEDICAID\",A1673)),\"X\",\"\")","v":""},{"$f":"IF(ISNUMBER(FIND(\"MEDICARE\",A1673)),\"X\",\"\")","v":""},"X"]
["HEART TO HEART HOSPICE HOLDINGS LLC (THE HEALTH PLAN)",null,{"$f":"IF(ISNUMBER(FIND(\"MEDICAID\",A1674)),\"X\",\"\")","v":""},{"$f":"IF(ISNUMBER(FIND(\"MEDICARE\",A1674)),\"X\",\"\")","v":""},{"$f":"IF(ISNUMBER(FIND(\"BC/BS\",#REF!)),\"X\",\"\")","v":""}]
["HEARTLAND NATIONAL LIFE INSURANCE COMPANY (ACTUARIAL MANAGEMENT RESOURCES)","X",{"$f":"IF(ISNUMBER(FIND(\"MEDICAID\",A1675)),\"X\",\"\")","v":""},{"$f":"IF(ISNUMBER(FIND(\"MEDICARE\",A1675)),\"X\",\"\")","v":""},{"$f":"IF(ISNUMBER(FIND(\"BC/BS\",#REF!)),\"X\",\"\")","v":""}]
["HENDRIX COLLEGE (MAA/HEALTHSMART)",null,{"$f":"IF(ISNUMBER(FIND(\"MEDICAID\",A1676)),\"X\",\"\")","v":""},{"$f":"IF(ISNUMBER(FIND(\"MEDICARE\",A1676)),\"X\",\"\")","v":""},{"$f":"IF(ISNUMBER(FIND(\"BC/BS\",#REF!)),\"X\",\"\")","v":""}]
["HENDRY MARINE INDUSTIRES INC (GROUP & PENSION ADMIN)",null,{"$f":"IF(ISNUMBER(FIND(\"MEDICAID\",A1677)),\"X\",\"\")","v":""},{"$f":"IF(ISNUMBER(FIND(\"MEDICARE\",A1677)),\"X\",\"\")","v":""},{"$f":"IF(ISNUMBER(FIND(\"BC/BS\",#REF!)),\"X\",\"\")","v":""}]
["HENNEPIN HEALTH","X",{"$f":"IF(ISNUMBER(FIND(\"MEDICAID\",A1678)),\"X\",\"\")","v":""},{"$f":"IF(ISNUMBER(FIND(\"MEDICARE\",A1678)),\"X\",\"\")","v":""},{"$f":"IF(ISNUMBER(FIND(\"BC/BS\",#REF!)),\"X\",\"\")","v":""}]
["HENRY S. BRANSCOME LLC (SENTARA)","X",{"$f":"IF(ISNUMBER(FIND(\"MEDICAID\",A1679)),\"X\",\"\")","v":""},{"$f":"IF(ISNUMBER(FIND(\"MEDICARE\",A1679)),\"X\",\"\")","v":""},{"$f":"IF(ISNUMBER(FIND(\"BC/BS\",#REF!)),\"X\",\"\")","v":""}]
["HERITAGE DISTRIBUTING CO INC (HEALTHCOMP)",null,{"$f":"IF(ISNUMBER(FIND(\"MEDICAID\",A1680)),\"X\",\"\")","v":""},{"$f":"IF(ISNUMBER(FIND(\"MEDICARE\",A1680)),\"X\",\"\")","v":""},{"$f":"IF(ISNUMBER(FIND(\"BC/BS\",#REF!)),\"X\",\"\")","v":""}]
["HERITAGE PARK OF KATY EBPT (90 DEGREE BENEFITS HOUSTON - ENTRUST)",null,{"$f":"IF(ISNUMBER(FIND(\"MEDICAID\",A1681)),\"X\",\"\")","v":""},{"$f":"IF(ISNUMBER(FIND(\"MEDICARE\",A1681)),\"X\",\"\")","v":""},{"$f":"IF(ISNUMBER(FIND(\"BC/BS\",#REF!)),\"X\",\"\")","v":""}]
["HI CARD C/O 90 DEGREE BENEFITS (EBSO)","X",{"$f":"IF(ISNUMBER(FIND(\"MEDICAID\",A1682)),\"X\",\"\")","v":""},{"$f":"IF(ISNUMBER(FIND(\"MEDICARE\",A1682)),\"X\",\"\")","v":""},{"$f":"IF(ISNUMBER(FIND(\"BC/BS\",#REF!)),\"X\",\"\")","v":""}]
["HICKORY CHAIR (THE HEALTH PLAN)",null,{"$f":"IF(ISNUMBER(FIND(\"MEDICAID\",A1683)),\"X\",\"\")","v":""},{"$f":"IF(ISNUMBER(FIND(\"MEDICARE\",A1683)),\"X\",\"\")","v":""},{"$f":"IF(ISNUMBER(FIND(\"BC/BS\",#REF!)),\"X\",\"\")","v":""}]
["HICKORY FOODS INC (GROUP & PENSION ADMIN)","X",{"$f":"IF(ISNUMBER(FIND(\"MEDICAID\",A1684)),\"X\",\"\")","v":""},{"$f":"IF(ISNUMBER(FIND(\"MEDICARE\",A1684)),\"X\",\"\")","v":""},{"$f":"IF(ISNUMBER(FIND(\"BC/BS\",#REF!)),\"X\",\"\")","v":""}]
["HICKORY SHEET METAL (CORPORATE BENEFIT SERVICES)","X",{"$f":"IF(ISNUMBER(FIND(\"MEDICAID\",A1685)),\"X\",\"\")","v":""},{"$f":"IF(ISNUMBER(FIND(\"MEDICARE\",A1685)),\"X\",\"\")","v":""},{"$f":"IF(ISNUMBER(FIND(\"BC/BS\",#REF!)),\"X\",\"\")","v":""}]
["HIGHER GROUND EDUCATION (HEALTHCOMP)",null,{"$f":"IF(ISNUMBER(FIND(\"MEDICAID\",A1686)),\"X\",\"\")","v":""},{"$f":"IF(ISNUMBER(FIND(\"MEDICARE\",A1686)),\"X\",\"\")","v":""},{"$f":"IF(ISNUMBER(FIND(\"BC/BS\",#REF!)),\"X\",\"\")","v":""}]
["HIGHLAND HEALTH - ASO (MVP HEALTH CARE)","X",{"$f":"IF(ISNUMBER(FIND(\"MEDICAID\",A1687)),\"X\",\"\")","v":""},{"$f":"IF(ISNUMBER(FIND(\"MEDICARE\",A1687)),\"X\",\"\")","v":""},{"$f":"IF(ISNUMBER(FIND(\"BC/BS\",#REF!)),\"X\",\"\")","v":""}]
["HIGHMARK BCBS","X",{"$f":"IF(ISNUMBER(FIND(\"MEDICAID\",A1688)),\"X\",\"\")","v":""},{"$f":"IF(ISNUMBER(FIND(\"MEDICARE\",A1688)),\"X\",\"\")","v":""},"X"]
["HIGHMARK BCBS OF DELAWARE","X",{"$f":"IF(ISNUMBER(FIND(\"MEDICAID\",A1689)),\"X\",\"\")","v":""},{"$f":"IF(ISNUMBER(FIND(\"MEDICARE\",A1689)),\"X\",\"\")","v":""},"X"]
["HIGHMARK BCBS OF WEST VIRGINIA","X",{"$f":"IF(ISNUMBER(FIND(\"MEDICAID\",A1690)),\"X\",\"\")","v":""},{"$f":"IF(ISNUMBER(FIND(\"MEDICARE\",A1690)),\"X\",\"\")","v":""},"X"]
["HIGHMARK BLUE SHIELD","X",{"$f":"IF(ISNUMBER(FIND(\"MEDICAID\",A1691)),\"X\",\"\")","v":""},{"$f":"IF(ISNUMBER(FIND(\"MEDICARE\",A1691)),\"X\",\"\")","v":""},"X"]
["HIGHMARK HEALTH CARE ACCOUNT","X",{"$f":"IF(ISNUMBER(FIND(\"MEDICAID\",A1692)),\"X\",\"\")","v":""},{"$f":"IF(ISNUMBER(FIND(\"MEDICARE\",A1692)),\"X\",\"\")","v":""},"X"]
["HIGHMARK HEALTH OPTIONS","X",{"$f":"IF(ISNUMBER(FIND(\"MEDICAID\",A1693)),\"X\",\"\")","v":""},{"$f":"IF(ISNUMBER(FIND(\"MEDICARE\",A1693)),\"X\",\"\")","v":""},"X"]
["HIGHMARK NEW YORK","X",{"$f":"IF(ISNUMBER(FIND(\"MEDICAID\",A1694)),\"X\",\"\")","v":""},{"$f":"IF(ISNUMBER(FIND(\"MEDICARE\",A1694)),\"X\",\"\")","v":""},"X"]
["HIGHMARK SENIOR HEALTH COMPANY","X",{"$f":"IF(ISNUMBER(FIND(\"MEDICAID\",A1695)),\"X\",\"\")","v":""},{"$f":"IF(ISNUMBER(FIND(\"MEDICARE\",A1695)),\"X\",\"\")","v":""},"X"]
["HIGHMARK SENIOR SOLUTIONS COMPANY","X",{"$f":"IF(ISNUMBER(FIND(\"MEDICAID\",A1696)),\"X\",\"\")","v":""},{"$f":"IF(ISNUMBER(FIND(\"MEDICARE\",A1696)),\"X\",\"\")","v":""},"X"]
["HIGHMARK WHOLECARE","X",{"$f":"IF(ISNUMBER(FIND(\"MEDICAID\",A1697)),\"X\",\"\")","v":""},{"$f":"IF(ISNUMBER(FIND(\"MEDICARE\",A1697)),\"X\",\"\")","v":""},"X"]
["HIGHMARK WNY BCBS MEDICAID CHP","X",null,{"$f":"IF(ISNUMBER(FIND(\"MEDICARE\",A1698)),\"X\",\"\")","v":""},"X"]
["HII MED-SENSE GUARANTEED ASSOCIATION (WEBTPA)","X",{"$f":"IF(ISNUMBER(FIND(\"MEDICAID\",A1699)),\"X\",\"\")","v":""},{"$f":"IF(ISNUMBER(FIND(\"MEDICARE\",A1699)),\"X\",\"\")","v":""},{"$f":"IF(ISNUMBER(FIND(\"BC/BS\",#REF!)),\"X\",\"\")","v":""}]
["HILL & WILKINSON CONSTRUCTION GROUP LTD (GROUP & PENSION ADMIN)","X",{"$f":"IF(ISNUMBER(FIND(\"MEDICAID\",A1700)),\"X\",\"\")","v":""},{"$f":"IF(ISNUMBER(FIND(\"MEDICARE\",A1700)),\"X\",\"\")","v":""},{"$f":"IF(ISNUMBER(FIND(\"BC/BS\",#REF!)),\"X\",\"\")","v":""}]
["HILL PHYSICIANS CARE SOLUTIONS INC","X",{"$f":"IF(ISNUMBER(FIND(\"MEDICAID\",A1701)),\"X\",\"\")","v":""},{"$f":"IF(ISNUMBER(FIND(\"MEDICARE\",A1701)),\"X\",\"\")","v":""},{"$f":"IF(ISNUMBER(FIND(\"BC/BS\",#REF!)),\"X\",\"\")","v":""}]
["HILL PHYSICIANS MEDICAL GROUP","X",{"$f":"IF(ISNUMBER(FIND(\"MEDICAID\",A1702)),\"X\",\"\")","v":""},{"$f":"IF(ISNUMBER(FIND(\"MEDICARE\",A1702)),\"X\",\"\")","v":""},{"$f":"IF(ISNUMBER(FIND(\"BC/BS\",#REF!)),\"X\",\"\")","v":""}]
["HILLENBRAND INC (CONTIGO HEALTH)","X",{"$f":"IF(ISNUMBER(FIND(\"MEDICAID\",A1703)),\"X\",\"\")","v":""},{"$f":"IF(ISNUMBER(FIND(\"MEDICARE\",A1703)),\"X\",\"\")","v":""},{"$f":"IF(ISNUMBER(FIND(\"BC/BS\",#REF!)),\"X\",\"\")","v":""}]
["HILLSDALE COMMUNITY HEALTH CENTER (ASR HEALTH BENEFITS)","X",{"$f":"IF(ISNUMBER(FIND(\"MEDICAID\",A1704)),\"X\",\"\")","v":""},{"$f":"IF(ISNUMBER(FIND(\"MEDICARE\",A1704)),\"X\",\"\")","v":""},{"$f":"IF(ISNUMBER(FIND(\"BC/BS\",#REF!)),\"X\",\"\")","v":""}]
["HINSDALE PHYSICIANS HEALTHCARE (ARCADIA SOLUTIONS)",null,{"$f":"IF(ISNUMBER(FIND(\"MEDICAID\",A1705)),\"X\",\"\")","v":""},{"$f":"IF(ISNUMBER(FIND(\"MEDICARE\",A1705)),\"X\",\"\")","v":""},{"$f":"IF(ISNUMBER(FIND(\"BC/BS\",#REF!)),\"X\",\"\")","v":""}]
["HLC HOLDINGS INC (THE HEALTH PLAN)","X",{"$f":"IF(ISNUMBER(FIND(\"MEDICAID\",A1706)),\"X\",\"\")","v":""},{"$f":"IF(ISNUMBER(FIND(\"MEDICARE\",A1706)),\"X\",\"\")","v":""},{"$f":"IF(ISNUMBER(FIND(\"BC/BS\",#REF!)),\"X\",\"\")","v":""}]
["HM EQUITY EBPT (90 DEGREE BENEFITS HOUSTON - ENTRUST)",null,{"$f":"IF(ISNUMBER(FIND(\"MEDICAID\",A1707)),\"X\",\"\")","v":""},{"$f":"IF(ISNUMBER(FIND(\"MEDICARE\",A1707)),\"X\",\"\")","v":""},{"$f":"IF(ISNUMBER(FIND(\"BC/BS\",#REF!)),\"X\",\"\")","v":""}]
["HMAA (HAWAII MEDICAL ASSURANCE ASSOCIATION)","X",{"$f":"IF(ISNUMBER(FIND(\"MEDICAID\",A1708)),\"X\",\"\")","v":""},{"$f":"IF(ISNUMBER(FIND(\"MEDICARE\",A1708)),\"X\",\"\")","v":""},{"$f":"IF(ISNUMBER(FIND(\"BC/BS\",#REF!)),\"X\",\"\")","v":""}]
["HME INC (ASR HEALTH BENEFITS)","X",{"$f":"IF(ISNUMBER(FIND(\"MEDICAID\",A1709)),\"X\",\"\")","v":""},{"$f":"IF(ISNUMBER(FIND(\"MEDICARE\",A1709)),\"X\",\"\")","v":""},{"$f":"IF(ISNUMBER(FIND(\"BC/BS\",#REF!)),\"X\",\"\")","v":""}]
["HOAG","X",{"$f":"IF(ISNUMBER(FIND(\"MEDICAID\",A1710)),\"X\",\"\")","v":""},{"$f":"IF(ISNUMBER(FIND(\"MEDICARE\",A1710)),\"X\",\"\")","v":""},{"$f":"IF(ISNUMBER(FIND(\"BC/BS\",#REF!)),\"X\",\"\")","v":""}]
["HOBBY LOBBY (WEBTPA)","X",{"$f":"IF(ISNUMBER(FIND(\"MEDICAID\",A1711)),\"X\",\"\")","v":""},{"$f":"IF(ISNUMBER(FIND(\"MEDICARE\",A1711)),\"X\",\"\")","v":""},{"$f":"IF(ISNUMBER(FIND(\"BC/BS\",#REF!)),\"X\",\"\")","v":""}]
["HODGE FOUNDRY (GROUP & PENSION ADMIN)","X",{"$f":"IF(ISNUMBER(FIND(\"MEDICAID\",A1712)),\"X\",\"\")","v":""},{"$f":"IF(ISNUMBER(FIND(\"MEDICARE\",A1712)),\"X\",\"\")","v":""},{"$f":"IF(ISNUMBER(FIND(\"BC/BS\",#REF!)),\"X\",\"\")","v":""}]
["HOEKSTRA ELECTRICAL SERVICES (ASR HEALTH BENEFITS)",null,{"$f":"IF(ISNUMBER(FIND(\"MEDICAID\",A1713)),\"X\",\"\")","v":""},{"$f":"IF(ISNUMBER(FIND(\"MEDICARE\",A1713)),\"X\",\"\")","v":""},{"$f":"IF(ISNUMBER(FIND(\"BC/BS\",#REF!)),\"X\",\"\")","v":""}]
["HOME STATE HEALTH PLAN INC","X",{"$f":"IF(ISNUMBER(FIND(\"MEDICAID\",A1714)),\"X\",\"\")","v":""},{"$f":"IF(ISNUMBER(FIND(\"MEDICARE\",A1714)),\"X\",\"\")","v":""},{"$f":"IF(ISNUMBER(FIND(\"BC/BS\",#REF!)),\"X\",\"\")","v":""}]
["HOMELINK","X",{"$f":"IF(ISNUMBER(FIND(\"MEDICAID\",A1715)),\"X\",\"\")","v":""},{"$f":"IF(ISNUMBER(FIND(\"MEDICARE\",A1715)),\"X\",\"\")","v":""},{"$f":"IF(ISNUMBER(FIND(\"BC/BS\",#REF!)),\"X\",\"\")","v":""}]
["HOMETOWN HEALTH PLAN NEVADA","X",{"$f":"IF(ISNUMBER(FIND(\"MEDICAID\",A1716)),\"X\",\"\")","v":""},{"$f":"IF(ISNUMBER(FIND(\"MEDICARE\",A1716)),\"X\",\"\")","v":""},{"$f":"IF(ISNUMBER(FIND(\"BC/BS\",#REF!)),\"X\",\"\")","v":""}]
["HOMETOWN HEALTH PLAN NEVADA PROVIDERS","X",{"$f":"IF(ISNUMBER(FIND(\"MEDICAID\",A1717)),\"X\",\"\")","v":""},{"$f":"IF(ISNUMBER(FIND(\"MEDICARE\",A1717)),\"X\",\"\")","v":""},{"$f":"IF(ISNUMBER(FIND(\"BC/BS\",#REF!)),\"X\",\"\")","v":""}]
["HONORHEALTH HEALTH PLAN (AMERIBEN)",null,{"$f":"IF(ISNUMBER(FIND(\"MEDICAID\",A1718)),\"X\",\"\")","v":""},{"$f":"IF(ISNUMBER(FIND(\"MEDICARE\",A1718)),\"X\",\"\")","v":""},{"$f":"IF(ISNUMBER(FIND(\"BC/BS\",#REF!)),\"X\",\"\")","v":""}]
["HOPKINS PRINTING INC (THE HEALTH PLAN)","X",{"$f":"IF(ISNUMBER(FIND(\"MEDICAID\",A1719)),\"X\",\"\")","v":""},{"$f":"IF(ISNUMBER(FIND(\"MEDICARE\",A1719)),\"X\",\"\")","v":""},{"$f":"IF(ISNUMBER(FIND(\"BC/BS\",#REF!)),\"X\",\"\")","v":""}]
["HORIZON BCBS OF NEW JERSEY","X",{"$f":"IF(ISNUMBER(FIND(\"MEDICAID\",A1720)),\"X\",\"\")","v":""},{"$f":"IF(ISNUMBER(FIND(\"MEDICARE\",A1720)),\"X\",\"\")","v":""},"X"]
["HORIZON HEALTH SERVICES INC (INDEPENDENT HEALTH)",null,{"$f":"IF(ISNUMBER(FIND(\"MEDICAID\",A1721)),\"X\",\"\")","v":""},{"$f":"IF(ISNUMBER(FIND(\"MEDICARE\",A1721)),\"X\",\"\")","v":""},{"$f":"IF(ISNUMBER(FIND(\"BC/BS\",#REF!)),\"X\",\"\")","v":""}]
["HORIZON HEALTHCARE OF NEW JERSEY INC","X",{"$f":"IF(ISNUMBER(FIND(\"MEDICAID\",A1722)),\"X\",\"\")","v":""},{"$f":"IF(ISNUMBER(FIND(\"MEDICARE\",A1722)),\"X\",\"\")","v":""},"X"]
["HORIZON HOUSE (HEALTHCOMP)","X",{"$f":"IF(ISNUMBER(FIND(\"MEDICAID\",A1723)),\"X\",\"\")","v":""},{"$f":"IF(ISNUMBER(FIND(\"MEDICARE\",A1723)),\"X\",\"\")","v":""},{"$f":"IF(ISNUMBER(FIND(\"BC/BS\",#REF!)),\"X\",\"\")","v":""}]
["HORIZON SERVICES LLC (HEALTHCOMP)","X",{"$f":"IF(ISNUMBER(FIND(\"MEDICAID\",A1724)),\"X\",\"\")","v":""},{"$f":"IF(ISNUMBER(FIND(\"MEDICARE\",A1724)),\"X\",\"\")","v":""},{"$f":"IF(ISNUMBER(FIND(\"BC/BS\",#REF!)),\"X\",\"\")","v":""}]
["HORNER INDUSTRIAL SERVICES INC (GROUP & PENSION ADMIN)","X",{"$f":"IF(ISNUMBER(FIND(\"MEDICAID\",A1725)),\"X\",\"\")","v":""},{"$f":"IF(ISNUMBER(FIND(\"MEDICARE\",A1725)),\"X\",\"\")","v":""},{"$f":"IF(ISNUMBER(FIND(\"BC/BS\",#REF!)),\"X\",\"\")","v":""}]
["HOSPICE CARE OF SC (MAESTRO HEALTH)",null,{"$f":"IF(ISNUMBER(FIND(\"MEDICAID\",A1726)),\"X\",\"\")","v":""},{"$f":"IF(ISNUMBER(FIND(\"MEDICARE\",A1726)),\"X\",\"\")","v":""},{"$f":"IF(ISNUMBER(FIND(\"BC/BS\",#REF!)),\"X\",\"\")","v":""}]
["HOSPICE OF BATON ROUGE EBPT (90 DEGREE BENEFITS HOUSTON - ENTRUST)",null,{"$f":"IF(ISNUMBER(FIND(\"MEDICAID\",A1727)),\"X\",\"\")","v":""},{"$f":"IF(ISNUMBER(FIND(\"MEDICARE\",A1727)),\"X\",\"\")","v":""},{"$f":"IF(ISNUMBER(FIND(\"BC/BS\",#REF!)),\"X\",\"\")","v":""}]
["HOUSING AUTHORITY OF CC EBPT (90 DEGREE BENEFITS HOUSTON - ENTRUST)",null,{"$f":"IF(ISNUMBER(FIND(\"MEDICAID\",A1728)),\"X\",\"\")","v":""},{"$f":"IF(ISNUMBER(FIND(\"MEDICARE\",A1728)),\"X\",\"\")","v":""},{"$f":"IF(ISNUMBER(FIND(\"BC/BS\",#REF!)),\"X\",\"\")","v":""}]
["HOWARD MEMORIAL HOSPITAL (ADVENTIST HEALTH SYSTEM WEST)",null,{"$f":"IF(ISNUMBER(FIND(\"MEDICAID\",A1729)),\"X\",\"\")","v":""},{"$f":"IF(ISNUMBER(FIND(\"MEDICARE\",A1729)),\"X\",\"\")","v":""},{"$f":"IF(ISNUMBER(FIND(\"BC/BS\",#REF!)),\"X\",\"\")","v":""}]
["HOWARD SUPPLY COMPANY LLC (GROUP & PENSION ADMIN)","X",{"$f":"IF(ISNUMBER(FIND(\"MEDICAID\",A1730)),\"X\",\"\")","v":""},{"$f":"IF(ISNUMBER(FIND(\"MEDICARE\",A1730)),\"X\",\"\")","v":""},{"$f":"IF(ISNUMBER(FIND(\"BC/BS\",#REF!)),\"X\",\"\")","v":""}]
["HOWELL INSTRUMENTS INC (GROUP & PENSION ADMIN)",null,{"$f":"IF(ISNUMBER(FIND(\"MEDICAID\",A1731)),\"X\",\"\")","v":""},{"$f":"IF(ISNUMBER(FIND(\"MEDICARE\",A1731)),\"X\",\"\")","v":""},{"$f":"IF(ISNUMBER(FIND(\"BC/BS\",#REF!)),\"X\",\"\")","v":""}]
["HPHC INSURANCE COMPANY (HARVARD PILGRIM)","X",{"$f":"IF(ISNUMBER(FIND(\"MEDICAID\",A1732)),\"X\",\"\")","v":""},{"$f":"IF(ISNUMBER(FIND(\"MEDICARE\",A1732)),\"X\",\"\")","v":""},{"$f":"IF(ISNUMBER(FIND(\"BC/BS\",#REF!)),\"X\",\"\")","v":""}]
["HPHC INSURANCE COMPANY (UHC STUDENT RESOURCES)(HARVARD PILGRIM)","X",{"$f":"IF(ISNUMBER(FIND(\"MEDICAID\",A1733)),\"X\",\"\")","v":""},{"$f":"IF(ISNUMBER(FIND(\"MEDICARE\",A1733)),\"X\",\"\")","v":""},{"$f":"IF(ISNUMBER(FIND(\"BC/BS\",#REF!)),\"X\",\"\")","v":""}]
["HRA BEACON HEALTH (EMHS EMPLOYEE HEALTH PLAN)","X",{"$f":"IF(ISNUMBER(FIND(\"MEDICAID\",A1734)),\"X\",\"\")","v":""},{"$f":"IF(ISNUMBER(FIND(\"MEDICARE\",A1734)),\"X\",\"\")","v":""},{"$f":"IF(ISNUMBER(FIND(\"BC/BS\",#REF!)),\"X\",\"\")","v":""}]
["HUFFINES AUTO DEALERSHIPS (GROUP & PENSION ADMIN)","X",{"$f":"IF(ISNUMBER(FIND(\"MEDICAID\",A1735)),\"X\",\"\")","v":""},{"$f":"IF(ISNUMBER(FIND(\"MEDICARE\",A1735)),\"X\",\"\")","v":""},{"$f":"IF(ISNUMBER(FIND(\"BC/BS\",#REF!)),\"X\",\"\")","v":""}]
["HUMAN AFFAIRS INTERNATIONAL OF CALIFORNIA (MAGELLAN HEALTH)","X",{"$f":"IF(ISNUMBER(FIND(\"MEDICAID\",A1736)),\"X\",\"\")","v":""},{"$f":"IF(ISNUMBER(FIND(\"MEDICARE\",A1736)),\"X\",\"\")","v":""},{"$f":"IF(ISNUMBER(FIND(\"BC/BS\",#REF!)),\"X\",\"\")","v":""}]
["HUMANA","X",{"$f":"IF(ISNUMBER(FIND(\"MEDICAID\",A1737)),\"X\",\"\")","v":""},{"$f":"IF(ISNUMBER(FIND(\"MEDICARE\",A1737)),\"X\",\"\")","v":""},{"$f":"IF(ISNUMBER(FIND(\"BC/BS\",#REF!)),\"X\",\"\")","v":""}]
["HUMANA - CARESOURCE","X",{"$f":"IF(ISNUMBER(FIND(\"MEDICAID\",A1738)),\"X\",\"\")","v":""},{"$f":"IF(ISNUMBER(FIND(\"MEDICARE\",A1738)),\"X\",\"\")","v":""},{"$f":"IF(ISNUMBER(FIND(\"BC/BS\",#REF!)),\"X\",\"\")","v":""}]
["HUMANA DENTAL INSURANCE CO","X",{"$f":"IF(ISNUMBER(FIND(\"MEDICAID\",A1739)),\"X\",\"\")","v":""},{"$f":"IF(ISNUMBER(FIND(\"MEDICARE\",A1739)),\"X\",\"\")","v":""},{"$f":"IF(ISNUMBER(FIND(\"BC/BS\",#REF!)),\"X\",\"\")","v":""}]
["HUMANA H02 PMNI RISK (NAMM CALIFORNIA)","X",{"$f":"IF(ISNUMBER(FIND(\"MEDICAID\",A1740)),\"X\",\"\")","v":""},{"$f":"IF(ISNUMBER(FIND(\"MEDICARE\",A1740)),\"X\",\"\")","v":""},{"$f":"IF(ISNUMBER(FIND(\"BC/BS\",#REF!)),\"X\",\"\")","v":""}]
["HUMANA HEALTH PLANS OF PUERTO RICO","X",{"$f":"IF(ISNUMBER(FIND(\"MEDICAID\",A1741)),\"X\",\"\")","v":""},{"$f":"IF(ISNUMBER(FIND(\"MEDICARE\",A1741)),\"X\",\"\")","v":""},{"$f":"IF(ISNUMBER(FIND(\"BC/BS\",#REF!)),\"X\",\"\")","v":""}]
["HUMANA INSURANCE OF PUERTO RICO",null,{"$f":"IF(ISNUMBER(FIND(\"MEDICAID\",A1742)),\"X\",\"\")","v":""},{"$f":"IF(ISNUMBER(FIND(\"MEDICARE\",A1742)),\"X\",\"\")","v":""},{"$f":"IF(ISNUMBER(FIND(\"BC/BS\",#REF!)),\"X\",\"\")","v":""}]
["HUMANA SPECIALTY BENEFITS","X",{"$f":"IF(ISNUMBER(FIND(\"MEDICAID\",A1743)),\"X\",\"\")","v":""},{"$f":"IF(ISNUMBER(FIND(\"MEDICARE\",A1743)),\"X\",\"\")","v":""},{"$f":"IF(ISNUMBER(FIND(\"BC/BS\",#REF!)),\"X\",\"\")","v":""}]
["HUME LAKE CHRISTIAN CAMPS INC (HEALTHCOMP)","X",{"$f":"IF(ISNUMBER(FIND(\"MEDICAID\",A1744)),\"X\",\"\")","v":""},{"$f":"IF(ISNUMBER(FIND(\"MEDICARE\",A1744)),\"X\",\"\")","v":""},{"$f":"IF(ISNUMBER(FIND(\"BC/BS\",#REF!)),\"X\",\"\")","v":""}]
["HUNTER HANGER & ASSOCIATE (SENTARA)","X",{"$f":"IF(ISNUMBER(FIND(\"MEDICAID\",A1745)),\"X\",\"\")","v":""},{"$f":"IF(ISNUMBER(FIND(\"MEDICARE\",A1745)),\"X\",\"\")","v":""},{"$f":"IF(ISNUMBER(FIND(\"BC/BS\",#REF!)),\"X\",\"\")","v":""}]
["HUNTINGTON BANCSHARES (AMERIBEN)",null,{"$f":"IF(ISNUMBER(FIND(\"MEDICAID\",A1746)),\"X\",\"\")","v":""},{"$f":"IF(ISNUMBER(FIND(\"MEDICARE\",A1746)),\"X\",\"\")","v":""},{"$f":"IF(ISNUMBER(FIND(\"BC/BS\",#REF!)),\"X\",\"\")","v":""}]
["HUNTINGTON BANCSHARES (CONTIGO HEALTH)","X",{"$f":"IF(ISNUMBER(FIND(\"MEDICAID\",A1747)),\"X\",\"\")","v":""},{"$f":"IF(ISNUMBER(FIND(\"MEDICARE\",A1747)),\"X\",\"\")","v":""},{"$f":"IF(ISNUMBER(FIND(\"BC/BS\",#REF!)),\"X\",\"\")","v":""}]
["HUNTINGTON BANK (SENTARA)","X",{"$f":"IF(ISNUMBER(FIND(\"MEDICAID\",A1748)),\"X\",\"\")","v":""},{"$f":"IF(ISNUMBER(FIND(\"MEDICARE\",A1748)),\"X\",\"\")","v":""},{"$f":"IF(ISNUMBER(FIND(\"BC/BS\",#REF!)),\"X\",\"\")","v":""}]
["HUNTINGTON VA MEDICAL CENTER","X",{"$f":"IF(ISNUMBER(FIND(\"MEDICAID\",A1749)),\"X\",\"\")","v":""},{"$f":"IF(ISNUMBER(FIND(\"MEDICARE\",A1749)),\"X\",\"\")","v":""},{"$f":"IF(ISNUMBER(FIND(\"BC/BS\",#REF!)),\"X\",\"\")","v":""}]
["HUTTIG BUILDING PRODUCTS INC (THE HEALTH PLAN)",null,{"$f":"IF(ISNUMBER(FIND(\"MEDICAID\",A1750)),\"X\",\"\")","v":""},{"$f":"IF(ISNUMBER(FIND(\"MEDICARE\",A1750)),\"X\",\"\")","v":""},{"$f":"IF(ISNUMBER(FIND(\"BC/BS\",#REF!)),\"X\",\"\")","v":""}]
["HYDRAULIC CONTROLS INC (HEALTHCOMP)","X",{"$f":"IF(ISNUMBER(FIND(\"MEDICAID\",A1751)),\"X\",\"\")","v":""},{"$f":"IF(ISNUMBER(FIND(\"MEDICARE\",A1751)),\"X\",\"\")","v":""},{"$f":"IF(ISNUMBER(FIND(\"BC/BS\",#REF!)),\"X\",\"\")","v":""}]
["IAA (INSURANCE ADMINISTRATOR OF AMERICA)","X",{"$f":"IF(ISNUMBER(FIND(\"MEDICAID\",A1752)),\"X\",\"\")","v":""},{"$f":"IF(ISNUMBER(FIND(\"MEDICARE\",A1752)),\"X\",\"\")","v":""},{"$f":"IF(ISNUMBER(FIND(\"BC/BS\",#REF!)),\"X\",\"\")","v":""}]
["IBEW LOCAL 1 HEALTH AND WELFARE FUND","X",{"$f":"IF(ISNUMBER(FIND(\"MEDICAID\",A1753)),\"X\",\"\")","v":""},{"$f":"IF(ISNUMBER(FIND(\"MEDICARE\",A1753)),\"X\",\"\")","v":""},{"$f":"IF(ISNUMBER(FIND(\"BC/BS\",#REF!)),\"X\",\"\")","v":""}]
["IBEW LOCAL 236 (CDPHP)",null,{"$f":"IF(ISNUMBER(FIND(\"MEDICAID\",A1754)),\"X\",\"\")","v":""},{"$f":"IF(ISNUMBER(FIND(\"MEDICARE\",A1754)),\"X\",\"\")","v":""},{"$f":"IF(ISNUMBER(FIND(\"BC/BS\",#REF!)),\"X\",\"\")","v":""}]
["IBEW LOCAL 701",null,{"$f":"IF(ISNUMBER(FIND(\"MEDICAID\",A1755)),\"X\",\"\")","v":""},{"$f":"IF(ISNUMBER(FIND(\"MEDICARE\",A1755)),\"X\",\"\")","v":""},{"$f":"IF(ISNUMBER(FIND(\"BC/BS\",#REF!)),\"X\",\"\")","v":""}]
["ICON INFORMATION CONSULTANTS LP (THE HEALTH PLAN)","X",{"$f":"IF(ISNUMBER(FIND(\"MEDICAID\",A1756)),\"X\",\"\")","v":""},{"$f":"IF(ISNUMBER(FIND(\"MEDICARE\",A1756)),\"X\",\"\")","v":""},{"$f":"IF(ISNUMBER(FIND(\"BC/BS\",#REF!)),\"X\",\"\")","v":""}]
["IDA (INSURANCE DESIGN ADMINISTRATORS)","X",{"$f":"IF(ISNUMBER(FIND(\"MEDICAID\",A1757)),\"X\",\"\")","v":""},{"$f":"IF(ISNUMBER(FIND(\"MEDICARE\",A1757)),\"X\",\"\")","v":""},{"$f":"IF(ISNUMBER(FIND(\"BC/BS\",#REF!)),\"X\",\"\")","v":""}]
["IDAHO WC CLAIMS BRANCH (AUTO-OWNERS INSURANCE COMPANY)",null,{"$f":"IF(ISNUMBER(FIND(\"MEDICAID\",A1758)),\"X\",\"\")","v":""},{"$f":"IF(ISNUMBER(FIND(\"MEDICARE\",A1758)),\"X\",\"\")","v":""},{"$f":"IF(ISNUMBER(FIND(\"BC/BS\",#REF!)),\"X\",\"\")","v":""},"X"]
["IDEALCARE BY SENDERO HEALTH PLANS",null,{"$f":"IF(ISNUMBER(FIND(\"MEDICAID\",A1759)),\"X\",\"\")","v":""},{"$f":"IF(ISNUMBER(FIND(\"MEDICARE\",A1759)),\"X\",\"\")","v":""},{"$f":"IF(ISNUMBER(FIND(\"BC/BS\",#REF!)),\"X\",\"\")","v":""}]
["IDEALIFE INSURANCE COMPANY (ACTUARIAL MANAGEMENT RESOURCES)","X",{"$f":"IF(ISNUMBER(FIND(\"MEDICAID\",A1760)),\"X\",\"\")","v":""},{"$f":"IF(ISNUMBER(FIND(\"MEDICARE\",A1760)),\"X\",\"\")","v":""},{"$f":"IF(ISNUMBER(FIND(\"BC/BS\",#REF!)),\"X\",\"\")","v":""}]
["IE SHAFFER & COMPANY","X",{"$f":"IF(ISNUMBER(FIND(\"MEDICAID\",A1761)),\"X\",\"\")","v":""},{"$f":"IF(ISNUMBER(FIND(\"MEDICARE\",A1761)),\"X\",\"\")","v":""},{"$f":"IF(ISNUMBER(FIND(\"BC/BS\",#REF!)),\"X\",\"\")","v":""}]
["IEC GROUP HEALTH PLAN (AMERIBEN)",null,{"$f":"IF(ISNUMBER(FIND(\"MEDICAID\",A1762)),\"X\",\"\")","v":""},{"$f":"IF(ISNUMBER(FIND(\"MEDICARE\",A1762)),\"X\",\"\")","v":""},{"$f":"IF(ISNUMBER(FIND(\"BC/BS\",#REF!)),\"X\",\"\")","v":""}]
["IHIC 2 COMMERCIAL SILVER PLAN (ISLAND HOME INSURANCE COMPANY - STAYWELL GUAM)",null,{"$f":"IF(ISNUMBER(FIND(\"MEDICAID\",A1763)),\"X\",\"\")","v":""},{"$f":"IF(ISNUMBER(FIND(\"MEDICARE\",A1763)),\"X\",\"\")","v":""},{"$f":"IF(ISNUMBER(FIND(\"BC/BS\",#REF!)),\"X\",\"\")","v":""}]
["IHIC 4 COMMERCIAL GOLD PLAN (ISLAND HOME INSURANCE COMPANY - STAYWELL GUAM)",null,{"$f":"IF(ISNUMBER(FIND(\"MEDICAID\",A1764)),\"X\",\"\")","v":""},{"$f":"IF(ISNUMBER(FIND(\"MEDICARE\",A1764)),\"X\",\"\")","v":""},{"$f":"IF(ISNUMBER(FIND(\"BC/BS\",#REF!)),\"X\",\"\")","v":""}]
["IHP CAS (SIHO)","X",{"$f":"IF(ISNUMBER(FIND(\"MEDICAID\",A1765)),\"X\",\"\")","v":""},{"$f":"IF(ISNUMBER(FIND(\"MEDICARE\",A1765)),\"X\",\"\")","v":""},{"$f":"IF(ISNUMBER(FIND(\"BC/BS\",#REF!)),\"X\",\"\")","v":""}]
["IHP FI (SIHO)","X",{"$f":"IF(ISNUMBER(FIND(\"MEDICAID\",A1766)),\"X\",\"\")","v":""},{"$f":"IF(ISNUMBER(FIND(\"MEDICARE\",A1766)),\"X\",\"\")","v":""},{"$f":"IF(ISNUMBER(FIND(\"BC/BS\",#REF!)),\"X\",\"\")","v":""}]
["II PERRYS INC (SENTARA)","X",{"$f":"IF(ISNUMBER(FIND(\"MEDICAID\",A1767)),\"X\",\"\")","v":""},{"$f":"IF(ISNUMBER(FIND(\"MEDICARE\",A1767)),\"X\",\"\")","v":""},{"$f":"IF(ISNUMBER(FIND(\"BC/BS\",#REF!)),\"X\",\"\")","v":""}]
["II STANLEY CO INC (ASR HEALTH BENEFITS)","X",{"$f":"IF(ISNUMBER(FIND(\"MEDICAID\",A1768)),\"X\",\"\")","v":""},{"$f":"IF(ISNUMBER(FIND(\"MEDICARE\",A1768)),\"X\",\"\")","v":""},{"$f":"IF(ISNUMBER(FIND(\"BC/BS\",#REF!)),\"X\",\"\")","v":""}]
["ILLINICARE HEALTH PLAN","X",{"$f":"IF(ISNUMBER(FIND(\"MEDICAID\",A1769)),\"X\",\"\")","v":""},{"$f":"IF(ISNUMBER(FIND(\"MEDICARE\",A1769)),\"X\",\"\")","v":""},{"$f":"IF(ISNUMBER(FIND(\"BC/BS\",#REF!)),\"X\",\"\")","v":""}]
["ILLINOIS COLLEGE (MAESTRO HEALTH)",null,{"$f":"IF(ISNUMBER(FIND(\"MEDICAID\",A1770)),\"X\",\"\")","v":""},{"$f":"IF(ISNUMBER(FIND(\"MEDICARE\",A1770)),\"X\",\"\")","v":""},{"$f":"IF(ISNUMBER(FIND(\"BC/BS\",#REF!)),\"X\",\"\")","v":""}]
["ILLINOIS COMPTROLLER","X",{"$f":"IF(ISNUMBER(FIND(\"MEDICAID\",A1771)),\"X\",\"\")","v":""},{"$f":"IF(ISNUMBER(FIND(\"MEDICARE\",A1771)),\"X\",\"\")","v":""},{"$f":"IF(ISNUMBER(FIND(\"BC/BS\",#REF!)),\"X\",\"\")","v":""}]
["ILLINOIS ENVIRONMENTAL (IPMG)","X",{"$f":"IF(ISNUMBER(FIND(\"MEDICAID\",A1772)),\"X\",\"\")","v":""},{"$f":"IF(ISNUMBER(FIND(\"MEDICARE\",A1772)),\"X\",\"\")","v":""},{"$f":"IF(ISNUMBER(FIND(\"BC/BS\",#REF!)),\"X\",\"\")","v":""}]
["ILLINOIS HEALTH PARTNERS (BONCURA HEALTH SOLUTIONS)","X",{"$f":"IF(ISNUMBER(FIND(\"MEDICAID\",A1773)),\"X\",\"\")","v":""},{"$f":"IF(ISNUMBER(FIND(\"MEDICARE\",A1773)),\"X\",\"\")","v":""},{"$f":"IF(ISNUMBER(FIND(\"BC/BS\",#REF!)),\"X\",\"\")","v":""}]
["ILLINOIS PHYSICIAN ALLIANCE (INNOVISTA HEALTH)","X",{"$f":"IF(ISNUMBER(FIND(\"MEDICAID\",A1774)),\"X\",\"\")","v":""},{"$f":"IF(ISNUMBER(FIND(\"MEDICARE\",A1774)),\"X\",\"\")","v":""},{"$f":"IF(ISNUMBER(FIND(\"BC/BS\",#REF!)),\"X\",\"\")","v":""}]
["ILLINOIS WC CLAIMS BRANCH (AUTO-OWNERS INSURANCE COMPANY)","X",{"$f":"IF(ISNUMBER(FIND(\"MEDICAID\",A1775)),\"X\",\"\")","v":""},{"$f":"IF(ISNUMBER(FIND(\"MEDICARE\",A1775)),\"X\",\"\")","v":""},{"$f":"IF(ISNUMBER(FIND(\"BC/BS\",#REF!)),\"X\",\"\")","v":""},"X"]
["IMAGINE 360 (GROUP & PENSION ADMIN)","X",{"$f":"IF(ISNUMBER(FIND(\"MEDICAID\",A1776)),\"X\",\"\")","v":""},{"$f":"IF(ISNUMBER(FIND(\"MEDICARE\",A1776)),\"X\",\"\")","v":""},{"$f":"IF(ISNUMBER(FIND(\"BC/BS\",#REF!)),\"X\",\"\")","v":""}]
["IMAGINE360 ADMINISTRATORS","X",{"$f":"IF(ISNUMBER(FIND(\"MEDICAID\",A1777)),\"X\",\"\")","v":""},{"$f":"IF(ISNUMBER(FIND(\"MEDICARE\",A1777)),\"X\",\"\")","v":""},{"$f":"IF(ISNUMBER(FIND(\"BC/BS\",#REF!)),\"X\",\"\")","v":""}]
["IMPACT HEALTH AMPS","X",{"$f":"IF(ISNUMBER(FIND(\"MEDICAID\",A1778)),\"X\",\"\")","v":""},{"$f":"IF(ISNUMBER(FIND(\"MEDICARE\",A1778)),\"X\",\"\")","v":""},{"$f":"IF(ISNUMBER(FIND(\"BC/BS\",#REF!)),\"X\",\"\")","v":""}]
["IMPACT RTO CAROLINA LLC (GROUP & PENSION ADMIN)","X",{"$f":"IF(ISNUMBER(FIND(\"MEDICAID\",A1779)),\"X\",\"\")","v":""},{"$f":"IF(ISNUMBER(FIND(\"MEDICARE\",A1779)),\"X\",\"\")","v":""},{"$f":"IF(ISNUMBER(FIND(\"BC/BS\",#REF!)),\"X\",\"\")","v":""}]
["IMPACT RTO FLORIDA LLC (GROUP & PENSION ADMIN)","X",{"$f":"IF(ISNUMBER(FIND(\"MEDICAID\",A1780)),\"X\",\"\")","v":""},{"$f":"IF(ISNUMBER(FIND(\"MEDICARE\",A1780)),\"X\",\"\")","v":""},{"$f":"IF(ISNUMBER(FIND(\"BC/BS\",#REF!)),\"X\",\"\")","v":""}]
["INBODEN ENVIRONMENTAL (SENTARA)","X",{"$f":"IF(ISNUMBER(FIND(\"MEDICAID\",A1781)),\"X\",\"\")","v":""},{"$f":"IF(ISNUMBER(FIND(\"MEDICARE\",A1781)),\"X\",\"\")","v":""},{"$f":"IF(ISNUMBER(FIND(\"BC/BS\",#REF!)),\"X\",\"\")","v":""}]
["INCLUSA INC (WPS)","X",{"$f":"IF(ISNUMBER(FIND(\"MEDICAID\",A1782)),\"X\",\"\")","v":""},{"$f":"IF(ISNUMBER(FIND(\"MEDICARE\",A1782)),\"X\",\"\")","v":""},{"$f":"IF(ISNUMBER(FIND(\"BC/BS\",#REF!)),\"X\",\"\")","v":""}]
["INDECS","X",{"$f":"IF(ISNUMBER(FIND(\"MEDICAID\",A1783)),\"X\",\"\")","v":""},{"$f":"IF(ISNUMBER(FIND(\"MEDICARE\",A1783)),\"X\",\"\")","v":""},{"$f":"IF(ISNUMBER(FIND(\"BC/BS\",#REF!)),\"X\",\"\")","v":""}]
["INDEPENDENCE ADMINISTRATORS","X",{"$f":"IF(ISNUMBER(FIND(\"MEDICAID\",A1784)),\"X\",\"\")","v":""},{"$f":"IF(ISNUMBER(FIND(\"MEDICARE\",A1784)),\"X\",\"\")","v":""},"X"]
["INDEPENDENCE AMERICAN INSURANCE COMPANY (AETNA SSI)","X",{"$f":"IF(ISNUMBER(FIND(\"MEDICAID\",A1785)),\"X\",\"\")","v":""},{"$f":"IF(ISNUMBER(FIND(\"MEDICARE\",A1785)),\"X\",\"\")","v":""},{"$f":"IF(ISNUMBER(FIND(\"BC/BS\",#REF!)),\"X\",\"\")","v":""}]
["INDEPENDENCE BLUE CROSS","X",{"$f":"IF(ISNUMBER(FIND(\"MEDICAID\",A1786)),\"X\",\"\")","v":""},{"$f":"IF(ISNUMBER(FIND(\"MEDICARE\",A1786)),\"X\",\"\")","v":""},"X"]
["INDEPENDENT CARE HEALTH PLAN (ICARE)",null,{"$f":"IF(ISNUMBER(FIND(\"MEDICAID\",A1787)),\"X\",\"\")","v":""},{"$f":"IF(ISNUMBER(FIND(\"MEDICARE\",A1787)),\"X\",\"\")","v":""},{"$f":"IF(ISNUMBER(FIND(\"BC/BS\",#REF!)),\"X\",\"\")","v":""}]
["INDEPENDENT HEALTH ASSOCIATION INC","X",{"$f":"IF(ISNUMBER(FIND(\"MEDICAID\",A1788)),\"X\",\"\")","v":""},{"$f":"IF(ISNUMBER(FIND(\"MEDICARE\",A1788)),\"X\",\"\")","v":""},{"$f":"IF(ISNUMBER(FIND(\"BC/BS\",#REF!)),\"X\",\"\")","v":""}]
["INDEPENDENT HEALTH CORPORATION","X",{"$f":"IF(ISNUMBER(FIND(\"MEDICAID\",A1789)),\"X\",\"\")","v":""},{"$f":"IF(ISNUMBER(FIND(\"MEDICARE\",A1789)),\"X\",\"\")","v":""},{"$f":"IF(ISNUMBER(FIND(\"BC/BS\",#REF!)),\"X\",\"\")","v":""}]
["INDEPENDENT PHYSICIANS AT MERCY - HUMANA (ARCADIA SOLUTIONS)","X",{"$f":"IF(ISNUMBER(FIND(\"MEDICAID\",A1790)),\"X\",\"\")","v":""},{"$f":"IF(ISNUMBER(FIND(\"MEDICARE\",A1790)),\"X\",\"\")","v":""},{"$f":"IF(ISNUMBER(FIND(\"BC/BS\",#REF!)),\"X\",\"\")","v":""}]
["INDEPENDENT PHYSICIANS AT MERCY (ARCADIA SOLUTIONS)","X",{"$f":"IF(ISNUMBER(FIND(\"MEDICAID\",A1791)),\"X\",\"\")","v":""},{"$f":"IF(ISNUMBER(FIND(\"MEDICARE\",A1791)),\"X\",\"\")","v":""},{"$f":"IF(ISNUMBER(FIND(\"BC/BS\",#REF!)),\"X\",\"\")","v":""}]
["INDIANA FARM BUREAU HEALTH PLANS (FARM BUREAU HEALTH PLANS)","X",{"$f":"IF(ISNUMBER(FIND(\"MEDICAID\",A1792)),\"X\",\"\")","v":""},{"$f":"IF(ISNUMBER(FIND(\"MEDICARE\",A1792)),\"X\",\"\")","v":""},{"$f":"IF(ISNUMBER(FIND(\"BC/BS\",#REF!)),\"X\",\"\")","v":""}]
["INDIANA STATE DEPARTMENT OF HEALTH (CSHCS)","X",{"$f":"IF(ISNUMBER(FIND(\"MEDICAID\",A1793)),\"X\",\"\")","v":""},{"$f":"IF(ISNUMBER(FIND(\"MEDICARE\",A1793)),\"X\",\"\")","v":""},{"$f":"IF(ISNUMBER(FIND(\"BC/BS\",#REF!)),\"X\",\"\")","v":""}]
["INDIANA UNIVERSITY HEALTH PLAN - MEDICARE (IUHP)","X",{"$f":"IF(ISNUMBER(FIND(\"MEDICAID\",A1794)),\"X\",\"\")","v":""},null,{"$f":"IF(ISNUMBER(FIND(\"BC/BS\",#REF!)),\"X\",\"\")","v":""}]
["INDIANA WC CLAIMS BRANCH (AUTO-OWNERS INSURANCE COMPANY)",null,{"$f":"IF(ISNUMBER(FIND(\"MEDICAID\",A1795)),\"X\",\"\")","v":""},{"$f":"IF(ISNUMBER(FIND(\"MEDICARE\",A1795)),\"X\",\"\")","v":""},{"$f":"IF(ISNUMBER(FIND(\"BC/BS\",#REF!)),\"X\",\"\")","v":""},"X"]
["INDIUM CORPORATION OF AMERICA (MVP HEALTH CARE)","X",{"$f":"IF(ISNUMBER(FIND(\"MEDICAID\",A1796)),\"X\",\"\")","v":""},{"$f":"IF(ISNUMBER(FIND(\"MEDICARE\",A1796)),\"X\",\"\")","v":""},{"$f":"IF(ISNUMBER(FIND(\"BC/BS\",#REF!)),\"X\",\"\")","v":""}]
["INDIVIDUAL ASSURANCE COMPANY LIFE, HEALTH & ACCIDENT","X",{"$f":"IF(ISNUMBER(FIND(\"MEDICAID\",A1797)),\"X\",\"\")","v":""},{"$f":"IF(ISNUMBER(FIND(\"MEDICARE\",A1797)),\"X\",\"\")","v":""},{"$f":"IF(ISNUMBER(FIND(\"BC/BS\",#REF!)),\"X\",\"\")","v":""}]
["INDUSTRIAL BATTERY PRODUCTS (IPMG)","X",{"$f":"IF(ISNUMBER(FIND(\"MEDICAID\",A1798)),\"X\",\"\")","v":""},{"$f":"IF(ISNUMBER(FIND(\"MEDICARE\",A1798)),\"X\",\"\")","v":""},{"$f":"IF(ISNUMBER(FIND(\"BC/BS\",#REF!)),\"X\",\"\")","v":""}]
["INDUSTRIAL METAL SUPPLY CO (HEALTHCOMP)",null,{"$f":"IF(ISNUMBER(FIND(\"MEDICAID\",A1799)),\"X\",\"\")","v":""},{"$f":"IF(ISNUMBER(FIND(\"MEDICARE\",A1799)),\"X\",\"\")","v":""},{"$f":"IF(ISNUMBER(FIND(\"BC/BS\",#REF!)),\"X\",\"\")","v":""}]
["INGHAM HEALTH PLAN","X",{"$f":"IF(ISNUMBER(FIND(\"MEDICAID\",A1800)),\"X\",\"\")","v":""},{"$f":"IF(ISNUMBER(FIND(\"MEDICARE\",A1800)),\"X\",\"\")","v":""},{"$f":"IF(ISNUMBER(FIND(\"BC/BS\",#REF!)),\"X\",\"\")","v":""}]
["INGLES (MAESTRO HEALTH)","X",{"$f":"IF(ISNUMBER(FIND(\"MEDICAID\",A1801)),\"X\",\"\")","v":""},{"$f":"IF(ISNUMBER(FIND(\"MEDICARE\",A1801)),\"X\",\"\")","v":""},{"$f":"IF(ISNUMBER(FIND(\"BC/BS\",#REF!)),\"X\",\"\")","v":""}]
["INLAND EMPIRE HEALTH PLAN","X",{"$f":"IF(ISNUMBER(FIND(\"MEDICAID\",A1802)),\"X\",\"\")","v":""},{"$f":"IF(ISNUMBER(FIND(\"MEDICARE\",A1802)),\"X\",\"\")","v":""},{"$f":"IF(ISNUMBER(FIND(\"BC/BS\",#REF!)),\"X\",\"\")","v":""}]
["INLAND EMPIRE HEALTH PLAN (NAMM CALIFORNIA)","X",{"$f":"IF(ISNUMBER(FIND(\"MEDICAID\",A1803)),\"X\",\"\")","v":""},{"$f":"IF(ISNUMBER(FIND(\"MEDICARE\",A1803)),\"X\",\"\")","v":""},{"$f":"IF(ISNUMBER(FIND(\"BC/BS\",#REF!)),\"X\",\"\")","v":""}]
["INLAND EMPIRE IBEW - NECA HEALTH PLAN - MEDICARE RETIRED (DELTA HEALTH SYSTEMS)",null,{"$f":"IF(ISNUMBER(FIND(\"MEDICAID\",A1804)),\"X\",\"\")","v":""},null,{"$f":"IF(ISNUMBER(FIND(\"BC/BS\",#REF!)),\"X\",\"\")","v":""}]
["INMAR HEALTH PLAN (WEBTPA)","X",{"$f":"IF(ISNUMBER(FIND(\"MEDICAID\",A1805)),\"X\",\"\")","v":""},{"$f":"IF(ISNUMBER(FIND(\"MEDICARE\",A1805)),\"X\",\"\")","v":""},{"$f":"IF(ISNUMBER(FIND(\"BC/BS\",#REF!)),\"X\",\"\")","v":""}]
["INMATE ASO PROGRAM (SENTARA)","X",{"$f":"IF(ISNUMBER(FIND(\"MEDICAID\",A1806)),\"X\",\"\")","v":""},{"$f":"IF(ISNUMBER(FIND(\"MEDICARE\",A1806)),\"X\",\"\")","v":""},{"$f":"IF(ISNUMBER(FIND(\"BC/BS\",#REF!)),\"X\",\"\")","v":""}]
["INNOVAGE","X",{"$f":"IF(ISNUMBER(FIND(\"MEDICAID\",A1807)),\"X\",\"\")","v":""},{"$f":"IF(ISNUMBER(FIND(\"MEDICARE\",A1807)),\"X\",\"\")","v":""},{"$f":"IF(ISNUMBER(FIND(\"BC/BS\",#REF!)),\"X\",\"\")","v":""}]
["INNOVAIRRE GIKDUBG CO LLC (GROUP & PENSION ADMIN)","X",{"$f":"IF(ISNUMBER(FIND(\"MEDICAID\",A1808)),\"X\",\"\")","v":""},{"$f":"IF(ISNUMBER(FIND(\"MEDICARE\",A1808)),\"X\",\"\")","v":""},{"$f":"IF(ISNUMBER(FIND(\"BC/BS\",#REF!)),\"X\",\"\")","v":""}]
["INNOVATED MACHINE & TOOL (SENTARA)","X",{"$f":"IF(ISNUMBER(FIND(\"MEDICAID\",A1809)),\"X\",\"\")","v":""},{"$f":"IF(ISNUMBER(FIND(\"MEDICARE\",A1809)),\"X\",\"\")","v":""},{"$f":"IF(ISNUMBER(FIND(\"BC/BS\",#REF!)),\"X\",\"\")","v":""}]
["INNVENTURES IVI LP (GROUP & PENSION ADMIN)","X",{"$f":"IF(ISNUMBER(FIND(\"MEDICAID\",A1810)),\"X\",\"\")","v":""},{"$f":"IF(ISNUMBER(FIND(\"MEDICARE\",A1810)),\"X\",\"\")","v":""},{"$f":"IF(ISNUMBER(FIND(\"BC/BS\",#REF!)),\"X\",\"\")","v":""}]
["INSIGHT BENEFIT ADMINISTRATORS LLC","X",{"$f":"IF(ISNUMBER(FIND(\"MEDICAID\",A1811)),\"X\",\"\")","v":""},{"$f":"IF(ISNUMBER(FIND(\"MEDICARE\",A1811)),\"X\",\"\")","v":""},{"$f":"IF(ISNUMBER(FIND(\"BC/BS\",#REF!)),\"X\",\"\")","v":""}]
["INSIGHT ENTERPRISES INC (AMERIBEN)",null,{"$f":"IF(ISNUMBER(FIND(\"MEDICAID\",A1812)),\"X\",\"\")","v":""},{"$f":"IF(ISNUMBER(FIND(\"MEDICARE\",A1812)),\"X\",\"\")","v":""},{"$f":"IF(ISNUMBER(FIND(\"BC/BS\",#REF!)),\"X\",\"\")","v":""}]
["IN-SITU INC (UC HEALTH PLAN ADMINISTRATORS)",null,{"$f":"IF(ISNUMBER(FIND(\"MEDICAID\",A1813)),\"X\",\"\")","v":""},{"$f":"IF(ISNUMBER(FIND(\"MEDICARE\",A1813)),\"X\",\"\")","v":""},{"$f":"IF(ISNUMBER(FIND(\"BC/BS\",#REF!)),\"X\",\"\")","v":""}]
["INSULATING SERVICES INC (MAESTRO HEALTH)",null,{"$f":"IF(ISNUMBER(FIND(\"MEDICAID\",A1814)),\"X\",\"\")","v":""},{"$f":"IF(ISNUMBER(FIND(\"MEDICARE\",A1814)),\"X\",\"\")","v":""},{"$f":"IF(ISNUMBER(FIND(\"BC/BS\",#REF!)),\"X\",\"\")","v":""}]
["INSURANCE ADMINISTRATOR OF AMERICA","X",{"$f":"IF(ISNUMBER(FIND(\"MEDICAID\",A1815)),\"X\",\"\")","v":""},{"$f":"IF(ISNUMBER(FIND(\"MEDICARE\",A1815)),\"X\",\"\")","v":""},{"$f":"IF(ISNUMBER(FIND(\"BC/BS\",#REF!)),\"X\",\"\")","v":""}]
["INSURANCE COMPANY OF THE WEST",null,{"$f":"IF(ISNUMBER(FIND(\"MEDICAID\",A1816)),\"X\",\"\")","v":""},{"$f":"IF(ISNUMBER(FIND(\"MEDICARE\",A1816)),\"X\",\"\")","v":""},{"$f":"IF(ISNUMBER(FIND(\"BC/BS\",#REF!)),\"X\",\"\")","v":""}]
["INSURANCE MANAGEMENT SERVICES","X",{"$f":"IF(ISNUMBER(FIND(\"MEDICAID\",A1817)),\"X\",\"\")","v":""},{"$f":"IF(ISNUMBER(FIND(\"MEDICARE\",A1817)),\"X\",\"\")","v":""},{"$f":"IF(ISNUMBER(FIND(\"BC/BS\",#REF!)),\"X\",\"\")","v":""}]
["INSURANCE SERVICES OF LUBBOCK","X",{"$f":"IF(ISNUMBER(FIND(\"MEDICAID\",A1818)),\"X\",\"\")","v":""},{"$f":"IF(ISNUMBER(FIND(\"MEDICARE\",A1818)),\"X\",\"\")","v":""},{"$f":"IF(ISNUMBER(FIND(\"BC/BS\",#REF!)),\"X\",\"\")","v":""}]
["INSURANCE SYSTEMS INC","X",{"$f":"IF(ISNUMBER(FIND(\"MEDICAID\",A1819)),\"X\",\"\")","v":""},{"$f":"IF(ISNUMBER(FIND(\"MEDICARE\",A1819)),\"X\",\"\")","v":""},{"$f":"IF(ISNUMBER(FIND(\"BC/BS\",#REF!)),\"X\",\"\")","v":""}]
["INSURANCETPA.COM","X",{"$f":"IF(ISNUMBER(FIND(\"MEDICAID\",A1820)),\"X\",\"\")","v":""},{"$f":"IF(ISNUMBER(FIND(\"MEDICARE\",A1820)),\"X\",\"\")","v":""},{"$f":"IF(ISNUMBER(FIND(\"BC/BS\",#REF!)),\"X\",\"\")","v":""}]
["INTEGRA ADMINISTRATIVE GROUP","X",{"$f":"IF(ISNUMBER(FIND(\"MEDICAID\",A1821)),\"X\",\"\")","v":""},{"$f":"IF(ISNUMBER(FIND(\"MEDICARE\",A1821)),\"X\",\"\")","v":""},{"$f":"IF(ISNUMBER(FIND(\"BC/BS\",#REF!)),\"X\",\"\")","v":""}]
["INTEGRA INC","X",{"$f":"IF(ISNUMBER(FIND(\"MEDICAID\",A1822)),\"X\",\"\")","v":""},{"$f":"IF(ISNUMBER(FIND(\"MEDICARE\",A1822)),\"X\",\"\")","v":""},{"$f":"IF(ISNUMBER(FIND(\"BC/BS\",#REF!)),\"X\",\"\")","v":""}]
["INTEGRA MLTC INC",null,{"$f":"IF(ISNUMBER(FIND(\"MEDICAID\",A1823)),\"X\",\"\")","v":""},{"$f":"IF(ISNUMBER(FIND(\"MEDICARE\",A1823)),\"X\",\"\")","v":""},{"$f":"IF(ISNUMBER(FIND(\"BC/BS\",#REF!)),\"X\",\"\")","v":""}]
["INTEGRA PARTNERS LLC",null,{"$f":"IF(ISNUMBER(FIND(\"MEDICAID\",A1824)),\"X\",\"\")","v":""},{"$f":"IF(ISNUMBER(FIND(\"MEDICARE\",A1824)),\"X\",\"\")","v":""},{"$f":"IF(ISNUMBER(FIND(\"BC/BS\",#REF!)),\"X\",\"\")","v":""}]
["INTEGRANET HEALTH",null,{"$f":"IF(ISNUMBER(FIND(\"MEDICAID\",A1825)),\"X\",\"\")","v":""},{"$f":"IF(ISNUMBER(FIND(\"MEDICARE\",A1825)),\"X\",\"\")","v":""},{"$f":"IF(ISNUMBER(FIND(\"BC/BS\",#REF!)),\"X\",\"\")","v":""}]
["INTEGRATED HEALTH PARTNERS","X",{"$f":"IF(ISNUMBER(FIND(\"MEDICAID\",A1826)),\"X\",\"\")","v":""},{"$f":"IF(ISNUMBER(FIND(\"MEDICARE\",A1826)),\"X\",\"\")","v":""},{"$f":"IF(ISNUMBER(FIND(\"BC/BS\",#REF!)),\"X\",\"\")","v":""}]
["INTEGRATED PRESCRIPTION MANAGEMENT",null,{"$f":"IF(ISNUMBER(FIND(\"MEDICAID\",A1827)),\"X\",\"\")","v":""},{"$f":"IF(ISNUMBER(FIND(\"MEDICARE\",A1827)),\"X\",\"\")","v":""},{"$f":"IF(ISNUMBER(FIND(\"BC/BS\",#REF!)),\"X\",\"\")","v":""}]
["INTEGRITAS PROVIDERS (IPMG)","X",{"$f":"IF(ISNUMBER(FIND(\"MEDICAID\",A1828)),\"X\",\"\")","v":""},{"$f":"IF(ISNUMBER(FIND(\"MEDICARE\",A1828)),\"X\",\"\")","v":""},{"$f":"IF(ISNUMBER(FIND(\"BC/BS\",#REF!)),\"X\",\"\")","v":""}]
["INTEGRITY ADMINISTRATORS INC","X",{"$f":"IF(ISNUMBER(FIND(\"MEDICAID\",A1829)),\"X\",\"\")","v":""},{"$f":"IF(ISNUMBER(FIND(\"MEDICARE\",A1829)),\"X\",\"\")","v":""},{"$f":"IF(ISNUMBER(FIND(\"BC/BS\",#REF!)),\"X\",\"\")","v":""}]
["INTEL ASO (PRESBYTERIAN HEALTH PLAN)","X",{"$f":"IF(ISNUMBER(FIND(\"MEDICAID\",A1830)),\"X\",\"\")","v":""},{"$f":"IF(ISNUMBER(FIND(\"MEDICARE\",A1830)),\"X\",\"\")","v":""},{"$f":"IF(ISNUMBER(FIND(\"BC/BS\",#REF!)),\"X\",\"\")","v":""}]
["INTERACTIVE MEDICAL SYSTEMS","X",{"$f":"IF(ISNUMBER(FIND(\"MEDICAID\",A1831)),\"X\",\"\")","v":""},{"$f":"IF(ISNUMBER(FIND(\"MEDICARE\",A1831)),\"X\",\"\")","v":""},{"$f":"IF(ISNUMBER(FIND(\"BC/BS\",#REF!)),\"X\",\"\")","v":""}]
["INTERCERAMIC INC EBP (90 DEGREE BENEFITS HOUSTON - ENTRUST)",null,{"$f":"IF(ISNUMBER(FIND(\"MEDICAID\",A1832)),\"X\",\"\")","v":""},{"$f":"IF(ISNUMBER(FIND(\"MEDICARE\",A1832)),\"X\",\"\")","v":""},{"$f":"IF(ISNUMBER(FIND(\"BC/BS\",#REF!)),\"X\",\"\")","v":""}]
["INTERCOMMUNITY HEALTH PLANS (SAMARITAN HEALTH SERVICES)","X",{"$f":"IF(ISNUMBER(FIND(\"MEDICAID\",A1833)),\"X\",\"\")","v":""},{"$f":"IF(ISNUMBER(FIND(\"MEDICARE\",A1833)),\"X\",\"\")","v":""},{"$f":"IF(ISNUMBER(FIND(\"BC/BS\",#REF!)),\"X\",\"\")","v":""}]
["INTERDENT SERVICE CORPORATION (HEALTHCOMP)",null,{"$f":"IF(ISNUMBER(FIND(\"MEDICAID\",A1834)),\"X\",\"\")","v":""},{"$f":"IF(ISNUMBER(FIND(\"MEDICARE\",A1834)),\"X\",\"\")","v":""},{"$f":"IF(ISNUMBER(FIND(\"BC/BS\",#REF!)),\"X\",\"\")","v":""}]
["INTERMETRO (GEISINGER HEALTH PLAN)","X",{"$f":"IF(ISNUMBER(FIND(\"MEDICAID\",A1835)),\"X\",\"\")","v":""},{"$f":"IF(ISNUMBER(FIND(\"MEDICARE\",A1835)),\"X\",\"\")","v":""},{"$f":"IF(ISNUMBER(FIND(\"BC/BS\",#REF!)),\"X\",\"\")","v":""}]
["INTERMOUNTAIN HEALTHCARE NEVADA","X",{"$f":"IF(ISNUMBER(FIND(\"MEDICAID\",A1836)),\"X\",\"\")","v":""},{"$f":"IF(ISNUMBER(FIND(\"MEDICARE\",A1836)),\"X\",\"\")","v":""},{"$f":"IF(ISNUMBER(FIND(\"BC/BS\",#REF!)),\"X\",\"\")","v":""}]
["INTERNATIONAL BENEFITS ADMINISTRATORS","X",{"$f":"IF(ISNUMBER(FIND(\"MEDICAID\",A1837)),\"X\",\"\")","v":""},{"$f":"IF(ISNUMBER(FIND(\"MEDICARE\",A1837)),\"X\",\"\")","v":""},{"$f":"IF(ISNUMBER(FIND(\"BC/BS\",#REF!)),\"X\",\"\")","v":""}]
["INTERNATIONAL COFFEE & TEA LLC (HEALTHCOMP)",null,{"$f":"IF(ISNUMBER(FIND(\"MEDICAID\",A1838)),\"X\",\"\")","v":""},{"$f":"IF(ISNUMBER(FIND(\"MEDICARE\",A1838)),\"X\",\"\")","v":""},{"$f":"IF(ISNUMBER(FIND(\"BC/BS\",#REF!)),\"X\",\"\")","v":""}]
["INTERNATIONAL MISSION BOARD (CIGNA)",null,{"$f":"IF(ISNUMBER(FIND(\"MEDICAID\",A1839)),\"X\",\"\")","v":""},{"$f":"IF(ISNUMBER(FIND(\"MEDICARE\",A1839)),\"X\",\"\")","v":""},{"$f":"IF(ISNUMBER(FIND(\"BC/BS\",#REF!)),\"X\",\"\")","v":""}]
["INTERNATIONAL PLASTICS EBPT(90 DEGREE BENEFITS HOUSTON - ENTRUST)",null,{"$f":"IF(ISNUMBER(FIND(\"MEDICAID\",A1840)),\"X\",\"\")","v":""},{"$f":"IF(ISNUMBER(FIND(\"MEDICARE\",A1840)),\"X\",\"\")","v":""},{"$f":"IF(ISNUMBER(FIND(\"BC/BS\",#REF!)),\"X\",\"\")","v":""}]
["INTERNATIONAL UNION OF OPERATING ENGINEERS (IUOE) LOCAL 132","X",{"$f":"IF(ISNUMBER(FIND(\"MEDICAID\",A1841)),\"X\",\"\")","v":""},{"$f":"IF(ISNUMBER(FIND(\"MEDICARE\",A1841)),\"X\",\"\")","v":""},{"$f":"IF(ISNUMBER(FIND(\"BC/BS\",#REF!)),\"X\",\"\")","v":""}]
["INTERPLEX INDUSTRIES INC (GROUP & PENSION ADMIN)","X",{"$f":"IF(ISNUMBER(FIND(\"MEDICAID\",A1842)),\"X\",\"\")","v":""},{"$f":"IF(ISNUMBER(FIND(\"MEDICARE\",A1842)),\"X\",\"\")","v":""},{"$f":"IF(ISNUMBER(FIND(\"BC/BS\",#REF!)),\"X\",\"\")","v":""}]
["INTRACOASTAL REALITY (90 DEGREE BENEFITS NORTH CAROLINA - CORPORATE BENEFIT SERVICES)",null,{"$f":"IF(ISNUMBER(FIND(\"MEDICAID\",A1843)),\"X\",\"\")","v":""},{"$f":"IF(ISNUMBER(FIND(\"MEDICARE\",A1843)),\"X\",\"\")","v":""},{"$f":"IF(ISNUMBER(FIND(\"BC/BS\",#REF!)),\"X\",\"\")","v":""}]
["INTREPID USA - OPERATING (GROUP & PENSION ADMIN)","X",{"$f":"IF(ISNUMBER(FIND(\"MEDICAID\",A1844)),\"X\",\"\")","v":""},{"$f":"IF(ISNUMBER(FIND(\"MEDICARE\",A1844)),\"X\",\"\")","v":""},{"$f":"IF(ISNUMBER(FIND(\"BC/BS\",#REF!)),\"X\",\"\")","v":""}]
["INVITAE CORPORATION (HEALTHCOMP)","X",{"$f":"IF(ISNUMBER(FIND(\"MEDICAID\",A1845)),\"X\",\"\")","v":""},{"$f":"IF(ISNUMBER(FIND(\"MEDICARE\",A1845)),\"X\",\"\")","v":""},{"$f":"IF(ISNUMBER(FIND(\"BC/BS\",#REF!)),\"X\",\"\")","v":""}]
["IOWA CITY VA MEDICAL CENTER","X",{"$f":"IF(ISNUMBER(FIND(\"MEDICAID\",A1846)),\"X\",\"\")","v":""},{"$f":"IF(ISNUMBER(FIND(\"MEDICARE\",A1846)),\"X\",\"\")","v":""},{"$f":"IF(ISNUMBER(FIND(\"BC/BS\",#REF!)),\"X\",\"\")","v":""}]
["IOWA TOTAL CARE INC","X",{"$f":"IF(ISNUMBER(FIND(\"MEDICAID\",A1847)),\"X\",\"\")","v":""},{"$f":"IF(ISNUMBER(FIND(\"MEDICARE\",A1847)),\"X\",\"\")","v":""},{"$f":"IF(ISNUMBER(FIND(\"BC/BS\",#REF!)),\"X\",\"\")","v":""}]
["IOWA WC CLAIMS BRANCH (AUTO-OWNERS INSURANCE COMPANY)",null,{"$f":"IF(ISNUMBER(FIND(\"MEDICAID\",A1848)),\"X\",\"\")","v":""},{"$f":"IF(ISNUMBER(FIND(\"MEDICARE\",A1848)),\"X\",\"\")","v":""},{"$f":"IF(ISNUMBER(FIND(\"BC/BS\",#REF!)),\"X\",\"\")","v":""},"X"]
["IPG UOFC COMM (BONCURA HEALTH SOLUTIONS)","X",{"$f":"IF(ISNUMBER(FIND(\"MEDICAID\",A1849)),\"X\",\"\")","v":""},{"$f":"IF(ISNUMBER(FIND(\"MEDICARE\",A1849)),\"X\",\"\")","v":""},{"$f":"IF(ISNUMBER(FIND(\"BC/BS\",#REF!)),\"X\",\"\")","v":""}]
["IPSEN CARES","X",{"$f":"IF(ISNUMBER(FIND(\"MEDICAID\",A1850)),\"X\",\"\")","v":""},{"$f":"IF(ISNUMBER(FIND(\"MEDICARE\",A1850)),\"X\",\"\")","v":""},{"$f":"IF(ISNUMBER(FIND(\"BC/BS\",#REF!)),\"X\",\"\")","v":""}]
["IQVIA INC",null,{"$f":"IF(ISNUMBER(FIND(\"MEDICAID\",A1851)),\"X\",\"\")","v":""},{"$f":"IF(ISNUMBER(FIND(\"MEDICARE\",A1851)),\"X\",\"\")","v":""},{"$f":"IF(ISNUMBER(FIND(\"BC/BS\",#REF!)),\"X\",\"\")","v":""}]
["IRON MECHANICAL (HEALTHCOMP)",null,{"$f":"IF(ISNUMBER(FIND(\"MEDICAID\",A1852)),\"X\",\"\")","v":""},{"$f":"IF(ISNUMBER(FIND(\"MEDICARE\",A1852)),\"X\",\"\")","v":""},{"$f":"IF(ISNUMBER(FIND(\"BC/BS\",#REF!)),\"X\",\"\")","v":""}]
["IRON ROAD HEALTHCARE","X",{"$f":"IF(ISNUMBER(FIND(\"MEDICAID\",A1853)),\"X\",\"\")","v":""},{"$f":"IF(ISNUMBER(FIND(\"MEDICARE\",A1853)),\"X\",\"\")","v":""},{"$f":"IF(ISNUMBER(FIND(\"BC/BS\",#REF!)),\"X\",\"\")","v":""}]
["ISCENTIAL EBPT (90 DEGREE BENEFITS HOUSTON - ENTRUST)",null,{"$f":"IF(ISNUMBER(FIND(\"MEDICAID\",A1854)),\"X\",\"\")","v":""},{"$f":"IF(ISNUMBER(FIND(\"MEDICARE\",A1854)),\"X\",\"\")","v":""},{"$f":"IF(ISNUMBER(FIND(\"BC/BS\",#REF!)),\"X\",\"\")","v":""}]
["ISOFT SOLUTIONS (SENTARA)","X",{"$f":"IF(ISNUMBER(FIND(\"MEDICAID\",A1855)),\"X\",\"\")","v":""},{"$f":"IF(ISNUMBER(FIND(\"MEDICARE\",A1855)),\"X\",\"\")","v":""},{"$f":"IF(ISNUMBER(FIND(\"BC/BS\",#REF!)),\"X\",\"\")","v":""}]
["ITPEU HEALTH & WELFARE FUND",null,{"$f":"IF(ISNUMBER(FIND(\"MEDICAID\",A1856)),\"X\",\"\")","v":""},{"$f":"IF(ISNUMBER(FIND(\"MEDICARE\",A1856)),\"X\",\"\")","v":""},{"$f":"IF(ISNUMBER(FIND(\"BC/BS\",#REF!)),\"X\",\"\")","v":""}]
["IUHEALTH","X",{"$f":"IF(ISNUMBER(FIND(\"MEDICAID\",A1857)),\"X\",\"\")","v":""},{"$f":"IF(ISNUMBER(FIND(\"MEDICARE\",A1857)),\"X\",\"\")","v":""},{"$f":"IF(ISNUMBER(FIND(\"BC/BS\",#REF!)),\"X\",\"\")","v":""}]
["IVINSON MEDICAL (UC HEALTH PLAN ADMINISTRATORS)","X",{"$f":"IF(ISNUMBER(FIND(\"MEDICAID\",A1858)),\"X\",\"\")","v":""},{"$f":"IF(ISNUMBER(FIND(\"MEDICARE\",A1858)),\"X\",\"\")","v":""},{"$f":"IF(ISNUMBER(FIND(\"BC/BS\",#REF!)),\"X\",\"\")","v":""}]
["J P HART LUMBER CO (GROUP & PENSION ADMIN)","X",{"$f":"IF(ISNUMBER(FIND(\"MEDICAID\",A1859)),\"X\",\"\")","v":""},{"$f":"IF(ISNUMBER(FIND(\"MEDICARE\",A1859)),\"X\",\"\")","v":""},{"$f":"IF(ISNUMBER(FIND(\"BC/BS\",#REF!)),\"X\",\"\")","v":""}]
["J. S. LEASING CO INC (GROUP & PENSION ADMIN)","X",{"$f":"IF(ISNUMBER(FIND(\"MEDICAID\",A1860)),\"X\",\"\")","v":""},{"$f":"IF(ISNUMBER(FIND(\"MEDICARE\",A1860)),\"X\",\"\")","v":""},{"$f":"IF(ISNUMBER(FIND(\"BC/BS\",#REF!)),\"X\",\"\")","v":""}]
["J.H. NORTON COMPANY INC (SENTARA)","X",{"$f":"IF(ISNUMBER(FIND(\"MEDICAID\",A1861)),\"X\",\"\")","v":""},{"$f":"IF(ISNUMBER(FIND(\"MEDICARE\",A1861)),\"X\",\"\")","v":""},{"$f":"IF(ISNUMBER(FIND(\"BC/BS\",#REF!)),\"X\",\"\")","v":""}]
["J.P. MORGAN (CIGNA)",null,{"$f":"IF(ISNUMBER(FIND(\"MEDICAID\",A1862)),\"X\",\"\")","v":""},{"$f":"IF(ISNUMBER(FIND(\"MEDICARE\",A1862)),\"X\",\"\")","v":""},{"$f":"IF(ISNUMBER(FIND(\"BC/BS\",#REF!)),\"X\",\"\")","v":""}]
["J.S. HELWIG & SON (GROUP & PENSION ADMIN)","X",{"$f":"IF(ISNUMBER(FIND(\"MEDICAID\",A1863)),\"X\",\"\")","v":""},{"$f":"IF(ISNUMBER(FIND(\"MEDICARE\",A1863)),\"X\",\"\")","v":""},{"$f":"IF(ISNUMBER(FIND(\"BC/BS\",#REF!)),\"X\",\"\")","v":""}]
["JACK C. MONTGOMERY VA MEDICAL CENTER","X",{"$f":"IF(ISNUMBER(FIND(\"MEDICAID\",A1864)),\"X\",\"\")","v":""},{"$f":"IF(ISNUMBER(FIND(\"MEDICARE\",A1864)),\"X\",\"\")","v":""},{"$f":"IF(ISNUMBER(FIND(\"BC/BS\",#REF!)),\"X\",\"\")","v":""}]
["JACKSON HEALTHCARE LLC (AMERIBEN)",null,{"$f":"IF(ISNUMBER(FIND(\"MEDICAID\",A1865)),\"X\",\"\")","v":""},{"$f":"IF(ISNUMBER(FIND(\"MEDICARE\",A1865)),\"X\",\"\")","v":""},{"$f":"IF(ISNUMBER(FIND(\"BC/BS\",#REF!)),\"X\",\"\")","v":""}]
["JACKSON RANCHERIA (HEALTHCOMP)",null,{"$f":"IF(ISNUMBER(FIND(\"MEDICAID\",A1866)),\"X\",\"\")","v":""},{"$f":"IF(ISNUMBER(FIND(\"MEDICARE\",A1866)),\"X\",\"\")","v":""},{"$f":"IF(ISNUMBER(FIND(\"BC/BS\",#REF!)),\"X\",\"\")","v":""}]
["JACOBS ENTERTAINMENT INC (AMERIBEN)",null,{"$f":"IF(ISNUMBER(FIND(\"MEDICAID\",A1867)),\"X\",\"\")","v":""},{"$f":"IF(ISNUMBER(FIND(\"MEDICARE\",A1867)),\"X\",\"\")","v":""},{"$f":"IF(ISNUMBER(FIND(\"BC/BS\",#REF!)),\"X\",\"\")","v":""}]
["JAI MEDICAL SYSTEMS - HC",null,{"$f":"IF(ISNUMBER(FIND(\"MEDICAID\",A1868)),\"X\",\"\")","v":""},{"$f":"IF(ISNUMBER(FIND(\"MEDICARE\",A1868)),\"X\",\"\")","v":""},{"$f":"IF(ISNUMBER(FIND(\"BC/BS\",#REF!)),\"X\",\"\")","v":""}]
["JAMAICA PLAIN VA MEDICAL CENTER",null,{"$f":"IF(ISNUMBER(FIND(\"MEDICAID\",A1869)),\"X\",\"\")","v":""},{"$f":"IF(ISNUMBER(FIND(\"MEDICARE\",A1869)),\"X\",\"\")","v":""},{"$f":"IF(ISNUMBER(FIND(\"BC/BS\",#REF!)),\"X\",\"\")","v":""}]
["JAMES CITY COUNTY (SENTARA)","X",{"$f":"IF(ISNUMBER(FIND(\"MEDICAID\",A1870)),\"X\",\"\")","v":""},{"$f":"IF(ISNUMBER(FIND(\"MEDICARE\",A1870)),\"X\",\"\")","v":""},{"$f":"IF(ISNUMBER(FIND(\"BC/BS\",#REF!)),\"X\",\"\")","v":""}]
["JAMES E. VAN ZANDT VA MEDICAL CENTER",null,{"$f":"IF(ISNUMBER(FIND(\"MEDICAID\",A1871)),\"X\",\"\")","v":""},{"$f":"IF(ISNUMBER(FIND(\"MEDICARE\",A1871)),\"X\",\"\")","v":""},{"$f":"IF(ISNUMBER(FIND(\"BC/BS\",#REF!)),\"X\",\"\")","v":""}]
["JAMES H. QUILLEN VA MEDICAL CENTER","X",{"$f":"IF(ISNUMBER(FIND(\"MEDICAID\",A1872)),\"X\",\"\")","v":""},{"$f":"IF(ISNUMBER(FIND(\"MEDICARE\",A1872)),\"X\",\"\")","v":""},{"$f":"IF(ISNUMBER(FIND(\"BC/BS\",#REF!)),\"X\",\"\")","v":""}]
["JAMES HARDIE (HEALTHCOMP)","X",{"$f":"IF(ISNUMBER(FIND(\"MEDICAID\",A1873)),\"X\",\"\")","v":""},{"$f":"IF(ISNUMBER(FIND(\"MEDICARE\",A1873)),\"X\",\"\")","v":""},{"$f":"IF(ISNUMBER(FIND(\"BC/BS\",#REF!)),\"X\",\"\")","v":""}]
["JAMES RIVER MECHANICAL (SENTARA)","X",{"$f":"IF(ISNUMBER(FIND(\"MEDICAID\",A1874)),\"X\",\"\")","v":""},{"$f":"IF(ISNUMBER(FIND(\"MEDICARE\",A1874)),\"X\",\"\")","v":""},{"$f":"IF(ISNUMBER(FIND(\"BC/BS\",#REF!)),\"X\",\"\")","v":""}]
["JASPER ENGINES & TRANSMISSIONS (WEBTPA)","X",{"$f":"IF(ISNUMBER(FIND(\"MEDICAID\",A1875)),\"X\",\"\")","v":""},{"$f":"IF(ISNUMBER(FIND(\"MEDICARE\",A1875)),\"X\",\"\")","v":""},{"$f":"IF(ISNUMBER(FIND(\"BC/BS\",#REF!)),\"X\",\"\")","v":""}]
["JASPER WELLER (WEBTPA)","X",{"$f":"IF(ISNUMBER(FIND(\"MEDICAID\",A1876)),\"X\",\"\")","v":""},{"$f":"IF(ISNUMBER(FIND(\"MEDICARE\",A1876)),\"X\",\"\")","v":""},{"$f":"IF(ISNUMBER(FIND(\"BC/BS\",#REF!)),\"X\",\"\")","v":""}]
["JAXON ENGINEERING (UC HEALTH PLAN ADMINISTRATORS)","X",{"$f":"IF(ISNUMBER(FIND(\"MEDICAID\",A1877)),\"X\",\"\")","v":""},{"$f":"IF(ISNUMBER(FIND(\"MEDICARE\",A1877)),\"X\",\"\")","v":""},{"$f":"IF(ISNUMBER(FIND(\"BC/BS\",#REF!)),\"X\",\"\")","v":""}]
["JBS USA FOOD COMPANY HOLDINGS (AMERIBEN)",null,{"$f":"IF(ISNUMBER(FIND(\"MEDICAID\",A1878)),\"X\",\"\")","v":""},{"$f":"IF(ISNUMBER(FIND(\"MEDICARE\",A1878)),\"X\",\"\")","v":""},{"$f":"IF(ISNUMBER(FIND(\"BC/BS\",#REF!)),\"X\",\"\")","v":""}]
["JCB HOLDINGS (MAESTRO HEALTH)",null,{"$f":"IF(ISNUMBER(FIND(\"MEDICAID\",A1879)),\"X\",\"\")","v":""},{"$f":"IF(ISNUMBER(FIND(\"MEDICARE\",A1879)),\"X\",\"\")","v":""},{"$f":"IF(ISNUMBER(FIND(\"BC/BS\",#REF!)),\"X\",\"\")","v":""}]
["JDB FORT WORTH EBPT (90 DEGREE BENEFITS HOUSTON - ENTRUST)",null,{"$f":"IF(ISNUMBER(FIND(\"MEDICAID\",A1880)),\"X\",\"\")","v":""},{"$f":"IF(ISNUMBER(FIND(\"MEDICARE\",A1880)),\"X\",\"\")","v":""},{"$f":"IF(ISNUMBER(FIND(\"BC/BS\",#REF!)),\"X\",\"\")","v":""}]
["JDK MANAGEMENT (GEISINGER HEALTH PLAN)","X",{"$f":"IF(ISNUMBER(FIND(\"MEDICAID\",A1881)),\"X\",\"\")","v":""},{"$f":"IF(ISNUMBER(FIND(\"MEDICARE\",A1881)),\"X\",\"\")","v":""},{"$f":"IF(ISNUMBER(FIND(\"BC/BS\",#REF!)),\"X\",\"\")","v":""}]
["JEFFERSON COUNTY, IL (IPMG)","X",{"$f":"IF(ISNUMBER(FIND(\"MEDICAID\",A1882)),\"X\",\"\")","v":""},{"$f":"IF(ISNUMBER(FIND(\"MEDICARE\",A1882)),\"X\",\"\")","v":""},{"$f":"IF(ISNUMBER(FIND(\"BC/BS\",#REF!)),\"X\",\"\")","v":""}]
["JEFFERSON HEALTH PLAN (THE HEALTH PLAN)","X",{"$f":"IF(ISNUMBER(FIND(\"MEDICAID\",A1883)),\"X\",\"\")","v":""},{"$f":"IF(ISNUMBER(FIND(\"MEDICARE\",A1883)),\"X\",\"\")","v":""},{"$f":"IF(ISNUMBER(FIND(\"BC/BS\",#REF!)),\"X\",\"\")","v":""}]
["JERRY L. PETTIS MEMORIAL VETERANS HOSPITAL",null,{"$f":"IF(ISNUMBER(FIND(\"MEDICAID\",A1884)),\"X\",\"\")","v":""},{"$f":"IF(ISNUMBER(FIND(\"MEDICARE\",A1884)),\"X\",\"\")","v":""},{"$f":"IF(ISNUMBER(FIND(\"BC/BS\",#REF!)),\"X\",\"\")","v":""}]
["JESSE BROWN VA MEDICAL CENTER","X",{"$f":"IF(ISNUMBER(FIND(\"MEDICAID\",A1885)),\"X\",\"\")","v":""},{"$f":"IF(ISNUMBER(FIND(\"MEDICARE\",A1885)),\"X\",\"\")","v":""},{"$f":"IF(ISNUMBER(FIND(\"BC/BS\",#REF!)),\"X\",\"\")","v":""}]
["JETTA OPERATING COMPANY INC (GROUP & PENSION ADMIN)","X",{"$f":"IF(ISNUMBER(FIND(\"MEDICAID\",A1886)),\"X\",\"\")","v":""},{"$f":"IF(ISNUMBER(FIND(\"MEDICARE\",A1886)),\"X\",\"\")","v":""},{"$f":"IF(ISNUMBER(FIND(\"BC/BS\",#REF!)),\"X\",\"\")","v":""}]
["JFP BENEFIT MANAGEMENT INC","X",{"$f":"IF(ISNUMBER(FIND(\"MEDICAID\",A1887)),\"X\",\"\")","v":""},{"$f":"IF(ISNUMBER(FIND(\"MEDICARE\",A1887)),\"X\",\"\")","v":""},{"$f":"IF(ISNUMBER(FIND(\"BC/BS\",#REF!)),\"X\",\"\")","v":""}]
["JFS MILLING INC (WEBTPA)","X",{"$f":"IF(ISNUMBER(FIND(\"MEDICAID\",A1888)),\"X\",\"\")","v":""},{"$f":"IF(ISNUMBER(FIND(\"MEDICARE\",A1888)),\"X\",\"\")","v":""},{"$f":"IF(ISNUMBER(FIND(\"BC/BS\",#REF!)),\"X\",\"\")","v":""}]
["JHH CENTRAL MANAGEMENT SERVICES LLC (GROUP & PENSION ADMIN)",null,{"$f":"IF(ISNUMBER(FIND(\"MEDICAID\",A1889)),\"X\",\"\")","v":""},{"$f":"IF(ISNUMBER(FIND(\"MEDICARE\",A1889)),\"X\",\"\")","v":""},{"$f":"IF(ISNUMBER(FIND(\"BC/BS\",#REF!)),\"X\",\"\")","v":""}]
["JIM BURKE EBPT (HEALTHCOMP)",null,{"$f":"IF(ISNUMBER(FIND(\"MEDICAID\",A1890)),\"X\",\"\")","v":""},{"$f":"IF(ISNUMBER(FIND(\"MEDICARE\",A1890)),\"X\",\"\")","v":""},{"$f":"IF(ISNUMBER(FIND(\"BC/BS\",#REF!)),\"X\",\"\")","v":""}]
["JIM HAYES INC (IPMG)",null,{"$f":"IF(ISNUMBER(FIND(\"MEDICAID\",A1891)),\"X\",\"\")","v":""},{"$f":"IF(ISNUMBER(FIND(\"MEDICARE\",A1891)),\"X\",\"\")","v":""},{"$f":"IF(ISNUMBER(FIND(\"BC/BS\",#REF!)),\"X\",\"\")","v":""}]
["JM TEST SYSTEMS INC (GROUP & PENSION ADMIN)","X",{"$f":"IF(ISNUMBER(FIND(\"MEDICAID\",A1892)),\"X\",\"\")","v":""},{"$f":"IF(ISNUMBER(FIND(\"MEDICARE\",A1892)),\"X\",\"\")","v":""},{"$f":"IF(ISNUMBER(FIND(\"BC/BS\",#REF!)),\"X\",\"\")","v":""}]
["JMEG EPB (90 DEGREE BENEFITS HOUSTON - ENTRUST)",null,{"$f":"IF(ISNUMBER(FIND(\"MEDICAID\",A1893)),\"X\",\"\")","v":""},{"$f":"IF(ISNUMBER(FIND(\"MEDICARE\",A1893)),\"X\",\"\")","v":""},{"$f":"IF(ISNUMBER(FIND(\"BC/BS\",#REF!)),\"X\",\"\")","v":""}]
["JOHN COCHRAN VETERANS HOSPITAL","X",{"$f":"IF(ISNUMBER(FIND(\"MEDICAID\",A1894)),\"X\",\"\")","v":""},{"$f":"IF(ISNUMBER(FIND(\"MEDICARE\",A1894)),\"X\",\"\")","v":""},{"$f":"IF(ISNUMBER(FIND(\"BC/BS\",#REF!)),\"X\",\"\")","v":""}]
["JOHN D. DINGELL VA MEDICAL CENTER","X",{"$f":"IF(ISNUMBER(FIND(\"MEDICAID\",A1895)),\"X\",\"\")","v":""},{"$f":"IF(ISNUMBER(FIND(\"MEDICARE\",A1895)),\"X\",\"\")","v":""},{"$f":"IF(ISNUMBER(FIND(\"BC/BS\",#REF!)),\"X\",\"\")","v":""}]
["JOHN J. PERSHING VA MEDICAL CENTER (POPLAR BLUFF)","X",{"$f":"IF(ISNUMBER(FIND(\"MEDICAID\",A1896)),\"X\",\"\")","v":""},{"$f":"IF(ISNUMBER(FIND(\"MEDICARE\",A1896)),\"X\",\"\")","v":""},{"$f":"IF(ISNUMBER(FIND(\"BC/BS\",#REF!)),\"X\",\"\")","v":""}]
["JOHN L. MCCLELLAN MEMORIAL VETERANS HOSPITAL","X",{"$f":"IF(ISNUMBER(FIND(\"MEDICAID\",A1897)),\"X\",\"\")","v":""},{"$f":"IF(ISNUMBER(FIND(\"MEDICARE\",A1897)),\"X\",\"\")","v":""},{"$f":"IF(ISNUMBER(FIND(\"BC/BS\",#REF!)),\"X\",\"\")","v":""}]
["JOHN MUIR HEALTH PHYSICIAN NETWORK",null,{"$f":"IF(ISNUMBER(FIND(\"MEDICAID\",A1898)),\"X\",\"\")","v":""},{"$f":"IF(ISNUMBER(FIND(\"MEDICARE\",A1898)),\"X\",\"\")","v":""},{"$f":"IF(ISNUMBER(FIND(\"BC/BS\",#REF!)),\"X\",\"\")","v":""}]
["JOHN MUIR HEALTH PHYSICIAN NETWORK SEQUESTRATION",null,{"$f":"IF(ISNUMBER(FIND(\"MEDICAID\",A1899)),\"X\",\"\")","v":""},{"$f":"IF(ISNUMBER(FIND(\"MEDICARE\",A1899)),\"X\",\"\")","v":""},{"$f":"IF(ISNUMBER(FIND(\"BC/BS\",#REF!)),\"X\",\"\")","v":""}]
["JOHNS HOPKINS ADVANTAGE MD","X",{"$f":"IF(ISNUMBER(FIND(\"MEDICAID\",A1900)),\"X\",\"\")","v":""},{"$f":"IF(ISNUMBER(FIND(\"MEDICARE\",A1900)),\"X\",\"\")","v":""},{"$f":"IF(ISNUMBER(FIND(\"BC/BS\",#REF!)),\"X\",\"\")","v":""}]
["JOHNS HOPKINS HEALTHCARE LLC","X",{"$f":"IF(ISNUMBER(FIND(\"MEDICAID\",A1901)),\"X\",\"\")","v":""},{"$f":"IF(ISNUMBER(FIND(\"MEDICARE\",A1901)),\"X\",\"\")","v":""},{"$f":"IF(ISNUMBER(FIND(\"BC/BS\",#REF!)),\"X\",\"\")","v":""}]
["JOHNS HOPKINS HEALTHCARE US FAMILY HEALTH PLAN (USFHP)","X",{"$f":"IF(ISNUMBER(FIND(\"MEDICAID\",A1902)),\"X\",\"\")","v":""},{"$f":"IF(ISNUMBER(FIND(\"MEDICARE\",A1902)),\"X\",\"\")","v":""},{"$f":"IF(ISNUMBER(FIND(\"BC/BS\",#REF!)),\"X\",\"\")","v":""}]
["JOINT VENTURE HOSPITAL LABORATORIES - BCN COMMERCIAL LABS JJ (JVHL - BCN - JJ)","X",{"$f":"IF(ISNUMBER(FIND(\"MEDICAID\",A1903)),\"X\",\"\")","v":""},{"$f":"IF(ISNUMBER(FIND(\"MEDICARE\",A1903)),\"X\",\"\")","v":""},{"$f":"IF(ISNUMBER(FIND(\"BC/BS\",#REF!)),\"X\",\"\")","v":""}]
["JOINT VENTURE HOSPITAL LABORATORIES - BCN EXCHANGE FFS M3 (JVHL - BCN - M3)","X",{"$f":"IF(ISNUMBER(FIND(\"MEDICAID\",A1904)),\"X\",\"\")","v":""},{"$f":"IF(ISNUMBER(FIND(\"MEDICARE\",A1904)),\"X\",\"\")","v":""},{"$f":"IF(ISNUMBER(FIND(\"BC/BS\",#REF!)),\"X\",\"\")","v":""}]
["JOINT VENTURE HOSPITAL LABORATORIES - BCN HSA KS (JVHL - BCN - KS)","X",{"$f":"IF(ISNUMBER(FIND(\"MEDICAID\",A1905)),\"X\",\"\")","v":""},{"$f":"IF(ISNUMBER(FIND(\"MEDICARE\",A1905)),\"X\",\"\")","v":""},{"$f":"IF(ISNUMBER(FIND(\"BC/BS\",#REF!)),\"X\",\"\")","v":""}]
["JOINT VENTURE HOSPITAL LABORATORIES - BCN MEDICARE ADVANTAGE (JVHL - BCN - JY)","X",{"$f":"IF(ISNUMBER(FIND(\"MEDICAID\",A1906)),\"X\",\"\")","v":""},null,{"$f":"IF(ISNUMBER(FIND(\"BC/BS\",#REF!)),\"X\",\"\")","v":""}]
["JOINT VENTURE HOSPITAL LABORATORIES - BCN PREMIER CARE REIMBURSABLE KB (JVHL - BCN - KB)","X",{"$f":"IF(ISNUMBER(FIND(\"MEDICAID\",A1907)),\"X\",\"\")","v":""},{"$f":"IF(ISNUMBER(FIND(\"MEDICARE\",A1907)),\"X\",\"\")","v":""},{"$f":"IF(ISNUMBER(FIND(\"BC/BS\",#REF!)),\"X\",\"\")","v":""}]
["JOINT VENTURE HOSPITAL LABORATORIES - BCN REIMBURSABLE JQ (JVHL - BCN - JQ)","X",{"$f":"IF(ISNUMBER(FIND(\"MEDICAID\",A1908)),\"X\",\"\")","v":""},{"$f":"IF(ISNUMBER(FIND(\"MEDICARE\",A1908)),\"X\",\"\")","v":""},{"$f":"IF(ISNUMBER(FIND(\"BC/BS\",#REF!)),\"X\",\"\")","v":""}]
["JONATHAN M. WAINWRIGHT MEMORIAL VA MEDICAL CENTER","X",{"$f":"IF(ISNUMBER(FIND(\"MEDICAID\",A1909)),\"X\",\"\")","v":""},{"$f":"IF(ISNUMBER(FIND(\"MEDICARE\",A1909)),\"X\",\"\")","v":""},{"$f":"IF(ISNUMBER(FIND(\"BC/BS\",#REF!)),\"X\",\"\")","v":""}]
["JORDAN-HOLMAN LUMBER COMPANY INC (90 DEGREE BENEFITS NORTH CAROLINA - CORPORATE BENEFIT SERVICES)","X",{"$f":"IF(ISNUMBER(FIND(\"MEDICAID\",A1910)),\"X\",\"\")","v":""},{"$f":"IF(ISNUMBER(FIND(\"MEDICARE\",A1910)),\"X\",\"\")","v":""},{"$f":"IF(ISNUMBER(FIND(\"BC/BS\",#REF!)),\"X\",\"\")","v":""}]
["JORGENSEN LABORATORIES (UC HEALTH PLAN ADMINISTRATORS)","X",{"$f":"IF(ISNUMBER(FIND(\"MEDICAID\",A1911)),\"X\",\"\")","v":""},{"$f":"IF(ISNUMBER(FIND(\"MEDICARE\",A1911)),\"X\",\"\")","v":""},{"$f":"IF(ISNUMBER(FIND(\"BC/BS\",#REF!)),\"X\",\"\")","v":""}]
["JP FARLEY","X",{"$f":"IF(ISNUMBER(FIND(\"MEDICAID\",A1912)),\"X\",\"\")","v":""},{"$f":"IF(ISNUMBER(FIND(\"MEDICARE\",A1912)),\"X\",\"\")","v":""},{"$f":"IF(ISNUMBER(FIND(\"BC/BS\",#REF!)),\"X\",\"\")","v":""}]
["JR COLE (MAESTRO HEALTH)",null,{"$f":"IF(ISNUMBER(FIND(\"MEDICAID\",A1913)),\"X\",\"\")","v":""},{"$f":"IF(ISNUMBER(FIND(\"MEDICARE\",A1913)),\"X\",\"\")","v":""},{"$f":"IF(ISNUMBER(FIND(\"BC/BS\",#REF!)),\"X\",\"\")","v":""}]
["JR CONTRACTING INC (SENTARA)","X",{"$f":"IF(ISNUMBER(FIND(\"MEDICAID\",A1914)),\"X\",\"\")","v":""},{"$f":"IF(ISNUMBER(FIND(\"MEDICARE\",A1914)),\"X\",\"\")","v":""},{"$f":"IF(ISNUMBER(FIND(\"BC/BS\",#REF!)),\"X\",\"\")","v":""}]
["JR. DAVIS CONSTRUCTION COMPANY (MAA / HEALTHSMART)",null,{"$f":"IF(ISNUMBER(FIND(\"MEDICAID\",A1915)),\"X\",\"\")","v":""},{"$f":"IF(ISNUMBER(FIND(\"MEDICARE\",A1915)),\"X\",\"\")","v":""},{"$f":"IF(ISNUMBER(FIND(\"BC/BS\",#REF!)),\"X\",\"\")","v":""}]
["JR'S TEXAS BEST LLC - JUNIORS SMOKE (90 DEGREE BENEFITS HOUSTON - ENTRUST)",null,{"$f":"IF(ISNUMBER(FIND(\"MEDICAID\",A1916)),\"X\",\"\")","v":""},{"$f":"IF(ISNUMBER(FIND(\"MEDICARE\",A1916)),\"X\",\"\")","v":""},{"$f":"IF(ISNUMBER(FIND(\"BC/BS\",#REF!)),\"X\",\"\")","v":""}]
["J-U-B ENGINEERS INC (AMERIBEN)",null,{"$f":"IF(ISNUMBER(FIND(\"MEDICAID\",A1917)),\"X\",\"\")","v":""},{"$f":"IF(ISNUMBER(FIND(\"MEDICARE\",A1917)),\"X\",\"\")","v":""},{"$f":"IF(ISNUMBER(FIND(\"BC/BS\",#REF!)),\"X\",\"\")","v":""}]
["K & G MOTORS EBPT (90 DEGREE BENEFITS HOUSTON - ENTRUST)",null,{"$f":"IF(ISNUMBER(FIND(\"MEDICAID\",A1918)),\"X\",\"\")","v":""},{"$f":"IF(ISNUMBER(FIND(\"MEDICARE\",A1918)),\"X\",\"\")","v":""},{"$f":"IF(ISNUMBER(FIND(\"BC/BS\",#REF!)),\"X\",\"\")","v":""}]
["KAISER FOUNDATION HEALTH PLAN OF COLORADO (KFHP)","X",{"$f":"IF(ISNUMBER(FIND(\"MEDICAID\",A1919)),\"X\",\"\")","v":""},{"$f":"IF(ISNUMBER(FIND(\"MEDICARE\",A1919)),\"X\",\"\")","v":""},{"$f":"IF(ISNUMBER(FIND(\"BC/BS\",#REF!)),\"X\",\"\")","v":""}]
["KAISER FOUNDATION HEALTH PLAN OF GEORGIA (KFHP)","X",{"$f":"IF(ISNUMBER(FIND(\"MEDICAID\",A1920)),\"X\",\"\")","v":""},{"$f":"IF(ISNUMBER(FIND(\"MEDICARE\",A1920)),\"X\",\"\")","v":""},{"$f":"IF(ISNUMBER(FIND(\"BC/BS\",#REF!)),\"X\",\"\")","v":""}]
["KAISER FOUNDATION HEALTH PLAN OF HAWAII (KFHP)","X",{"$f":"IF(ISNUMBER(FIND(\"MEDICAID\",A1921)),\"X\",\"\")","v":""},{"$f":"IF(ISNUMBER(FIND(\"MEDICARE\",A1921)),\"X\",\"\")","v":""},{"$f":"IF(ISNUMBER(FIND(\"BC/BS\",#REF!)),\"X\",\"\")","v":""}]
["KAISER FOUNDATION HEALTH PLAN OF NORTHERN CALIFORNIA (KFHP)","X",{"$f":"IF(ISNUMBER(FIND(\"MEDICAID\",A1922)),\"X\",\"\")","v":""},{"$f":"IF(ISNUMBER(FIND(\"MEDICARE\",A1922)),\"X\",\"\")","v":""},{"$f":"IF(ISNUMBER(FIND(\"BC/BS\",#REF!)),\"X\",\"\")","v":""}]
["KAISER FOUNDATION HEALTH PLAN OF SOUTHERN CALIFORNIA (KFHP)","X",{"$f":"IF(ISNUMBER(FIND(\"MEDICAID\",A1923)),\"X\",\"\")","v":""},{"$f":"IF(ISNUMBER(FIND(\"MEDICARE\",A1923)),\"X\",\"\")","v":""},{"$f":"IF(ISNUMBER(FIND(\"BC/BS\",#REF!)),\"X\",\"\")","v":""}]
["KAISER FOUNDATION HEALTH PLAN OF THE MID-ATLANTIC STATES (KFHP)","X",{"$f":"IF(ISNUMBER(FIND(\"MEDICAID\",A1924)),\"X\",\"\")","v":""},{"$f":"IF(ISNUMBER(FIND(\"MEDICARE\",A1924)),\"X\",\"\")","v":""},{"$f":"IF(ISNUMBER(FIND(\"BC/BS\",#REF!)),\"X\",\"\")","v":""}]
["KAISER FOUNDATION HEALTH PLAN OF THE NORTHWEST (KFHP)","X",{"$f":"IF(ISNUMBER(FIND(\"MEDICAID\",A1925)),\"X\",\"\")","v":""},{"$f":"IF(ISNUMBER(FIND(\"MEDICARE\",A1925)),\"X\",\"\")","v":""},{"$f":"IF(ISNUMBER(FIND(\"BC/BS\",#REF!)),\"X\",\"\")","v":""}]
["KAISER FOUNDATION HEALTH PLAN OF WASHINGTON (KFHP)","X",{"$f":"IF(ISNUMBER(FIND(\"MEDICAID\",A1926)),\"X\",\"\")","v":""},{"$f":"IF(ISNUMBER(FIND(\"MEDICARE\",A1926)),\"X\",\"\")","v":""},{"$f":"IF(ISNUMBER(FIND(\"BC/BS\",#REF!)),\"X\",\"\")","v":""}]
["KAISER FOUNDATION HEALTH PLAN OF WASHINGTON OPTIONS (KFHP)","X",{"$f":"IF(ISNUMBER(FIND(\"MEDICAID\",A1927)),\"X\",\"\")","v":""},{"$f":"IF(ISNUMBER(FIND(\"MEDICARE\",A1927)),\"X\",\"\")","v":""},{"$f":"IF(ISNUMBER(FIND(\"BC/BS\",#REF!)),\"X\",\"\")","v":""}]
["KAISER FOUNDATION HEALTH PLAN OF WASHINGTON OPTIONS FEP (KFHP)","X",{"$f":"IF(ISNUMBER(FIND(\"MEDICAID\",A1928)),\"X\",\"\")","v":""},{"$f":"IF(ISNUMBER(FIND(\"MEDICARE\",A1928)),\"X\",\"\")","v":""},{"$f":"IF(ISNUMBER(FIND(\"BC/BS\",#REF!)),\"X\",\"\")","v":""}]
["KAISER PERMANANTE - SELF-FUNDED HARRINGTON (KPIC)","X",{"$f":"IF(ISNUMBER(FIND(\"MEDICAID\",A1929)),\"X\",\"\")","v":""},{"$f":"IF(ISNUMBER(FIND(\"MEDICARE\",A1929)),\"X\",\"\")","v":""},{"$f":"IF(ISNUMBER(FIND(\"BC/BS\",#REF!)),\"X\",\"\")","v":""}]
["KAISER PERMANENTE - SELF-FUNDED HARRINGTON (KPIC)","X",{"$f":"IF(ISNUMBER(FIND(\"MEDICAID\",A1930)),\"X\",\"\")","v":""},{"$f":"IF(ISNUMBER(FIND(\"MEDICARE\",A1930)),\"X\",\"\")","v":""},{"$f":"IF(ISNUMBER(FIND(\"BC/BS\",#REF!)),\"X\",\"\")","v":""}]
["KAISER PERMANENTE COLORADO","X",{"$f":"IF(ISNUMBER(FIND(\"MEDICAID\",A1931)),\"X\",\"\")","v":""},{"$f":"IF(ISNUMBER(FIND(\"MEDICARE\",A1931)),\"X\",\"\")","v":""},{"$f":"IF(ISNUMBER(FIND(\"BC/BS\",#REF!)),\"X\",\"\")","v":""}]
["KAISER PERMANENTE OF GEORGIA","X",{"$f":"IF(ISNUMBER(FIND(\"MEDICAID\",A1932)),\"X\",\"\")","v":""},{"$f":"IF(ISNUMBER(FIND(\"MEDICARE\",A1932)),\"X\",\"\")","v":""},{"$f":"IF(ISNUMBER(FIND(\"BC/BS\",#REF!)),\"X\",\"\")","v":""}]
["KALEY GROUP (THE HEALTH PLAN)","X",{"$f":"IF(ISNUMBER(FIND(\"MEDICAID\",A1933)),\"X\",\"\")","v":""},{"$f":"IF(ISNUMBER(FIND(\"MEDICARE\",A1933)),\"X\",\"\")","v":""},{"$f":"IF(ISNUMBER(FIND(\"BC/BS\",#REF!)),\"X\",\"\")","v":""}]
["KANE WAREHOUSING LLC (GEISINGER HEALTH PLAN)","X",{"$f":"IF(ISNUMBER(FIND(\"MEDICAID\",A1934)),\"X\",\"\")","v":""},{"$f":"IF(ISNUMBER(FIND(\"MEDICARE\",A1934)),\"X\",\"\")","v":""},{"$f":"IF(ISNUMBER(FIND(\"BC/BS\",#REF!)),\"X\",\"\")","v":""}]
["KANSAS CITY VA MEDICAL CENTER","X",{"$f":"IF(ISNUMBER(FIND(\"MEDICAID\",A1935)),\"X\",\"\")","v":""},{"$f":"IF(ISNUMBER(FIND(\"MEDICARE\",A1935)),\"X\",\"\")","v":""},{"$f":"IF(ISNUMBER(FIND(\"BC/BS\",#REF!)),\"X\",\"\")","v":""}]
["KANSAS CONSTRUCTION TRADES FRINGE BENEFIT FUND","X",{"$f":"IF(ISNUMBER(FIND(\"MEDICAID\",A1936)),\"X\",\"\")","v":""},{"$f":"IF(ISNUMBER(FIND(\"MEDICARE\",A1936)),\"X\",\"\")","v":""},{"$f":"IF(ISNUMBER(FIND(\"BC/BS\",#REF!)),\"X\",\"\")","v":""}]
["KANSAS FARM BUREAU HEALTH PLANS (FARM BUREAU HEALTH PLANS)","X",{"$f":"IF(ISNUMBER(FIND(\"MEDICAID\",A1937)),\"X\",\"\")","v":""},{"$f":"IF(ISNUMBER(FIND(\"MEDICARE\",A1937)),\"X\",\"\")","v":""},{"$f":"IF(ISNUMBER(FIND(\"BC/BS\",#REF!)),\"X\",\"\")","v":""}]
["KANSAS PIP CLAIMS BRANCH (AUTO-OWNERS INSURANCE COMPANY)",null,{"$f":"IF(ISNUMBER(FIND(\"MEDICAID\",A1938)),\"X\",\"\")","v":""},{"$f":"IF(ISNUMBER(FIND(\"MEDICARE\",A1938)),\"X\",\"\")","v":""},{"$f":"IF(ISNUMBER(FIND(\"BC/BS\",#REF!)),\"X\",\"\")","v":""},null,"X"]
["KAYNE ANDERSON CAPITAL ADVISOR (HEALTHCOMP)",null,{"$f":"IF(ISNUMBER(FIND(\"MEDICAID\",A1939)),\"X\",\"\")","v":""},{"$f":"IF(ISNUMBER(FIND(\"MEDICARE\",A1939)),\"X\",\"\")","v":""},{"$f":"IF(ISNUMBER(FIND(\"BC/BS\",#REF!)),\"X\",\"\")","v":""}]
["KC INTEGRATED SERVICES LLC (ASR HEALTH BENEFITS)","X",{"$f":"IF(ISNUMBER(FIND(\"MEDICAID\",A1940)),\"X\",\"\")","v":""},{"$f":"IF(ISNUMBER(FIND(\"MEDICARE\",A1940)),\"X\",\"\")","v":""},{"$f":"IF(ISNUMBER(FIND(\"BC/BS\",#REF!)),\"X\",\"\")","v":""}]
["KCEOC CAP EBPT (90 DEGREE BENEFITS HOUSTON - ENTRUST)",null,{"$f":"IF(ISNUMBER(FIND(\"MEDICAID\",A1941)),\"X\",\"\")","v":""},{"$f":"IF(ISNUMBER(FIND(\"MEDICARE\",A1941)),\"X\",\"\")","v":""},{"$f":"IF(ISNUMBER(FIND(\"BC/BS\",#REF!)),\"X\",\"\")","v":""}]
["KE2 THERMA SOLUTIONS (IPMG)","X",{"$f":"IF(ISNUMBER(FIND(\"MEDICAID\",A1942)),\"X\",\"\")","v":""},{"$f":"IF(ISNUMBER(FIND(\"MEDICARE\",A1942)),\"X\",\"\")","v":""},{"$f":"IF(ISNUMBER(FIND(\"BC/BS\",#REF!)),\"X\",\"\")","v":""}]
["KEARNEY & SONS INC (SENTARA)","X",{"$f":"IF(ISNUMBER(FIND(\"MEDICAID\",A1943)),\"X\",\"\")","v":""},{"$f":"IF(ISNUMBER(FIND(\"MEDICARE\",A1943)),\"X\",\"\")","v":""},{"$f":"IF(ISNUMBER(FIND(\"BC/BS\",#REF!)),\"X\",\"\")","v":""}]
["KEATING AUTO GROUP EBPT (90 DEGREE BENEFITS HOUSTON - ENTRUST)",null,{"$f":"IF(ISNUMBER(FIND(\"MEDICAID\",A1944)),\"X\",\"\")","v":""},{"$f":"IF(ISNUMBER(FIND(\"MEDICARE\",A1944)),\"X\",\"\")","v":""},{"$f":"IF(ISNUMBER(FIND(\"BC/BS\",#REF!)),\"X\",\"\")","v":""}]
["KEELER MOTOR CARE COMPANY LP (MVP HEALTH CARE)","X",{"$f":"IF(ISNUMBER(FIND(\"MEDICAID\",A1945)),\"X\",\"\")","v":""},{"$f":"IF(ISNUMBER(FIND(\"MEDICARE\",A1945)),\"X\",\"\")","v":""},{"$f":"IF(ISNUMBER(FIND(\"BC/BS\",#REF!)),\"X\",\"\")","v":""}]
["KEENAN","X",{"$f":"IF(ISNUMBER(FIND(\"MEDICAID\",A1946)),\"X\",\"\")","v":""},{"$f":"IF(ISNUMBER(FIND(\"MEDICARE\",A1946)),\"X\",\"\")","v":""},{"$f":"IF(ISNUMBER(FIND(\"BC/BS\",#REF!)),\"X\",\"\")","v":""}]
["KELLOGG BROWN AND ROOT LLC (CIGNA)",null,{"$f":"IF(ISNUMBER(FIND(\"MEDICAID\",A1947)),\"X\",\"\")","v":""},{"$f":"IF(ISNUMBER(FIND(\"MEDICARE\",A1947)),\"X\",\"\")","v":""},{"$f":"IF(ISNUMBER(FIND(\"BC/BS\",#REF!)),\"X\",\"\")","v":""}]
["KELLWOOD COMPANY LLC (HEALTHCOMP)",null,{"$f":"IF(ISNUMBER(FIND(\"MEDICAID\",A1948)),\"X\",\"\")","v":""},{"$f":"IF(ISNUMBER(FIND(\"MEDICARE\",A1948)),\"X\",\"\")","v":""},{"$f":"IF(ISNUMBER(FIND(\"BC/BS\",#REF!)),\"X\",\"\")","v":""}]
["KELSEY SEYBOLD MEDICAL GROUP PA","X",{"$f":"IF(ISNUMBER(FIND(\"MEDICAID\",A1949)),\"X\",\"\")","v":""},{"$f":"IF(ISNUMBER(FIND(\"MEDICARE\",A1949)),\"X\",\"\")","v":""},{"$f":"IF(ISNUMBER(FIND(\"BC/BS\",#REF!)),\"X\",\"\")","v":""}]
["KELSEY SEYBOLD MEDICAL GROUP PLLC","X",{"$f":"IF(ISNUMBER(FIND(\"MEDICAID\",A1950)),\"X\",\"\")","v":""},{"$f":"IF(ISNUMBER(FIND(\"MEDICARE\",A1950)),\"X\",\"\")","v":""},{"$f":"IF(ISNUMBER(FIND(\"BC/BS\",#REF!)),\"X\",\"\")","v":""}]
["KEMPER HEALTH (IAS ADMIN)","X",{"$f":"IF(ISNUMBER(FIND(\"MEDICAID\",A1951)),\"X\",\"\")","v":""},{"$f":"IF(ISNUMBER(FIND(\"MEDICARE\",A1951)),\"X\",\"\")","v":""},{"$f":"IF(ISNUMBER(FIND(\"BC/BS\",#REF!)),\"X\",\"\")","v":""}]
["KEMPER HEALTH (RESERVE NATIONAL)","X",{"$f":"IF(ISNUMBER(FIND(\"MEDICAID\",A1952)),\"X\",\"\")","v":""},{"$f":"IF(ISNUMBER(FIND(\"MEDICARE\",A1952)),\"X\",\"\")","v":""},{"$f":"IF(ISNUMBER(FIND(\"BC/BS\",#REF!)),\"X\",\"\")","v":""}]
["KENAI PENINSULA BOROUGH SCHOOL DISTRICT (REHN AND ASSOCIATES)",null,{"$f":"IF(ISNUMBER(FIND(\"MEDICAID\",A1953)),\"X\",\"\")","v":""},{"$f":"IF(ISNUMBER(FIND(\"MEDICARE\",A1953)),\"X\",\"\")","v":""},{"$f":"IF(ISNUMBER(FIND(\"BC/BS\",#REF!)),\"X\",\"\")","v":""}]
["KENMORE-TOWN OF TONAWANDA UFSD (INDEPENDENT HEALTH)",null,{"$f":"IF(ISNUMBER(FIND(\"MEDICAID\",A1954)),\"X\",\"\")","v":""},{"$f":"IF(ISNUMBER(FIND(\"MEDICARE\",A1954)),\"X\",\"\")","v":""},{"$f":"IF(ISNUMBER(FIND(\"BC/BS\",#REF!)),\"X\",\"\")","v":""}]
["KENNY PIPE SUPPLY INC (HEALTHSCOPE BENEFITS)",null,{"$f":"IF(ISNUMBER(FIND(\"MEDICAID\",A1955)),\"X\",\"\")","v":""},{"$f":"IF(ISNUMBER(FIND(\"MEDICARE\",A1955)),\"X\",\"\")","v":""},{"$f":"IF(ISNUMBER(FIND(\"BC/BS\",#REF!)),\"X\",\"\")","v":""}]
["KENT QUALITY FOODS INC (ASR HEALTH BENEFITS)","X",{"$f":"IF(ISNUMBER(FIND(\"MEDICAID\",A1956)),\"X\",\"\")","v":""},{"$f":"IF(ISNUMBER(FIND(\"MEDICARE\",A1956)),\"X\",\"\")","v":""},{"$f":"IF(ISNUMBER(FIND(\"BC/BS\",#REF!)),\"X\",\"\")","v":""}]
["KENTUCKY AGC SELF INSURERS' FUND",null,{"$f":"IF(ISNUMBER(FIND(\"MEDICAID\",A1957)),\"X\",\"\")","v":""},{"$f":"IF(ISNUMBER(FIND(\"MEDICARE\",A1957)),\"X\",\"\")","v":""},{"$f":"IF(ISNUMBER(FIND(\"BC/BS\",#REF!)),\"X\",\"\")","v":""}]
["KENTUCKY EMPLOYERS MUTUAL INS","X",{"$f":"IF(ISNUMBER(FIND(\"MEDICAID\",A1958)),\"X\",\"\")","v":""},{"$f":"IF(ISNUMBER(FIND(\"MEDICARE\",A1958)),\"X\",\"\")","v":""},{"$f":"IF(ISNUMBER(FIND(\"BC/BS\",#REF!)),\"X\",\"\")","v":""},"X","X"]
["KENTUCKY HEALTH ADMINISTRATORS","X",{"$f":"IF(ISNUMBER(FIND(\"MEDICAID\",A1959)),\"X\",\"\")","v":""},{"$f":"IF(ISNUMBER(FIND(\"MEDICARE\",A1959)),\"X\",\"\")","v":""},{"$f":"IF(ISNUMBER(FIND(\"BC/BS\",#REF!)),\"X\",\"\")","v":""}]
["KENTUCKY PIP CLAIMS BRANCH (AUTO-OWNERS INSURANCE COMPANY)",null,{"$f":"IF(ISNUMBER(FIND(\"MEDICAID\",A1960)),\"X\",\"\")","v":""},{"$f":"IF(ISNUMBER(FIND(\"MEDICARE\",A1960)),\"X\",\"\")","v":""},{"$f":"IF(ISNUMBER(FIND(\"BC/BS\",#REF!)),\"X\",\"\")","v":""},null,"X"]
["KENTUCKY WC CLAIMS BRANCH (AUTO-OWNERS INSURANCE COMPANY)",null,{"$f":"IF(ISNUMBER(FIND(\"MEDICAID\",A1961)),\"X\",\"\")","v":""},{"$f":"IF(ISNUMBER(FIND(\"MEDICARE\",A1961)),\"X\",\"\")","v":""},{"$f":"IF(ISNUMBER(FIND(\"BC/BS\",#REF!)),\"X\",\"\")","v":""},"X"]
["KERN HEALTH SYSTEMS (KHS)","X",{"$f":"IF(ISNUMBER(FIND(\"MEDICAID\",A1962)),\"X\",\"\")","v":""},{"$f":"IF(ISNUMBER(FIND(\"MEDICARE\",A1962)),\"X\",\"\")","v":""},{"$f":"IF(ISNUMBER(FIND(\"BC/BS\",#REF!)),\"X\",\"\")","v":""}]
["KESSLER CONTAINERS LTD (IPMG)","X",{"$f":"IF(ISNUMBER(FIND(\"MEDICAID\",A1963)),\"X\",\"\")","v":""},{"$f":"IF(ISNUMBER(FIND(\"MEDICARE\",A1963)),\"X\",\"\")","v":""},{"$f":"IF(ISNUMBER(FIND(\"BC/BS\",#REF!)),\"X\",\"\")","v":""}]
["KEVCOR CONTRACTING CORP (SENTARA)","X",{"$f":"IF(ISNUMBER(FIND(\"MEDICAID\",A1964)),\"X\",\"\")","v":""},{"$f":"IF(ISNUMBER(FIND(\"MEDICARE\",A1964)),\"X\",\"\")","v":""},{"$f":"IF(ISNUMBER(FIND(\"BC/BS\",#REF!)),\"X\",\"\")","v":""}]
["KEY BENEFIT ADMINISTRATORS","X",{"$f":"IF(ISNUMBER(FIND(\"MEDICAID\",A1965)),\"X\",\"\")","v":""},{"$f":"IF(ISNUMBER(FIND(\"MEDICARE\",A1965)),\"X\",\"\")","v":""},{"$f":"IF(ISNUMBER(FIND(\"BC/BS\",#REF!)),\"X\",\"\")","v":""}]
["KEY MEDICAL GROUP","X",{"$f":"IF(ISNUMBER(FIND(\"MEDICAID\",A1966)),\"X\",\"\")","v":""},{"$f":"IF(ISNUMBER(FIND(\"MEDICARE\",A1966)),\"X\",\"\")","v":""},{"$f":"IF(ISNUMBER(FIND(\"BC/BS\",#REF!)),\"X\",\"\")","v":""}]
["KEY RISK","X",{"$f":"IF(ISNUMBER(FIND(\"MEDICAID\",A1967)),\"X\",\"\")","v":""},{"$f":"IF(ISNUMBER(FIND(\"MEDICARE\",A1967)),\"X\",\"\")","v":""},{"$f":"IF(ISNUMBER(FIND(\"BC/BS\",#REF!)),\"X\",\"\")","v":""}]
["KEYSTONE FIRST","X",{"$f":"IF(ISNUMBER(FIND(\"MEDICAID\",A1968)),\"X\",\"\")","v":""},{"$f":"IF(ISNUMBER(FIND(\"MEDICARE\",A1968)),\"X\",\"\")","v":""},"X"]
["KEYSTONE FIRST COMMUNITY HEALTHCHOICES","X",{"$f":"IF(ISNUMBER(FIND(\"MEDICAID\",A1969)),\"X\",\"\")","v":""},{"$f":"IF(ISNUMBER(FIND(\"MEDICARE\",A1969)),\"X\",\"\")","v":""},"X"]
["KEYSTONE FIRST VIP CHOICE","X",{"$f":"IF(ISNUMBER(FIND(\"MEDICAID\",A1970)),\"X\",\"\")","v":""},{"$f":"IF(ISNUMBER(FIND(\"MEDICARE\",A1970)),\"X\",\"\")","v":""},"X"]
["KEYSTONE FIRST VIP CHOICE KEYSTONE FIRST CHC","X",{"$f":"IF(ISNUMBER(FIND(\"MEDICAID\",A1971)),\"X\",\"\")","v":""},{"$f":"IF(ISNUMBER(FIND(\"MEDICARE\",A1971)),\"X\",\"\")","v":""},"X"]
["KEYSTONE TECHNOLOGIES EBPT (90 DEGREE BENEFITS HOUSTON - ENTRUST)","X",{"$f":"IF(ISNUMBER(FIND(\"MEDICAID\",A1972)),\"X\",\"\")","v":""},{"$f":"IF(ISNUMBER(FIND(\"MEDICARE\",A1972)),\"X\",\"\")","v":""},{"$f":"IF(ISNUMBER(FIND(\"BC/BS\",#REF!)),\"X\",\"\")","v":""}]
["KIDZPARTNERS","X",{"$f":"IF(ISNUMBER(FIND(\"MEDICAID\",A1973)),\"X\",\"\")","v":""},{"$f":"IF(ISNUMBER(FIND(\"MEDICARE\",A1973)),\"X\",\"\")","v":""},{"$f":"IF(ISNUMBER(FIND(\"BC/BS\",#REF!)),\"X\",\"\")","v":""}]
["KIMMINS CORP (GROUP & PENSION ADMIN)","X",{"$f":"IF(ISNUMBER(FIND(\"MEDICAID\",A1974)),\"X\",\"\")","v":""},{"$f":"IF(ISNUMBER(FIND(\"MEDICARE\",A1974)),\"X\",\"\")","v":""},{"$f":"IF(ISNUMBER(FIND(\"BC/BS\",#REF!)),\"X\",\"\")","v":""}]
["KING'S CONSTRUCTION (IPMG)",null,{"$f":"IF(ISNUMBER(FIND(\"MEDICAID\",A1975)),\"X\",\"\")","v":""},{"$f":"IF(ISNUMBER(FIND(\"MEDICARE\",A1975)),\"X\",\"\")","v":""},{"$f":"IF(ISNUMBER(FIND(\"BC/BS\",#REF!)),\"X\",\"\")","v":""}]
["KING'S HAWAIIAN MEDICAL PLAN (AMERIBEN)",null,{"$f":"IF(ISNUMBER(FIND(\"MEDICAID\",A1976)),\"X\",\"\")","v":""},{"$f":"IF(ISNUMBER(FIND(\"MEDICARE\",A1976)),\"X\",\"\")","v":""},{"$f":"IF(ISNUMBER(FIND(\"BC/BS\",#REF!)),\"X\",\"\")","v":""}]
["KING'S SEAFOOD COMPANY LLC (HEALTHCOMP)","X",{"$f":"IF(ISNUMBER(FIND(\"MEDICAID\",A1977)),\"X\",\"\")","v":""},{"$f":"IF(ISNUMBER(FIND(\"MEDICARE\",A1977)),\"X\",\"\")","v":""},{"$f":"IF(ISNUMBER(FIND(\"BC/BS\",#REF!)),\"X\",\"\")","v":""}]
["KINSEL MOTORS EBPT (90 DEGREE BENEFITS HOUSTON - ENTRUST)",null,{"$f":"IF(ISNUMBER(FIND(\"MEDICAID\",A1978)),\"X\",\"\")","v":""},{"$f":"IF(ISNUMBER(FIND(\"MEDICARE\",A1978)),\"X\",\"\")","v":""},{"$f":"IF(ISNUMBER(FIND(\"BC/BS\",#REF!)),\"X\",\"\")","v":""}]
["KISER HARRISS (90 DEGREE BENEFITS NORTH CAROLINA - CORPORATE BENEFIT SERVICES)",null,{"$f":"IF(ISNUMBER(FIND(\"MEDICAID\",A1979)),\"X\",\"\")","v":""},{"$f":"IF(ISNUMBER(FIND(\"MEDICARE\",A1979)),\"X\",\"\")","v":""},{"$f":"IF(ISNUMBER(FIND(\"BC/BS\",#REF!)),\"X\",\"\")","v":""}]
["KISWIRE (90 DEGREE BENEFITS NORTH CAROLINA - CORPORATE BENEFIT SERVICES)",null,{"$f":"IF(ISNUMBER(FIND(\"MEDICAID\",A1980)),\"X\",\"\")","v":""},{"$f":"IF(ISNUMBER(FIND(\"MEDICARE\",A1980)),\"X\",\"\")","v":""},{"$f":"IF(ISNUMBER(FIND(\"BC/BS\",#REF!)),\"X\",\"\")","v":""}]
["KLEBERG COUNTY EBPT (90 DEGREE BENEFITS HOUSTON - ENTRUST)",null,{"$f":"IF(ISNUMBER(FIND(\"MEDICAID\",A1981)),\"X\",\"\")","v":""},{"$f":"IF(ISNUMBER(FIND(\"MEDICARE\",A1981)),\"X\",\"\")","v":""},{"$f":"IF(ISNUMBER(FIND(\"BC/BS\",#REF!)),\"X\",\"\")","v":""}]
["KMK METAL FABRICATORS (IPMG)","X",{"$f":"IF(ISNUMBER(FIND(\"MEDICAID\",A1982)),\"X\",\"\")","v":""},{"$f":"IF(ISNUMBER(FIND(\"MEDICARE\",A1982)),\"X\",\"\")","v":""},{"$f":"IF(ISNUMBER(FIND(\"BC/BS\",#REF!)),\"X\",\"\")","v":""}]
["KNIGHT TRUCKING (IPMG)","X",{"$f":"IF(ISNUMBER(FIND(\"MEDICAID\",A1983)),\"X\",\"\")","v":""},{"$f":"IF(ISNUMBER(FIND(\"MEDICARE\",A1983)),\"X\",\"\")","v":""},{"$f":"IF(ISNUMBER(FIND(\"BC/BS\",#REF!)),\"X\",\"\")","v":""}]
["KOENIG (MAESTRO HEALTH)","X",{"$f":"IF(ISNUMBER(FIND(\"MEDICAID\",A1984)),\"X\",\"\")","v":""},{"$f":"IF(ISNUMBER(FIND(\"MEDICARE\",A1984)),\"X\",\"\")","v":""},{"$f":"IF(ISNUMBER(FIND(\"BC/BS\",#REF!)),\"X\",\"\")","v":""}]
["KPOST EBPT (90 DEGREE BENEFITS HOUSTON - ENTRUST)",null,{"$f":"IF(ISNUMBER(FIND(\"MEDICAID\",A1985)),\"X\",\"\")","v":""},{"$f":"IF(ISNUMBER(FIND(\"MEDICARE\",A1985)),\"X\",\"\")","v":""},{"$f":"IF(ISNUMBER(FIND(\"BC/BS\",#REF!)),\"X\",\"\")","v":""}]
["KRIGER CONSTRUCTION INC (GEISINGER HEALTH PLAN)","X",{"$f":"IF(ISNUMBER(FIND(\"MEDICAID\",A1986)),\"X\",\"\")","v":""},{"$f":"IF(ISNUMBER(FIND(\"MEDICARE\",A1986)),\"X\",\"\")","v":""},{"$f":"IF(ISNUMBER(FIND(\"BC/BS\",#REF!)),\"X\",\"\")","v":""}]
["KS PLAN ADMINISTRATATORS LLC","X",{"$f":"IF(ISNUMBER(FIND(\"MEDICAID\",A1987)),\"X\",\"\")","v":""},{"$f":"IF(ISNUMBER(FIND(\"MEDICARE\",A1987)),\"X\",\"\")","v":""},{"$f":"IF(ISNUMBER(FIND(\"BC/BS\",#REF!)),\"X\",\"\")","v":""}]
["KSI CONVEYORS EBPT (90 DEGREE BENEFITS HOUSTON - ENTRUST)",null,{"$f":"IF(ISNUMBER(FIND(\"MEDICAID\",A1988)),\"X\",\"\")","v":""},{"$f":"IF(ISNUMBER(FIND(\"MEDICARE\",A1988)),\"X\",\"\")","v":""},{"$f":"IF(ISNUMBER(FIND(\"BC/BS\",#REF!)),\"X\",\"\")","v":""}]
["KSKJ LIFE AMERICAN SLOVENIAN CATHOLIC (IAS ADMIN)","X",{"$f":"IF(ISNUMBER(FIND(\"MEDICAID\",A1989)),\"X\",\"\")","v":""},{"$f":"IF(ISNUMBER(FIND(\"MEDICARE\",A1989)),\"X\",\"\")","v":""},{"$f":"IF(ISNUMBER(FIND(\"BC/BS\",#REF!)),\"X\",\"\")","v":""}]
["KURTZ BROS INC (THE HEALTH PLAN)",null,{"$f":"IF(ISNUMBER(FIND(\"MEDICAID\",A1990)),\"X\",\"\")","v":""},{"$f":"IF(ISNUMBER(FIND(\"MEDICARE\",A1990)),\"X\",\"\")","v":""},{"$f":"IF(ISNUMBER(FIND(\"BC/BS\",#REF!)),\"X\",\"\")","v":""}]
["KUSTOM BLENDING LLC HEALTH (GROUP & PENSION ADMIN)","X",{"$f":"IF(ISNUMBER(FIND(\"MEDICAID\",A1991)),\"X\",\"\")","v":""},{"$f":"IF(ISNUMBER(FIND(\"MEDICARE\",A1991)),\"X\",\"\")","v":""},{"$f":"IF(ISNUMBER(FIND(\"BC/BS\",#REF!)),\"X\",\"\")","v":""}]
["KYOCERA (HEALTHCOMP)",null,{"$f":"IF(ISNUMBER(FIND(\"MEDICAID\",A1992)),\"X\",\"\")","v":""},{"$f":"IF(ISNUMBER(FIND(\"MEDICARE\",A1992)),\"X\",\"\")","v":""},{"$f":"IF(ISNUMBER(FIND(\"BC/BS\",#REF!)),\"X\",\"\")","v":""}]
["KYRENE ELEM SCHOOL DISTRICT (AMERIBEN)",null,{"$f":"IF(ISNUMBER(FIND(\"MEDICAID\",A1993)),\"X\",\"\")","v":""},{"$f":"IF(ISNUMBER(FIND(\"MEDICARE\",A1993)),\"X\",\"\")","v":""},{"$f":"IF(ISNUMBER(FIND(\"BC/BS\",#REF!)),\"X\",\"\")","v":""}]
["L & L PRODUCTS INC (ASR HEALTH BENEFITS)","X",{"$f":"IF(ISNUMBER(FIND(\"MEDICAID\",A1994)),\"X\",\"\")","v":""},{"$f":"IF(ISNUMBER(FIND(\"MEDICARE\",A1994)),\"X\",\"\")","v":""},{"$f":"IF(ISNUMBER(FIND(\"BC/BS\",#REF!)),\"X\",\"\")","v":""}]
["L D AMORY AND CO INC (SENTARA)",null,{"$f":"IF(ISNUMBER(FIND(\"MEDICAID\",A1995)),\"X\",\"\")","v":""},{"$f":"IF(ISNUMBER(FIND(\"MEDICARE\",A1995)),\"X\",\"\")","v":""},{"$f":"IF(ISNUMBER(FIND(\"BC/BS\",#REF!)),\"X\",\"\")","v":""}]
["LA CARE HEALTH PLAN","X",{"$f":"IF(ISNUMBER(FIND(\"MEDICAID\",A1996)),\"X\",\"\")","v":""},{"$f":"IF(ISNUMBER(FIND(\"MEDICARE\",A1996)),\"X\",\"\")","v":""},{"$f":"IF(ISNUMBER(FIND(\"BC/BS\",#REF!)),\"X\",\"\")","v":""}]
["LA MONTANITA ASO (PRESBYTERIAN HEALTH PLAN)","X",{"$f":"IF(ISNUMBER(FIND(\"MEDICAID\",A1997)),\"X\",\"\")","v":""},{"$f":"IF(ISNUMBER(FIND(\"MEDICARE\",A1997)),\"X\",\"\")","v":""},{"$f":"IF(ISNUMBER(FIND(\"BC/BS\",#REF!)),\"X\",\"\")","v":""}]
["LA POSADA AT PARK CENTRE INC (AMERIBEN)",null,{"$f":"IF(ISNUMBER(FIND(\"MEDICAID\",A1998)),\"X\",\"\")","v":""},{"$f":"IF(ISNUMBER(FIND(\"MEDICARE\",A1998)),\"X\",\"\")","v":""},{"$f":"IF(ISNUMBER(FIND(\"BC/BS\",#REF!)),\"X\",\"\")","v":""}]
["LA SALLE MEDICAL ASSOCIATES IPA",null,{"$f":"IF(ISNUMBER(FIND(\"MEDICAID\",A1999)),\"X\",\"\")","v":""},{"$f":"IF(ISNUMBER(FIND(\"MEDICARE\",A1999)),\"X\",\"\")","v":""},{"$f":"IF(ISNUMBER(FIND(\"BC/BS\",#REF!)),\"X\",\"\")","v":""}]
["LABORERS' AND OPERATORING ENGINEERS' UTILITY","X",{"$f":"IF(ISNUMBER(FIND(\"MEDICAID\",A2000)),\"X\",\"\")","v":""},{"$f":"IF(ISNUMBER(FIND(\"MEDICARE\",A2000)),\"X\",\"\")","v":""},{"$f":"IF(ISNUMBER(FIND(\"BC/BS\",#REF!)),\"X\",\"\")","v":""}]
["LABORER'S LOCAL 157 HEALTH BENEFIT FUND (CDPHP)","X",{"$f":"IF(ISNUMBER(FIND(\"MEDICAID\",A2001)),\"X\",\"\")","v":""},{"$f":"IF(ISNUMBER(FIND(\"MEDICARE\",A2001)),\"X\",\"\")","v":""},{"$f":"IF(ISNUMBER(FIND(\"BC/BS\",#REF!)),\"X\",\"\")","v":""}]
["LABORERS' LOCAL 190 WELFARE FUND (MVP HEALTH CARE)","X",{"$f":"IF(ISNUMBER(FIND(\"MEDICAID\",A2002)),\"X\",\"\")","v":""},{"$f":"IF(ISNUMBER(FIND(\"MEDICARE\",A2002)),\"X\",\"\")","v":""},{"$f":"IF(ISNUMBER(FIND(\"BC/BS\",#REF!)),\"X\",\"\")","v":""}]
["LACKAWANNA COUNTY (GEISINGER HEALTH PLAN)","X",{"$f":"IF(ISNUMBER(FIND(\"MEDICAID\",A2003)),\"X\",\"\")","v":""},{"$f":"IF(ISNUMBER(FIND(\"MEDICARE\",A2003)),\"X\",\"\")","v":""},{"$f":"IF(ISNUMBER(FIND(\"BC/BS\",#REF!)),\"X\",\"\")","v":""}]
["LACKS ENTERPRISES INC (ASR HEALTH BENEFITS)","X",{"$f":"IF(ISNUMBER(FIND(\"MEDICAID\",A2004)),\"X\",\"\")","v":""},{"$f":"IF(ISNUMBER(FIND(\"MEDICARE\",A2004)),\"X\",\"\")","v":""},{"$f":"IF(ISNUMBER(FIND(\"BC/BS\",#REF!)),\"X\",\"\")","v":""}]
["LADEGAST & HEFFNER CLAIMS SERVICE INC",null,{"$f":"IF(ISNUMBER(FIND(\"MEDICAID\",A2005)),\"X\",\"\")","v":""},{"$f":"IF(ISNUMBER(FIND(\"MEDICARE\",A2005)),\"X\",\"\")","v":""},{"$f":"IF(ISNUMBER(FIND(\"BC/BS\",#REF!)),\"X\",\"\")","v":""}]
["LAKE COUNTY PHYSICIANS ASSOCIATION (INNOVISTA HEALTH)","X",{"$f":"IF(ISNUMBER(FIND(\"MEDICAID\",A2006)),\"X\",\"\")","v":""},{"$f":"IF(ISNUMBER(FIND(\"MEDICARE\",A2006)),\"X\",\"\")","v":""},{"$f":"IF(ISNUMBER(FIND(\"BC/BS\",#REF!)),\"X\",\"\")","v":""}]
["LAKELAND CARE INC (WPS)","X",{"$f":"IF(ISNUMBER(FIND(\"MEDICAID\",A2007)),\"X\",\"\")","v":""},{"$f":"IF(ISNUMBER(FIND(\"MEDICARE\",A2007)),\"X\",\"\")","v":""},{"$f":"IF(ISNUMBER(FIND(\"BC/BS\",#REF!)),\"X\",\"\")","v":""}]
["LAKELAND REGION PIP BRANCH (AUTO-OWNERS INSURANCE COMPANY)","X",{"$f":"IF(ISNUMBER(FIND(\"MEDICAID\",A2008)),\"X\",\"\")","v":""},{"$f":"IF(ISNUMBER(FIND(\"MEDICARE\",A2008)),\"X\",\"\")","v":""},{"$f":"IF(ISNUMBER(FIND(\"BC/BS\",#REF!)),\"X\",\"\")","v":""},null,"X"]
["LAND HOME FINANCIAL SERVICES (HEALTHCOMP)",null,{"$f":"IF(ISNUMBER(FIND(\"MEDICAID\",A2009)),\"X\",\"\")","v":""},{"$f":"IF(ISNUMBER(FIND(\"MEDICARE\",A2009)),\"X\",\"\")","v":""},{"$f":"IF(ISNUMBER(FIND(\"BC/BS\",#REF!)),\"X\",\"\")","v":""}]
["LANGLEY FEDERAL CREDIT UNION (SENTARA)","X",{"$f":"IF(ISNUMBER(FIND(\"MEDICAID\",A2010)),\"X\",\"\")","v":""},{"$f":"IF(ISNUMBER(FIND(\"MEDICARE\",A2010)),\"X\",\"\")","v":""},{"$f":"IF(ISNUMBER(FIND(\"BC/BS\",#REF!)),\"X\",\"\")","v":""}]
["LAS VEGAS VA MEDICAL CENTER","X",{"$f":"IF(ISNUMBER(FIND(\"MEDICAID\",A2011)),\"X\",\"\")","v":""},{"$f":"IF(ISNUMBER(FIND(\"MEDICARE\",A2011)),\"X\",\"\")","v":""},{"$f":"IF(ISNUMBER(FIND(\"BC/BS\",#REF!)),\"X\",\"\")","v":""}]
["LASERAWAY LLC (HEALTHCOMP)",null,{"$f":"IF(ISNUMBER(FIND(\"MEDICAID\",A2012)),\"X\",\"\")","v":""},{"$f":"IF(ISNUMBER(FIND(\"MEDICARE\",A2012)),\"X\",\"\")","v":""},{"$f":"IF(ISNUMBER(FIND(\"BC/BS\",#REF!)),\"X\",\"\")","v":""}]
["LAURENS COUNTY BOARD OF COMMISSIONERS (CORE MANAGEMENT RESOURCES)","X",{"$f":"IF(ISNUMBER(FIND(\"MEDICAID\",A2013)),\"X\",\"\")","v":""},{"$f":"IF(ISNUMBER(FIND(\"MEDICARE\",A2013)),\"X\",\"\")","v":""},{"$f":"IF(ISNUMBER(FIND(\"BC/BS\",#REF!)),\"X\",\"\")","v":""}]
["LAWNDALE CHRISTIAN HEALTH CENTER (INNOVISTA HEALTH)","X",{"$f":"IF(ISNUMBER(FIND(\"MEDICAID\",A2014)),\"X\",\"\")","v":""},{"$f":"IF(ISNUMBER(FIND(\"MEDICARE\",A2014)),\"X\",\"\")","v":""},{"$f":"IF(ISNUMBER(FIND(\"BC/BS\",#REF!)),\"X\",\"\")","v":""}]
["LCM INVESTMENTS HOLDINGS II LLC (GROUP & PENSION ADMIN)","X",{"$f":"IF(ISNUMBER(FIND(\"MEDICAID\",A2015)),\"X\",\"\")","v":""},{"$f":"IF(ISNUMBER(FIND(\"MEDICARE\",A2015)),\"X\",\"\")","v":""},{"$f":"IF(ISNUMBER(FIND(\"BC/BS\",#REF!)),\"X\",\"\")","v":""}]
["LDI PHARMACY BENEFIT MANAGEMENT SERVICES (OPTUMRX)",null,{"$f":"IF(ISNUMBER(FIND(\"MEDICAID\",A2016)),\"X\",\"\")","v":""},{"$f":"IF(ISNUMBER(FIND(\"MEDICARE\",A2016)),\"X\",\"\")","v":""},{"$f":"IF(ISNUMBER(FIND(\"BC/BS\",#REF!)),\"X\",\"\")","v":""}]
["LE CREUSET OF AMERICA INC (90 DEGREE BENEFITS NORTH CAROLINA - CORPORATE BENEFIT SERVICES)","X",{"$f":"IF(ISNUMBER(FIND(\"MEDICAID\",A2017)),\"X\",\"\")","v":""},{"$f":"IF(ISNUMBER(FIND(\"MEDICARE\",A2017)),\"X\",\"\")","v":""},{"$f":"IF(ISNUMBER(FIND(\"BC/BS\",#REF!)),\"X\",\"\")","v":""}]
["LEADING EDGE ADMINISTRATORS","X",{"$f":"IF(ISNUMBER(FIND(\"MEDICAID\",A2018)),\"X\",\"\")","v":""},{"$f":"IF(ISNUMBER(FIND(\"MEDICARE\",A2018)),\"X\",\"\")","v":""},{"$f":"IF(ISNUMBER(FIND(\"BC/BS\",#REF!)),\"X\",\"\")","v":""}]
["LEASE CRUTCHER LEWIS (HEALTHCOMP)","X",{"$f":"IF(ISNUMBER(FIND(\"MEDICAID\",A2019)),\"X\",\"\")","v":""},{"$f":"IF(ISNUMBER(FIND(\"MEDICARE\",A2019)),\"X\",\"\")","v":""},{"$f":"IF(ISNUMBER(FIND(\"BC/BS\",#REF!)),\"X\",\"\")","v":""}]
["LEBANON VA MEDICAL CENTER","X",{"$f":"IF(ISNUMBER(FIND(\"MEDICAID\",A2020)),\"X\",\"\")","v":""},{"$f":"IF(ISNUMBER(FIND(\"MEDICARE\",A2020)),\"X\",\"\")","v":""},{"$f":"IF(ISNUMBER(FIND(\"BC/BS\",#REF!)),\"X\",\"\")","v":""}]
["LECLERC FOODS USA (GROUP & PENSION ADMIN)",null,{"$f":"IF(ISNUMBER(FIND(\"MEDICAID\",A2021)),\"X\",\"\")","v":""},{"$f":"IF(ISNUMBER(FIND(\"MEDICARE\",A2021)),\"X\",\"\")","v":""},{"$f":"IF(ISNUMBER(FIND(\"BC/BS\",#REF!)),\"X\",\"\")","v":""}]
["LEDGE LOUNGER EBPT (90 DEGREE BENEFITS HOUSTON - ENTRUST)",null,{"$f":"IF(ISNUMBER(FIND(\"MEDICAID\",A2022)),\"X\",\"\")","v":""},{"$f":"IF(ISNUMBER(FIND(\"MEDICARE\",A2022)),\"X\",\"\")","v":""},{"$f":"IF(ISNUMBER(FIND(\"BC/BS\",#REF!)),\"X\",\"\")","v":""}]
["LEGACY AUTO GROUP EBPT (90 DEGREE BENEFITS HOUSTON - ENTRUST)",null,{"$f":"IF(ISNUMBER(FIND(\"MEDICAID\",A2023)),\"X\",\"\")","v":""},{"$f":"IF(ISNUMBER(FIND(\"MEDICARE\",A2023)),\"X\",\"\")","v":""},{"$f":"IF(ISNUMBER(FIND(\"BC/BS\",#REF!)),\"X\",\"\")","v":""}]
["LEGAL AID SOCIETY OF EAST (SENTARA)","X",{"$f":"IF(ISNUMBER(FIND(\"MEDICAID\",A2024)),\"X\",\"\")","v":""},{"$f":"IF(ISNUMBER(FIND(\"MEDICARE\",A2024)),\"X\",\"\")","v":""},{"$f":"IF(ISNUMBER(FIND(\"BC/BS\",#REF!)),\"X\",\"\")","v":""}]
["LEITH INC (MAESTRO HEALTH)",null,{"$f":"IF(ISNUMBER(FIND(\"MEDICAID\",A2025)),\"X\",\"\")","v":""},{"$f":"IF(ISNUMBER(FIND(\"MEDICARE\",A2025)),\"X\",\"\")","v":""},{"$f":"IF(ISNUMBER(FIND(\"BC/BS\",#REF!)),\"X\",\"\")","v":""}]
["LEITNER-POMA OF AMERICA (GROUP & PENSION ADMIN)","X",{"$f":"IF(ISNUMBER(FIND(\"MEDICAID\",A2026)),\"X\",\"\")","v":""},{"$f":"IF(ISNUMBER(FIND(\"MEDICARE\",A2026)),\"X\",\"\")","v":""},{"$f":"IF(ISNUMBER(FIND(\"BC/BS\",#REF!)),\"X\",\"\")","v":""}]
["LEXINGTON CENTER (CDPHP)","X",{"$f":"IF(ISNUMBER(FIND(\"MEDICAID\",A2027)),\"X\",\"\")","v":""},{"$f":"IF(ISNUMBER(FIND(\"MEDICARE\",A2027)),\"X\",\"\")","v":""},{"$f":"IF(ISNUMBER(FIND(\"BC/BS\",#REF!)),\"X\",\"\")","v":""}]
["LEXINGTON VA MEDICAL CENTER",null,{"$f":"IF(ISNUMBER(FIND(\"MEDICAID\",A2028)),\"X\",\"\")","v":""},{"$f":"IF(ISNUMBER(FIND(\"MEDICARE\",A2028)),\"X\",\"\")","v":""},{"$f":"IF(ISNUMBER(FIND(\"BC/BS\",#REF!)),\"X\",\"\")","v":""}]
["LEXINGTON VA MEDICAL CENTER-COOPER","X",{"$f":"IF(ISNUMBER(FIND(\"MEDICAID\",A2029)),\"X\",\"\")","v":""},{"$f":"IF(ISNUMBER(FIND(\"MEDICARE\",A2029)),\"X\",\"\")","v":""},{"$f":"IF(ISNUMBER(FIND(\"BC/BS\",#REF!)),\"X\",\"\")","v":""}]
["LEXINGTON VA MEDICAL CENTER-LEESTOWN","X",{"$f":"IF(ISNUMBER(FIND(\"MEDICAID\",A2030)),\"X\",\"\")","v":""},{"$f":"IF(ISNUMBER(FIND(\"MEDICARE\",A2030)),\"X\",\"\")","v":""},{"$f":"IF(ISNUMBER(FIND(\"BC/BS\",#REF!)),\"X\",\"\")","v":""}]
["LIBERTY DENTAL PLAN","X",{"$f":"IF(ISNUMBER(FIND(\"MEDICAID\",A2031)),\"X\",\"\")","v":""},{"$f":"IF(ISNUMBER(FIND(\"MEDICARE\",A2031)),\"X\",\"\")","v":""},{"$f":"IF(ISNUMBER(FIND(\"BC/BS\",#REF!)),\"X\",\"\")","v":""}]
["LIBERTY DISTRIBUTORS (THE HEALTH PLAN)","X",{"$f":"IF(ISNUMBER(FIND(\"MEDICAID\",A2032)),\"X\",\"\")","v":""},{"$f":"IF(ISNUMBER(FIND(\"MEDICARE\",A2032)),\"X\",\"\")","v":""},{"$f":"IF(ISNUMBER(FIND(\"BC/BS\",#REF!)),\"X\",\"\")","v":""}]
["LIBERTY HEALTHSHARE","X",{"$f":"IF(ISNUMBER(FIND(\"MEDICAID\",A2033)),\"X\",\"\")","v":""},{"$f":"IF(ISNUMBER(FIND(\"MEDICARE\",A2033)),\"X\",\"\")","v":""},{"$f":"IF(ISNUMBER(FIND(\"BC/BS\",#REF!)),\"X\",\"\")","v":""}]
["LIBERTY MUTUAL GROUP","X",{"$f":"IF(ISNUMBER(FIND(\"MEDICAID\",A2034)),\"X\",\"\")","v":""},{"$f":"IF(ISNUMBER(FIND(\"MEDICARE\",A2034)),\"X\",\"\")","v":""},{"$f":"IF(ISNUMBER(FIND(\"BC/BS\",#REF!)),\"X\",\"\")","v":""},"X","X"]
["LIBERTY NATIONAL LIFE INSURANCE COMPANY","X",{"$f":"IF(ISNUMBER(FIND(\"MEDICAID\",A2035)),\"X\",\"\")","v":""},{"$f":"IF(ISNUMBER(FIND(\"MEDICARE\",A2035)),\"X\",\"\")","v":""},{"$f":"IF(ISNUMBER(FIND(\"BC/BS\",#REF!)),\"X\",\"\")","v":""}]
["LIBERTY REGIONAL MEDICAL CENTER (CORE MANAGEMENT RESOURCES)","X",{"$f":"IF(ISNUMBER(FIND(\"MEDICAID\",A2036)),\"X\",\"\")","v":""},{"$f":"IF(ISNUMBER(FIND(\"MEDICARE\",A2036)),\"X\",\"\")","v":""},{"$f":"IF(ISNUMBER(FIND(\"BC/BS\",#REF!)),\"X\",\"\")","v":""}]
["LIFE AND SPECIALTY VENTURES (BCBS OF RHODE ISLAND)","X",{"$f":"IF(ISNUMBER(FIND(\"MEDICAID\",A2037)),\"X\",\"\")","v":""},{"$f":"IF(ISNUMBER(FIND(\"MEDICARE\",A2037)),\"X\",\"\")","v":""},"X"]
["LIFE CHURCH (WEBTPA)","X",{"$f":"IF(ISNUMBER(FIND(\"MEDICAID\",A2038)),\"X\",\"\")","v":""},{"$f":"IF(ISNUMBER(FIND(\"MEDICARE\",A2038)),\"X\",\"\")","v":""},{"$f":"IF(ISNUMBER(FIND(\"BC/BS\",#REF!)),\"X\",\"\")","v":""}]
["LIFE PITTSBURGH",null,{"$f":"IF(ISNUMBER(FIND(\"MEDICAID\",A2039)),\"X\",\"\")","v":""},{"$f":"IF(ISNUMBER(FIND(\"MEDICARE\",A2039)),\"X\",\"\")","v":""},{"$f":"IF(ISNUMBER(FIND(\"BC/BS\",#REF!)),\"X\",\"\")","v":""}]
["LIFESPRING HOME CARE AND HOSPICE LLC (WEBTPA)","X",{"$f":"IF(ISNUMBER(FIND(\"MEDICAID\",A2040)),\"X\",\"\")","v":""},{"$f":"IF(ISNUMBER(FIND(\"MEDICARE\",A2040)),\"X\",\"\")","v":""},{"$f":"IF(ISNUMBER(FIND(\"BC/BS\",#REF!)),\"X\",\"\")","v":""}]
["LIFESTYLE HEALTH PLANS","X",{"$f":"IF(ISNUMBER(FIND(\"MEDICAID\",A2041)),\"X\",\"\")","v":""},{"$f":"IF(ISNUMBER(FIND(\"MEDICARE\",A2041)),\"X\",\"\")","v":""},{"$f":"IF(ISNUMBER(FIND(\"BC/BS\",#REF!)),\"X\",\"\")","v":""}]
["LIFEWELL HEALTH PLANS",null,{"$f":"IF(ISNUMBER(FIND(\"MEDICAID\",A2042)),\"X\",\"\")","v":""},{"$f":"IF(ISNUMBER(FIND(\"MEDICARE\",A2042)),\"X\",\"\")","v":""},{"$f":"IF(ISNUMBER(FIND(\"BC/BS\",#REF!)),\"X\",\"\")","v":""}]
["LIFEWISE ASSURANCE COMPANY (PREMERA)","X",{"$f":"IF(ISNUMBER(FIND(\"MEDICAID\",A2043)),\"X\",\"\")","v":""},{"$f":"IF(ISNUMBER(FIND(\"MEDICARE\",A2043)),\"X\",\"\")","v":""},"X"]
["LIFEWISE HEALTH PLAN OF WASHINGTON (PREMERA)","X",{"$f":"IF(ISNUMBER(FIND(\"MEDICAID\",A2044)),\"X\",\"\")","v":""},{"$f":"IF(ISNUMBER(FIND(\"MEDICARE\",A2044)),\"X\",\"\")","v":""},"X"]
["LIFEWISE OF OREGON (PREMERA)","X",{"$f":"IF(ISNUMBER(FIND(\"MEDICAID\",A2045)),\"X\",\"\")","v":""},{"$f":"IF(ISNUMBER(FIND(\"MEDICARE\",A2045)),\"X\",\"\")","v":""},"X"]
["LIFEWISE OF WASHINGTON (PREMERA)","X",{"$f":"IF(ISNUMBER(FIND(\"MEDICAID\",A2046)),\"X\",\"\")","v":""},{"$f":"IF(ISNUMBER(FIND(\"MEDICARE\",A2046)),\"X\",\"\")","v":""},"X"]
["LIGHTHOUSE INSTRUMENTS (SENTARA)","X",{"$f":"IF(ISNUMBER(FIND(\"MEDICAID\",A2047)),\"X\",\"\")","v":""},{"$f":"IF(ISNUMBER(FIND(\"MEDICARE\",A2047)),\"X\",\"\")","v":""},{"$f":"IF(ISNUMBER(FIND(\"BC/BS\",#REF!)),\"X\",\"\")","v":""}]
["LIMONEIRA (HEALTHCOMP)",null,{"$f":"IF(ISNUMBER(FIND(\"MEDICAID\",A2048)),\"X\",\"\")","v":""},{"$f":"IF(ISNUMBER(FIND(\"MEDICARE\",A2048)),\"X\",\"\")","v":""},{"$f":"IF(ISNUMBER(FIND(\"BC/BS\",#REF!)),\"X\",\"\")","v":""}]
["LINCOLN HERITAGE LIFE (IAS ADMIN)","X",{"$f":"IF(ISNUMBER(FIND(\"MEDICAID\",A2049)),\"X\",\"\")","v":""},{"$f":"IF(ISNUMBER(FIND(\"MEDICARE\",A2049)),\"X\",\"\")","v":""},{"$f":"IF(ISNUMBER(FIND(\"BC/BS\",#REF!)),\"X\",\"\")","v":""}]
["LINCOLN SURGICAL (IPMG)","X",{"$f":"IF(ISNUMBER(FIND(\"MEDICAID\",A2050)),\"X\",\"\")","v":""},{"$f":"IF(ISNUMBER(FIND(\"MEDICARE\",A2050)),\"X\",\"\")","v":""},{"$f":"IF(ISNUMBER(FIND(\"BC/BS\",#REF!)),\"X\",\"\")","v":""}]
["LINEBARGER GOGGAN BLAIR & SAMPSON LLP (WEBTPA)","X",{"$f":"IF(ISNUMBER(FIND(\"MEDICAID\",A2051)),\"X\",\"\")","v":""},{"$f":"IF(ISNUMBER(FIND(\"MEDICARE\",A2051)),\"X\",\"\")","v":""},{"$f":"IF(ISNUMBER(FIND(\"BC/BS\",#REF!)),\"X\",\"\")","v":""}]
["LINECO","X",{"$f":"IF(ISNUMBER(FIND(\"MEDICAID\",A2052)),\"X\",\"\")","v":""},{"$f":"IF(ISNUMBER(FIND(\"MEDICARE\",A2052)),\"X\",\"\")","v":""},{"$f":"IF(ISNUMBER(FIND(\"BC/BS\",#REF!)),\"X\",\"\")","v":""}]
["LISI HOLDING NORTH AMERICA INC (HEALTHCOMP)",null,{"$f":"IF(ISNUMBER(FIND(\"MEDICAID\",A2053)),\"X\",\"\")","v":""},{"$f":"IF(ISNUMBER(FIND(\"MEDICARE\",A2053)),\"X\",\"\")","v":""},{"$f":"IF(ISNUMBER(FIND(\"BC/BS\",#REF!)),\"X\",\"\")","v":""}]
["LITTLE ROCK CLAIMS BRANCH (AUTO-OWNERS INSURANCE COMPANY)",null,{"$f":"IF(ISNUMBER(FIND(\"MEDICAID\",A2054)),\"X\",\"\")","v":""},{"$f":"IF(ISNUMBER(FIND(\"MEDICARE\",A2054)),\"X\",\"\")","v":""},{"$f":"IF(ISNUMBER(FIND(\"BC/BS\",#REF!)),\"X\",\"\")","v":""},"X","X"]
["LMC EBPT (90 DEGREE BENEFITS HOUSTON - ENTRUST)",null,{"$f":"IF(ISNUMBER(FIND(\"MEDICAID\",A2055)),\"X\",\"\")","v":""},{"$f":"IF(ISNUMBER(FIND(\"MEDICARE\",A2055)),\"X\",\"\")","v":""},{"$f":"IF(ISNUMBER(FIND(\"BC/BS\",#REF!)),\"X\",\"\")","v":""}]
["LOCAL GOVERNMENT HEALTH PLAN MEMBERS (HEALTHLINK HMO)","X",{"$f":"IF(ISNUMBER(FIND(\"MEDICAID\",A2056)),\"X\",\"\")","v":""},{"$f":"IF(ISNUMBER(FIND(\"MEDICARE\",A2056)),\"X\",\"\")","v":""},{"$f":"IF(ISNUMBER(FIND(\"BC/BS\",#REF!)),\"X\",\"\")","v":""}]
["LOCAL NO 4 SEIU HEALTH AND WELFARE FUND","X",{"$f":"IF(ISNUMBER(FIND(\"MEDICAID\",A2057)),\"X\",\"\")","v":""},{"$f":"IF(ISNUMBER(FIND(\"MEDICARE\",A2057)),\"X\",\"\")","v":""},{"$f":"IF(ISNUMBER(FIND(\"BC/BS\",#REF!)),\"X\",\"\")","v":""}]
["LOCKARD & WILLIAMS INSURANCE SERVICES (90 DEGREE BENEFITS)","X",{"$f":"IF(ISNUMBER(FIND(\"MEDICAID\",A2058)),\"X\",\"\")","v":""},{"$f":"IF(ISNUMBER(FIND(\"MEDICARE\",A2058)),\"X\",\"\")","v":""},{"$f":"IF(ISNUMBER(FIND(\"BC/BS\",#REF!)),\"X\",\"\")","v":""}]
["LOCKHEED MARTIN (CDPHP)",null,{"$f":"IF(ISNUMBER(FIND(\"MEDICAID\",A2059)),\"X\",\"\")","v":""},{"$f":"IF(ISNUMBER(FIND(\"MEDICARE\",A2059)),\"X\",\"\")","v":""},{"$f":"IF(ISNUMBER(FIND(\"BC/BS\",#REF!)),\"X\",\"\")","v":""}]
["LOCKHEED MARTIN (CIGNA)",null,{"$f":"IF(ISNUMBER(FIND(\"MEDICAID\",A2060)),\"X\",\"\")","v":""},{"$f":"IF(ISNUMBER(FIND(\"MEDICARE\",A2060)),\"X\",\"\")","v":""},{"$f":"IF(ISNUMBER(FIND(\"BC/BS\",#REF!)),\"X\",\"\")","v":""}]
["LODI MEMORIAL HOSPITAL (ADVENTIST HEALTH SYSTEM WEST)",null,{"$f":"IF(ISNUMBER(FIND(\"MEDICAID\",A2061)),\"X\",\"\")","v":""},{"$f":"IF(ISNUMBER(FIND(\"MEDICARE\",A2061)),\"X\",\"\")","v":""},{"$f":"IF(ISNUMBER(FIND(\"BC/BS\",#REF!)),\"X\",\"\")","v":""}]
["LONE ROCK TIMBER MANAGEMENT COMPANY (PACIFICSOURCE)",null,{"$f":"IF(ISNUMBER(FIND(\"MEDICAID\",A2062)),\"X\",\"\")","v":""},{"$f":"IF(ISNUMBER(FIND(\"MEDICARE\",A2062)),\"X\",\"\")","v":""},{"$f":"IF(ISNUMBER(FIND(\"BC/BS\",#REF!)),\"X\",\"\")","v":""}]
["LONG BEACH VA MEDICAL CENTER","X",{"$f":"IF(ISNUMBER(FIND(\"MEDICAID\",A2063)),\"X\",\"\")","v":""},{"$f":"IF(ISNUMBER(FIND(\"MEDICARE\",A2063)),\"X\",\"\")","v":""},{"$f":"IF(ISNUMBER(FIND(\"BC/BS\",#REF!)),\"X\",\"\")","v":""}]
["LONG LAKE EBPT (90 DEGREE BENEFITS HOUSTON - ENTRUST)",null,{"$f":"IF(ISNUMBER(FIND(\"MEDICAID\",A2064)),\"X\",\"\")","v":""},{"$f":"IF(ISNUMBER(FIND(\"MEDICARE\",A2064)),\"X\",\"\")","v":""},{"$f":"IF(ISNUMBER(FIND(\"BC/BS\",#REF!)),\"X\",\"\")","v":""}]
["LONGEVITY HEALTH PLAN OF FLORIDA",null,{"$f":"IF(ISNUMBER(FIND(\"MEDICAID\",A2065)),\"X\",\"\")","v":""},{"$f":"IF(ISNUMBER(FIND(\"MEDICARE\",A2065)),\"X\",\"\")","v":""},{"$f":"IF(ISNUMBER(FIND(\"BC/BS\",#REF!)),\"X\",\"\")","v":""}]
["LONGEVITY HEALTH PLAN OF NORTH CAROLINA",null,{"$f":"IF(ISNUMBER(FIND(\"MEDICAID\",A2066)),\"X\",\"\")","v":""},{"$f":"IF(ISNUMBER(FIND(\"MEDICARE\",A2066)),\"X\",\"\")","v":""},{"$f":"IF(ISNUMBER(FIND(\"BC/BS\",#REF!)),\"X\",\"\")","v":""}]
["LONGVIEW BRIDGE AND ROAD LTD (GROUP & PENSION ADMIN)","X",{"$f":"IF(ISNUMBER(FIND(\"MEDICAID\",A2067)),\"X\",\"\")","v":""},{"$f":"IF(ISNUMBER(FIND(\"MEDICARE\",A2067)),\"X\",\"\")","v":""},{"$f":"IF(ISNUMBER(FIND(\"BC/BS\",#REF!)),\"X\",\"\")","v":""}]
["LONGWOOD GARDENS INC (WEBTPA)",null,{"$f":"IF(ISNUMBER(FIND(\"MEDICAID\",A2068)),\"X\",\"\")","v":""},{"$f":"IF(ISNUMBER(FIND(\"MEDICARE\",A2068)),\"X\",\"\")","v":""},{"$f":"IF(ISNUMBER(FIND(\"BC/BS\",#REF!)),\"X\",\"\")","v":""}]
["LOS ANGELES FIREMEN'S RELIEF (HEALTHCOMP)","X",{"$f":"IF(ISNUMBER(FIND(\"MEDICAID\",A2069)),\"X\",\"\")","v":""},{"$f":"IF(ISNUMBER(FIND(\"MEDICARE\",A2069)),\"X\",\"\")","v":""},{"$f":"IF(ISNUMBER(FIND(\"BC/BS\",#REF!)),\"X\",\"\")","v":""}]
["LOS ANGELES MEDICAL CENTER IPA (PROSPECT MEDICAL SYSTEMS) ","X",{"$f":"IF(ISNUMBER(FIND(\"MEDICAID\",A2070)),\"X\",\"\")","v":""},{"$f":"IF(ISNUMBER(FIND(\"MEDICARE\",A2070)),\"X\",\"\")","v":""},{"$f":"IF(ISNUMBER(FIND(\"BC/BS\",#REF!)),\"X\",\"\")","v":""}]
["LOUIS A. JOHNSON VA MEDICAL CENTER","X",{"$f":"IF(ISNUMBER(FIND(\"MEDICAID\",A2071)),\"X\",\"\")","v":""},{"$f":"IF(ISNUMBER(FIND(\"MEDICARE\",A2071)),\"X\",\"\")","v":""},{"$f":"IF(ISNUMBER(FIND(\"BC/BS\",#REF!)),\"X\",\"\")","v":""}]
["LOUIS STOKES CLEVELAND VA MEDICAL CENTER","X",{"$f":"IF(ISNUMBER(FIND(\"MEDICAID\",A2072)),\"X\",\"\")","v":""},{"$f":"IF(ISNUMBER(FIND(\"MEDICARE\",A2072)),\"X\",\"\")","v":""},{"$f":"IF(ISNUMBER(FIND(\"BC/BS\",#REF!)),\"X\",\"\")","v":""}]
["LOUISIANA ASSESSORS ASSOCIATION (THE HEALTH PLAN)",null,{"$f":"IF(ISNUMBER(FIND(\"MEDICAID\",A2073)),\"X\",\"\")","v":""},{"$f":"IF(ISNUMBER(FIND(\"MEDICARE\",A2073)),\"X\",\"\")","v":""},{"$f":"IF(ISNUMBER(FIND(\"BC/BS\",#REF!)),\"X\",\"\")","v":""}]
["LOUISIANA HEALTHCARE CONNECTIONS","X",{"$f":"IF(ISNUMBER(FIND(\"MEDICAID\",A2074)),\"X\",\"\")","v":""},{"$f":"IF(ISNUMBER(FIND(\"MEDICARE\",A2074)),\"X\",\"\")","v":""},{"$f":"IF(ISNUMBER(FIND(\"BC/BS\",#REF!)),\"X\",\"\")","v":""}]
["LOUISVILLE VA MEDICAL CENTER","X",{"$f":"IF(ISNUMBER(FIND(\"MEDICAID\",A2075)),\"X\",\"\")","v":""},{"$f":"IF(ISNUMBER(FIND(\"MEDICARE\",A2075)),\"X\",\"\")","v":""},{"$f":"IF(ISNUMBER(FIND(\"BC/BS\",#REF!)),\"X\",\"\")","v":""}]
["LOWELL MANUFACTURING (IPMG)","X",{"$f":"IF(ISNUMBER(FIND(\"MEDICAID\",A2076)),\"X\",\"\")","v":""},{"$f":"IF(ISNUMBER(FIND(\"MEDICARE\",A2076)),\"X\",\"\")","v":""},{"$f":"IF(ISNUMBER(FIND(\"BC/BS\",#REF!)),\"X\",\"\")","v":""}]
["LOYAL AMERICAN LIFE INSURANCE (CIGNA SUPPLEMENTAL)","X",{"$f":"IF(ISNUMBER(FIND(\"MEDICAID\",A2077)),\"X\",\"\")","v":""},{"$f":"IF(ISNUMBER(FIND(\"MEDICARE\",A2077)),\"X\",\"\")","v":""},{"$f":"IF(ISNUMBER(FIND(\"BC/BS\",#REF!)),\"X\",\"\")","v":""}]
["LOYAL CHRISTIAN BENEFIT ASSOCIATION (ACTUARIAL MANAGEMENT RESOURCES)","X",{"$f":"IF(ISNUMBER(FIND(\"MEDICAID\",A2078)),\"X\",\"\")","v":""},{"$f":"IF(ISNUMBER(FIND(\"MEDICARE\",A2078)),\"X\",\"\")","v":""},{"$f":"IF(ISNUMBER(FIND(\"BC/BS\",#REF!)),\"X\",\"\")","v":""}]
["LTCG - OPERATING (GROUP & PENSION ADMIN)","X",{"$f":"IF(ISNUMBER(FIND(\"MEDICAID\",A2079)),\"X\",\"\")","v":""},{"$f":"IF(ISNUMBER(FIND(\"MEDICARE\",A2079)),\"X\",\"\")","v":""},{"$f":"IF(ISNUMBER(FIND(\"BC/BS\",#REF!)),\"X\",\"\")","v":""}]
["LUCENT HEALTH SOLUTIONS","X",{"$f":"IF(ISNUMBER(FIND(\"MEDICAID\",A2080)),\"X\",\"\")","v":""},{"$f":"IF(ISNUMBER(FIND(\"MEDICARE\",A2080)),\"X\",\"\")","v":""},{"$f":"IF(ISNUMBER(FIND(\"BC/BS\",#REF!)),\"X\",\"\")","v":""}]
["LUKOIL NORTH AMERICA (MVP HEALTH CARE)","X",{"$f":"IF(ISNUMBER(FIND(\"MEDICAID\",A2081)),\"X\",\"\")","v":""},{"$f":"IF(ISNUMBER(FIND(\"MEDICARE\",A2081)),\"X\",\"\")","v":""},{"$f":"IF(ISNUMBER(FIND(\"BC/BS\",#REF!)),\"X\",\"\")","v":""}]
["LUMICO LIFE INS (IAS ADMIN)","X",{"$f":"IF(ISNUMBER(FIND(\"MEDICAID\",A2082)),\"X\",\"\")","v":""},{"$f":"IF(ISNUMBER(FIND(\"MEDICARE\",A2082)),\"X\",\"\")","v":""},{"$f":"IF(ISNUMBER(FIND(\"BC/BS\",#REF!)),\"X\",\"\")","v":""}]
["LUMINARY 2 EBPT (90 DEGREE BENEFITS HOUSTON - ENTRUST)",null,{"$f":"IF(ISNUMBER(FIND(\"MEDICAID\",A2083)),\"X\",\"\")","v":""},{"$f":"IF(ISNUMBER(FIND(\"MEDICARE\",A2083)),\"X\",\"\")","v":""},{"$f":"IF(ISNUMBER(FIND(\"BC/BS\",#REF!)),\"X\",\"\")","v":""}]
["LUV-N-CARE EBPT (90 DEGREE BENEFITS HOUSTON - ENTRUST)",null,{"$f":"IF(ISNUMBER(FIND(\"MEDICAID\",A2084)),\"X\",\"\")","v":""},{"$f":"IF(ISNUMBER(FIND(\"MEDICARE\",A2084)),\"X\",\"\")","v":""},{"$f":"IF(ISNUMBER(FIND(\"BC/BS\",#REF!)),\"X\",\"\")","v":""}]
["LYLES GROUP (HEALTHCOMP)",null,{"$f":"IF(ISNUMBER(FIND(\"MEDICAID\",A2085)),\"X\",\"\")","v":""},{"$f":"IF(ISNUMBER(FIND(\"MEDICARE\",A2085)),\"X\",\"\")","v":""},{"$f":"IF(ISNUMBER(FIND(\"BC/BS\",#REF!)),\"X\",\"\")","v":""}]
["LYONS MAGNUS (HEALTHCOMP)","X",{"$f":"IF(ISNUMBER(FIND(\"MEDICAID\",A2086)),\"X\",\"\")","v":""},{"$f":"IF(ISNUMBER(FIND(\"MEDICARE\",A2086)),\"X\",\"\")","v":""},{"$f":"IF(ISNUMBER(FIND(\"BC/BS\",#REF!)),\"X\",\"\")","v":""}]
["M & J HEALTH - DENTAL PLAN (GROUP & PENSION ADMIN)","X",{"$f":"IF(ISNUMBER(FIND(\"MEDICAID\",A2087)),\"X\",\"\")","v":""},{"$f":"IF(ISNUMBER(FIND(\"MEDICARE\",A2087)),\"X\",\"\")","v":""},{"$f":"IF(ISNUMBER(FIND(\"BC/BS\",#REF!)),\"X\",\"\")","v":""}]
["M & T BANK (INDEPENDENT HEALTH)",null,{"$f":"IF(ISNUMBER(FIND(\"MEDICAID\",A2088)),\"X\",\"\")","v":""},{"$f":"IF(ISNUMBER(FIND(\"MEDICARE\",A2088)),\"X\",\"\")","v":""},{"$f":"IF(ISNUMBER(FIND(\"BC/BS\",#REF!)),\"X\",\"\")","v":""}]
["M. R. WILLIAMS INC (90 DEGREE BENEFITS NORTH CAROLINA - CORPORATE BENEFIT SERVICES)","X",{"$f":"IF(ISNUMBER(FIND(\"MEDICAID\",A2089)),\"X\",\"\")","v":""},{"$f":"IF(ISNUMBER(FIND(\"MEDICARE\",A2089)),\"X\",\"\")","v":""},{"$f":"IF(ISNUMBER(FIND(\"BC/BS\",#REF!)),\"X\",\"\")","v":""}]
["MACHELL MGMT PEN FERN OIL (GEISINGER HEALTH PLAN)","X",{"$f":"IF(ISNUMBER(FIND(\"MEDICAID\",A2090)),\"X\",\"\")","v":""},{"$f":"IF(ISNUMBER(FIND(\"MEDICARE\",A2090)),\"X\",\"\")","v":""},{"$f":"IF(ISNUMBER(FIND(\"BC/BS\",#REF!)),\"X\",\"\")","v":""}]
["MACOMB SCHOOL DISTRICT #185 (IPMG)","X",{"$f":"IF(ISNUMBER(FIND(\"MEDICAID\",A2091)),\"X\",\"\")","v":""},{"$f":"IF(ISNUMBER(FIND(\"MEDICARE\",A2091)),\"X\",\"\")","v":""},{"$f":"IF(ISNUMBER(FIND(\"BC/BS\",#REF!)),\"X\",\"\")","v":""}]
["MAD RIVER COMMUNITY HOSPITAL (HEALTHCOMP)",null,{"$f":"IF(ISNUMBER(FIND(\"MEDICAID\",A2092)),\"X\",\"\")","v":""},{"$f":"IF(ISNUMBER(FIND(\"MEDICARE\",A2092)),\"X\",\"\")","v":""},{"$f":"IF(ISNUMBER(FIND(\"BC/BS\",#REF!)),\"X\",\"\")","v":""}]
["MADERA COMMUNITY HOSPITAL (ADVANTEK BENEFIT ADMINISTRATORS)","X",{"$f":"IF(ISNUMBER(FIND(\"MEDICAID\",A2093)),\"X\",\"\")","v":""},{"$f":"IF(ISNUMBER(FIND(\"MEDICARE\",A2093)),\"X\",\"\")","v":""},{"$f":"IF(ISNUMBER(FIND(\"BC/BS\",#REF!)),\"X\",\"\")","v":""}]
["MADISON COMMUNITY HOSPITAL (THE HEALTH PLAN)","X",{"$f":"IF(ISNUMBER(FIND(\"MEDICAID\",A2094)),\"X\",\"\")","v":""},{"$f":"IF(ISNUMBER(FIND(\"MEDICARE\",A2094)),\"X\",\"\")","v":""},{"$f":"IF(ISNUMBER(FIND(\"BC/BS\",#REF!)),\"X\",\"\")","v":""}]
["MADISON-STANDARD ELECTRIC HEALTH (ASR HEALTH BENEFITS)","X",{"$f":"IF(ISNUMBER(FIND(\"MEDICAID\",A2095)),\"X\",\"\")","v":""},{"$f":"IF(ISNUMBER(FIND(\"MEDICARE\",A2095)),\"X\",\"\")","v":""},{"$f":"IF(ISNUMBER(FIND(\"BC/BS\",#REF!)),\"X\",\"\")","v":""}]
["MAGELLAN BEHAVIORAL HEALTH OF PENNSYLVANIA","X",{"$f":"IF(ISNUMBER(FIND(\"MEDICAID\",A2096)),\"X\",\"\")","v":""},{"$f":"IF(ISNUMBER(FIND(\"MEDICARE\",A2096)),\"X\",\"\")","v":""},{"$f":"IF(ISNUMBER(FIND(\"BC/BS\",#REF!)),\"X\",\"\")","v":""}]
["MAGELLAN BEHAVIORAL HEALTH OF VIRGINIA","X",{"$f":"IF(ISNUMBER(FIND(\"MEDICAID\",A2097)),\"X\",\"\")","v":""},{"$f":"IF(ISNUMBER(FIND(\"MEDICARE\",A2097)),\"X\",\"\")","v":""},{"$f":"IF(ISNUMBER(FIND(\"BC/BS\",#REF!)),\"X\",\"\")","v":""}]
["MAGELLAN BEHAVIORAL HEALTH SYSTEMS LLC","X",{"$f":"IF(ISNUMBER(FIND(\"MEDICAID\",A2098)),\"X\",\"\")","v":""},{"$f":"IF(ISNUMBER(FIND(\"MEDICARE\",A2098)),\"X\",\"\")","v":""},{"$f":"IF(ISNUMBER(FIND(\"BC/BS\",#REF!)),\"X\",\"\")","v":""}]
["MAGELLAN HEALTH","X",{"$f":"IF(ISNUMBER(FIND(\"MEDICAID\",A2099)),\"X\",\"\")","v":""},{"$f":"IF(ISNUMBER(FIND(\"MEDICARE\",A2099)),\"X\",\"\")","v":""},{"$f":"IF(ISNUMBER(FIND(\"BC/BS\",#REF!)),\"X\",\"\")","v":""}]
["MAGELLAN RX MANAGEMENT LLC","X",{"$f":"IF(ISNUMBER(FIND(\"MEDICAID\",A2100)),\"X\",\"\")","v":""},{"$f":"IF(ISNUMBER(FIND(\"MEDICARE\",A2100)),\"X\",\"\")","v":""},{"$f":"IF(ISNUMBER(FIND(\"BC/BS\",#REF!)),\"X\",\"\")","v":""}]
["MAGNA INSURANCE COMPANY (AETNA SSI)","X",{"$f":"IF(ISNUMBER(FIND(\"MEDICAID\",A2101)),\"X\",\"\")","v":""},{"$f":"IF(ISNUMBER(FIND(\"MEDICARE\",A2101)),\"X\",\"\")","v":""},{"$f":"IF(ISNUMBER(FIND(\"BC/BS\",#REF!)),\"X\",\"\")","v":""}]
["MAGNA MACHINE CO (GROUP & PENSION ADMIN)","X",{"$f":"IF(ISNUMBER(FIND(\"MEDICAID\",A2102)),\"X\",\"\")","v":""},{"$f":"IF(ISNUMBER(FIND(\"MEDICARE\",A2102)),\"X\",\"\")","v":""},{"$f":"IF(ISNUMBER(FIND(\"BC/BS\",#REF!)),\"X\",\"\")","v":""}]
["MAGNACARE ADMINISTRATIVE SERVICES LLC","X",{"$f":"IF(ISNUMBER(FIND(\"MEDICAID\",A2103)),\"X\",\"\")","v":""},{"$f":"IF(ISNUMBER(FIND(\"MEDICARE\",A2103)),\"X\",\"\")","v":""},{"$f":"IF(ISNUMBER(FIND(\"BC/BS\",#REF!)),\"X\",\"\")","v":""}]
["MAGNOLIA HEALTH MEDICARE ADVANTAGE","X",{"$f":"IF(ISNUMBER(FIND(\"MEDICAID\",A2104)),\"X\",\"\")","v":""},null,{"$f":"IF(ISNUMBER(FIND(\"BC/BS\",#REF!)),\"X\",\"\")","v":""}]
["MAGNOLIA HEALTH PLAN INC","X",{"$f":"IF(ISNUMBER(FIND(\"MEDICAID\",A2105)),\"X\",\"\")","v":""},{"$f":"IF(ISNUMBER(FIND(\"MEDICARE\",A2105)),\"X\",\"\")","v":""},{"$f":"IF(ISNUMBER(FIND(\"BC/BS\",#REF!)),\"X\",\"\")","v":""}]
["MAIN BROTHERS OIL CO INC DBA MAIN-CARE ENERGY (CDPHP)","X",{"$f":"IF(ISNUMBER(FIND(\"MEDICAID\",A2106)),\"X\",\"\")","v":""},{"$f":"IF(ISNUMBER(FIND(\"MEDICARE\",A2106)),\"X\",\"\")","v":""},{"$f":"IF(ISNUMBER(FIND(\"BC/BS\",#REF!)),\"X\",\"\")","v":""}]
["MAIN STREET BANK (THE HEALTH PLAN)",null,{"$f":"IF(ISNUMBER(FIND(\"MEDICAID\",A2107)),\"X\",\"\")","v":""},{"$f":"IF(ISNUMBER(FIND(\"MEDICARE\",A2107)),\"X\",\"\")","v":""},{"$f":"IF(ISNUMBER(FIND(\"BC/BS\",#REF!)),\"X\",\"\")","v":""}]
["MAINTENX EBPT (90 DEGREE BENEFITS HOUSTON - ENTRUST)",null,{"$f":"IF(ISNUMBER(FIND(\"MEDICAID\",A2108)),\"X\",\"\")","v":""},{"$f":"IF(ISNUMBER(FIND(\"MEDICARE\",A2108)),\"X\",\"\")","v":""},{"$f":"IF(ISNUMBER(FIND(\"BC/BS\",#REF!)),\"X\",\"\")","v":""}]
["MALCOM RANDALL VA MEDICAL CENTER","X",{"$f":"IF(ISNUMBER(FIND(\"MEDICAID\",A2109)),\"X\",\"\")","v":""},{"$f":"IF(ISNUMBER(FIND(\"MEDICARE\",A2109)),\"X\",\"\")","v":""},{"$f":"IF(ISNUMBER(FIND(\"BC/BS\",#REF!)),\"X\",\"\")","v":""}]
["MAMMOTH HOSPITAL (HEALTHCOMP)",null,{"$f":"IF(ISNUMBER(FIND(\"MEDICAID\",A2110)),\"X\",\"\")","v":""},{"$f":"IF(ISNUMBER(FIND(\"MEDICARE\",A2110)),\"X\",\"\")","v":""},{"$f":"IF(ISNUMBER(FIND(\"BC/BS\",#REF!)),\"X\",\"\")","v":""}]
["MANAGED CARE SYSTEMS","X",{"$f":"IF(ISNUMBER(FIND(\"MEDICAID\",A2111)),\"X\",\"\")","v":""},{"$f":"IF(ISNUMBER(FIND(\"MEDICARE\",A2111)),\"X\",\"\")","v":""},{"$f":"IF(ISNUMBER(FIND(\"BC/BS\",#REF!)),\"X\",\"\")","v":""}]
["MANAGED HEALTH SERVICES INSURANCE CORPORATION (INDIANA)","X",{"$f":"IF(ISNUMBER(FIND(\"MEDICAID\",A2112)),\"X\",\"\")","v":""},{"$f":"IF(ISNUMBER(FIND(\"MEDICARE\",A2112)),\"X\",\"\")","v":""},{"$f":"IF(ISNUMBER(FIND(\"BC/BS\",#REF!)),\"X\",\"\")","v":""}]
["MANAGED HEALTH SERVICES INSURANCE CORPORATION (WISCONSIN AND INDIANA)","X",{"$f":"IF(ISNUMBER(FIND(\"MEDICAID\",A2113)),\"X\",\"\")","v":""},{"$f":"IF(ISNUMBER(FIND(\"MEDICARE\",A2113)),\"X\",\"\")","v":""},{"$f":"IF(ISNUMBER(FIND(\"BC/BS\",#REF!)),\"X\",\"\")","v":""}]
["MANHATTAN VA MEDICAL CENTER","X",{"$f":"IF(ISNUMBER(FIND(\"MEDICAID\",A2114)),\"X\",\"\")","v":""},{"$f":"IF(ISNUMBER(FIND(\"MEDICARE\",A2114)),\"X\",\"\")","v":""},{"$f":"IF(ISNUMBER(FIND(\"BC/BS\",#REF!)),\"X\",\"\")","v":""}]
["MAPFRE LIFE","X",{"$f":"IF(ISNUMBER(FIND(\"MEDICAID\",A2115)),\"X\",\"\")","v":""},{"$f":"IF(ISNUMBER(FIND(\"MEDICARE\",A2115)),\"X\",\"\")","v":""},{"$f":"IF(ISNUMBER(FIND(\"BC/BS\",#REF!)),\"X\",\"\")","v":""}]
["MARCH VISION CARE GROUP INC","X",{"$f":"IF(ISNUMBER(FIND(\"MEDICAID\",A2116)),\"X\",\"\")","v":""},{"$f":"IF(ISNUMBER(FIND(\"MEDICARE\",A2116)),\"X\",\"\")","v":""},{"$f":"IF(ISNUMBER(FIND(\"BC/BS\",#REF!)),\"X\",\"\")","v":""}]
["MARCO DISPLAY SPECIALISTS LP (GROUP & PENSION ADMIN)",null,{"$f":"IF(ISNUMBER(FIND(\"MEDICAID\",A2117)),\"X\",\"\")","v":""},{"$f":"IF(ISNUMBER(FIND(\"MEDICARE\",A2117)),\"X\",\"\")","v":""},{"$f":"IF(ISNUMBER(FIND(\"BC/BS\",#REF!)),\"X\",\"\")","v":""}]
["MARES EXTERMINATING CO (SENTARA)",null,{"$f":"IF(ISNUMBER(FIND(\"MEDICAID\",A2118)),\"X\",\"\")","v":""},{"$f":"IF(ISNUMBER(FIND(\"MEDICARE\",A2118)),\"X\",\"\")","v":""},{"$f":"IF(ISNUMBER(FIND(\"BC/BS\",#REF!)),\"X\",\"\")","v":""}]
["MARICOPA USD #20 (AMERIBEN)",null,{"$f":"IF(ISNUMBER(FIND(\"MEDICAID\",A2119)),\"X\",\"\")","v":""},{"$f":"IF(ISNUMBER(FIND(\"MEDICARE\",A2119)),\"X\",\"\")","v":""},{"$f":"IF(ISNUMBER(FIND(\"BC/BS\",#REF!)),\"X\",\"\")","v":""}]
["MARINE HYDRAULICS INT INC (SENTARA)","X",{"$f":"IF(ISNUMBER(FIND(\"MEDICAID\",A2120)),\"X\",\"\")","v":""},{"$f":"IF(ISNUMBER(FIND(\"MEDICARE\",A2120)),\"X\",\"\")","v":""},{"$f":"IF(ISNUMBER(FIND(\"BC/BS\",#REF!)),\"X\",\"\")","v":""}]
["MARINEMAX SERVICES INC (GROUP & PENSION ADMIN)","X",{"$f":"IF(ISNUMBER(FIND(\"MEDICAID\",A2121)),\"X\",\"\")","v":""},{"$f":"IF(ISNUMBER(FIND(\"MEDICARE\",A2121)),\"X\",\"\")","v":""},{"$f":"IF(ISNUMBER(FIND(\"BC/BS\",#REF!)),\"X\",\"\")","v":""}]
["MARINHEALTH MEDICAL CENTER (HEALTHCOMP)","X",{"$f":"IF(ISNUMBER(FIND(\"MEDICAID\",A2122)),\"X\",\"\")","v":""},{"$f":"IF(ISNUMBER(FIND(\"MEDICARE\",A2122)),\"X\",\"\")","v":""},{"$f":"IF(ISNUMBER(FIND(\"BC/BS\",#REF!)),\"X\",\"\")","v":""}]
["MARION VA MEDICAL CENTER","X",{"$f":"IF(ISNUMBER(FIND(\"MEDICAID\",A2123)),\"X\",\"\")","v":""},{"$f":"IF(ISNUMBER(FIND(\"MEDICARE\",A2123)),\"X\",\"\")","v":""},{"$f":"IF(ISNUMBER(FIND(\"BC/BS\",#REF!)),\"X\",\"\")","v":""}]
["MARKET STREET BANCSHARES (IPMG)","X",{"$f":"IF(ISNUMBER(FIND(\"MEDICAID\",A2124)),\"X\",\"\")","v":""},{"$f":"IF(ISNUMBER(FIND(\"MEDICARE\",A2124)),\"X\",\"\")","v":""},{"$f":"IF(ISNUMBER(FIND(\"BC/BS\",#REF!)),\"X\",\"\")","v":""}]
["MARSHALL FARMS GROUP LTD (MVP HEALTH CARE)","X",{"$f":"IF(ISNUMBER(FIND(\"MEDICAID\",A2125)),\"X\",\"\")","v":""},{"$f":"IF(ISNUMBER(FIND(\"MEDICARE\",A2125)),\"X\",\"\")","v":""},{"$f":"IF(ISNUMBER(FIND(\"BC/BS\",#REF!)),\"X\",\"\")","v":""}]
["MARSHALL MEDICAL CENTER (HEALTHCOMP)","X",{"$f":"IF(ISNUMBER(FIND(\"MEDICAID\",A2126)),\"X\",\"\")","v":""},{"$f":"IF(ISNUMBER(FIND(\"MEDICARE\",A2126)),\"X\",\"\")","v":""},{"$f":"IF(ISNUMBER(FIND(\"BC/BS\",#REF!)),\"X\",\"\")","v":""}]
["MARTIN CARES EBPT (90 DEGREE BENEFITS HOUSTON - ENTRUST)",null,{"$f":"IF(ISNUMBER(FIND(\"MEDICAID\",A2127)),\"X\",\"\")","v":""},{"$f":"IF(ISNUMBER(FIND(\"MEDICARE\",A2127)),\"X\",\"\")","v":""},{"$f":"IF(ISNUMBER(FIND(\"BC/BS\",#REF!)),\"X\",\"\")","v":""}]
["MARTIN, HARDING & MAZZOTTI LLP (CDPHP)","X",{"$f":"IF(ISNUMBER(FIND(\"MEDICAID\",A2128)),\"X\",\"\")","v":""},{"$f":"IF(ISNUMBER(FIND(\"MEDICARE\",A2128)),\"X\",\"\")","v":""},{"$f":"IF(ISNUMBER(FIND(\"BC/BS\",#REF!)),\"X\",\"\")","v":""}]
["MARTINEZ VA CLINIC",null,{"$f":"IF(ISNUMBER(FIND(\"MEDICAID\",A2129)),\"X\",\"\")","v":""},{"$f":"IF(ISNUMBER(FIND(\"MEDICARE\",A2129)),\"X\",\"\")","v":""},{"$f":"IF(ISNUMBER(FIND(\"BC/BS\",#REF!)),\"X\",\"\")","v":""}]
["MARTIN'S POINT HEALTH CARE","X",{"$f":"IF(ISNUMBER(FIND(\"MEDICAID\",A2130)),\"X\",\"\")","v":""},{"$f":"IF(ISNUMBER(FIND(\"MEDICARE\",A2130)),\"X\",\"\")","v":""},{"$f":"IF(ISNUMBER(FIND(\"BC/BS\",#REF!)),\"X\",\"\")","v":""}]
["MARY WASHINGTON HEALTH PLAN","X",{"$f":"IF(ISNUMBER(FIND(\"MEDICAID\",A2131)),\"X\",\"\")","v":""},{"$f":"IF(ISNUMBER(FIND(\"MEDICARE\",A2131)),\"X\",\"\")","v":""},{"$f":"IF(ISNUMBER(FIND(\"BC/BS\",#REF!)),\"X\",\"\")","v":""}]
["MARYLAND PHYSICIANS CARE","X",{"$f":"IF(ISNUMBER(FIND(\"MEDICAID\",A2132)),\"X\",\"\")","v":""},{"$f":"IF(ISNUMBER(FIND(\"MEDICARE\",A2132)),\"X\",\"\")","v":""},{"$f":"IF(ISNUMBER(FIND(\"BC/BS\",#REF!)),\"X\",\"\")","v":""}]
["MARY'S GONE CRACKERS (HEALTHCOMP)",null,{"$f":"IF(ISNUMBER(FIND(\"MEDICAID\",A2133)),\"X\",\"\")","v":""},{"$f":"IF(ISNUMBER(FIND(\"MEDICARE\",A2133)),\"X\",\"\")","v":""},{"$f":"IF(ISNUMBER(FIND(\"BC/BS\",#REF!)),\"X\",\"\")","v":""}]
["MASON MASON WALKER & HEND (SENTARA)","X",{"$f":"IF(ISNUMBER(FIND(\"MEDICAID\",A2134)),\"X\",\"\")","v":""},{"$f":"IF(ISNUMBER(FIND(\"MEDICARE\",A2134)),\"X\",\"\")","v":""},{"$f":"IF(ISNUMBER(FIND(\"BC/BS\",#REF!)),\"X\",\"\")","v":""}]
["MASONRY WELFARE TRUST FUND","X",{"$f":"IF(ISNUMBER(FIND(\"MEDICAID\",A2135)),\"X\",\"\")","v":""},{"$f":"IF(ISNUMBER(FIND(\"MEDICARE\",A2135)),\"X\",\"\")","v":""},{"$f":"IF(ISNUMBER(FIND(\"BC/BS\",#REF!)),\"X\",\"\")","v":""}]
["MASSACHUSETTS LABORERS BENEFIT FUNDS","X",{"$f":"IF(ISNUMBER(FIND(\"MEDICAID\",A2136)),\"X\",\"\")","v":""},{"$f":"IF(ISNUMBER(FIND(\"MEDICARE\",A2136)),\"X\",\"\")","v":""},{"$f":"IF(ISNUMBER(FIND(\"BC/BS\",#REF!)),\"X\",\"\")","v":""}]
["MASSACHUSETTS MUTUAL LIFE INSURANCE COMPANY (AETNA SSI)","X",{"$f":"IF(ISNUMBER(FIND(\"MEDICAID\",A2137)),\"X\",\"\")","v":""},{"$f":"IF(ISNUMBER(FIND(\"MEDICARE\",A2137)),\"X\",\"\")","v":""},{"$f":"IF(ISNUMBER(FIND(\"BC/BS\",#REF!)),\"X\",\"\")","v":""}]
["MASTERS MECHANICAL CORP (SENTARA)","X",{"$f":"IF(ISNUMBER(FIND(\"MEDICAID\",A2138)),\"X\",\"\")","v":""},{"$f":"IF(ISNUMBER(FIND(\"MEDICARE\",A2138)),\"X\",\"\")","v":""},{"$f":"IF(ISNUMBER(FIND(\"BC/BS\",#REF!)),\"X\",\"\")","v":""}]
["MASTERS, MATES & PILOTS HEALTH & BENEFIT FUND (MM&P)","X",{"$f":"IF(ISNUMBER(FIND(\"MEDICAID\",A2139)),\"X\",\"\")","v":""},{"$f":"IF(ISNUMBER(FIND(\"MEDICARE\",A2139)),\"X\",\"\")","v":""},{"$f":"IF(ISNUMBER(FIND(\"BC/BS\",#REF!)),\"X\",\"\")","v":""}]
["MATTEL INC (HEALTHCOMP)","X",{"$f":"IF(ISNUMBER(FIND(\"MEDICAID\",A2140)),\"X\",\"\")","v":""},{"$f":"IF(ISNUMBER(FIND(\"MEDICARE\",A2140)),\"X\",\"\")","v":""},{"$f":"IF(ISNUMBER(FIND(\"BC/BS\",#REF!)),\"X\",\"\")","v":""}]
["MATTHEW THORNTON HEALTH PLAN INC (ANTHEM)","X",{"$f":"IF(ISNUMBER(FIND(\"MEDICAID\",A2141)),\"X\",\"\")","v":""},{"$f":"IF(ISNUMBER(FIND(\"MEDICARE\",A2141)),\"X\",\"\")","v":""},"X"]
["MAXCARE RX","X",{"$f":"IF(ISNUMBER(FIND(\"MEDICAID\",A2142)),\"X\",\"\")","v":""},{"$f":"IF(ISNUMBER(FIND(\"MEDICARE\",A2142)),\"X\",\"\")","v":""},{"$f":"IF(ISNUMBER(FIND(\"BC/BS\",#REF!)),\"X\",\"\")","v":""}]
["MAXCO SUPPLY INC (ADVANTEK BENEFIT ADMINISTRATORS)",null,{"$f":"IF(ISNUMBER(FIND(\"MEDICAID\",A2143)),\"X\",\"\")","v":""},{"$f":"IF(ISNUMBER(FIND(\"MEDICARE\",A2143)),\"X\",\"\")","v":""},{"$f":"IF(ISNUMBER(FIND(\"BC/BS\",#REF!)),\"X\",\"\")","v":""}]
["MAXOR PLUS","X",{"$f":"IF(ISNUMBER(FIND(\"MEDICAID\",A2144)),\"X\",\"\")","v":""},{"$f":"IF(ISNUMBER(FIND(\"MEDICARE\",A2144)),\"X\",\"\")","v":""},{"$f":"IF(ISNUMBER(FIND(\"BC/BS\",#REF!)),\"X\",\"\")","v":""}]
["MAYS HOUSECALL HOME HEALTH (GROUP & PENSION ADMIN)","X",{"$f":"IF(ISNUMBER(FIND(\"MEDICAID\",A2145)),\"X\",\"\")","v":""},{"$f":"IF(ISNUMBER(FIND(\"MEDICARE\",A2145)),\"X\",\"\")","v":""},{"$f":"IF(ISNUMBER(FIND(\"BC/BS\",#REF!)),\"X\",\"\")","v":""}]
["MAZZA MECHANICAL SERVICES INC (INDEPENDENT HEALTH)",null,{"$f":"IF(ISNUMBER(FIND(\"MEDICAID\",A2146)),\"X\",\"\")","v":""},{"$f":"IF(ISNUMBER(FIND(\"MEDICARE\",A2146)),\"X\",\"\")","v":""},{"$f":"IF(ISNUMBER(FIND(\"BC/BS\",#REF!)),\"X\",\"\")","v":""}]
["MBC HEALTH PROVIDERS OF TEXAS INC (MAGELLAN HEALTH)","X",{"$f":"IF(ISNUMBER(FIND(\"MEDICAID\",A2147)),\"X\",\"\")","v":""},{"$f":"IF(ISNUMBER(FIND(\"MEDICARE\",A2147)),\"X\",\"\")","v":""},{"$f":"IF(ISNUMBER(FIND(\"BC/BS\",#REF!)),\"X\",\"\")","v":""}]
["MC-21 - MCC MASTER","X",{"$f":"IF(ISNUMBER(FIND(\"MEDICAID\",A2148)),\"X\",\"\")","v":""},{"$f":"IF(ISNUMBER(FIND(\"MEDICARE\",A2148)),\"X\",\"\")","v":""},{"$f":"IF(ISNUMBER(FIND(\"BC/BS\",#REF!)),\"X\",\"\")","v":""}]
["MCAFEE & TAFT (WEBTPA)","X",{"$f":"IF(ISNUMBER(FIND(\"MEDICAID\",A2149)),\"X\",\"\")","v":""},{"$f":"IF(ISNUMBER(FIND(\"MEDICARE\",A2149)),\"X\",\"\")","v":""},{"$f":"IF(ISNUMBER(FIND(\"BC/BS\",#REF!)),\"X\",\"\")","v":""}]
["MCGILL (MAESTRO HEALTH)",null,{"$f":"IF(ISNUMBER(FIND(\"MEDICAID\",A2150)),\"X\",\"\")","v":""},{"$f":"IF(ISNUMBER(FIND(\"MEDICARE\",A2150)),\"X\",\"\")","v":""},{"$f":"IF(ISNUMBER(FIND(\"BC/BS\",#REF!)),\"X\",\"\")","v":""}]
["MCGREGOR PACE","X",{"$f":"IF(ISNUMBER(FIND(\"MEDICAID\",A2151)),\"X\",\"\")","v":""},{"$f":"IF(ISNUMBER(FIND(\"MEDICARE\",A2151)),\"X\",\"\")","v":""},{"$f":"IF(ISNUMBER(FIND(\"BC/BS\",#REF!)),\"X\",\"\")","v":""}]
["MCHP (COMMUNITY CARE PLAN)","X",{"$f":"IF(ISNUMBER(FIND(\"MEDICAID\",A2152)),\"X\",\"\")","v":""},{"$f":"IF(ISNUMBER(FIND(\"MEDICARE\",A2152)),\"X\",\"\")","v":""},{"$f":"IF(ISNUMBER(FIND(\"BC/BS\",#REF!)),\"X\",\"\")","v":""}]
["MCKESSON_PROSPECTIVE_HLTH",null,{"$f":"IF(ISNUMBER(FIND(\"MEDICAID\",A2153)),\"X\",\"\")","v":""},{"$f":"IF(ISNUMBER(FIND(\"MEDICARE\",A2153)),\"X\",\"\")","v":""},{"$f":"IF(ISNUMBER(FIND(\"BC/BS\",#REF!)),\"X\",\"\")","v":""}]
["MCKINSEY & COMPANY INC (CIGNA)",null,{"$f":"IF(ISNUMBER(FIND(\"MEDICAID\",A2154)),\"X\",\"\")","v":""},{"$f":"IF(ISNUMBER(FIND(\"MEDICARE\",A2154)),\"X\",\"\")","v":""},{"$f":"IF(ISNUMBER(FIND(\"BC/BS\",#REF!)),\"X\",\"\")","v":""}]
["MCLAREN HEALTH ADVANTAGE","X",{"$f":"IF(ISNUMBER(FIND(\"MEDICAID\",A2155)),\"X\",\"\")","v":""},{"$f":"IF(ISNUMBER(FIND(\"MEDICARE\",A2155)),\"X\",\"\")","v":""},{"$f":"IF(ISNUMBER(FIND(\"BC/BS\",#REF!)),\"X\",\"\")","v":""}]
["MCLAREN HEALTH PLAN COMMUNITY","X",{"$f":"IF(ISNUMBER(FIND(\"MEDICAID\",A2156)),\"X\",\"\")","v":""},{"$f":"IF(ISNUMBER(FIND(\"MEDICARE\",A2156)),\"X\",\"\")","v":""},{"$f":"IF(ISNUMBER(FIND(\"BC/BS\",#REF!)),\"X\",\"\")","v":""}]
["MCLAREN MEDICAID","X",null,{"$f":"IF(ISNUMBER(FIND(\"MEDICARE\",A2157)),\"X\",\"\")","v":""},{"$f":"IF(ISNUMBER(FIND(\"BC/BS\",#REF!)),\"X\",\"\")","v":""}]
["MCLAREN MEDICARE ADVANTAGE","X",{"$f":"IF(ISNUMBER(FIND(\"MEDICAID\",A2158)),\"X\",\"\")","v":""},null,{"$f":"IF(ISNUMBER(FIND(\"BC/BS\",#REF!)),\"X\",\"\")","v":""}]
["MCLAREN MEDICARE SUPPLEMENT","X",{"$f":"IF(ISNUMBER(FIND(\"MEDICAID\",A2159)),\"X\",\"\")","v":""},null,{"$f":"IF(ISNUMBER(FIND(\"BC/BS\",#REF!)),\"X\",\"\")","v":""}]
["MCS LIFE INSURANCE (MEDICAL CARD SYSTEM)","X",{"$f":"IF(ISNUMBER(FIND(\"MEDICAID\",A2160)),\"X\",\"\")","v":""},{"$f":"IF(ISNUMBER(FIND(\"MEDICARE\",A2160)),\"X\",\"\")","v":""},{"$f":"IF(ISNUMBER(FIND(\"BC/BS\",#REF!)),\"X\",\"\")","v":""}]
["MCT CREDIT UNION (GROUP & PENSION ADMIN)","X",{"$f":"IF(ISNUMBER(FIND(\"MEDICAID\",A2161)),\"X\",\"\")","v":""},{"$f":"IF(ISNUMBER(FIND(\"MEDICARE\",A2161)),\"X\",\"\")","v":""},{"$f":"IF(ISNUMBER(FIND(\"BC/BS\",#REF!)),\"X\",\"\")","v":""}]
["MCWILLIAMS & SON EBPT (90 DEGREE BENEFITS HOUSTON - ENTRUST)",null,{"$f":"IF(ISNUMBER(FIND(\"MEDICAID\",A2162)),\"X\",\"\")","v":""},{"$f":"IF(ISNUMBER(FIND(\"MEDICARE\",A2162)),\"X\",\"\")","v":""},{"$f":"IF(ISNUMBER(FIND(\"BC/BS\",#REF!)),\"X\",\"\")","v":""}]
["MDSAVE INC","X",{"$f":"IF(ISNUMBER(FIND(\"MEDICAID\",A2163)),\"X\",\"\")","v":""},{"$f":"IF(ISNUMBER(FIND(\"MEDICARE\",A2163)),\"X\",\"\")","v":""},{"$f":"IF(ISNUMBER(FIND(\"BC/BS\",#REF!)),\"X\",\"\")","v":""}]
["MDWISE HEALTHY INDIANA PLAN (HIP)","X",{"$f":"IF(ISNUMBER(FIND(\"MEDICAID\",A2164)),\"X\",\"\")","v":""},{"$f":"IF(ISNUMBER(FIND(\"MEDICARE\",A2164)),\"X\",\"\")","v":""},{"$f":"IF(ISNUMBER(FIND(\"BC/BS\",#REF!)),\"X\",\"\")","v":""}]
["MDWISE HOOSIER HEALTHWISE (HHW)","X",{"$f":"IF(ISNUMBER(FIND(\"MEDICAID\",A2165)),\"X\",\"\")","v":""},{"$f":"IF(ISNUMBER(FIND(\"MEDICARE\",A2165)),\"X\",\"\")","v":""},{"$f":"IF(ISNUMBER(FIND(\"BC/BS\",#REF!)),\"X\",\"\")","v":""}]
["MDX HAWAII",null,{"$f":"IF(ISNUMBER(FIND(\"MEDICAID\",A2166)),\"X\",\"\")","v":""},{"$f":"IF(ISNUMBER(FIND(\"MEDICARE\",A2166)),\"X\",\"\")","v":""},{"$f":"IF(ISNUMBER(FIND(\"BC/BS\",#REF!)),\"X\",\"\")","v":""}]
["MEADORS EBPT (90 DEGREE BENEFITS HOUSTON - ENTRUST)",null,{"$f":"IF(ISNUMBER(FIND(\"MEDICAID\",A2167)),\"X\",\"\")","v":""},{"$f":"IF(ISNUMBER(FIND(\"MEDICARE\",A2167)),\"X\",\"\")","v":""},{"$f":"IF(ISNUMBER(FIND(\"BC/BS\",#REF!)),\"X\",\"\")","v":""}]
["MECK COUNTY ABC (MAESTRO HEALTH)",null,{"$f":"IF(ISNUMBER(FIND(\"MEDICAID\",A2168)),\"X\",\"\")","v":""},{"$f":"IF(ISNUMBER(FIND(\"MEDICARE\",A2168)),\"X\",\"\")","v":""},{"$f":"IF(ISNUMBER(FIND(\"BC/BS\",#REF!)),\"X\",\"\")","v":""}]
["MEDBEN","X",{"$f":"IF(ISNUMBER(FIND(\"MEDICAID\",A2169)),\"X\",\"\")","v":""},{"$f":"IF(ISNUMBER(FIND(\"MEDICARE\",A2169)),\"X\",\"\")","v":""},{"$f":"IF(ISNUMBER(FIND(\"BC/BS\",#REF!)),\"X\",\"\")","v":""}]
["MEDCOST BENEFIT SERVICES","X",{"$f":"IF(ISNUMBER(FIND(\"MEDICAID\",A2170)),\"X\",\"\")","v":""},{"$f":"IF(ISNUMBER(FIND(\"MEDICARE\",A2170)),\"X\",\"\")","v":""},{"$f":"IF(ISNUMBER(FIND(\"BC/BS\",#REF!)),\"X\",\"\")","v":""}]
["MEDICA","X",{"$f":"IF(ISNUMBER(FIND(\"MEDICAID\",A2171)),\"X\",\"\")","v":""},{"$f":"IF(ISNUMBER(FIND(\"MEDICARE\",A2171)),\"X\",\"\")","v":""},{"$f":"IF(ISNUMBER(FIND(\"BC/BS\",#REF!)),\"X\",\"\")","v":""}]
["MEDICA (IAS ADMIN)","X",{"$f":"IF(ISNUMBER(FIND(\"MEDICAID\",A2172)),\"X\",\"\")","v":""},{"$f":"IF(ISNUMBER(FIND(\"MEDICARE\",A2172)),\"X\",\"\")","v":""},{"$f":"IF(ISNUMBER(FIND(\"BC/BS\",#REF!)),\"X\",\"\")","v":""}]
["MEDICA HEALTH PLAN SOLUTIONS","X",{"$f":"IF(ISNUMBER(FIND(\"MEDICAID\",A2173)),\"X\",\"\")","v":""},{"$f":"IF(ISNUMBER(FIND(\"MEDICARE\",A2173)),\"X\",\"\")","v":""},{"$f":"IF(ISNUMBER(FIND(\"BC/BS\",#REF!)),\"X\",\"\")","v":""}]
["MEDICAID ALABAMA (DXC)","X",{"$f":"IF(ISNUMBER(FIND(\"MEDICAID\",A2174)),\"X\",\"\")","v":"X"},{"$f":"IF(ISNUMBER(FIND(\"MEDICARE\",A2174)),\"X\",\"\")","v":""},{"$f":"IF(ISNUMBER(FIND(\"BC/BS\",#REF!)),\"X\",\"\")","v":""}]
["MEDICAID ALASKA","X",{"$f":"IF(ISNUMBER(FIND(\"MEDICAID\",A2175)),\"X\",\"\")","v":"X"},{"$f":"IF(ISNUMBER(FIND(\"MEDICARE\",A2175)),\"X\",\"\")","v":""},{"$f":"IF(ISNUMBER(FIND(\"BC/BS\",#REF!)),\"X\",\"\")","v":""}]
["MEDICAID ARIZONA (AHCCCS)","X",{"$f":"IF(ISNUMBER(FIND(\"MEDICAID\",A2176)),\"X\",\"\")","v":"X"},{"$f":"IF(ISNUMBER(FIND(\"MEDICARE\",A2176)),\"X\",\"\")","v":""},{"$f":"IF(ISNUMBER(FIND(\"BC/BS\",#REF!)),\"X\",\"\")","v":""}]
["MEDICAID ARKANSAS ","X",{"$f":"IF(ISNUMBER(FIND(\"MEDICAID\",A2177)),\"X\",\"\")","v":"X"},{"$f":"IF(ISNUMBER(FIND(\"MEDICARE\",A2177)),\"X\",\"\")","v":""},{"$f":"IF(ISNUMBER(FIND(\"BC/BS\",#REF!)),\"X\",\"\")","v":""}]
["MEDICAID CALIFORNIA (MEDI-CAL) (STATE OF CALIFORNIA - DEPARTMENT OF HEALTH CARE SERVICES)","X",{"$f":"IF(ISNUMBER(FIND(\"MEDICAID\",A2178)),\"X\",\"\")","v":"X"},{"$f":"IF(ISNUMBER(FIND(\"MEDICARE\",A2178)),\"X\",\"\")","v":""},{"$f":"IF(ISNUMBER(FIND(\"BC/BS\",#REF!)),\"X\",\"\")","v":""}]
["MEDICAID COLORADO (COTXIX)","X",{"$f":"IF(ISNUMBER(FIND(\"MEDICAID\",A2179)),\"X\",\"\")","v":"X"},{"$f":"IF(ISNUMBER(FIND(\"MEDICARE\",A2179)),\"X\",\"\")","v":""},{"$f":"IF(ISNUMBER(FIND(\"BC/BS\",#REF!)),\"X\",\"\")","v":""}]
["MEDICAID CONNECTICUT (CT DSS MMIS CONTRACT ADMINISTRATOR)","X",{"$f":"IF(ISNUMBER(FIND(\"MEDICAID\",A2180)),\"X\",\"\")","v":"X"},{"$f":"IF(ISNUMBER(FIND(\"MEDICARE\",A2180)),\"X\",\"\")","v":""},{"$f":"IF(ISNUMBER(FIND(\"BC/BS\",#REF!)),\"X\",\"\")","v":""}]
["MEDICAID DC","X",{"$f":"IF(ISNUMBER(FIND(\"MEDICAID\",A2181)),\"X\",\"\")","v":"X"},{"$f":"IF(ISNUMBER(FIND(\"MEDICARE\",A2181)),\"X\",\"\")","v":""},{"$f":"IF(ISNUMBER(FIND(\"BC/BS\",#REF!)),\"X\",\"\")","v":""}]
["MEDICAID DELAWARE (DE_TXIX)","X",{"$f":"IF(ISNUMBER(FIND(\"MEDICAID\",A2182)),\"X\",\"\")","v":"X"},{"$f":"IF(ISNUMBER(FIND(\"MEDICARE\",A2182)),\"X\",\"\")","v":""},{"$f":"IF(ISNUMBER(FIND(\"BC/BS\",#REF!)),\"X\",\"\")","v":""}]
["MEDICAID FLORIDA","X",{"$f":"IF(ISNUMBER(FIND(\"MEDICAID\",A2183)),\"X\",\"\")","v":"X"},{"$f":"IF(ISNUMBER(FIND(\"MEDICARE\",A2183)),\"X\",\"\")","v":""},{"$f":"IF(ISNUMBER(FIND(\"BC/BS\",#REF!)),\"X\",\"\")","v":""}]
["MEDICAID GEORGIA  (DEPARTMENT OF COMMUNITY HEALTH)","X",{"$f":"IF(ISNUMBER(FIND(\"MEDICAID\",A2184)),\"X\",\"\")","v":"X"},{"$f":"IF(ISNUMBER(FIND(\"MEDICARE\",A2184)),\"X\",\"\")","v":""},{"$f":"IF(ISNUMBER(FIND(\"BC/BS\",#REF!)),\"X\",\"\")","v":""}]
["MEDICAID GEORGIA PHARMACY (GEORGIA DEPARTMENT OF COMMUNITY HEALTH)","X",{"$f":"IF(ISNUMBER(FIND(\"MEDICAID\",A2185)),\"X\",\"\")","v":"X"},{"$f":"IF(ISNUMBER(FIND(\"MEDICARE\",A2185)),\"X\",\"\")","v":""},{"$f":"IF(ISNUMBER(FIND(\"BC/BS\",#REF!)),\"X\",\"\")","v":""}]
["MEDICAID HAWAII (MED-QUEST)",null,{"$f":"IF(ISNUMBER(FIND(\"MEDICAID\",A2186)),\"X\",\"\")","v":"X"},{"$f":"IF(ISNUMBER(FIND(\"MEDICARE\",A2186)),\"X\",\"\")","v":""},{"$f":"IF(ISNUMBER(FIND(\"BC/BS\",#REF!)),\"X\",\"\")","v":""}]
["MEDICAID IDAHO (IDAHO DEPARTMENT OF HEALTH & WELFARE)","X",{"$f":"IF(ISNUMBER(FIND(\"MEDICAID\",A2187)),\"X\",\"\")","v":"X"},{"$f":"IF(ISNUMBER(FIND(\"MEDICARE\",A2187)),\"X\",\"\")","v":""},{"$f":"IF(ISNUMBER(FIND(\"BC/BS\",#REF!)),\"X\",\"\")","v":""}]
["MEDICAID ILLINOIS",null,{"$f":"IF(ISNUMBER(FIND(\"MEDICAID\",A2188)),\"X\",\"\")","v":"X"},{"$f":"IF(ISNUMBER(FIND(\"MEDICARE\",A2188)),\"X\",\"\")","v":""},{"$f":"IF(ISNUMBER(FIND(\"BC/BS\",#REF!)),\"X\",\"\")","v":""}]
["MEDICAID INDIANA (GAINWELL TECHNOLOGIES LLC)","X",{"$f":"IF(ISNUMBER(FIND(\"MEDICAID\",A2189)),\"X\",\"\")","v":"X"},{"$f":"IF(ISNUMBER(FIND(\"MEDICARE\",A2189)),\"X\",\"\")","v":""},{"$f":"IF(ISNUMBER(FIND(\"BC/BS\",#REF!)),\"X\",\"\")","v":""}]
["MEDICAID INDIANA (OPTUMRX)",null,{"$f":"IF(ISNUMBER(FIND(\"MEDICAID\",A2190)),\"X\",\"\")","v":"X"},{"$f":"IF(ISNUMBER(FIND(\"MEDICARE\",A2190)),\"X\",\"\")","v":""},{"$f":"IF(ISNUMBER(FIND(\"BC/BS\",#REF!)),\"X\",\"\")","v":""}]
["MEDICAID IOWA","X",{"$f":"IF(ISNUMBER(FIND(\"MEDICAID\",A2191)),\"X\",\"\")","v":"X"},{"$f":"IF(ISNUMBER(FIND(\"MEDICARE\",A2191)),\"X\",\"\")","v":""},{"$f":"IF(ISNUMBER(FIND(\"BC/BS\",#REF!)),\"X\",\"\")","v":""}]
["MEDICAID KANSAS (KANSAS MEDICAL ASSISTANCE PROGRAM)",null,{"$f":"IF(ISNUMBER(FIND(\"MEDICAID\",A2192)),\"X\",\"\")","v":"X"},{"$f":"IF(ISNUMBER(FIND(\"MEDICARE\",A2192)),\"X\",\"\")","v":""},{"$f":"IF(ISNUMBER(FIND(\"BC/BS\",#REF!)),\"X\",\"\")","v":""}]
["MEDICAID KENTUCKY","X",{"$f":"IF(ISNUMBER(FIND(\"MEDICAID\",A2193)),\"X\",\"\")","v":"X"},{"$f":"IF(ISNUMBER(FIND(\"MEDICARE\",A2193)),\"X\",\"\")","v":""},{"$f":"IF(ISNUMBER(FIND(\"BC/BS\",#REF!)),\"X\",\"\")","v":""}]
["MEDICAID LOUISIANA (DHH)","X",{"$f":"IF(ISNUMBER(FIND(\"MEDICAID\",A2194)),\"X\",\"\")","v":"X"},{"$f":"IF(ISNUMBER(FIND(\"MEDICARE\",A2194)),\"X\",\"\")","v":""},{"$f":"IF(ISNUMBER(FIND(\"BC/BS\",#REF!)),\"X\",\"\")","v":""}]
["MEDICAID MAINE (DHHS)","X",{"$f":"IF(ISNUMBER(FIND(\"MEDICAID\",A2195)),\"X\",\"\")","v":"X"},{"$f":"IF(ISNUMBER(FIND(\"MEDICARE\",A2195)),\"X\",\"\")","v":""},{"$f":"IF(ISNUMBER(FIND(\"BC/BS\",#REF!)),\"X\",\"\")","v":""}]
["MEDICAID MARYLAND (MARYLAND MEDICAL CARE PROGRAM)",null,{"$f":"IF(ISNUMBER(FIND(\"MEDICAID\",A2196)),\"X\",\"\")","v":"X"},{"$f":"IF(ISNUMBER(FIND(\"MEDICARE\",A2196)),\"X\",\"\")","v":""},{"$f":"IF(ISNUMBER(FIND(\"BC/BS\",#REF!)),\"X\",\"\")","v":""}]
["MEDICAID MASSACHUSETTS (COMMONWEALTH OF MASSACHUSETTS/EOHHS)","X",{"$f":"IF(ISNUMBER(FIND(\"MEDICAID\",A2197)),\"X\",\"\")","v":"X"},{"$f":"IF(ISNUMBER(FIND(\"MEDICARE\",A2197)),\"X\",\"\")","v":""},{"$f":"IF(ISNUMBER(FIND(\"BC/BS\",#REF!)),\"X\",\"\")","v":""}]
["MEDICAID MICHIGAN (MICHIGAN DEPARTMENT OF HEALTH AND HUMAN SERVICES)","X",{"$f":"IF(ISNUMBER(FIND(\"MEDICAID\",A2198)),\"X\",\"\")","v":"X"},{"$f":"IF(ISNUMBER(FIND(\"MEDICARE\",A2198)),\"X\",\"\")","v":""},{"$f":"IF(ISNUMBER(FIND(\"BC/BS\",#REF!)),\"X\",\"\")","v":""}]
["MEDICAID MINNESOTA (MINNESOTA HEALTH CARE PROGRAMS)","X",{"$f":"IF(ISNUMBER(FIND(\"MEDICAID\",A2199)),\"X\",\"\")","v":"X"},{"$f":"IF(ISNUMBER(FIND(\"MEDICARE\",A2199)),\"X\",\"\")","v":""},{"$f":"IF(ISNUMBER(FIND(\"BC/BS\",#REF!)),\"X\",\"\")","v":""}]
["MEDICAID MISSISSIPPI","X",{"$f":"IF(ISNUMBER(FIND(\"MEDICAID\",A2200)),\"X\",\"\")","v":"X"},{"$f":"IF(ISNUMBER(FIND(\"MEDICARE\",A2200)),\"X\",\"\")","v":""},{"$f":"IF(ISNUMBER(FIND(\"BC/BS\",#REF!)),\"X\",\"\")","v":""}]
["MEDICAID MISSISSIPPI (MS_TXIX)","X",{"$f":"IF(ISNUMBER(FIND(\"MEDICAID\",A2201)),\"X\",\"\")","v":"X"},{"$f":"IF(ISNUMBER(FIND(\"MEDICARE\",A2201)),\"X\",\"\")","v":""},{"$f":"IF(ISNUMBER(FIND(\"BC/BS\",#REF!)),\"X\",\"\")","v":""}]
["MEDICAID MISSOURI (MO HEALTHNET)","X",{"$f":"IF(ISNUMBER(FIND(\"MEDICAID\",A2202)),\"X\",\"\")","v":"X"},{"$f":"IF(ISNUMBER(FIND(\"MEDICARE\",A2202)),\"X\",\"\")","v":""},{"$f":"IF(ISNUMBER(FIND(\"BC/BS\",#REF!)),\"X\",\"\")","v":""}]
["MEDICAID MONTANA",null,{"$f":"IF(ISNUMBER(FIND(\"MEDICAID\",A2203)),\"X\",\"\")","v":"X"},{"$f":"IF(ISNUMBER(FIND(\"MEDICARE\",A2203)),\"X\",\"\")","v":""},{"$f":"IF(ISNUMBER(FIND(\"BC/BS\",#REF!)),\"X\",\"\")","v":""}]
["MEDICAID NEBRASKA","X",{"$f":"IF(ISNUMBER(FIND(\"MEDICAID\",A2204)),\"X\",\"\")","v":"X"},{"$f":"IF(ISNUMBER(FIND(\"MEDICARE\",A2204)),\"X\",\"\")","v":""},{"$f":"IF(ISNUMBER(FIND(\"BC/BS\",#REF!)),\"X\",\"\")","v":""}]
["MEDICAID NEVADA (DIVISION OF HEALTH CARE FINANCING AND POLICY)","X",{"$f":"IF(ISNUMBER(FIND(\"MEDICAID\",A2205)),\"X\",\"\")","v":"X"},{"$f":"IF(ISNUMBER(FIND(\"MEDICARE\",A2205)),\"X\",\"\")","v":""},{"$f":"IF(ISNUMBER(FIND(\"BC/BS\",#REF!)),\"X\",\"\")","v":""}]
["MEDICAID NEW HAMPSHIRE","X",{"$f":"IF(ISNUMBER(FIND(\"MEDICAID\",A2206)),\"X\",\"\")","v":"X"},{"$f":"IF(ISNUMBER(FIND(\"MEDICARE\",A2206)),\"X\",\"\")","v":""},{"$f":"IF(ISNUMBER(FIND(\"BC/BS\",#REF!)),\"X\",\"\")","v":""}]
["MEDICAID NEW JERSEY","X",{"$f":"IF(ISNUMBER(FIND(\"MEDICAID\",A2207)),\"X\",\"\")","v":"X"},{"$f":"IF(ISNUMBER(FIND(\"MEDICARE\",A2207)),\"X\",\"\")","v":""},{"$f":"IF(ISNUMBER(FIND(\"BC/BS\",#REF!)),\"X\",\"\")","v":""}]
["MEDICAID NEW MEXICO","X",{"$f":"IF(ISNUMBER(FIND(\"MEDICAID\",A2208)),\"X\",\"\")","v":"X"},{"$f":"IF(ISNUMBER(FIND(\"MEDICARE\",A2208)),\"X\",\"\")","v":""},{"$f":"IF(ISNUMBER(FIND(\"BC/BS\",#REF!)),\"X\",\"\")","v":""}]
["MEDICAID NEW YORK (NYSDOH)","X",{"$f":"IF(ISNUMBER(FIND(\"MEDICAID\",A2209)),\"X\",\"\")","v":"X"},{"$f":"IF(ISNUMBER(FIND(\"MEDICARE\",A2209)),\"X\",\"\")","v":""},{"$f":"IF(ISNUMBER(FIND(\"BC/BS\",#REF!)),\"X\",\"\")","v":""}]
["MEDICAID NORTH CAROLINA - DIVISION OF HEALTH BENEFITS (DHB)","X",{"$f":"IF(ISNUMBER(FIND(\"MEDICAID\",A2210)),\"X\",\"\")","v":"X"},{"$f":"IF(ISNUMBER(FIND(\"MEDICARE\",A2210)),\"X\",\"\")","v":""},{"$f":"IF(ISNUMBER(FIND(\"BC/BS\",#REF!)),\"X\",\"\")","v":""}]
["MEDICAID NORTH CAROLINA - DIVISION OF MENTAL HEALTH",null,{"$f":"IF(ISNUMBER(FIND(\"MEDICAID\",A2211)),\"X\",\"\")","v":"X"},{"$f":"IF(ISNUMBER(FIND(\"MEDICARE\",A2211)),\"X\",\"\")","v":""},{"$f":"IF(ISNUMBER(FIND(\"BC/BS\",#REF!)),\"X\",\"\")","v":""}]
["MEDICAID NORTH CAROLINA - DIVISION OF PUBLIC HEALTH","X",{"$f":"IF(ISNUMBER(FIND(\"MEDICAID\",A2212)),\"X\",\"\")","v":"X"},{"$f":"IF(ISNUMBER(FIND(\"MEDICARE\",A2212)),\"X\",\"\")","v":""},{"$f":"IF(ISNUMBER(FIND(\"BC/BS\",#REF!)),\"X\",\"\")","v":""}]
["MEDICAID NORTH DAKOTA","X",{"$f":"IF(ISNUMBER(FIND(\"MEDICAID\",A2213)),\"X\",\"\")","v":"X"},{"$f":"IF(ISNUMBER(FIND(\"MEDICARE\",A2213)),\"X\",\"\")","v":""},{"$f":"IF(ISNUMBER(FIND(\"BC/BS\",#REF!)),\"X\",\"\")","v":""}]
["MEDICAID OHIO",null,{"$f":"IF(ISNUMBER(FIND(\"MEDICAID\",A2214)),\"X\",\"\")","v":"X"},{"$f":"IF(ISNUMBER(FIND(\"MEDICARE\",A2214)),\"X\",\"\")","v":""},{"$f":"IF(ISNUMBER(FIND(\"BC/BS\",#REF!)),\"X\",\"\")","v":""}]
["MEDICAID OKLAHOMA (OKLAHOMA HEALTH CARE AUTHORITY)","X",{"$f":"IF(ISNUMBER(FIND(\"MEDICAID\",A2215)),\"X\",\"\")","v":"X"},{"$f":"IF(ISNUMBER(FIND(\"MEDICARE\",A2215)),\"X\",\"\")","v":""},{"$f":"IF(ISNUMBER(FIND(\"BC/BS\",#REF!)),\"X\",\"\")","v":""}]
["MEDICAID OREGON (OREGON HEALTH AUTHORITY)","X",{"$f":"IF(ISNUMBER(FIND(\"MEDICAID\",A2216)),\"X\",\"\")","v":"X"},{"$f":"IF(ISNUMBER(FIND(\"MEDICARE\",A2216)),\"X\",\"\")","v":""},{"$f":"IF(ISNUMBER(FIND(\"BC/BS\",#REF!)),\"X\",\"\")","v":""}]
["MEDICAID PENNSYLVANIA (DEPARTMENT OF HUMAN SERVICES)","X",{"$f":"IF(ISNUMBER(FIND(\"MEDICAID\",A2217)),\"X\",\"\")","v":"X"},{"$f":"IF(ISNUMBER(FIND(\"MEDICARE\",A2217)),\"X\",\"\")","v":""},{"$f":"IF(ISNUMBER(FIND(\"BC/BS\",#REF!)),\"X\",\"\")","v":""}]
["MEDICAID RHODE ISLAND (DXC)","X",{"$f":"IF(ISNUMBER(FIND(\"MEDICAID\",A2218)),\"X\",\"\")","v":"X"},{"$f":"IF(ISNUMBER(FIND(\"MEDICARE\",A2218)),\"X\",\"\")","v":""},{"$f":"IF(ISNUMBER(FIND(\"BC/BS\",#REF!)),\"X\",\"\")","v":""}]
["MEDICAID SOUTH CAROLINA (SC DEPARTMENT OF HEALTH AND HUMAN SERVICES)","X",{"$f":"IF(ISNUMBER(FIND(\"MEDICAID\",A2219)),\"X\",\"\")","v":"X"},{"$f":"IF(ISNUMBER(FIND(\"MEDICARE\",A2219)),\"X\",\"\")","v":""},{"$f":"IF(ISNUMBER(FIND(\"BC/BS\",#REF!)),\"X\",\"\")","v":""}]
["MEDICAID SOUTH DAKOTA (DEPARTMENT OF SOCIAL SERVICES)","X",{"$f":"IF(ISNUMBER(FIND(\"MEDICAID\",A2220)),\"X\",\"\")","v":"X"},{"$f":"IF(ISNUMBER(FIND(\"MEDICARE\",A2220)),\"X\",\"\")","v":""},{"$f":"IF(ISNUMBER(FIND(\"BC/BS\",#REF!)),\"X\",\"\")","v":""}]
["MEDICAID TEXAS (TEXAS MEDICAID/HEALTHCARE SERVICES)","X",{"$f":"IF(ISNUMBER(FIND(\"MEDICAID\",A2221)),\"X\",\"\")","v":"X"},{"$f":"IF(ISNUMBER(FIND(\"MEDICARE\",A2221)),\"X\",\"\")","v":""},{"$f":"IF(ISNUMBER(FIND(\"BC/BS\",#REF!)),\"X\",\"\")","v":""}]
["MEDICAID UTAH (UTAH DEPARTMENT OF HEALTH)","X",{"$f":"IF(ISNUMBER(FIND(\"MEDICAID\",A2222)),\"X\",\"\")","v":"X"},{"$f":"IF(ISNUMBER(FIND(\"MEDICARE\",A2222)),\"X\",\"\")","v":""},{"$f":"IF(ISNUMBER(FIND(\"BC/BS\",#REF!)),\"X\",\"\")","v":""}]
["MEDICAID VERMONT","X",{"$f":"IF(ISNUMBER(FIND(\"MEDICAID\",A2223)),\"X\",\"\")","v":"X"},{"$f":"IF(ISNUMBER(FIND(\"MEDICARE\",A2223)),\"X\",\"\")","v":""},{"$f":"IF(ISNUMBER(FIND(\"BC/BS\",#REF!)),\"X\",\"\")","v":""}]
["MEDICAID VIRGINIA (DEPARTMENT OF MEDICAL ASSISTANCE SERVICES)","X",{"$f":"IF(ISNUMBER(FIND(\"MEDICAID\",A2224)),\"X\",\"\")","v":"X"},{"$f":"IF(ISNUMBER(FIND(\"MEDICARE\",A2224)),\"X\",\"\")","v":""},{"$f":"IF(ISNUMBER(FIND(\"BC/BS\",#REF!)),\"X\",\"\")","v":""}]
["MEDICAID WASHINGTON (WA STATE DEPT OF LABOR AND INDUSTRIES)","X",{"$f":"IF(ISNUMBER(FIND(\"MEDICAID\",A2225)),\"X\",\"\")","v":"X"},{"$f":"IF(ISNUMBER(FIND(\"MEDICARE\",A2225)),\"X\",\"\")","v":""},{"$f":"IF(ISNUMBER(FIND(\"BC/BS\",#REF!)),\"X\",\"\")","v":""}]
["MEDICAID WASHINGTON (WA STATE DSHS)","X",{"$f":"IF(ISNUMBER(FIND(\"MEDICAID\",A2226)),\"X\",\"\")","v":"X"},{"$f":"IF(ISNUMBER(FIND(\"MEDICARE\",A2226)),\"X\",\"\")","v":""},{"$f":"IF(ISNUMBER(FIND(\"BC/BS\",#REF!)),\"X\",\"\")","v":""}]
["MEDICAID WEST VIRGINIA (WEST VIRGINIA BUREAU FOR MEDICAL SERVICES)","X",{"$f":"IF(ISNUMBER(FIND(\"MEDICAID\",A2227)),\"X\",\"\")","v":"X"},{"$f":"IF(ISNUMBER(FIND(\"MEDICARE\",A2227)),\"X\",\"\")","v":""},{"$f":"IF(ISNUMBER(FIND(\"BC/BS\",#REF!)),\"X\",\"\")","v":""}]
["MEDICAID WEST VIRGINIA (WEST VIRGINIA DEPARTMENT OF ADMINISTRATION)","X",{"$f":"IF(ISNUMBER(FIND(\"MEDICAID\",A2228)),\"X\",\"\")","v":"X"},{"$f":"IF(ISNUMBER(FIND(\"MEDICARE\",A2228)),\"X\",\"\")","v":""},{"$f":"IF(ISNUMBER(FIND(\"BC/BS\",#REF!)),\"X\",\"\")","v":""}]
["MEDICAID WISCONSIN - FORWARDHEALTH (WISC_TXIX)","X",{"$f":"IF(ISNUMBER(FIND(\"MEDICAID\",A2229)),\"X\",\"\")","v":"X"},{"$f":"IF(ISNUMBER(FIND(\"MEDICARE\",A2229)),\"X\",\"\")","v":""},{"$f":"IF(ISNUMBER(FIND(\"BC/BS\",#REF!)),\"X\",\"\")","v":""}]
["MEDICAID WYOMING","X",{"$f":"IF(ISNUMBER(FIND(\"MEDICAID\",A2230)),\"X\",\"\")","v":"X"},{"$f":"IF(ISNUMBER(FIND(\"MEDICARE\",A2230)),\"X\",\"\")","v":""},{"$f":"IF(ISNUMBER(FIND(\"BC/BS\",#REF!)),\"X\",\"\")","v":""}]
["MEDICAL ASSOCIATES HEALTH PLAN","X",{"$f":"IF(ISNUMBER(FIND(\"MEDICAID\",A2231)),\"X\",\"\")","v":""},{"$f":"IF(ISNUMBER(FIND(\"MEDICARE\",A2231)),\"X\",\"\")","v":""},{"$f":"IF(ISNUMBER(FIND(\"BC/BS\",#REF!)),\"X\",\"\")","v":""}]
["MEDICAL MUTUAL OF OHIO","X",{"$f":"IF(ISNUMBER(FIND(\"MEDICAID\",A2232)),\"X\",\"\")","v":""},{"$f":"IF(ISNUMBER(FIND(\"MEDICARE\",A2232)),\"X\",\"\")","v":""},{"$f":"IF(ISNUMBER(FIND(\"BC/BS\",#REF!)),\"X\",\"\")","v":""}]
["MEDICAL MUTUAL OF OHIO 4372 MEDICARE",null,{"$f":"IF(ISNUMBER(FIND(\"MEDICAID\",A2233)),\"X\",\"\")","v":""},null,{"$f":"IF(ISNUMBER(FIND(\"BC/BS\",#REF!)),\"X\",\"\")","v":""}]
["MEDICAL MUTUAL OF OHIO AAXA ASSISTANCE USA",null,{"$f":"IF(ISNUMBER(FIND(\"MEDICAID\",A2234)),\"X\",\"\")","v":""},{"$f":"IF(ISNUMBER(FIND(\"MEDICARE\",A2234)),\"X\",\"\")","v":""},{"$f":"IF(ISNUMBER(FIND(\"BC/BS\",#REF!)),\"X\",\"\")","v":""}]
["MEDICAL MUTUAL OF OHIO AETNA","X",{"$f":"IF(ISNUMBER(FIND(\"MEDICAID\",A2235)),\"X\",\"\")","v":""},{"$f":"IF(ISNUMBER(FIND(\"MEDICARE\",A2235)),\"X\",\"\")","v":""},{"$f":"IF(ISNUMBER(FIND(\"BC/BS\",#REF!)),\"X\",\"\")","v":""}]
["MEDICAL MUTUAL OF OHIO AETNA MEDICARE HMO PPO",null,{"$f":"IF(ISNUMBER(FIND(\"MEDICAID\",A2236)),\"X\",\"\")","v":""},null,{"$f":"IF(ISNUMBER(FIND(\"BC/BS\",#REF!)),\"X\",\"\")","v":""}]
["MEDICAL MUTUAL OF OHIO AXA ASSISTANCE USA","X",{"$f":"IF(ISNUMBER(FIND(\"MEDICAID\",A2237)),\"X\",\"\")","v":""},{"$f":"IF(ISNUMBER(FIND(\"MEDICARE\",A2237)),\"X\",\"\")","v":""},{"$f":"IF(ISNUMBER(FIND(\"BC/BS\",#REF!)),\"X\",\"\")","v":""}]
["MEDICAL MUTUAL OF OHIO CENTRAL STATES","X",{"$f":"IF(ISNUMBER(FIND(\"MEDICAID\",A2238)),\"X\",\"\")","v":""},{"$f":"IF(ISNUMBER(FIND(\"MEDICARE\",A2238)),\"X\",\"\")","v":""},{"$f":"IF(ISNUMBER(FIND(\"BC/BS\",#REF!)),\"X\",\"\")","v":""}]
["MEDICAL MUTUAL OF OHIO COMMERCIAL FREE TEXT",null,{"$f":"IF(ISNUMBER(FIND(\"MEDICAID\",A2239)),\"X\",\"\")","v":""},{"$f":"IF(ISNUMBER(FIND(\"MEDICARE\",A2239)),\"X\",\"\")","v":""},{"$f":"IF(ISNUMBER(FIND(\"BC/BS\",#REF!)),\"X\",\"\")","v":""}]
["MEDICAL MUTUAL OF OHIO CONSUMERS LIFE INSURANCE COMPANY","X",{"$f":"IF(ISNUMBER(FIND(\"MEDICAID\",A2240)),\"X\",\"\")","v":""},{"$f":"IF(ISNUMBER(FIND(\"MEDICARE\",A2240)),\"X\",\"\")","v":""},{"$f":"IF(ISNUMBER(FIND(\"BC/BS\",#REF!)),\"X\",\"\")","v":""}]
["MEDICAL MUTUAL OF OHIO DENTAL",null,{"$f":"IF(ISNUMBER(FIND(\"MEDICAID\",A2241)),\"X\",\"\")","v":""},{"$f":"IF(ISNUMBER(FIND(\"MEDICARE\",A2241)),\"X\",\"\")","v":""},{"$f":"IF(ISNUMBER(FIND(\"BC/BS\",#REF!)),\"X\",\"\")","v":""}]
["MEDICAL MUTUAL OF OHIO DEVOTED HEALTH PLAN",null,{"$f":"IF(ISNUMBER(FIND(\"MEDICAID\",A2242)),\"X\",\"\")","v":""},{"$f":"IF(ISNUMBER(FIND(\"MEDICARE\",A2242)),\"X\",\"\")","v":""},{"$f":"IF(ISNUMBER(FIND(\"BC/BS\",#REF!)),\"X\",\"\")","v":""}]
["MEDICAL MUTUAL OF OHIO DEVOTED HEALTH PLAN MCR","X",{"$f":"IF(ISNUMBER(FIND(\"MEDICAID\",A2243)),\"X\",\"\")","v":""},{"$f":"IF(ISNUMBER(FIND(\"MEDICARE\",A2243)),\"X\",\"\")","v":""},{"$f":"IF(ISNUMBER(FIND(\"BC/BS\",#REF!)),\"X\",\"\")","v":""}]
["MEDICAL MUTUAL OF OHIO EDI","X",{"$f":"IF(ISNUMBER(FIND(\"MEDICAID\",A2244)),\"X\",\"\")","v":""},{"$f":"IF(ISNUMBER(FIND(\"MEDICARE\",A2244)),\"X\",\"\")","v":""},{"$f":"IF(ISNUMBER(FIND(\"BC/BS\",#REF!)),\"X\",\"\")","v":""}]
["MEDICAL MUTUAL OF OHIO EXCHANGE INDIVIDUAL","X",{"$f":"IF(ISNUMBER(FIND(\"MEDICAID\",A2245)),\"X\",\"\")","v":""},{"$f":"IF(ISNUMBER(FIND(\"MEDICARE\",A2245)),\"X\",\"\")","v":""},{"$f":"IF(ISNUMBER(FIND(\"BC/BS\",#REF!)),\"X\",\"\")","v":""}]
["MEDICAL MUTUAL OF OHIO FFS","X",{"$f":"IF(ISNUMBER(FIND(\"MEDICAID\",A2246)),\"X\",\"\")","v":""},{"$f":"IF(ISNUMBER(FIND(\"MEDICARE\",A2246)),\"X\",\"\")","v":""},{"$f":"IF(ISNUMBER(FIND(\"BC/BS\",#REF!)),\"X\",\"\")","v":""}]
["MEDICAL MUTUAL OF OHIO FIRST HEALTH","X",{"$f":"IF(ISNUMBER(FIND(\"MEDICAID\",A2247)),\"X\",\"\")","v":""},{"$f":"IF(ISNUMBER(FIND(\"MEDICARE\",A2247)),\"X\",\"\")","v":""},{"$f":"IF(ISNUMBER(FIND(\"BC/BS\",#REF!)),\"X\",\"\")","v":""}]
["MEDICAL MUTUAL OF OHIO HDHP","X",{"$f":"IF(ISNUMBER(FIND(\"MEDICAID\",A2248)),\"X\",\"\")","v":""},{"$f":"IF(ISNUMBER(FIND(\"MEDICARE\",A2248)),\"X\",\"\")","v":""},{"$f":"IF(ISNUMBER(FIND(\"BC/BS\",#REF!)),\"X\",\"\")","v":""}]
["MEDICAL MUTUAL OF OHIO HUMANA CHOICE PPO",null,{"$f":"IF(ISNUMBER(FIND(\"MEDICAID\",A2249)),\"X\",\"\")","v":""},{"$f":"IF(ISNUMBER(FIND(\"MEDICARE\",A2249)),\"X\",\"\")","v":""},{"$f":"IF(ISNUMBER(FIND(\"BC/BS\",#REF!)),\"X\",\"\")","v":""}]
["MEDICAL MUTUAL OF OHIO HUMANA MCR WNR","X",{"$f":"IF(ISNUMBER(FIND(\"MEDICAID\",A2250)),\"X\",\"\")","v":""},{"$f":"IF(ISNUMBER(FIND(\"MEDICARE\",A2250)),\"X\",\"\")","v":""},{"$f":"IF(ISNUMBER(FIND(\"BC/BS\",#REF!)),\"X\",\"\")","v":""}]
["MEDICAL MUTUAL OF OHIO MANAGED MEDICARE","X",{"$f":"IF(ISNUMBER(FIND(\"MEDICAID\",A2251)),\"X\",\"\")","v":""},null,{"$f":"IF(ISNUMBER(FIND(\"BC/BS\",#REF!)),\"X\",\"\")","v":""}]
["MEDICAL MUTUAL OF OHIO MARKET PPO HX","X",{"$f":"IF(ISNUMBER(FIND(\"MEDICAID\",A2252)),\"X\",\"\")","v":""},{"$f":"IF(ISNUMBER(FIND(\"MEDICARE\",A2252)),\"X\",\"\")","v":""},{"$f":"IF(ISNUMBER(FIND(\"BC/BS\",#REF!)),\"X\",\"\")","v":""}]
["MEDICAL MUTUAL OF OHIO MB","X",{"$f":"IF(ISNUMBER(FIND(\"MEDICAID\",A2253)),\"X\",\"\")","v":""},{"$f":"IF(ISNUMBER(FIND(\"MEDICARE\",A2253)),\"X\",\"\")","v":""},{"$f":"IF(ISNUMBER(FIND(\"BC/BS\",#REF!)),\"X\",\"\")","v":""}]
["MEDICAL MUTUAL OF OHIO MCR ADV PDGM","X",{"$f":"IF(ISNUMBER(FIND(\"MEDICAID\",A2254)),\"X\",\"\")","v":""},{"$f":"IF(ISNUMBER(FIND(\"MEDICARE\",A2254)),\"X\",\"\")","v":""},{"$f":"IF(ISNUMBER(FIND(\"BC/BS\",#REF!)),\"X\",\"\")","v":""}]
["MEDICAL MUTUAL OF OHIO MEDADVANTAGE HMO","X",{"$f":"IF(ISNUMBER(FIND(\"MEDICAID\",A2255)),\"X\",\"\")","v":""},{"$f":"IF(ISNUMBER(FIND(\"MEDICARE\",A2255)),\"X\",\"\")","v":""},{"$f":"IF(ISNUMBER(FIND(\"BC/BS\",#REF!)),\"X\",\"\")","v":""}]
["MEDICAL MUTUAL OF OHIO MEDICAL SUPERMED MMO MEDICARE ADVAN","X",{"$f":"IF(ISNUMBER(FIND(\"MEDICAID\",A2256)),\"X\",\"\")","v":""},null,{"$f":"IF(ISNUMBER(FIND(\"BC/BS\",#REF!)),\"X\",\"\")","v":""}]
["MEDICAL MUTUAL OF OHIO MEDICARE","X",{"$f":"IF(ISNUMBER(FIND(\"MEDICAID\",A2257)),\"X\",\"\")","v":""},null,{"$f":"IF(ISNUMBER(FIND(\"BC/BS\",#REF!)),\"X\",\"\")","v":""}]
["MEDICAL MUTUAL OF OHIO MEDICARE ADVANTAGE PART A","X",{"$f":"IF(ISNUMBER(FIND(\"MEDICAID\",A2258)),\"X\",\"\")","v":""},null,{"$f":"IF(ISNUMBER(FIND(\"BC/BS\",#REF!)),\"X\",\"\")","v":""}]
["MEDICAL MUTUAL OF OHIO MEDICARE ADVANTAGE SE","X",{"$f":"IF(ISNUMBER(FIND(\"MEDICAID\",A2259)),\"X\",\"\")","v":""},null,{"$f":"IF(ISNUMBER(FIND(\"BC/BS\",#REF!)),\"X\",\"\")","v":""}]
["MEDICAL MUTUAL OF OHIO MEDICARE PART A ADMINIS",null,{"$f":"IF(ISNUMBER(FIND(\"MEDICAID\",A2260)),\"X\",\"\")","v":""},null,{"$f":"IF(ISNUMBER(FIND(\"BC/BS\",#REF!)),\"X\",\"\")","v":""}]
["MEDICAL MUTUAL OF OHIO MEDICARE PART B","X",{"$f":"IF(ISNUMBER(FIND(\"MEDICAID\",A2261)),\"X\",\"\")","v":""},null,{"$f":"IF(ISNUMBER(FIND(\"BC/BS\",#REF!)),\"X\",\"\")","v":""}]
["MEDICAL MUTUAL OF OHIO MEDICARE REPLACEMENT","X",{"$f":"IF(ISNUMBER(FIND(\"MEDICAID\",A2262)),\"X\",\"\")","v":""},null,{"$f":"IF(ISNUMBER(FIND(\"BC/BS\",#REF!)),\"X\",\"\")","v":""}]
["MEDICAL MUTUAL OF OHIO MENTAL HEALTH","X",{"$f":"IF(ISNUMBER(FIND(\"MEDICAID\",A2263)),\"X\",\"\")","v":""},{"$f":"IF(ISNUMBER(FIND(\"MEDICARE\",A2263)),\"X\",\"\")","v":""},{"$f":"IF(ISNUMBER(FIND(\"BC/BS\",#REF!)),\"X\",\"\")","v":""}]
["MEDICAL MUTUAL OF OHIO MERCY HEALTH","X",{"$f":"IF(ISNUMBER(FIND(\"MEDICAID\",A2264)),\"X\",\"\")","v":""},{"$f":"IF(ISNUMBER(FIND(\"MEDICARE\",A2264)),\"X\",\"\")","v":""},{"$f":"IF(ISNUMBER(FIND(\"BC/BS\",#REF!)),\"X\",\"\")","v":""}]
["MEDICAL MUTUAL OF OHIO MMO","X",{"$f":"IF(ISNUMBER(FIND(\"MEDICAID\",A2265)),\"X\",\"\")","v":""},{"$f":"IF(ISNUMBER(FIND(\"MEDICARE\",A2265)),\"X\",\"\")","v":""},{"$f":"IF(ISNUMBER(FIND(\"BC/BS\",#REF!)),\"X\",\"\")","v":""}]
["MEDICAL MUTUAL OF OHIO MMO MED SUPP","X",{"$f":"IF(ISNUMBER(FIND(\"MEDICAID\",A2266)),\"X\",\"\")","v":""},{"$f":"IF(ISNUMBER(FIND(\"MEDICARE\",A2266)),\"X\",\"\")","v":""},{"$f":"IF(ISNUMBER(FIND(\"BC/BS\",#REF!)),\"X\",\"\")","v":""}]
["MEDICAL MUTUAL OF OHIO MMO PPO","X",{"$f":"IF(ISNUMBER(FIND(\"MEDICAID\",A2267)),\"X\",\"\")","v":""},{"$f":"IF(ISNUMBER(FIND(\"MEDICARE\",A2267)),\"X\",\"\")","v":""},{"$f":"IF(ISNUMBER(FIND(\"BC/BS\",#REF!)),\"X\",\"\")","v":""}]
["MEDICAL MUTUAL OF OHIO NASCO","X",{"$f":"IF(ISNUMBER(FIND(\"MEDICAID\",A2268)),\"X\",\"\")","v":""},{"$f":"IF(ISNUMBER(FIND(\"MEDICARE\",A2268)),\"X\",\"\")","v":""},{"$f":"IF(ISNUMBER(FIND(\"BC/BS\",#REF!)),\"X\",\"\")","v":""}]
["MEDICAL MUTUAL OF OHIO OP ONTO","X",{"$f":"IF(ISNUMBER(FIND(\"MEDICAID\",A2269)),\"X\",\"\")","v":""},{"$f":"IF(ISNUMBER(FIND(\"MEDICARE\",A2269)),\"X\",\"\")","v":""},{"$f":"IF(ISNUMBER(FIND(\"BC/BS\",#REF!)),\"X\",\"\")","v":""}]
["MEDICAL MUTUAL OF OHIO PO BOX 6018","X",{"$f":"IF(ISNUMBER(FIND(\"MEDICAID\",A2270)),\"X\",\"\")","v":""},{"$f":"IF(ISNUMBER(FIND(\"MEDICARE\",A2270)),\"X\",\"\")","v":""},{"$f":"IF(ISNUMBER(FIND(\"BC/BS\",#REF!)),\"X\",\"\")","v":""}]
["MEDICAL MUTUAL OF OHIO PO BOX 94648","X",{"$f":"IF(ISNUMBER(FIND(\"MEDICAID\",A2271)),\"X\",\"\")","v":""},{"$f":"IF(ISNUMBER(FIND(\"MEDICARE\",A2271)),\"X\",\"\")","v":""},{"$f":"IF(ISNUMBER(FIND(\"BC/BS\",#REF!)),\"X\",\"\")","v":""}]
["MEDICAL MUTUAL OF OHIO PPO","X",{"$f":"IF(ISNUMBER(FIND(\"MEDICAID\",A2272)),\"X\",\"\")","v":""},{"$f":"IF(ISNUMBER(FIND(\"MEDICARE\",A2272)),\"X\",\"\")","v":""},{"$f":"IF(ISNUMBER(FIND(\"BC/BS\",#REF!)),\"X\",\"\")","v":""}]
["MEDICAL MUTUAL OF OHIO PREFERRED","X",{"$f":"IF(ISNUMBER(FIND(\"MEDICAID\",A2273)),\"X\",\"\")","v":""},{"$f":"IF(ISNUMBER(FIND(\"MEDICARE\",A2273)),\"X\",\"\")","v":""},{"$f":"IF(ISNUMBER(FIND(\"BC/BS\",#REF!)),\"X\",\"\")","v":""}]
["MEDICAL MUTUAL OF OHIO PREMIER HEALTH GROUP","X",{"$f":"IF(ISNUMBER(FIND(\"MEDICAID\",A2274)),\"X\",\"\")","v":""},{"$f":"IF(ISNUMBER(FIND(\"MEDICARE\",A2274)),\"X\",\"\")","v":""},{"$f":"IF(ISNUMBER(FIND(\"BC/BS\",#REF!)),\"X\",\"\")","v":""}]
["MEDICAL MUTUAL OF OHIO REPRICER","X",{"$f":"IF(ISNUMBER(FIND(\"MEDICAID\",A2275)),\"X\",\"\")","v":""},{"$f":"IF(ISNUMBER(FIND(\"MEDICARE\",A2275)),\"X\",\"\")","v":""},{"$f":"IF(ISNUMBER(FIND(\"BC/BS\",#REF!)),\"X\",\"\")","v":""}]
["MEDICAL MUTUAL OF OHIO REPRICER HDHP","X",{"$f":"IF(ISNUMBER(FIND(\"MEDICAID\",A2276)),\"X\",\"\")","v":""},{"$f":"IF(ISNUMBER(FIND(\"MEDICARE\",A2276)),\"X\",\"\")","v":""},{"$f":"IF(ISNUMBER(FIND(\"BC/BS\",#REF!)),\"X\",\"\")","v":""}]
["MEDICAL MUTUAL OF OHIO ST. ELIZABETH","X",{"$f":"IF(ISNUMBER(FIND(\"MEDICAID\",A2277)),\"X\",\"\")","v":""},{"$f":"IF(ISNUMBER(FIND(\"MEDICARE\",A2277)),\"X\",\"\")","v":""},{"$f":"IF(ISNUMBER(FIND(\"BC/BS\",#REF!)),\"X\",\"\")","v":""}]
["MEDICAL MUTUAL OF OHIO SUPERMED","X",{"$f":"IF(ISNUMBER(FIND(\"MEDICAID\",A2278)),\"X\",\"\")","v":""},{"$f":"IF(ISNUMBER(FIND(\"MEDICARE\",A2278)),\"X\",\"\")","v":""},{"$f":"IF(ISNUMBER(FIND(\"BC/BS\",#REF!)),\"X\",\"\")","v":""}]
["MEDICAL MUTUAL OF OHIO SUPERMED CLASSIC","X",{"$f":"IF(ISNUMBER(FIND(\"MEDICAID\",A2279)),\"X\",\"\")","v":""},{"$f":"IF(ISNUMBER(FIND(\"MEDICARE\",A2279)),\"X\",\"\")","v":""},{"$f":"IF(ISNUMBER(FIND(\"BC/BS\",#REF!)),\"X\",\"\")","v":""}]
["MEDICAL MUTUAL OF OHIO SUPERMED MMO","X",{"$f":"IF(ISNUMBER(FIND(\"MEDICAID\",A2280)),\"X\",\"\")","v":""},{"$f":"IF(ISNUMBER(FIND(\"MEDICARE\",A2280)),\"X\",\"\")","v":""},{"$f":"IF(ISNUMBER(FIND(\"BC/BS\",#REF!)),\"X\",\"\")","v":""}]
["MEDICAL MUTUAL OF OHIO SUPERMED PLUS","X",{"$f":"IF(ISNUMBER(FIND(\"MEDICAID\",A2281)),\"X\",\"\")","v":""},{"$f":"IF(ISNUMBER(FIND(\"MEDICARE\",A2281)),\"X\",\"\")","v":""},{"$f":"IF(ISNUMBER(FIND(\"BC/BS\",#REF!)),\"X\",\"\")","v":""}]
["MEDICAL STAFFING SOLUTIONS INC (MAESTRO HEALTH)",null,{"$f":"IF(ISNUMBER(FIND(\"MEDICAID\",A2282)),\"X\",\"\")","v":""},{"$f":"IF(ISNUMBER(FIND(\"MEDICARE\",A2282)),\"X\",\"\")","v":""},{"$f":"IF(ISNUMBER(FIND(\"BC/BS\",#REF!)),\"X\",\"\")","v":""}]
["MEDICARE -  J04911 PART A (JH - NOVITAS)","X",{"$f":"IF(ISNUMBER(FIND(\"MEDICAID\",A2283)),\"X\",\"\")","v":""},{"$f":"IF(ISNUMBER(FIND(\"MEDICARE\",A2283)),\"X\",\"\")","v":"X"},{"$f":"IF(ISNUMBER(FIND(\"BC/BS\",#REF!)),\"X\",\"\")","v":""}]
["MEDICARE - J12901 PART A (JL - NOVITAS)","X",{"$f":"IF(ISNUMBER(FIND(\"MEDICAID\",A2284)),\"X\",\"\")","v":""},{"$f":"IF(ISNUMBER(FIND(\"MEDICARE\",A2284)),\"X\",\"\")","v":"X"},{"$f":"IF(ISNUMBER(FIND(\"BC/BS\",#REF!)),\"X\",\"\")","v":""}]
["MEDICARE ALASKA - PART A (JF - NORIDIAN)","X",{"$f":"IF(ISNUMBER(FIND(\"MEDICAID\",A2285)),\"X\",\"\")","v":""},{"$f":"IF(ISNUMBER(FIND(\"MEDICARE\",A2285)),\"X\",\"\")","v":"X"},{"$f":"IF(ISNUMBER(FIND(\"BC/BS\",#REF!)),\"X\",\"\")","v":""}]
["MEDICARE ARKANSAS - PART B (JH - NOVITAS)","X",{"$f":"IF(ISNUMBER(FIND(\"MEDICAID\",A2286)),\"X\",\"\")","v":""},{"$f":"IF(ISNUMBER(FIND(\"MEDICARE\",A2286)),\"X\",\"\")","v":"X"},{"$f":"IF(ISNUMBER(FIND(\"BC/BS\",#REF!)),\"X\",\"\")","v":""}]
["MEDICARE CALIFORNIA, HAWAII & NEVADA - PART A (JE - NORIDIAN)","X",{"$f":"IF(ISNUMBER(FIND(\"MEDICAID\",A2287)),\"X\",\"\")","v":""},{"$f":"IF(ISNUMBER(FIND(\"MEDICARE\",A2287)),\"X\",\"\")","v":"X"},{"$f":"IF(ISNUMBER(FIND(\"BC/BS\",#REF!)),\"X\",\"\")","v":""}]
["MEDICARE COLORADO - PART B (JH - NOVITAS)","X",{"$f":"IF(ISNUMBER(FIND(\"MEDICAID\",A2288)),\"X\",\"\")","v":""},{"$f":"IF(ISNUMBER(FIND(\"MEDICARE\",A2288)),\"X\",\"\")","v":"X"},{"$f":"IF(ISNUMBER(FIND(\"BC/BS\",#REF!)),\"X\",\"\")","v":""}]
["MEDICARE DELAWARE - PART B (JL - NOVITAS)","X",{"$f":"IF(ISNUMBER(FIND(\"MEDICAID\",A2289)),\"X\",\"\")","v":""},{"$f":"IF(ISNUMBER(FIND(\"MEDICARE\",A2289)),\"X\",\"\")","v":"X"},{"$f":"IF(ISNUMBER(FIND(\"BC/BS\",#REF!)),\"X\",\"\")","v":""}]
["MEDICARE DELAWARE, DC, MARYLAND, NEW JERSEY, PENNSYLVANIA - PART A (JL - NOVITAS)","X",{"$f":"IF(ISNUMBER(FIND(\"MEDICAID\",A2290)),\"X\",\"\")","v":""},{"$f":"IF(ISNUMBER(FIND(\"MEDICARE\",A2290)),\"X\",\"\")","v":"X"},{"$f":"IF(ISNUMBER(FIND(\"BC/BS\",#REF!)),\"X\",\"\")","v":""}]
["MEDICARE DISTRICT OF COLUMBIA METROPOLITAN AREA - PART B (JL - NOVITAS)","X",{"$f":"IF(ISNUMBER(FIND(\"MEDICAID\",A2291)),\"X\",\"\")","v":""},{"$f":"IF(ISNUMBER(FIND(\"MEDICARE\",A2291)),\"X\",\"\")","v":"X"},{"$f":"IF(ISNUMBER(FIND(\"BC/BS\",#REF!)),\"X\",\"\")","v":""}]
["MEDICARE DME B - CGS ADMIN (IL, IN, KY, MI, MN, OH, WI)","X",{"$f":"IF(ISNUMBER(FIND(\"MEDICAID\",A2292)),\"X\",\"\")","v":""},{"$f":"IF(ISNUMBER(FIND(\"MEDICARE\",A2292)),\"X\",\"\")","v":"X"},{"$f":"IF(ISNUMBER(FIND(\"BC/BS\",#REF!)),\"X\",\"\")","v":""}]
["MEDICARE DME C - CGS ADMIN (AL, AK, CO, FL, GA, LA, MS, NM, NC, OK, SC, TN, TX, VA, WV, PR, US VI)","X",{"$f":"IF(ISNUMBER(FIND(\"MEDICAID\",A2293)),\"X\",\"\")","v":""},{"$f":"IF(ISNUMBER(FIND(\"MEDICARE\",A2293)),\"X\",\"\")","v":"X"},{"$f":"IF(ISNUMBER(FIND(\"BC/BS\",#REF!)),\"X\",\"\")","v":""}]
["MEDICARE DME D - NORIDIAN (AM. SAMOA, GUAM, N. MARIANA IS., AK, AZ, CA, HI, ID, IA, KS, MO, MT, NE, NV, ND, OR, SD, UT, WA, WY)","X",{"$f":"IF(ISNUMBER(FIND(\"MEDICAID\",A2294)),\"X\",\"\")","v":""},{"$f":"IF(ISNUMBER(FIND(\"MEDICARE\",A2294)),\"X\",\"\")","v":"X"},{"$f":"IF(ISNUMBER(FIND(\"BC/BS\",#REF!)),\"X\",\"\")","v":""}]
["MEDICARE FLORIDA - PART A (JN - FCSO)","X",{"$f":"IF(ISNUMBER(FIND(\"MEDICAID\",A2295)),\"X\",\"\")","v":""},{"$f":"IF(ISNUMBER(FIND(\"MEDICARE\",A2295)),\"X\",\"\")","v":"X"},{"$f":"IF(ISNUMBER(FIND(\"BC/BS\",#REF!)),\"X\",\"\")","v":""}]
["MEDICARE FLORIDA - PART B (JN - FCSO)","X",{"$f":"IF(ISNUMBER(FIND(\"MEDICAID\",A2296)),\"X\",\"\")","v":""},{"$f":"IF(ISNUMBER(FIND(\"MEDICARE\",A2296)),\"X\",\"\")","v":"X"},{"$f":"IF(ISNUMBER(FIND(\"BC/BS\",#REF!)),\"X\",\"\")","v":""}]
["MEDICARE GEORGIA - PART A (JJ - PALMETTO GBA)","X",{"$f":"IF(ISNUMBER(FIND(\"MEDICAID\",A2297)),\"X\",\"\")","v":""},{"$f":"IF(ISNUMBER(FIND(\"MEDICARE\",A2297)),\"X\",\"\")","v":"X"},{"$f":"IF(ISNUMBER(FIND(\"BC/BS\",#REF!)),\"X\",\"\")","v":""}]
["MEDICARE GEORGIA - PART B (JJ - PALMETTO GBA)","X",{"$f":"IF(ISNUMBER(FIND(\"MEDICAID\",A2298)),\"X\",\"\")","v":""},{"$f":"IF(ISNUMBER(FIND(\"MEDICARE\",A2298)),\"X\",\"\")","v":"X"},{"$f":"IF(ISNUMBER(FIND(\"BC/BS\",#REF!)),\"X\",\"\")","v":""}]
["MEDICARE HOME HEALTH & HOSPICE - KENTUCKY & OHIO (MAC 15 - CGS ADMIN)","X",{"$f":"IF(ISNUMBER(FIND(\"MEDICAID\",A2299)),\"X\",\"\")","v":""},{"$f":"IF(ISNUMBER(FIND(\"MEDICARE\",A2299)),\"X\",\"\")","v":"X"},{"$f":"IF(ISNUMBER(FIND(\"BC/BS\",#REF!)),\"X\",\"\")","v":""}]
["MEDICARE HOME HEALTH & HOSPICE - SOUTH CAROLINA - PART A (JM - PALMETTO GBA)","X",{"$f":"IF(ISNUMBER(FIND(\"MEDICAID\",A2300)),\"X\",\"\")","v":""},{"$f":"IF(ISNUMBER(FIND(\"MEDICARE\",A2300)),\"X\",\"\")","v":"X"},{"$f":"IF(ISNUMBER(FIND(\"BC/BS\",#REF!)),\"X\",\"\")","v":""}]
["MEDICARE IDAHO - PART B (JF - NORIDIAN)","X",{"$f":"IF(ISNUMBER(FIND(\"MEDICAID\",A2301)),\"X\",\"\")","v":""},{"$f":"IF(ISNUMBER(FIND(\"MEDICARE\",A2301)),\"X\",\"\")","v":"X"},{"$f":"IF(ISNUMBER(FIND(\"BC/BS\",#REF!)),\"X\",\"\")","v":""}]
["MEDICARE ILLINOIS - PART A (J6 - NGS)","X",{"$f":"IF(ISNUMBER(FIND(\"MEDICAID\",A2302)),\"X\",\"\")","v":""},{"$f":"IF(ISNUMBER(FIND(\"MEDICARE\",A2302)),\"X\",\"\")","v":"X"},{"$f":"IF(ISNUMBER(FIND(\"BC/BS\",#REF!)),\"X\",\"\")","v":""}]
["MEDICARE ILLINOIS - PART B (J6 - NGS)","X",{"$f":"IF(ISNUMBER(FIND(\"MEDICAID\",A2303)),\"X\",\"\")","v":""},{"$f":"IF(ISNUMBER(FIND(\"MEDICARE\",A2303)),\"X\",\"\")","v":"X"},{"$f":"IF(ISNUMBER(FIND(\"BC/BS\",#REF!)),\"X\",\"\")","v":""}]
["MEDICARE INDIANA - PART A (J8 - WPS)","X",{"$f":"IF(ISNUMBER(FIND(\"MEDICAID\",A2304)),\"X\",\"\")","v":""},{"$f":"IF(ISNUMBER(FIND(\"MEDICARE\",A2304)),\"X\",\"\")","v":"X"},{"$f":"IF(ISNUMBER(FIND(\"BC/BS\",#REF!)),\"X\",\"\")","v":""}]
["MEDICARE INDIANA - PART B (J8 - WPS)","X",{"$f":"IF(ISNUMBER(FIND(\"MEDICAID\",A2305)),\"X\",\"\")","v":""},{"$f":"IF(ISNUMBER(FIND(\"MEDICARE\",A2305)),\"X\",\"\")","v":"X"},{"$f":"IF(ISNUMBER(FIND(\"BC/BS\",#REF!)),\"X\",\"\")","v":""}]
["MEDICARE IOWA - PART B (J5 - WPS)","X",{"$f":"IF(ISNUMBER(FIND(\"MEDICAID\",A2306)),\"X\",\"\")","v":""},{"$f":"IF(ISNUMBER(FIND(\"MEDICARE\",A2306)),\"X\",\"\")","v":"X"},{"$f":"IF(ISNUMBER(FIND(\"BC/BS\",#REF!)),\"X\",\"\")","v":""}]
["MEDICARE IOWA, KANSAS, MISSOURI & NEBRASKA - PART A (J5 - WPS)","X",{"$f":"IF(ISNUMBER(FIND(\"MEDICAID\",A2307)),\"X\",\"\")","v":""},{"$f":"IF(ISNUMBER(FIND(\"MEDICARE\",A2307)),\"X\",\"\")","v":"X"},{"$f":"IF(ISNUMBER(FIND(\"BC/BS\",#REF!)),\"X\",\"\")","v":""}]
["MEDICARE IOWA, KANSAS, MISSOURI & NEBRASKA - PART A NATIONAL (J5 - WPS)","X",{"$f":"IF(ISNUMBER(FIND(\"MEDICAID\",A2308)),\"X\",\"\")","v":""},{"$f":"IF(ISNUMBER(FIND(\"MEDICARE\",A2308)),\"X\",\"\")","v":"X"},{"$f":"IF(ISNUMBER(FIND(\"BC/BS\",#REF!)),\"X\",\"\")","v":""}]
["MEDICARE KANSAS - PART B (J5 - WPS)","X",{"$f":"IF(ISNUMBER(FIND(\"MEDICAID\",A2309)),\"X\",\"\")","v":""},{"$f":"IF(ISNUMBER(FIND(\"MEDICARE\",A2309)),\"X\",\"\")","v":"X"},{"$f":"IF(ISNUMBER(FIND(\"BC/BS\",#REF!)),\"X\",\"\")","v":""}]
["MEDICARE KENTUCKY - PART A (J15 - CGS ADMIN)","X",{"$f":"IF(ISNUMBER(FIND(\"MEDICAID\",A2310)),\"X\",\"\")","v":""},{"$f":"IF(ISNUMBER(FIND(\"MEDICARE\",A2310)),\"X\",\"\")","v":"X"},{"$f":"IF(ISNUMBER(FIND(\"BC/BS\",#REF!)),\"X\",\"\")","v":""}]
["MEDICARE KENTUCKY - PART B (J15 - CGS ADMIN)","X",{"$f":"IF(ISNUMBER(FIND(\"MEDICAID\",A2311)),\"X\",\"\")","v":""},{"$f":"IF(ISNUMBER(FIND(\"MEDICARE\",A2311)),\"X\",\"\")","v":"X"},{"$f":"IF(ISNUMBER(FIND(\"BC/BS\",#REF!)),\"X\",\"\")","v":""}]
["MEDICARE MARYLAND - PART B (JL - NOVITAS)","X",{"$f":"IF(ISNUMBER(FIND(\"MEDICAID\",A2312)),\"X\",\"\")","v":""},{"$f":"IF(ISNUMBER(FIND(\"MEDICARE\",A2312)),\"X\",\"\")","v":"X"},{"$f":"IF(ISNUMBER(FIND(\"BC/BS\",#REF!)),\"X\",\"\")","v":""}]
["MEDICARE MASSACHUSETTS - PART B (MAC K - NGS)",null,{"$f":"IF(ISNUMBER(FIND(\"MEDICAID\",A2313)),\"X\",\"\")","v":""},{"$f":"IF(ISNUMBER(FIND(\"MEDICARE\",A2313)),\"X\",\"\")","v":"X"},{"$f":"IF(ISNUMBER(FIND(\"BC/BS\",#REF!)),\"X\",\"\")","v":""}]
["MEDICARE MICHIGAN - PART A (J8 - WPS)","X",{"$f":"IF(ISNUMBER(FIND(\"MEDICAID\",A2314)),\"X\",\"\")","v":""},{"$f":"IF(ISNUMBER(FIND(\"MEDICARE\",A2314)),\"X\",\"\")","v":"X"},{"$f":"IF(ISNUMBER(FIND(\"BC/BS\",#REF!)),\"X\",\"\")","v":""}]
["MEDICARE MICHIGAN - PART B (J8 - WPS)","X",{"$f":"IF(ISNUMBER(FIND(\"MEDICAID\",A2315)),\"X\",\"\")","v":""},{"$f":"IF(ISNUMBER(FIND(\"MEDICARE\",A2315)),\"X\",\"\")","v":"X"},{"$f":"IF(ISNUMBER(FIND(\"BC/BS\",#REF!)),\"X\",\"\")","v":""}]
["MEDICARE MINNESOTA - PART A (J6 - NGS)","X",{"$f":"IF(ISNUMBER(FIND(\"MEDICAID\",A2316)),\"X\",\"\")","v":""},{"$f":"IF(ISNUMBER(FIND(\"MEDICARE\",A2316)),\"X\",\"\")","v":"X"},{"$f":"IF(ISNUMBER(FIND(\"BC/BS\",#REF!)),\"X\",\"\")","v":""}]
["MEDICARE MINNESOTA - PART B (J6 - NGS)","X",{"$f":"IF(ISNUMBER(FIND(\"MEDICAID\",A2317)),\"X\",\"\")","v":""},{"$f":"IF(ISNUMBER(FIND(\"MEDICARE\",A2317)),\"X\",\"\")","v":"X"},{"$f":"IF(ISNUMBER(FIND(\"BC/BS\",#REF!)),\"X\",\"\")","v":""}]
["MEDICARE MISSOURI - PART B (J5 - WPS)","X",{"$f":"IF(ISNUMBER(FIND(\"MEDICAID\",A2318)),\"X\",\"\")","v":""},{"$f":"IF(ISNUMBER(FIND(\"MEDICARE\",A2318)),\"X\",\"\")","v":"X"},{"$f":"IF(ISNUMBER(FIND(\"BC/BS\",#REF!)),\"X\",\"\")","v":""}]
["MEDICARE MONTANA - PART B (JF - NORIDIAN)","X",{"$f":"IF(ISNUMBER(FIND(\"MEDICAID\",A2319)),\"X\",\"\")","v":""},{"$f":"IF(ISNUMBER(FIND(\"MEDICARE\",A2319)),\"X\",\"\")","v":"X"},{"$f":"IF(ISNUMBER(FIND(\"BC/BS\",#REF!)),\"X\",\"\")","v":""}]
["MEDICARE NEBRASKA - PART B (J5 - WPS)","X",{"$f":"IF(ISNUMBER(FIND(\"MEDICAID\",A2320)),\"X\",\"\")","v":""},{"$f":"IF(ISNUMBER(FIND(\"MEDICARE\",A2320)),\"X\",\"\")","v":"X"},{"$f":"IF(ISNUMBER(FIND(\"BC/BS\",#REF!)),\"X\",\"\")","v":""}]
["MEDICARE NEW YORK & CONNECTICUT - PART A (JK - NGS)","X",{"$f":"IF(ISNUMBER(FIND(\"MEDICAID\",A2321)),\"X\",\"\")","v":""},{"$f":"IF(ISNUMBER(FIND(\"MEDICARE\",A2321)),\"X\",\"\")","v":"X"},{"$f":"IF(ISNUMBER(FIND(\"BC/BS\",#REF!)),\"X\",\"\")","v":""}]
["MEDICARE NEW YORK DOWNSTATE - PART B (JK - NGS)","X",{"$f":"IF(ISNUMBER(FIND(\"MEDICAID\",A2322)),\"X\",\"\")","v":""},{"$f":"IF(ISNUMBER(FIND(\"MEDICARE\",A2322)),\"X\",\"\")","v":"X"},{"$f":"IF(ISNUMBER(FIND(\"BC/BS\",#REF!)),\"X\",\"\")","v":""}]
["MEDICARE NEW YORK UPSTATE - PART B (JK - NGS)","X",{"$f":"IF(ISNUMBER(FIND(\"MEDICAID\",A2323)),\"X\",\"\")","v":""},{"$f":"IF(ISNUMBER(FIND(\"MEDICARE\",A2323)),\"X\",\"\")","v":"X"},{"$f":"IF(ISNUMBER(FIND(\"BC/BS\",#REF!)),\"X\",\"\")","v":""}]
["MEDICARE NORTH CAROLINA - PART B (JM - PALMETTO GBA)","X",{"$f":"IF(ISNUMBER(FIND(\"MEDICAID\",A2324)),\"X\",\"\")","v":""},{"$f":"IF(ISNUMBER(FIND(\"MEDICARE\",A2324)),\"X\",\"\")","v":"X"},{"$f":"IF(ISNUMBER(FIND(\"BC/BS\",#REF!)),\"X\",\"\")","v":""}]
["MEDICARE NORTH DAKOTA - PART B (JF - NORIDIAN)","X",{"$f":"IF(ISNUMBER(FIND(\"MEDICAID\",A2325)),\"X\",\"\")","v":""},{"$f":"IF(ISNUMBER(FIND(\"MEDICARE\",A2325)),\"X\",\"\")","v":"X"},{"$f":"IF(ISNUMBER(FIND(\"BC/BS\",#REF!)),\"X\",\"\")","v":""}]
["MEDICARE NORTHERN CALIFORNIA - PART B (JE - NORIDIAN)","X",{"$f":"IF(ISNUMBER(FIND(\"MEDICAID\",A2326)),\"X\",\"\")","v":""},{"$f":"IF(ISNUMBER(FIND(\"MEDICARE\",A2326)),\"X\",\"\")","v":"X"},{"$f":"IF(ISNUMBER(FIND(\"BC/BS\",#REF!)),\"X\",\"\")","v":""}]
["MEDICARE OHIO - PART A (J15 - CGS ADMIN)","X",{"$f":"IF(ISNUMBER(FIND(\"MEDICAID\",A2327)),\"X\",\"\")","v":""},{"$f":"IF(ISNUMBER(FIND(\"MEDICARE\",A2327)),\"X\",\"\")","v":"X"},{"$f":"IF(ISNUMBER(FIND(\"BC/BS\",#REF!)),\"X\",\"\")","v":""}]
["MEDICARE OHIO - PART B (J15 - CGS ADMIN)","X",{"$f":"IF(ISNUMBER(FIND(\"MEDICAID\",A2328)),\"X\",\"\")","v":""},{"$f":"IF(ISNUMBER(FIND(\"MEDICARE\",A2328)),\"X\",\"\")","v":"X"},{"$f":"IF(ISNUMBER(FIND(\"BC/BS\",#REF!)),\"X\",\"\")","v":""}]
["MEDICARE OKLAHOMA  - PART A (JH - NOVITAS)","X",{"$f":"IF(ISNUMBER(FIND(\"MEDICAID\",A2329)),\"X\",\"\")","v":""},{"$f":"IF(ISNUMBER(FIND(\"MEDICARE\",A2329)),\"X\",\"\")","v":"X"},{"$f":"IF(ISNUMBER(FIND(\"BC/BS\",#REF!)),\"X\",\"\")","v":""}]
["MEDICARE OKLAHOMA - PART B (JH - NOVITAS)","X",{"$f":"IF(ISNUMBER(FIND(\"MEDICAID\",A2330)),\"X\",\"\")","v":""},{"$f":"IF(ISNUMBER(FIND(\"MEDICARE\",A2330)),\"X\",\"\")","v":"X"},{"$f":"IF(ISNUMBER(FIND(\"BC/BS\",#REF!)),\"X\",\"\")","v":""}]
["MEDICARE OREGON - PART B (JF - NORIDIAN)","X",{"$f":"IF(ISNUMBER(FIND(\"MEDICAID\",A2331)),\"X\",\"\")","v":""},{"$f":"IF(ISNUMBER(FIND(\"MEDICARE\",A2331)),\"X\",\"\")","v":"X"},{"$f":"IF(ISNUMBER(FIND(\"BC/BS\",#REF!)),\"X\",\"\")","v":""}]
["MEDICARE PENNSYLVANIA - PART B (JL - NOVITAS)","X",{"$f":"IF(ISNUMBER(FIND(\"MEDICAID\",A2332)),\"X\",\"\")","v":""},{"$f":"IF(ISNUMBER(FIND(\"MEDICARE\",A2332)),\"X\",\"\")","v":"X"},{"$f":"IF(ISNUMBER(FIND(\"BC/BS\",#REF!)),\"X\",\"\")","v":""}]
["MEDICARE SOUTH DAKOTA - PART B (JF - NORIDIAN)","X",{"$f":"IF(ISNUMBER(FIND(\"MEDICAID\",A2333)),\"X\",\"\")","v":""},{"$f":"IF(ISNUMBER(FIND(\"MEDICARE\",A2333)),\"X\",\"\")","v":"X"},{"$f":"IF(ISNUMBER(FIND(\"BC/BS\",#REF!)),\"X\",\"\")","v":""}]
["MEDICARE SOUTHERN CALIFORNIA - PART B (JE - NORIDIAN)","X",{"$f":"IF(ISNUMBER(FIND(\"MEDICAID\",A2334)),\"X\",\"\")","v":""},{"$f":"IF(ISNUMBER(FIND(\"MEDICARE\",A2334)),\"X\",\"\")","v":"X"},{"$f":"IF(ISNUMBER(FIND(\"BC/BS\",#REF!)),\"X\",\"\")","v":""}]
["MEDICARE TENNESSEE - PART A (JJ - PALMETTO GBA)","X",{"$f":"IF(ISNUMBER(FIND(\"MEDICAID\",A2335)),\"X\",\"\")","v":""},{"$f":"IF(ISNUMBER(FIND(\"MEDICARE\",A2335)),\"X\",\"\")","v":"X"},{"$f":"IF(ISNUMBER(FIND(\"BC/BS\",#REF!)),\"X\",\"\")","v":""}]
["MEDICARE TEXAS, VETERANS AFFAIRS & INDIAN HEALTH SERVICE/TRIBAL ORGANIZATIONS - PART A (JH - NOVITAS)","X",{"$f":"IF(ISNUMBER(FIND(\"MEDICAID\",A2336)),\"X\",\"\")","v":""},{"$f":"IF(ISNUMBER(FIND(\"MEDICARE\",A2336)),\"X\",\"\")","v":"X"},{"$f":"IF(ISNUMBER(FIND(\"BC/BS\",#REF!)),\"X\",\"\")","v":""}]
["MEDICARE TEXAS, VETERANS AFFAIRS & INDIAN HEALTH SERVICE/TRIBAL ORGANIZATIONS - PART B (JH - NOVITAS)","X",{"$f":"IF(ISNUMBER(FIND(\"MEDICAID\",A2337)),\"X\",\"\")","v":""},{"$f":"IF(ISNUMBER(FIND(\"MEDICARE\",A2337)),\"X\",\"\")","v":"X"},{"$f":"IF(ISNUMBER(FIND(\"BC/BS\",#REF!)),\"X\",\"\")","v":""}]
["MEDICARE WASHINGTON - PART B (JF - NORIDIAN)","X",{"$f":"IF(ISNUMBER(FIND(\"MEDICAID\",A2338)),\"X\",\"\")","v":""},{"$f":"IF(ISNUMBER(FIND(\"MEDICARE\",A2338)),\"X\",\"\")","v":"X"},{"$f":"IF(ISNUMBER(FIND(\"BC/BS\",#REF!)),\"X\",\"\")","v":""}]
["MEDICARE WISCONSIN - PART A (J6 - NGS)","X",{"$f":"IF(ISNUMBER(FIND(\"MEDICAID\",A2339)),\"X\",\"\")","v":""},{"$f":"IF(ISNUMBER(FIND(\"MEDICARE\",A2339)),\"X\",\"\")","v":"X"},{"$f":"IF(ISNUMBER(FIND(\"BC/BS\",#REF!)),\"X\",\"\")","v":""}]
["MEDICI CLINICAL MANAGEMENT LLC (GROUP & PENSION ADMIN)","X",{"$f":"IF(ISNUMBER(FIND(\"MEDICAID\",A2340)),\"X\",\"\")","v":""},{"$f":"IF(ISNUMBER(FIND(\"MEDICARE\",A2340)),\"X\",\"\")","v":""},{"$f":"IF(ISNUMBER(FIND(\"BC/BS\",#REF!)),\"X\",\"\")","v":""}]
["MEDICO CONSTRUCTION (GEISINGER HEALTH PLAN)","X",{"$f":"IF(ISNUMBER(FIND(\"MEDICAID\",A2341)),\"X\",\"\")","v":""},{"$f":"IF(ISNUMBER(FIND(\"MEDICARE\",A2341)),\"X\",\"\")","v":""},{"$f":"IF(ISNUMBER(FIND(\"BC/BS\",#REF!)),\"X\",\"\")","v":""}]
["MEDICO CORP LIFE INSURANCE COMPANY","X",{"$f":"IF(ISNUMBER(FIND(\"MEDICAID\",A2342)),\"X\",\"\")","v":""},{"$f":"IF(ISNUMBER(FIND(\"MEDICARE\",A2342)),\"X\",\"\")","v":""},{"$f":"IF(ISNUMBER(FIND(\"BC/BS\",#REF!)),\"X\",\"\")","v":""}]
["MEDICO INSURANCE COMPANY","X",{"$f":"IF(ISNUMBER(FIND(\"MEDICAID\",A2343)),\"X\",\"\")","v":""},{"$f":"IF(ISNUMBER(FIND(\"MEDICARE\",A2343)),\"X\",\"\")","v":""},{"$f":"IF(ISNUMBER(FIND(\"BC/BS\",#REF!)),\"X\",\"\")","v":""}]
["MEDICO LIFE AND HEALTH INSURANCE COMPANY","X",{"$f":"IF(ISNUMBER(FIND(\"MEDICAID\",A2344)),\"X\",\"\")","v":""},{"$f":"IF(ISNUMBER(FIND(\"MEDICARE\",A2344)),\"X\",\"\")","v":""},{"$f":"IF(ISNUMBER(FIND(\"BC/BS\",#REF!)),\"X\",\"\")","v":""}]
["MEDICO LIFE INSURANCE COMPANY OR ABILITY INSURANCE COMPANY","X",{"$f":"IF(ISNUMBER(FIND(\"MEDICAID\",A2345)),\"X\",\"\")","v":""},{"$f":"IF(ISNUMBER(FIND(\"MEDICARE\",A2345)),\"X\",\"\")","v":""},{"$f":"IF(ISNUMBER(FIND(\"BC/BS\",#REF!)),\"X\",\"\")","v":""}]
["MEDIMPACT","X",{"$f":"IF(ISNUMBER(FIND(\"MEDICAID\",A2346)),\"X\",\"\")","v":""},{"$f":"IF(ISNUMBER(FIND(\"MEDICARE\",A2346)),\"X\",\"\")","v":""},{"$f":"IF(ISNUMBER(FIND(\"BC/BS\",#REF!)),\"X\",\"\")","v":""}]
["MEDONE LC","X",{"$f":"IF(ISNUMBER(FIND(\"MEDICAID\",A2347)),\"X\",\"\")","v":""},{"$f":"IF(ISNUMBER(FIND(\"MEDICARE\",A2347)),\"X\",\"\")","v":""},{"$f":"IF(ISNUMBER(FIND(\"BC/BS\",#REF!)),\"X\",\"\")","v":""}]
["MEDPARTNERS","X",{"$f":"IF(ISNUMBER(FIND(\"MEDICAID\",A2348)),\"X\",\"\")","v":""},{"$f":"IF(ISNUMBER(FIND(\"MEDICARE\",A2348)),\"X\",\"\")","v":""},{"$f":"IF(ISNUMBER(FIND(\"BC/BS\",#REF!)),\"X\",\"\")","v":""}]
["MED-PAY INC","X",{"$f":"IF(ISNUMBER(FIND(\"MEDICAID\",A2349)),\"X\",\"\")","v":""},{"$f":"IF(ISNUMBER(FIND(\"MEDICARE\",A2349)),\"X\",\"\")","v":""},{"$f":"IF(ISNUMBER(FIND(\"BC/BS\",#REF!)),\"X\",\"\")","v":""}]
["MEDRISK","X",{"$f":"IF(ISNUMBER(FIND(\"MEDICAID\",A2350)),\"X\",\"\")","v":""},{"$f":"IF(ISNUMBER(FIND(\"MEDICARE\",A2350)),\"X\",\"\")","v":""},{"$f":"IF(ISNUMBER(FIND(\"BC/BS\",#REF!)),\"X\",\"\")","v":""}]
["MEDSTAR FAMILY CHOICE","X",{"$f":"IF(ISNUMBER(FIND(\"MEDICAID\",A2351)),\"X\",\"\")","v":""},{"$f":"IF(ISNUMBER(FIND(\"MEDICARE\",A2351)),\"X\",\"\")","v":""},{"$f":"IF(ISNUMBER(FIND(\"BC/BS\",#REF!)),\"X\",\"\")","v":""}]
["MEGACORP LOGISTICS LLC (THE HEALTH PLAN)",null,{"$f":"IF(ISNUMBER(FIND(\"MEDICAID\",A2352)),\"X\",\"\")","v":""},{"$f":"IF(ISNUMBER(FIND(\"MEDICARE\",A2352)),\"X\",\"\")","v":""},{"$f":"IF(ISNUMBER(FIND(\"BC/BS\",#REF!)),\"X\",\"\")","v":""}]
["MELLING TOOL CO (ASR HEALTH BENEFITS)","X",{"$f":"IF(ISNUMBER(FIND(\"MEDICAID\",A2353)),\"X\",\"\")","v":""},{"$f":"IF(ISNUMBER(FIND(\"MEDICARE\",A2353)),\"X\",\"\")","v":""},{"$f":"IF(ISNUMBER(FIND(\"BC/BS\",#REF!)),\"X\",\"\")","v":""}]
["MEMBERS HEALTH INSURANCE COMPANY (FARM BUREAU HEALTH PLANS)","X",{"$f":"IF(ISNUMBER(FIND(\"MEDICAID\",A2354)),\"X\",\"\")","v":""},{"$f":"IF(ISNUMBER(FIND(\"MEDICARE\",A2354)),\"X\",\"\")","v":""},{"$f":"IF(ISNUMBER(FIND(\"BC/BS\",#REF!)),\"X\",\"\")","v":""}]
["MEMORIAL HEALTH SERVICES - MEMORIAL CAPITATION (MEMORIALCARE)",null,{"$f":"IF(ISNUMBER(FIND(\"MEDICAID\",A2355)),\"X\",\"\")","v":""},{"$f":"IF(ISNUMBER(FIND(\"MEDICARE\",A2355)),\"X\",\"\")","v":""},{"$f":"IF(ISNUMBER(FIND(\"BC/BS\",#REF!)),\"X\",\"\")","v":""}]
["MEMORIAL HERMANN HEALTH NETWORK",null,{"$f":"IF(ISNUMBER(FIND(\"MEDICAID\",A2356)),\"X\",\"\")","v":""},{"$f":"IF(ISNUMBER(FIND(\"MEDICARE\",A2356)),\"X\",\"\")","v":""},{"$f":"IF(ISNUMBER(FIND(\"BC/BS\",#REF!)),\"X\",\"\")","v":""}]
["MEMORIAL HERMANN HEALTH PLAN (HAVARD PILGRIM HEALTH CARE)","X",{"$f":"IF(ISNUMBER(FIND(\"MEDICAID\",A2357)),\"X\",\"\")","v":""},{"$f":"IF(ISNUMBER(FIND(\"MEDICARE\",A2357)),\"X\",\"\")","v":""},{"$f":"IF(ISNUMBER(FIND(\"BC/BS\",#REF!)),\"X\",\"\")","v":""}]
["MEMORIAL HOSPITAL (IAC LIFE)","X",{"$f":"IF(ISNUMBER(FIND(\"MEDICAID\",A2358)),\"X\",\"\")","v":""},{"$f":"IF(ISNUMBER(FIND(\"MEDICARE\",A2358)),\"X\",\"\")","v":""},{"$f":"IF(ISNUMBER(FIND(\"BC/BS\",#REF!)),\"X\",\"\")","v":""}]
["MEMORIAL HOSPITAL AND MANOR (MAA/HEALTHSMART)",null,{"$f":"IF(ISNUMBER(FIND(\"MEDICAID\",A2359)),\"X\",\"\")","v":""},{"$f":"IF(ISNUMBER(FIND(\"MEDICARE\",A2359)),\"X\",\"\")","v":""},{"$f":"IF(ISNUMBER(FIND(\"BC/BS\",#REF!)),\"X\",\"\")","v":""}]
["MEMORIAL MEDICAL CENTER (SUTTER HEALTH)",null,{"$f":"IF(ISNUMBER(FIND(\"MEDICAID\",A2360)),\"X\",\"\")","v":""},{"$f":"IF(ISNUMBER(FIND(\"MEDICARE\",A2360)),\"X\",\"\")","v":""},{"$f":"IF(ISNUMBER(FIND(\"BC/BS\",#REF!)),\"X\",\"\")","v":""}]
["MEMORIALCARE MEDICAL FOUNDATION",null,{"$f":"IF(ISNUMBER(FIND(\"MEDICAID\",A2361)),\"X\",\"\")","v":""},{"$f":"IF(ISNUMBER(FIND(\"MEDICARE\",A2361)),\"X\",\"\")","v":""},{"$f":"IF(ISNUMBER(FIND(\"BC/BS\",#REF!)),\"X\",\"\")","v":""}]
["MEMORIALCARE SELECT HEALTH PLAN",null,{"$f":"IF(ISNUMBER(FIND(\"MEDICAID\",A2362)),\"X\",\"\")","v":""},{"$f":"IF(ISNUMBER(FIND(\"MEDICARE\",A2362)),\"X\",\"\")","v":""},{"$f":"IF(ISNUMBER(FIND(\"BC/BS\",#REF!)),\"X\",\"\")","v":""}]
["MEMPHIS VA MEDICAL CENTER",null,{"$f":"IF(ISNUMBER(FIND(\"MEDICAID\",A2363)),\"X\",\"\")","v":""},{"$f":"IF(ISNUMBER(FIND(\"MEDICARE\",A2363)),\"X\",\"\")","v":""},{"$f":"IF(ISNUMBER(FIND(\"BC/BS\",#REF!)),\"X\",\"\")","v":""}]
["MERCER HEALTH (CONTIGO HEALTH)",null,{"$f":"IF(ISNUMBER(FIND(\"MEDICAID\",A2364)),\"X\",\"\")","v":""},{"$f":"IF(ISNUMBER(FIND(\"MEDICARE\",A2364)),\"X\",\"\")","v":""},{"$f":"IF(ISNUMBER(FIND(\"BC/BS\",#REF!)),\"X\",\"\")","v":""}]
["MERCER UNIVERSITY (CORE MANAGEMENT RESOURCES)","X",{"$f":"IF(ISNUMBER(FIND(\"MEDICAID\",A2365)),\"X\",\"\")","v":""},{"$f":"IF(ISNUMBER(FIND(\"MEDICARE\",A2365)),\"X\",\"\")","v":""},{"$f":"IF(ISNUMBER(FIND(\"BC/BS\",#REF!)),\"X\",\"\")","v":""}]
["MERCHANDISE PICKUP SVC INC (GROUP & PENSION ADMIN)",null,{"$f":"IF(ISNUMBER(FIND(\"MEDICAID\",A2366)),\"X\",\"\")","v":""},{"$f":"IF(ISNUMBER(FIND(\"MEDICARE\",A2366)),\"X\",\"\")","v":""},{"$f":"IF(ISNUMBER(FIND(\"BC/BS\",#REF!)),\"X\",\"\")","v":""}]
["MERCHANTS BENEFIT ADMINISTRATION INC","X",{"$f":"IF(ISNUMBER(FIND(\"MEDICAID\",A2367)),\"X\",\"\")","v":""},{"$f":"IF(ISNUMBER(FIND(\"MEDICARE\",A2367)),\"X\",\"\")","v":""},{"$f":"IF(ISNUMBER(FIND(\"BC/BS\",#REF!)),\"X\",\"\")","v":""}]
["MERCK","X",{"$f":"IF(ISNUMBER(FIND(\"MEDICAID\",A2368)),\"X\",\"\")","v":""},{"$f":"IF(ISNUMBER(FIND(\"MEDICARE\",A2368)),\"X\",\"\")","v":""},{"$f":"IF(ISNUMBER(FIND(\"BC/BS\",#REF!)),\"X\",\"\")","v":""}]
["MERCY CARE","X",{"$f":"IF(ISNUMBER(FIND(\"MEDICAID\",A2369)),\"X\",\"\")","v":""},{"$f":"IF(ISNUMBER(FIND(\"MEDICARE\",A2369)),\"X\",\"\")","v":""},{"$f":"IF(ISNUMBER(FIND(\"BC/BS\",#REF!)),\"X\",\"\")","v":""}]
["MERCY CARE RBHA","X",{"$f":"IF(ISNUMBER(FIND(\"MEDICAID\",A2370)),\"X\",\"\")","v":""},{"$f":"IF(ISNUMBER(FIND(\"MEDICARE\",A2370)),\"X\",\"\")","v":""},{"$f":"IF(ISNUMBER(FIND(\"BC/BS\",#REF!)),\"X\",\"\")","v":""}]
["MERCY FLIGHT INC (INDEPENDENT HEALTH)","X",{"$f":"IF(ISNUMBER(FIND(\"MEDICAID\",A2371)),\"X\",\"\")","v":""},{"$f":"IF(ISNUMBER(FIND(\"MEDICARE\",A2371)),\"X\",\"\")","v":""},{"$f":"IF(ISNUMBER(FIND(\"BC/BS\",#REF!)),\"X\",\"\")","v":""}]
["MERCY PHYSICIANS MEDICAL GROUP INC (NAMM CALIFORNIA)","X",{"$f":"IF(ISNUMBER(FIND(\"MEDICAID\",A2372)),\"X\",\"\")","v":""},{"$f":"IF(ISNUMBER(FIND(\"MEDICARE\",A2372)),\"X\",\"\")","v":""},{"$f":"IF(ISNUMBER(FIND(\"BC/BS\",#REF!)),\"X\",\"\")","v":""}]
["MERCY ST JOHNS CLAIMS ADMINISTRATION","X",{"$f":"IF(ISNUMBER(FIND(\"MEDICAID\",A2373)),\"X\",\"\")","v":""},{"$f":"IF(ISNUMBER(FIND(\"MEDICARE\",A2373)),\"X\",\"\")","v":""},{"$f":"IF(ISNUMBER(FIND(\"BC/BS\",#REF!)),\"X\",\"\")","v":""}]
["MERCYCARE HEALTH PLANS","X",{"$f":"IF(ISNUMBER(FIND(\"MEDICAID\",A2374)),\"X\",\"\")","v":""},{"$f":"IF(ISNUMBER(FIND(\"MEDICARE\",A2374)),\"X\",\"\")","v":""},{"$f":"IF(ISNUMBER(FIND(\"BC/BS\",#REF!)),\"X\",\"\")","v":""}]
["MERICLE COMMERCIAL REAL ESTATE SERVICES (GEISINGER HEALTH PLAN)","X",{"$f":"IF(ISNUMBER(FIND(\"MEDICAID\",A2375)),\"X\",\"\")","v":""},{"$f":"IF(ISNUMBER(FIND(\"MEDICARE\",A2375)),\"X\",\"\")","v":""},{"$f":"IF(ISNUMBER(FIND(\"BC/BS\",#REF!)),\"X\",\"\")","v":""}]
["MERIDIAN HEALTH PLAN","X",{"$f":"IF(ISNUMBER(FIND(\"MEDICAID\",A2376)),\"X\",\"\")","v":""},{"$f":"IF(ISNUMBER(FIND(\"MEDICARE\",A2376)),\"X\",\"\")","v":""},{"$f":"IF(ISNUMBER(FIND(\"BC/BS\",#REF!)),\"X\",\"\")","v":""}]
["MERIDIAN HEALTH PLAN (ILLINOIS AND MICHIGAN)","X",{"$f":"IF(ISNUMBER(FIND(\"MEDICAID\",A2377)),\"X\",\"\")","v":""},{"$f":"IF(ISNUMBER(FIND(\"MEDICARE\",A2377)),\"X\",\"\")","v":""},{"$f":"IF(ISNUMBER(FIND(\"BC/BS\",#REF!)),\"X\",\"\")","v":""}]
["MERIDIAN HEALTH PLAN OF ILLINOIS","X",{"$f":"IF(ISNUMBER(FIND(\"MEDICAID\",A2378)),\"X\",\"\")","v":""},{"$f":"IF(ISNUMBER(FIND(\"MEDICARE\",A2378)),\"X\",\"\")","v":""},{"$f":"IF(ISNUMBER(FIND(\"BC/BS\",#REF!)),\"X\",\"\")","v":""}]
["MERIDIAN HEALTH PLAN OF ILLINOIS (WELLCARE)","X",{"$f":"IF(ISNUMBER(FIND(\"MEDICAID\",A2379)),\"X\",\"\")","v":""},{"$f":"IF(ISNUMBER(FIND(\"MEDICARE\",A2379)),\"X\",\"\")","v":""},{"$f":"IF(ISNUMBER(FIND(\"BC/BS\",#REF!)),\"X\",\"\")","v":""}]
["MERIDIAN HEALTH PLAN OF MICHIGAN","X",{"$f":"IF(ISNUMBER(FIND(\"MEDICAID\",A2380)),\"X\",\"\")","v":""},{"$f":"IF(ISNUMBER(FIND(\"MEDICARE\",A2380)),\"X\",\"\")","v":""},{"$f":"IF(ISNUMBER(FIND(\"BC/BS\",#REF!)),\"X\",\"\")","v":""}]
["MERIDIAN HEALTH PLAN OF MICHIGAN (WELLCARE)","X",{"$f":"IF(ISNUMBER(FIND(\"MEDICAID\",A2381)),\"X\",\"\")","v":""},{"$f":"IF(ISNUMBER(FIND(\"MEDICARE\",A2381)),\"X\",\"\")","v":""},{"$f":"IF(ISNUMBER(FIND(\"BC/BS\",#REF!)),\"X\",\"\")","v":""}]
["MERITAGE MEDICAL NETWORK","X",{"$f":"IF(ISNUMBER(FIND(\"MEDICAID\",A2382)),\"X\",\"\")","v":""},{"$f":"IF(ISNUMBER(FIND(\"MEDICARE\",A2382)),\"X\",\"\")","v":""},{"$f":"IF(ISNUMBER(FIND(\"BC/BS\",#REF!)),\"X\",\"\")","v":""}]
["MERITAIN HEALTH","X",{"$f":"IF(ISNUMBER(FIND(\"MEDICAID\",A2383)),\"X\",\"\")","v":""},{"$f":"IF(ISNUMBER(FIND(\"MEDICARE\",A2383)),\"X\",\"\")","v":""},{"$f":"IF(ISNUMBER(FIND(\"BC/BS\",#REF!)),\"X\",\"\")","v":""}]
["MESA COUNTY GOVERNMENT (AMERIBEN)",null,{"$f":"IF(ISNUMBER(FIND(\"MEDICAID\",A2384)),\"X\",\"\")","v":""},{"$f":"IF(ISNUMBER(FIND(\"MEDICARE\",A2384)),\"X\",\"\")","v":""},{"$f":"IF(ISNUMBER(FIND(\"BC/BS\",#REF!)),\"X\",\"\")","v":""}]
["MESTEK INC - BENEFITS (GROUP & PENSION ADMIN)","X",{"$f":"IF(ISNUMBER(FIND(\"MEDICAID\",A2385)),\"X\",\"\")","v":""},{"$f":"IF(ISNUMBER(FIND(\"MEDICARE\",A2385)),\"X\",\"\")","v":""},{"$f":"IF(ISNUMBER(FIND(\"BC/BS\",#REF!)),\"X\",\"\")","v":""}]
["METAL TRADES (MAESTRO HEALTH)",null,{"$f":"IF(ISNUMBER(FIND(\"MEDICAID\",A2386)),\"X\",\"\")","v":""},{"$f":"IF(ISNUMBER(FIND(\"MEDICARE\",A2386)),\"X\",\"\")","v":""},{"$f":"IF(ISNUMBER(FIND(\"BC/BS\",#REF!)),\"X\",\"\")","v":""}]
["METHODIST RETIREMENT COMMUNITIES (GROUP & PENSION ADMIN)","X",{"$f":"IF(ISNUMBER(FIND(\"MEDICAID\",A2387)),\"X\",\"\")","v":""},{"$f":"IF(ISNUMBER(FIND(\"MEDICARE\",A2387)),\"X\",\"\")","v":""},{"$f":"IF(ISNUMBER(FIND(\"BC/BS\",#REF!)),\"X\",\"\")","v":""}]
["METLIFE DENTAL","X",{"$f":"IF(ISNUMBER(FIND(\"MEDICAID\",A2388)),\"X\",\"\")","v":""},{"$f":"IF(ISNUMBER(FIND(\"MEDICARE\",A2388)),\"X\",\"\")","v":""},{"$f":"IF(ISNUMBER(FIND(\"BC/BS\",#REF!)),\"X\",\"\")","v":""}]
["METRO FIRE EQUIPMENT INC (MAESTRO HEALTH)","X",{"$f":"IF(ISNUMBER(FIND(\"MEDICAID\",A2389)),\"X\",\"\")","v":""},{"$f":"IF(ISNUMBER(FIND(\"MEDICARE\",A2389)),\"X\",\"\")","v":""},{"$f":"IF(ISNUMBER(FIND(\"BC/BS\",#REF!)),\"X\",\"\")","v":""}]
["METROPLUS ENHANCED (HARP)","X",{"$f":"IF(ISNUMBER(FIND(\"MEDICAID\",A2390)),\"X\",\"\")","v":""},{"$f":"IF(ISNUMBER(FIND(\"MEDICARE\",A2390)),\"X\",\"\")","v":""},{"$f":"IF(ISNUMBER(FIND(\"BC/BS\",#REF!)),\"X\",\"\")","v":""}]
["METROPLUS ESSENTIAL PLAN","X",{"$f":"IF(ISNUMBER(FIND(\"MEDICAID\",A2391)),\"X\",\"\")","v":""},{"$f":"IF(ISNUMBER(FIND(\"MEDICARE\",A2391)),\"X\",\"\")","v":""},{"$f":"IF(ISNUMBER(FIND(\"BC/BS\",#REF!)),\"X\",\"\")","v":""}]
["METROPLUS HEALTH PLAN","X",{"$f":"IF(ISNUMBER(FIND(\"MEDICAID\",A2392)),\"X\",\"\")","v":""},{"$f":"IF(ISNUMBER(FIND(\"MEDICARE\",A2392)),\"X\",\"\")","v":""},{"$f":"IF(ISNUMBER(FIND(\"BC/BS\",#REF!)),\"X\",\"\")","v":""}]
["METROPLUS HEALTH PLAN - HHC","X",{"$f":"IF(ISNUMBER(FIND(\"MEDICAID\",A2393)),\"X\",\"\")","v":""},{"$f":"IF(ISNUMBER(FIND(\"MEDICARE\",A2393)),\"X\",\"\")","v":""},{"$f":"IF(ISNUMBER(FIND(\"BC/BS\",#REF!)),\"X\",\"\")","v":""}]
["METROPOLITAN LIBRARY SYSTEM (MAA/HEALTHSMART)",null,{"$f":"IF(ISNUMBER(FIND(\"MEDICAID\",A2394)),\"X\",\"\")","v":""},{"$f":"IF(ISNUMBER(FIND(\"MEDICARE\",A2394)),\"X\",\"\")","v":""},{"$f":"IF(ISNUMBER(FIND(\"BC/BS\",#REF!)),\"X\",\"\")","v":""}]
["M-G EBPT (90 DEGREE BENEFITS HOUSTON - ENTRUST)",null,{"$f":"IF(ISNUMBER(FIND(\"MEDICAID\",A2395)),\"X\",\"\")","v":""},{"$f":"IF(ISNUMBER(FIND(\"MEDICARE\",A2395)),\"X\",\"\")","v":""},{"$f":"IF(ISNUMBER(FIND(\"BC/BS\",#REF!)),\"X\",\"\")","v":""}]
["MHI HOTELS LLC (MAESTRO HEALTH)",null,{"$f":"IF(ISNUMBER(FIND(\"MEDICAID\",A2396)),\"X\",\"\")","v":""},{"$f":"IF(ISNUMBER(FIND(\"MEDICARE\",A2396)),\"X\",\"\")","v":""},{"$f":"IF(ISNUMBER(FIND(\"BC/BS\",#REF!)),\"X\",\"\")","v":""}]
["MHN SERVICES (MANAGED HEALTH NETWORK)","X",{"$f":"IF(ISNUMBER(FIND(\"MEDICAID\",A2397)),\"X\",\"\")","v":""},{"$f":"IF(ISNUMBER(FIND(\"MEDICARE\",A2397)),\"X\",\"\")","v":""},{"$f":"IF(ISNUMBER(FIND(\"BC/BS\",#REF!)),\"X\",\"\")","v":""}]
["MICHAEL E. DEBAKEY VA MEDICAL CENTER",null,{"$f":"IF(ISNUMBER(FIND(\"MEDICAID\",A2398)),\"X\",\"\")","v":""},{"$f":"IF(ISNUMBER(FIND(\"MEDICARE\",A2398)),\"X\",\"\")","v":""},{"$f":"IF(ISNUMBER(FIND(\"BC/BS\",#REF!)),\"X\",\"\")","v":""}]
["MICHIGAN CATASTROPHIC PIP BRANCH (AUTO-OWNERS INSURANCE COMPANY)","X",{"$f":"IF(ISNUMBER(FIND(\"MEDICAID\",A2399)),\"X\",\"\")","v":""},{"$f":"IF(ISNUMBER(FIND(\"MEDICARE\",A2399)),\"X\",\"\")","v":""},{"$f":"IF(ISNUMBER(FIND(\"BC/BS\",#REF!)),\"X\",\"\")","v":""},null,"X"]
["MICHIGAN COMMERCIAL INSURANCE MUTUAL","X",{"$f":"IF(ISNUMBER(FIND(\"MEDICAID\",A2400)),\"X\",\"\")","v":""},{"$f":"IF(ISNUMBER(FIND(\"MEDICARE\",A2400)),\"X\",\"\")","v":""},{"$f":"IF(ISNUMBER(FIND(\"BC/BS\",#REF!)),\"X\",\"\")","v":""},"X","X"]
["MICHIGAN EXTRUDED ALUMINUM (ASR HEALTH BENEFITS)","X",{"$f":"IF(ISNUMBER(FIND(\"MEDICAID\",A2401)),\"X\",\"\")","v":""},{"$f":"IF(ISNUMBER(FIND(\"MEDICARE\",A2401)),\"X\",\"\")","v":""},{"$f":"IF(ISNUMBER(FIND(\"BC/BS\",#REF!)),\"X\",\"\")","v":""}]
["MICHIGAN FARM BUREAU HEALTH PLANS (FARM BUREAU HEALTH PLAN)","X",{"$f":"IF(ISNUMBER(FIND(\"MEDICAID\",A2402)),\"X\",\"\")","v":""},{"$f":"IF(ISNUMBER(FIND(\"MEDICARE\",A2402)),\"X\",\"\")","v":""},{"$f":"IF(ISNUMBER(FIND(\"BC/BS\",#REF!)),\"X\",\"\")","v":""}]
["MICHIGAN SUGAR COMPANY (ASR HEALTH BENEFITS)","X",{"$f":"IF(ISNUMBER(FIND(\"MEDICAID\",A2403)),\"X\",\"\")","v":""},{"$f":"IF(ISNUMBER(FIND(\"MEDICARE\",A2403)),\"X\",\"\")","v":""},{"$f":"IF(ISNUMBER(FIND(\"BC/BS\",#REF!)),\"X\",\"\")","v":""}]
["MICHIGAN WC CLAIMS BRANCH (AUTO-OWNERS INSURANCE COMPANY)","X",{"$f":"IF(ISNUMBER(FIND(\"MEDICAID\",A2404)),\"X\",\"\")","v":""},{"$f":"IF(ISNUMBER(FIND(\"MEDICARE\",A2404)),\"X\",\"\")","v":""},{"$f":"IF(ISNUMBER(FIND(\"BC/BS\",#REF!)),\"X\",\"\")","v":""},"X"]
["MID AMERICA ASSOCIATES","X",{"$f":"IF(ISNUMBER(FIND(\"MEDICAID\",A2405)),\"X\",\"\")","v":""},{"$f":"IF(ISNUMBER(FIND(\"MEDICARE\",A2405)),\"X\",\"\")","v":""},{"$f":"IF(ISNUMBER(FIND(\"BC/BS\",#REF!)),\"X\",\"\")","v":""}]
["MID-AMERICAN BENEFITS LLC","X",{"$f":"IF(ISNUMBER(FIND(\"MEDICAID\",A2406)),\"X\",\"\")","v":""},{"$f":"IF(ISNUMBER(FIND(\"MEDICARE\",A2406)),\"X\",\"\")","v":""},{"$f":"IF(ISNUMBER(FIND(\"BC/BS\",#REF!)),\"X\",\"\")","v":""}]
["MID-ATLANTIC INSTALLERS (SENTARA)","X",{"$f":"IF(ISNUMBER(FIND(\"MEDICAID\",A2407)),\"X\",\"\")","v":""},{"$f":"IF(ISNUMBER(FIND(\"MEDICARE\",A2407)),\"X\",\"\")","v":""},{"$f":"IF(ISNUMBER(FIND(\"BC/BS\",#REF!)),\"X\",\"\")","v":""}]
["MID-CENTRAL OPERATING ENGINEERS",null,{"$f":"IF(ISNUMBER(FIND(\"MEDICAID\",A2408)),\"X\",\"\")","v":""},{"$f":"IF(ISNUMBER(FIND(\"MEDICARE\",A2408)),\"X\",\"\")","v":""},{"$f":"IF(ISNUMBER(FIND(\"BC/BS\",#REF!)),\"X\",\"\")","v":""}]
["MIDWAY PRESS EBPT (90 DEGREE BENEFITS HOUSTON - ENTRUST)",null,{"$f":"IF(ISNUMBER(FIND(\"MEDICAID\",A2409)),\"X\",\"\")","v":""},{"$f":"IF(ISNUMBER(FIND(\"MEDICARE\",A2409)),\"X\",\"\")","v":""},{"$f":"IF(ISNUMBER(FIND(\"BC/BS\",#REF!)),\"X\",\"\")","v":""}]
["MIDWEST ASSOCIATION OF H & W FUNDS",null,{"$f":"IF(ISNUMBER(FIND(\"MEDICAID\",A2410)),\"X\",\"\")","v":""},{"$f":"IF(ISNUMBER(FIND(\"MEDICARE\",A2410)),\"X\",\"\")","v":""},{"$f":"IF(ISNUMBER(FIND(\"BC/BS\",#REF!)),\"X\",\"\")","v":""}]
["MIDWEST OPERATING ENGINEERS WELFARE FUND","X",{"$f":"IF(ISNUMBER(FIND(\"MEDICAID\",A2411)),\"X\",\"\")","v":""},{"$f":"IF(ISNUMBER(FIND(\"MEDICARE\",A2411)),\"X\",\"\")","v":""},{"$f":"IF(ISNUMBER(FIND(\"BC/BS\",#REF!)),\"X\",\"\")","v":""}]
["MIDWESTERN INSURANCE ALLIANCE","X",{"$f":"IF(ISNUMBER(FIND(\"MEDICAID\",A2412)),\"X\",\"\")","v":""},{"$f":"IF(ISNUMBER(FIND(\"MEDICARE\",A2412)),\"X\",\"\")","v":""},{"$f":"IF(ISNUMBER(FIND(\"BC/BS\",#REF!)),\"X\",\"\")","v":""}]
["MIH (COMMUNITY CARE PLAN)",null,{"$f":"IF(ISNUMBER(FIND(\"MEDICAID\",A2413)),\"X\",\"\")","v":""},{"$f":"IF(ISNUMBER(FIND(\"MEDICARE\",A2413)),\"X\",\"\")","v":""},{"$f":"IF(ISNUMBER(FIND(\"BC/BS\",#REF!)),\"X\",\"\")","v":""}]
["MILLER ENVIRONMENTAL EBPT (90 DEGREE BENEFITS HOUSTON - ENTRUST)",null,{"$f":"IF(ISNUMBER(FIND(\"MEDICAID\",A2414)),\"X\",\"\")","v":""},{"$f":"IF(ISNUMBER(FIND(\"MEDICARE\",A2414)),\"X\",\"\")","v":""},{"$f":"IF(ISNUMBER(FIND(\"BC/BS\",#REF!)),\"X\",\"\")","v":""}]
["MINNEAPOLIS VA MEDICAL CENTER",null,{"$f":"IF(ISNUMBER(FIND(\"MEDICAID\",A2415)),\"X\",\"\")","v":""},{"$f":"IF(ISNUMBER(FIND(\"MEDICARE\",A2415)),\"X\",\"\")","v":""},{"$f":"IF(ISNUMBER(FIND(\"BC/BS\",#REF!)),\"X\",\"\")","v":""}]
["MINNESOTA LABORERS HEALTH AND WELFARE FUND (ZENITH AMERICAN)","X",{"$f":"IF(ISNUMBER(FIND(\"MEDICAID\",A2416)),\"X\",\"\")","v":""},{"$f":"IF(ISNUMBER(FIND(\"MEDICARE\",A2416)),\"X\",\"\")","v":""},{"$f":"IF(ISNUMBER(FIND(\"BC/BS\",#REF!)),\"X\",\"\")","v":""}]
["MINNESOTA PIP CLAIMS BRANCH (AUTO-OWNERS INSURANCE COMPANY)",null,{"$f":"IF(ISNUMBER(FIND(\"MEDICAID\",A2417)),\"X\",\"\")","v":""},{"$f":"IF(ISNUMBER(FIND(\"MEDICARE\",A2417)),\"X\",\"\")","v":""},{"$f":"IF(ISNUMBER(FIND(\"BC/BS\",#REF!)),\"X\",\"\")","v":""},null,"X"]
["MINNESOTA TEAMSTERS CONSTRUCTION DIVISION HEALTH AND WELFARE FUND (ZENITH AMERICAN)","X",{"$f":"IF(ISNUMBER(FIND(\"MEDICAID\",A2418)),\"X\",\"\")","v":""},{"$f":"IF(ISNUMBER(FIND(\"MEDICARE\",A2418)),\"X\",\"\")","v":""},{"$f":"IF(ISNUMBER(FIND(\"BC/BS\",#REF!)),\"X\",\"\")","v":""}]
["MINNESOTA WC CLAIMS BRANCH (AUTO-OWNERS INSURANCE COMPANY)","X",{"$f":"IF(ISNUMBER(FIND(\"MEDICAID\",A2419)),\"X\",\"\")","v":""},{"$f":"IF(ISNUMBER(FIND(\"MEDICARE\",A2419)),\"X\",\"\")","v":""},{"$f":"IF(ISNUMBER(FIND(\"BC/BS\",#REF!)),\"X\",\"\")","v":""},"X"]
["MIRRA HEALTH CARE LLC","X",{"$f":"IF(ISNUMBER(FIND(\"MEDICAID\",A2420)),\"X\",\"\")","v":""},{"$f":"IF(ISNUMBER(FIND(\"MEDICARE\",A2420)),\"X\",\"\")","v":""},{"$f":"IF(ISNUMBER(FIND(\"BC/BS\",#REF!)),\"X\",\"\")","v":""}]
["MISSION VALLEY USD #330 (IPMG)","X",{"$f":"IF(ISNUMBER(FIND(\"MEDICAID\",A2421)),\"X\",\"\")","v":""},{"$f":"IF(ISNUMBER(FIND(\"MEDICARE\",A2421)),\"X\",\"\")","v":""},{"$f":"IF(ISNUMBER(FIND(\"BC/BS\",#REF!)),\"X\",\"\")","v":""}]
["MISSOULA COUNTY EMPLOYEE BENEFIT PLANS","X",{"$f":"IF(ISNUMBER(FIND(\"MEDICAID\",A2422)),\"X\",\"\")","v":""},{"$f":"IF(ISNUMBER(FIND(\"MEDICARE\",A2422)),\"X\",\"\")","v":""},{"$f":"IF(ISNUMBER(FIND(\"BC/BS\",#REF!)),\"X\",\"\")","v":""}]
["MISSOURI CARE (WELLCARE)","X",{"$f":"IF(ISNUMBER(FIND(\"MEDICAID\",A2423)),\"X\",\"\")","v":""},{"$f":"IF(ISNUMBER(FIND(\"MEDICARE\",A2423)),\"X\",\"\")","v":""},{"$f":"IF(ISNUMBER(FIND(\"BC/BS\",#REF!)),\"X\",\"\")","v":""}]
["MISSOURI CHAMBERS FEDERATION MEWA (THE HEALTH PLAN)",null,{"$f":"IF(ISNUMBER(FIND(\"MEDICAID\",A2424)),\"X\",\"\")","v":""},{"$f":"IF(ISNUMBER(FIND(\"MEDICARE\",A2424)),\"X\",\"\")","v":""},{"$f":"IF(ISNUMBER(FIND(\"BC/BS\",#REF!)),\"X\",\"\")","v":""}]
["MISSOURI NETWORK ALLIANCE (MAESTRO HEALTH)","X",{"$f":"IF(ISNUMBER(FIND(\"MEDICAID\",A2425)),\"X\",\"\")","v":""},{"$f":"IF(ISNUMBER(FIND(\"MEDICARE\",A2425)),\"X\",\"\")","v":""},{"$f":"IF(ISNUMBER(FIND(\"BC/BS\",#REF!)),\"X\",\"\")","v":""}]
["MISSOURI VALLEY LIFE AND HEALTH INSURANCE COMPANY (BCBS OF KANSAS CITY)","X",{"$f":"IF(ISNUMBER(FIND(\"MEDICAID\",A2426)),\"X\",\"\")","v":""},{"$f":"IF(ISNUMBER(FIND(\"MEDICARE\",A2426)),\"X\",\"\")","v":""},"X"]
["MISSOURI WC CLAIMS BRANCH (AUTO-OWNERS INSURANCE COMPANY)","X",{"$f":"IF(ISNUMBER(FIND(\"MEDICAID\",A2427)),\"X\",\"\")","v":""},{"$f":"IF(ISNUMBER(FIND(\"MEDICARE\",A2427)),\"X\",\"\")","v":""},{"$f":"IF(ISNUMBER(FIND(\"BC/BS\",#REF!)),\"X\",\"\")","v":""},"X"]
["MMA (COMMUNITY CARE PLAN)","X",{"$f":"IF(ISNUMBER(FIND(\"MEDICAID\",A2428)),\"X\",\"\")","v":""},{"$f":"IF(ISNUMBER(FIND(\"MEDICARE\",A2428)),\"X\",\"\")","v":""},{"$f":"IF(ISNUMBER(FIND(\"BC/BS\",#REF!)),\"X\",\"\")","v":""}]
["MMCP (COMMUNITY CARE PLAN)","X",{"$f":"IF(ISNUMBER(FIND(\"MEDICAID\",A2429)),\"X\",\"\")","v":""},{"$f":"IF(ISNUMBER(FIND(\"MEDICARE\",A2429)),\"X\",\"\")","v":""},{"$f":"IF(ISNUMBER(FIND(\"BC/BS\",#REF!)),\"X\",\"\")","v":""}]
["MMK TRIO EBPT (90 DEGREE BENEFITS HOUSTON - ENTRUST )",null,{"$f":"IF(ISNUMBER(FIND(\"MEDICAID\",A2430)),\"X\",\"\")","v":""},{"$f":"IF(ISNUMBER(FIND(\"MEDICARE\",A2430)),\"X\",\"\")","v":""},{"$f":"IF(ISNUMBER(FIND(\"BC/BS\",#REF!)),\"X\",\"\")","v":""}]
["MODA","X",{"$f":"IF(ISNUMBER(FIND(\"MEDICAID\",A2431)),\"X\",\"\")","v":""},{"$f":"IF(ISNUMBER(FIND(\"MEDICARE\",A2431)),\"X\",\"\")","v":""},{"$f":"IF(ISNUMBER(FIND(\"BC/BS\",#REF!)),\"X\",\"\")","v":""}]
["MODA ASSURANCE COMPANY","X",{"$f":"IF(ISNUMBER(FIND(\"MEDICAID\",A2432)),\"X\",\"\")","v":""},{"$f":"IF(ISNUMBER(FIND(\"MEDICARE\",A2432)),\"X\",\"\")","v":""},{"$f":"IF(ISNUMBER(FIND(\"BC/BS\",#REF!)),\"X\",\"\")","v":""}]
["MODEL GROUP INC (GROUP & PENSION ADMIN)","X",{"$f":"IF(ISNUMBER(FIND(\"MEDICAID\",A2433)),\"X\",\"\")","v":""},{"$f":"IF(ISNUMBER(FIND(\"MEDICARE\",A2433)),\"X\",\"\")","v":""},{"$f":"IF(ISNUMBER(FIND(\"BC/BS\",#REF!)),\"X\",\"\")","v":""}]
["MOLDED FIBERGLASS COMPANIES (THE HEALTH PLAN)","X",{"$f":"IF(ISNUMBER(FIND(\"MEDICAID\",A2434)),\"X\",\"\")","v":""},{"$f":"IF(ISNUMBER(FIND(\"MEDICARE\",A2434)),\"X\",\"\")","v":""},{"$f":"IF(ISNUMBER(FIND(\"BC/BS\",#REF!)),\"X\",\"\")","v":""}]
["MOLINA COMPLETE CARE","X",{"$f":"IF(ISNUMBER(FIND(\"MEDICAID\",A2435)),\"X\",\"\")","v":""},{"$f":"IF(ISNUMBER(FIND(\"MEDICARE\",A2435)),\"X\",\"\")","v":""},{"$f":"IF(ISNUMBER(FIND(\"BC/BS\",#REF!)),\"X\",\"\")","v":""}]
["MOLINA COMPLETE CARE OF VIRGINIA","X",{"$f":"IF(ISNUMBER(FIND(\"MEDICAID\",A2436)),\"X\",\"\")","v":""},{"$f":"IF(ISNUMBER(FIND(\"MEDICARE\",A2436)),\"X\",\"\")","v":""},{"$f":"IF(ISNUMBER(FIND(\"BC/BS\",#REF!)),\"X\",\"\")","v":""}]
["MOLINA HEALTHCARE","X",{"$f":"IF(ISNUMBER(FIND(\"MEDICAID\",A2437)),\"X\",\"\")","v":""},{"$f":"IF(ISNUMBER(FIND(\"MEDICARE\",A2437)),\"X\",\"\")","v":""},{"$f":"IF(ISNUMBER(FIND(\"BC/BS\",#REF!)),\"X\",\"\")","v":""}]
["MOLINA HEALTHCARE OF ARIZONA","X",{"$f":"IF(ISNUMBER(FIND(\"MEDICAID\",A2438)),\"X\",\"\")","v":""},{"$f":"IF(ISNUMBER(FIND(\"MEDICARE\",A2438)),\"X\",\"\")","v":""},{"$f":"IF(ISNUMBER(FIND(\"BC/BS\",#REF!)),\"X\",\"\")","v":""}]
["MOLINA HEALTHCARE OF CALIFORNIA","X",{"$f":"IF(ISNUMBER(FIND(\"MEDICAID\",A2439)),\"X\",\"\")","v":""},{"$f":"IF(ISNUMBER(FIND(\"MEDICARE\",A2439)),\"X\",\"\")","v":""},{"$f":"IF(ISNUMBER(FIND(\"BC/BS\",#REF!)),\"X\",\"\")","v":""}]
["MOLINA HEALTHCARE OF FLORIDA","X",{"$f":"IF(ISNUMBER(FIND(\"MEDICAID\",A2440)),\"X\",\"\")","v":""},{"$f":"IF(ISNUMBER(FIND(\"MEDICARE\",A2440)),\"X\",\"\")","v":""},{"$f":"IF(ISNUMBER(FIND(\"BC/BS\",#REF!)),\"X\",\"\")","v":""}]
["MOLINA HEALTHCARE OF IDAHO","X",{"$f":"IF(ISNUMBER(FIND(\"MEDICAID\",A2441)),\"X\",\"\")","v":""},{"$f":"IF(ISNUMBER(FIND(\"MEDICARE\",A2441)),\"X\",\"\")","v":""},{"$f":"IF(ISNUMBER(FIND(\"BC/BS\",#REF!)),\"X\",\"\")","v":""}]
["MOLINA HEALTHCARE OF ILLINOIS","X",{"$f":"IF(ISNUMBER(FIND(\"MEDICAID\",A2442)),\"X\",\"\")","v":""},{"$f":"IF(ISNUMBER(FIND(\"MEDICARE\",A2442)),\"X\",\"\")","v":""},{"$f":"IF(ISNUMBER(FIND(\"BC/BS\",#REF!)),\"X\",\"\")","v":""}]
["MOLINA HEALTHCARE OF KENTUCKY","X",{"$f":"IF(ISNUMBER(FIND(\"MEDICAID\",A2443)),\"X\",\"\")","v":""},{"$f":"IF(ISNUMBER(FIND(\"MEDICARE\",A2443)),\"X\",\"\")","v":""},{"$f":"IF(ISNUMBER(FIND(\"BC/BS\",#REF!)),\"X\",\"\")","v":""}]
["MOLINA HEALTHCARE OF MICHIGAN","X",{"$f":"IF(ISNUMBER(FIND(\"MEDICAID\",A2444)),\"X\",\"\")","v":""},{"$f":"IF(ISNUMBER(FIND(\"MEDICARE\",A2444)),\"X\",\"\")","v":""},{"$f":"IF(ISNUMBER(FIND(\"BC/BS\",#REF!)),\"X\",\"\")","v":""}]
["MOLINA HEALTHCARE OF MISSISSIPPI","X",{"$f":"IF(ISNUMBER(FIND(\"MEDICAID\",A2445)),\"X\",\"\")","v":""},{"$f":"IF(ISNUMBER(FIND(\"MEDICARE\",A2445)),\"X\",\"\")","v":""},{"$f":"IF(ISNUMBER(FIND(\"BC/BS\",#REF!)),\"X\",\"\")","v":""}]
["MOLINA HEALTHCARE OF NEVADA","X",{"$f":"IF(ISNUMBER(FIND(\"MEDICAID\",A2446)),\"X\",\"\")","v":""},{"$f":"IF(ISNUMBER(FIND(\"MEDICARE\",A2446)),\"X\",\"\")","v":""},{"$f":"IF(ISNUMBER(FIND(\"BC/BS\",#REF!)),\"X\",\"\")","v":""}]
["MOLINA HEALTHCARE OF NEW MEXICO","X",{"$f":"IF(ISNUMBER(FIND(\"MEDICAID\",A2447)),\"X\",\"\")","v":""},{"$f":"IF(ISNUMBER(FIND(\"MEDICARE\",A2447)),\"X\",\"\")","v":""},{"$f":"IF(ISNUMBER(FIND(\"BC/BS\",#REF!)),\"X\",\"\")","v":""}]
["MOLINA HEALTHCARE OF NEW YORK","X",{"$f":"IF(ISNUMBER(FIND(\"MEDICAID\",A2448)),\"X\",\"\")","v":""},{"$f":"IF(ISNUMBER(FIND(\"MEDICARE\",A2448)),\"X\",\"\")","v":""},{"$f":"IF(ISNUMBER(FIND(\"BC/BS\",#REF!)),\"X\",\"\")","v":""}]
["MOLINA HEALTHCARE OF OHIO","X",{"$f":"IF(ISNUMBER(FIND(\"MEDICAID\",A2449)),\"X\",\"\")","v":""},{"$f":"IF(ISNUMBER(FIND(\"MEDICARE\",A2449)),\"X\",\"\")","v":""},{"$f":"IF(ISNUMBER(FIND(\"BC/BS\",#REF!)),\"X\",\"\")","v":""}]
["MOLINA HEALTHCARE OF SOUTH CAROLINA","X",{"$f":"IF(ISNUMBER(FIND(\"MEDICAID\",A2450)),\"X\",\"\")","v":""},{"$f":"IF(ISNUMBER(FIND(\"MEDICARE\",A2450)),\"X\",\"\")","v":""},{"$f":"IF(ISNUMBER(FIND(\"BC/BS\",#REF!)),\"X\",\"\")","v":""}]
["MOLINA HEALTHCARE OF TEXAS","X",{"$f":"IF(ISNUMBER(FIND(\"MEDICAID\",A2451)),\"X\",\"\")","v":""},{"$f":"IF(ISNUMBER(FIND(\"MEDICARE\",A2451)),\"X\",\"\")","v":""},{"$f":"IF(ISNUMBER(FIND(\"BC/BS\",#REF!)),\"X\",\"\")","v":""}]
["MOLINA HEALTHCARE OF UTAH","X",{"$f":"IF(ISNUMBER(FIND(\"MEDICAID\",A2452)),\"X\",\"\")","v":""},{"$f":"IF(ISNUMBER(FIND(\"MEDICARE\",A2452)),\"X\",\"\")","v":""},{"$f":"IF(ISNUMBER(FIND(\"BC/BS\",#REF!)),\"X\",\"\")","v":""}]
["MOLINA HEALTHCARE OF VIRGINIA","X",{"$f":"IF(ISNUMBER(FIND(\"MEDICAID\",A2453)),\"X\",\"\")","v":""},{"$f":"IF(ISNUMBER(FIND(\"MEDICARE\",A2453)),\"X\",\"\")","v":""},{"$f":"IF(ISNUMBER(FIND(\"BC/BS\",#REF!)),\"X\",\"\")","v":""}]
["MOLINA HEALTHCARE OF WASHINGTON","X",{"$f":"IF(ISNUMBER(FIND(\"MEDICAID\",A2454)),\"X\",\"\")","v":""},{"$f":"IF(ISNUMBER(FIND(\"MEDICARE\",A2454)),\"X\",\"\")","v":""},{"$f":"IF(ISNUMBER(FIND(\"BC/BS\",#REF!)),\"X\",\"\")","v":""}]
["MOLINA HEALTHCARE OF WISCONSIN","X",{"$f":"IF(ISNUMBER(FIND(\"MEDICAID\",A2455)),\"X\",\"\")","v":""},{"$f":"IF(ISNUMBER(FIND(\"MEDICARE\",A2455)),\"X\",\"\")","v":""},{"$f":"IF(ISNUMBER(FIND(\"BC/BS\",#REF!)),\"X\",\"\")","v":""}]
["MOLINA MEDICARE","X",{"$f":"IF(ISNUMBER(FIND(\"MEDICAID\",A2456)),\"X\",\"\")","v":""},null,{"$f":"IF(ISNUMBER(FIND(\"BC/BS\",#REF!)),\"X\",\"\")","v":""}]
["MOMAR INC (GROUP & PENSION ADMIN)",null,{"$f":"IF(ISNUMBER(FIND(\"MEDICAID\",A2457)),\"X\",\"\")","v":""},{"$f":"IF(ISNUMBER(FIND(\"MEDICARE\",A2457)),\"X\",\"\")","v":""},{"$f":"IF(ISNUMBER(FIND(\"BC/BS\",#REF!)),\"X\",\"\")","v":""}]
["MONITOR LIFE INSURANCE CO OF NY",null,{"$f":"IF(ISNUMBER(FIND(\"MEDICAID\",A2458)),\"X\",\"\")","v":""},{"$f":"IF(ISNUMBER(FIND(\"MEDICARE\",A2458)),\"X\",\"\")","v":""},{"$f":"IF(ISNUMBER(FIND(\"BC/BS\",#REF!)),\"X\",\"\")","v":""}]
["MONROE COUNTY (GEISINGER HEALTH PLAN)","X",{"$f":"IF(ISNUMBER(FIND(\"MEDICAID\",A2459)),\"X\",\"\")","v":""},{"$f":"IF(ISNUMBER(FIND(\"MEDICARE\",A2459)),\"X\",\"\")","v":""},{"$f":"IF(ISNUMBER(FIND(\"BC/BS\",#REF!)),\"X\",\"\")","v":""}]
["MONROVIA NURSERY COMPANY (HEALTHCOMP)","X",{"$f":"IF(ISNUMBER(FIND(\"MEDICAID\",A2460)),\"X\",\"\")","v":""},{"$f":"IF(ISNUMBER(FIND(\"MEDICARE\",A2460)),\"X\",\"\")","v":""},{"$f":"IF(ISNUMBER(FIND(\"BC/BS\",#REF!)),\"X\",\"\")","v":""}]
["MONTCALM USA INC EBPT (90 DEGREE BENEFITS HOUSTON - ENTRUST)",null,{"$f":"IF(ISNUMBER(FIND(\"MEDICAID\",A2461)),\"X\",\"\")","v":""},{"$f":"IF(ISNUMBER(FIND(\"MEDICARE\",A2461)),\"X\",\"\")","v":""},{"$f":"IF(ISNUMBER(FIND(\"BC/BS\",#REF!)),\"X\",\"\")","v":""}]
["MONTEFIORE CMO","X",{"$f":"IF(ISNUMBER(FIND(\"MEDICAID\",A2462)),\"X\",\"\")","v":""},{"$f":"IF(ISNUMBER(FIND(\"MEDICARE\",A2462)),\"X\",\"\")","v":""},{"$f":"IF(ISNUMBER(FIND(\"BC/BS\",#REF!)),\"X\",\"\")","v":""}]
["MONTEREY MUSHROOMS LLC (AMERIBEN)",null,{"$f":"IF(ISNUMBER(FIND(\"MEDICAID\",A2463)),\"X\",\"\")","v":""},{"$f":"IF(ISNUMBER(FIND(\"MEDICARE\",A2463)),\"X\",\"\")","v":""},{"$f":"IF(ISNUMBER(FIND(\"BC/BS\",#REF!)),\"X\",\"\")","v":""}]
["MONTGOMERY COUNTY (GROUP & PENSION ADMIN)","X",{"$f":"IF(ISNUMBER(FIND(\"MEDICAID\",A2464)),\"X\",\"\")","v":""},{"$f":"IF(ISNUMBER(FIND(\"MEDICARE\",A2464)),\"X\",\"\")","v":""},{"$f":"IF(ISNUMBER(FIND(\"BC/BS\",#REF!)),\"X\",\"\")","v":""}]
["MONTGOMERY COUNTY PA HEALTHCHOICES (MAGELLAN HEALTH)","X",{"$f":"IF(ISNUMBER(FIND(\"MEDICAID\",A2465)),\"X\",\"\")","v":""},{"$f":"IF(ISNUMBER(FIND(\"MEDICARE\",A2465)),\"X\",\"\")","v":""},{"$f":"IF(ISNUMBER(FIND(\"BC/BS\",#REF!)),\"X\",\"\")","v":""}]
["MONTROSE COUNTY SCHOOL DISTRICT (UC HEALTH PLAN ADMINISTRATORS)",null,{"$f":"IF(ISNUMBER(FIND(\"MEDICAID\",A2466)),\"X\",\"\")","v":""},{"$f":"IF(ISNUMBER(FIND(\"MEDICARE\",A2466)),\"X\",\"\")","v":""},{"$f":"IF(ISNUMBER(FIND(\"BC/BS\",#REF!)),\"X\",\"\")","v":""}]
["MOORETOWN RANCHERIA (HEALTHCOMP)",null,{"$f":"IF(ISNUMBER(FIND(\"MEDICAID\",A2467)),\"X\",\"\")","v":""},{"$f":"IF(ISNUMBER(FIND(\"MEDICARE\",A2467)),\"X\",\"\")","v":""},{"$f":"IF(ISNUMBER(FIND(\"BC/BS\",#REF!)),\"X\",\"\")","v":""}]
["MORECARE","X",{"$f":"IF(ISNUMBER(FIND(\"MEDICAID\",A2468)),\"X\",\"\")","v":""},{"$f":"IF(ISNUMBER(FIND(\"MEDICARE\",A2468)),\"X\",\"\")","v":""},{"$f":"IF(ISNUMBER(FIND(\"BC/BS\",#REF!)),\"X\",\"\")","v":""}]
["MORGAN WHITE GROUP AMFIRST INSURANCE COMPANY (MWG)",null,{"$f":"IF(ISNUMBER(FIND(\"MEDICAID\",A2469)),\"X\",\"\")","v":""},{"$f":"IF(ISNUMBER(FIND(\"MEDICARE\",A2469)),\"X\",\"\")","v":""},{"$f":"IF(ISNUMBER(FIND(\"BC/BS\",#REF!)),\"X\",\"\")","v":""}]
["MORGAN WHITE GROUP STANDARD LIFE (MWG)",null,{"$f":"IF(ISNUMBER(FIND(\"MEDICAID\",A2470)),\"X\",\"\")","v":""},{"$f":"IF(ISNUMBER(FIND(\"MEDICARE\",A2470)),\"X\",\"\")","v":""},{"$f":"IF(ISNUMBER(FIND(\"BC/BS\",#REF!)),\"X\",\"\")","v":""}]
["MOTHER LODE HOLDING COMPANY (HEALTHCOMP)","X",{"$f":"IF(ISNUMBER(FIND(\"MEDICAID\",A2471)),\"X\",\"\")","v":""},{"$f":"IF(ISNUMBER(FIND(\"MEDICARE\",A2471)),\"X\",\"\")","v":""},{"$f":"IF(ISNUMBER(FIND(\"BC/BS\",#REF!)),\"X\",\"\")","v":""}]
["MOUNT SINAI ST. LUKE'S (WEBTPA)",null,{"$f":"IF(ISNUMBER(FIND(\"MEDICAID\",A2472)),\"X\",\"\")","v":""},{"$f":"IF(ISNUMBER(FIND(\"MEDICARE\",A2472)),\"X\",\"\")","v":""},{"$f":"IF(ISNUMBER(FIND(\"BC/BS\",#REF!)),\"X\",\"\")","v":""}]
["MOUNTAIN HEALTH COOP","X",{"$f":"IF(ISNUMBER(FIND(\"MEDICAID\",A2473)),\"X\",\"\")","v":""},{"$f":"IF(ISNUMBER(FIND(\"MEDICARE\",A2473)),\"X\",\"\")","v":""},{"$f":"IF(ISNUMBER(FIND(\"BC/BS\",#REF!)),\"X\",\"\")","v":""}]
["MPE EMPLOYEE BENEFIT SERVICES","X",{"$f":"IF(ISNUMBER(FIND(\"MEDICAID\",A2474)),\"X\",\"\")","v":""},{"$f":"IF(ISNUMBER(FIND(\"MEDICARE\",A2474)),\"X\",\"\")","v":""},{"$f":"IF(ISNUMBER(FIND(\"BC/BS\",#REF!)),\"X\",\"\")","v":""}]
["MRSE (REHN AND ASSOCIATES)","X",{"$f":"IF(ISNUMBER(FIND(\"MEDICAID\",A2475)),\"X\",\"\")","v":""},{"$f":"IF(ISNUMBER(FIND(\"MEDICARE\",A2475)),\"X\",\"\")","v":""},{"$f":"IF(ISNUMBER(FIND(\"BC/BS\",#REF!)),\"X\",\"\")","v":""}]
["MT. CARMEL HEALTH","X",{"$f":"IF(ISNUMBER(FIND(\"MEDICAID\",A2476)),\"X\",\"\")","v":""},{"$f":"IF(ISNUMBER(FIND(\"MEDICARE\",A2476)),\"X\",\"\")","v":""},{"$f":"IF(ISNUMBER(FIND(\"BC/BS\",#REF!)),\"X\",\"\")","v":""}]
["MUNICIPAL HEALTH BENEFIT FUND","X",{"$f":"IF(ISNUMBER(FIND(\"MEDICAID\",A2477)),\"X\",\"\")","v":""},{"$f":"IF(ISNUMBER(FIND(\"MEDICARE\",A2477)),\"X\",\"\")","v":""},{"$f":"IF(ISNUMBER(FIND(\"BC/BS\",#REF!)),\"X\",\"\")","v":""}]
["MURRAY MAPLE EAGLE COAL LLC (THE HEALTH PLAN)",null,{"$f":"IF(ISNUMBER(FIND(\"MEDICAID\",A2478)),\"X\",\"\")","v":""},{"$f":"IF(ISNUMBER(FIND(\"MEDICARE\",A2478)),\"X\",\"\")","v":""},{"$f":"IF(ISNUMBER(FIND(\"BC/BS\",#REF!)),\"X\",\"\")","v":""}]
["MUTUAL HEALTH SERVICES","X",{"$f":"IF(ISNUMBER(FIND(\"MEDICAID\",A2479)),\"X\",\"\")","v":""},{"$f":"IF(ISNUMBER(FIND(\"MEDICARE\",A2479)),\"X\",\"\")","v":""},{"$f":"IF(ISNUMBER(FIND(\"BC/BS\",#REF!)),\"X\",\"\")","v":""}]
["MUTUAL MEDICAL PLANS","X",{"$f":"IF(ISNUMBER(FIND(\"MEDICAID\",A2480)),\"X\",\"\")","v":""},{"$f":"IF(ISNUMBER(FIND(\"MEDICARE\",A2480)),\"X\",\"\")","v":""},{"$f":"IF(ISNUMBER(FIND(\"BC/BS\",#REF!)),\"X\",\"\")","v":""}]
["MUTUAL OF OMAHA CLAIMS SPECIAL COVERAGES",null,{"$f":"IF(ISNUMBER(FIND(\"MEDICAID\",A2481)),\"X\",\"\")","v":""},{"$f":"IF(ISNUMBER(FIND(\"MEDICARE\",A2481)),\"X\",\"\")","v":""},{"$f":"IF(ISNUMBER(FIND(\"BC/BS\",#REF!)),\"X\",\"\")","v":""}]
["MUTUAL OF OMAHA INSURANCE COMPANY","X",{"$f":"IF(ISNUMBER(FIND(\"MEDICAID\",A2482)),\"X\",\"\")","v":""},{"$f":"IF(ISNUMBER(FIND(\"MEDICARE\",A2482)),\"X\",\"\")","v":""},{"$f":"IF(ISNUMBER(FIND(\"BC/BS\",#REF!)),\"X\",\"\")","v":""}]
["MUTUAL OF OMAHA SPECIAL RISK","X",{"$f":"IF(ISNUMBER(FIND(\"MEDICAID\",A2483)),\"X\",\"\")","v":""},{"$f":"IF(ISNUMBER(FIND(\"MEDICARE\",A2483)),\"X\",\"\")","v":""},{"$f":"IF(ISNUMBER(FIND(\"BC/BS\",#REF!)),\"X\",\"\")","v":""}]
["MV TRANSPORTATION INC (GROUP & PENSION ADMIN)","X",{"$f":"IF(ISNUMBER(FIND(\"MEDICAID\",A2484)),\"X\",\"\")","v":""},{"$f":"IF(ISNUMBER(FIND(\"MEDICARE\",A2484)),\"X\",\"\")","v":""},{"$f":"IF(ISNUMBER(FIND(\"BC/BS\",#REF!)),\"X\",\"\")","v":""}]
["MVP HEALTH PLAN (MVP HEALTH CARE)","X",{"$f":"IF(ISNUMBER(FIND(\"MEDICAID\",A2485)),\"X\",\"\")","v":""},{"$f":"IF(ISNUMBER(FIND(\"MEDICARE\",A2485)),\"X\",\"\")","v":""},{"$f":"IF(ISNUMBER(FIND(\"BC/BS\",#REF!)),\"X\",\"\")","v":""}]
["MVP HEALTH SERVICES CORP (MVP HEALTH CARE)","X",{"$f":"IF(ISNUMBER(FIND(\"MEDICAID\",A2486)),\"X\",\"\")","v":""},{"$f":"IF(ISNUMBER(FIND(\"MEDICARE\",A2486)),\"X\",\"\")","v":""},{"$f":"IF(ISNUMBER(FIND(\"BC/BS\",#REF!)),\"X\",\"\")","v":""}]
["MVP SERVICE CORP EMPLOYEE BENEFIT (MVP HEALTH CARE)","X",{"$f":"IF(ISNUMBER(FIND(\"MEDICAID\",A2487)),\"X\",\"\")","v":""},{"$f":"IF(ISNUMBER(FIND(\"MEDICARE\",A2487)),\"X\",\"\")","v":""},{"$f":"IF(ISNUMBER(FIND(\"BC/BS\",#REF!)),\"X\",\"\")","v":""}]
["MXR THE IMAGING SOLUTION CO (HEALTHCOMP)","X",{"$f":"IF(ISNUMBER(FIND(\"MEDICAID\",A2488)),\"X\",\"\")","v":""},{"$f":"IF(ISNUMBER(FIND(\"MEDICARE\",A2488)),\"X\",\"\")","v":""},{"$f":"IF(ISNUMBER(FIND(\"BC/BS\",#REF!)),\"X\",\"\")","v":""}]
["MY CHOICE FAMILY CARE (WPS)","X",{"$f":"IF(ISNUMBER(FIND(\"MEDICAID\",A2489)),\"X\",\"\")","v":""},{"$f":"IF(ISNUMBER(FIND(\"MEDICARE\",A2489)),\"X\",\"\")","v":""},{"$f":"IF(ISNUMBER(FIND(\"BC/BS\",#REF!)),\"X\",\"\")","v":""}]
["MY CHOICE WISCONSIN (WPS)","X",{"$f":"IF(ISNUMBER(FIND(\"MEDICAID\",A2490)),\"X\",\"\")","v":""},{"$f":"IF(ISNUMBER(FIND(\"MEDICARE\",A2490)),\"X\",\"\")","v":""},{"$f":"IF(ISNUMBER(FIND(\"BC/BS\",#REF!)),\"X\",\"\")","v":""}]
["MY CHOICE WISCONSIN HEALTH PLAN","X",{"$f":"IF(ISNUMBER(FIND(\"MEDICAID\",A2491)),\"X\",\"\")","v":""},{"$f":"IF(ISNUMBER(FIND(\"MEDICARE\",A2491)),\"X\",\"\")","v":""},{"$f":"IF(ISNUMBER(FIND(\"BC/BS\",#REF!)),\"X\",\"\")","v":""}]
["MYMATRIXX (EXPRESS SCRIPTS)",null,{"$f":"IF(ISNUMBER(FIND(\"MEDICAID\",A2492)),\"X\",\"\")","v":""},{"$f":"IF(ISNUMBER(FIND(\"MEDICARE\",A2492)),\"X\",\"\")","v":""},{"$f":"IF(ISNUMBER(FIND(\"BC/BS\",#REF!)),\"X\",\"\")","v":""}]
["MYNEXUS","X",{"$f":"IF(ISNUMBER(FIND(\"MEDICAID\",A2493)),\"X\",\"\")","v":""},{"$f":"IF(ISNUMBER(FIND(\"MEDICARE\",A2493)),\"X\",\"\")","v":""},{"$f":"IF(ISNUMBER(FIND(\"BC/BS\",#REF!)),\"X\",\"\")","v":""}]
["MYR GROUP INC (HEALTHCOMP)","X",{"$f":"IF(ISNUMBER(FIND(\"MEDICAID\",A2494)),\"X\",\"\")","v":""},{"$f":"IF(ISNUMBER(FIND(\"MEDICARE\",A2494)),\"X\",\"\")","v":""},{"$f":"IF(ISNUMBER(FIND(\"BC/BS\",#REF!)),\"X\",\"\")","v":""}]
["N & R DINING (SENTARA)","X",{"$f":"IF(ISNUMBER(FIND(\"MEDICAID\",A2495)),\"X\",\"\")","v":""},{"$f":"IF(ISNUMBER(FIND(\"MEDICARE\",A2495)),\"X\",\"\")","v":""},{"$f":"IF(ISNUMBER(FIND(\"BC/BS\",#REF!)),\"X\",\"\")","v":""}]
["NAEBT (AMERIBEN)",null,{"$f":"IF(ISNUMBER(FIND(\"MEDICAID\",A2496)),\"X\",\"\")","v":""},{"$f":"IF(ISNUMBER(FIND(\"MEDICARE\",A2496)),\"X\",\"\")","v":""},{"$f":"IF(ISNUMBER(FIND(\"BC/BS\",#REF!)),\"X\",\"\")","v":""}]
["NAGARRO INC (90 DEGREE BENEFITS NORTH CAROLINA - CORPORATE BENEFIT SERVICES)",null,{"$f":"IF(ISNUMBER(FIND(\"MEDICAID\",A2497)),\"X\",\"\")","v":""},{"$f":"IF(ISNUMBER(FIND(\"MEDICARE\",A2497)),\"X\",\"\")","v":""},{"$f":"IF(ISNUMBER(FIND(\"BC/BS\",#REF!)),\"X\",\"\")","v":""}]
["NAHGA CLAIM SERVICES","X",{"$f":"IF(ISNUMBER(FIND(\"MEDICAID\",A2498)),\"X\",\"\")","v":""},{"$f":"IF(ISNUMBER(FIND(\"MEDICARE\",A2498)),\"X\",\"\")","v":""},{"$f":"IF(ISNUMBER(FIND(\"BC/BS\",#REF!)),\"X\",\"\")","v":""}]
["NAPA TRANSPORTATION INC (GROUP & PENSION ADMIN)","X",{"$f":"IF(ISNUMBER(FIND(\"MEDICAID\",A2499)),\"X\",\"\")","v":""},{"$f":"IF(ISNUMBER(FIND(\"MEDICARE\",A2499)),\"X\",\"\")","v":""},{"$f":"IF(ISNUMBER(FIND(\"BC/BS\",#REF!)),\"X\",\"\")","v":""}]
["NASHVILLE VA MEDICAL CENTER",null,{"$f":"IF(ISNUMBER(FIND(\"MEDICAID\",A2500)),\"X\",\"\")","v":""},{"$f":"IF(ISNUMBER(FIND(\"MEDICARE\",A2500)),\"X\",\"\")","v":""},{"$f":"IF(ISNUMBER(FIND(\"BC/BS\",#REF!)),\"X\",\"\")","v":""}]
["NATHAN LITTAUER HOSPITAL & NURSING HOME (MVP HEALTHCARE)","X",{"$f":"IF(ISNUMBER(FIND(\"MEDICAID\",A2501)),\"X\",\"\")","v":""},{"$f":"IF(ISNUMBER(FIND(\"MEDICARE\",A2501)),\"X\",\"\")","v":""},{"$f":"IF(ISNUMBER(FIND(\"BC/BS\",#REF!)),\"X\",\"\")","v":""}]
["NATIONAL ASSOCIATION OF LETTER CARRIERS HEALTH BENEFIT PLAN (NALC HBP)","X",{"$f":"IF(ISNUMBER(FIND(\"MEDICAID\",A2502)),\"X\",\"\")","v":""},{"$f":"IF(ISNUMBER(FIND(\"MEDICARE\",A2502)),\"X\",\"\")","v":""},{"$f":"IF(ISNUMBER(FIND(\"BC/BS\",#REF!)),\"X\",\"\")","v":""}]
["NATIONAL ASSOCIATION OF LETTER CARRIERS HEALTH BENEFIT PLAN GROUP (NALC HBP)","X",{"$f":"IF(ISNUMBER(FIND(\"MEDICAID\",A2503)),\"X\",\"\")","v":""},{"$f":"IF(ISNUMBER(FIND(\"MEDICARE\",A2503)),\"X\",\"\")","v":""},{"$f":"IF(ISNUMBER(FIND(\"BC/BS\",#REF!)),\"X\",\"\")","v":""}]
["NATIONAL ASSOCIATION OF LETTER CARRIERS HEALTH BENEFIT PLAN NG (NALC HBP NG)","X",{"$f":"IF(ISNUMBER(FIND(\"MEDICAID\",A2504)),\"X\",\"\")","v":""},{"$f":"IF(ISNUMBER(FIND(\"MEDICARE\",A2504)),\"X\",\"\")","v":""},{"$f":"IF(ISNUMBER(FIND(\"BC/BS\",#REF!)),\"X\",\"\")","v":""}]
["NATIONAL ASSOCIATION OF LETTER CARRIERS HEALTH BENEFIT PLAN STAFF (NALC HBP)","X",{"$f":"IF(ISNUMBER(FIND(\"MEDICAID\",A2505)),\"X\",\"\")","v":""},{"$f":"IF(ISNUMBER(FIND(\"MEDICARE\",A2505)),\"X\",\"\")","v":""},{"$f":"IF(ISNUMBER(FIND(\"BC/BS\",#REF!)),\"X\",\"\")","v":""}]
["NATIONAL ELEVATOR INDUSTRY HEALTH BENEFIT PLAN","X",{"$f":"IF(ISNUMBER(FIND(\"MEDICAID\",A2506)),\"X\",\"\")","v":""},{"$f":"IF(ISNUMBER(FIND(\"MEDICARE\",A2506)),\"X\",\"\")","v":""},{"$f":"IF(ISNUMBER(FIND(\"BC/BS\",#REF!)),\"X\",\"\")","v":""}]
["NATIONAL GRID (CDPHP)","X",{"$f":"IF(ISNUMBER(FIND(\"MEDICAID\",A2507)),\"X\",\"\")","v":""},{"$f":"IF(ISNUMBER(FIND(\"MEDICARE\",A2507)),\"X\",\"\")","v":""},{"$f":"IF(ISNUMBER(FIND(\"BC/BS\",#REF!)),\"X\",\"\")","v":""}]
["NATIONAL GRID (MVP HEALTH CARE)","X",{"$f":"IF(ISNUMBER(FIND(\"MEDICAID\",A2508)),\"X\",\"\")","v":""},{"$f":"IF(ISNUMBER(FIND(\"MEDICARE\",A2508)),\"X\",\"\")","v":""},{"$f":"IF(ISNUMBER(FIND(\"BC/BS\",#REF!)),\"X\",\"\")","v":""}]
["NATIONAL GUARDIAN LIFE INSURANCE COMPANY","X",{"$f":"IF(ISNUMBER(FIND(\"MEDICAID\",A2509)),\"X\",\"\")","v":""},{"$f":"IF(ISNUMBER(FIND(\"MEDICARE\",A2509)),\"X\",\"\")","v":""},{"$f":"IF(ISNUMBER(FIND(\"BC/BS\",#REF!)),\"X\",\"\")","v":""}]
["NATIONAL HEALTH INSURANCE COMPANY (ACTUARIAL MANAGEMENT RESOURCES)","X",{"$f":"IF(ISNUMBER(FIND(\"MEDICAID\",A2510)),\"X\",\"\")","v":""},{"$f":"IF(ISNUMBER(FIND(\"MEDICARE\",A2510)),\"X\",\"\")","v":""},{"$f":"IF(ISNUMBER(FIND(\"BC/BS\",#REF!)),\"X\",\"\")","v":""}]
["NATIONAL SALVAGE & SERVICE CORPORATION (THE HEALTH PLAN)",null,{"$f":"IF(ISNUMBER(FIND(\"MEDICAID\",A2511)),\"X\",\"\")","v":""},{"$f":"IF(ISNUMBER(FIND(\"MEDICARE\",A2511)),\"X\",\"\")","v":""},{"$f":"IF(ISNUMBER(FIND(\"BC/BS\",#REF!)),\"X\",\"\")","v":""}]
["NATIONAL UNION FIRE INSURANCE CO OF PITTSBURGH (AIG)","X",{"$f":"IF(ISNUMBER(FIND(\"MEDICAID\",A2512)),\"X\",\"\")","v":""},{"$f":"IF(ISNUMBER(FIND(\"MEDICARE\",A2512)),\"X\",\"\")","v":""},{"$f":"IF(ISNUMBER(FIND(\"BC/BS\",#REF!)),\"X\",\"\")","v":""},"X"]
["NATIONAL WHOLESALE HEALTH BENEFITS (GROUP & PENSION ADMIN)","X",{"$f":"IF(ISNUMBER(FIND(\"MEDICAID\",A2513)),\"X\",\"\")","v":""},{"$f":"IF(ISNUMBER(FIND(\"MEDICARE\",A2513)),\"X\",\"\")","v":""},{"$f":"IF(ISNUMBER(FIND(\"BC/BS\",#REF!)),\"X\",\"\")","v":""}]
["NATIONWIDE MUTUAL INSURANCE COMPANY","X",{"$f":"IF(ISNUMBER(FIND(\"MEDICAID\",A2514)),\"X\",\"\")","v":""},{"$f":"IF(ISNUMBER(FIND(\"MEDICARE\",A2514)),\"X\",\"\")","v":""},{"$f":"IF(ISNUMBER(FIND(\"BC/BS\",#REF!)),\"X\",\"\")","v":""},null,"X"]
["NATIVE CARE HEALTH LLC","X",{"$f":"IF(ISNUMBER(FIND(\"MEDICAID\",A2515)),\"X\",\"\")","v":""},{"$f":"IF(ISNUMBER(FIND(\"MEDICARE\",A2515)),\"X\",\"\")","v":""},{"$f":"IF(ISNUMBER(FIND(\"BC/BS\",#REF!)),\"X\",\"\")","v":""}]
["NAVAJO EXPRESS (GROUP & PENSION ADMIN)",null,{"$f":"IF(ISNUMBER(FIND(\"MEDICAID\",A2516)),\"X\",\"\")","v":""},{"$f":"IF(ISNUMBER(FIND(\"MEDICARE\",A2516)),\"X\",\"\")","v":""},{"$f":"IF(ISNUMBER(FIND(\"BC/BS\",#REF!)),\"X\",\"\")","v":""}]
["NAVIGANT HOLDINGS (GROUP & PENSION ADMIN)","X",{"$f":"IF(ISNUMBER(FIND(\"MEDICAID\",A2517)),\"X\",\"\")","v":""},{"$f":"IF(ISNUMBER(FIND(\"MEDICARE\",A2517)),\"X\",\"\")","v":""},{"$f":"IF(ISNUMBER(FIND(\"BC/BS\",#REF!)),\"X\",\"\")","v":""}]
["NAVITUS HEALTH SOLUTIONS","X",{"$f":"IF(ISNUMBER(FIND(\"MEDICAID\",A2518)),\"X\",\"\")","v":""},{"$f":"IF(ISNUMBER(FIND(\"MEDICARE\",A2518)),\"X\",\"\")","v":""},{"$f":"IF(ISNUMBER(FIND(\"BC/BS\",#REF!)),\"X\",\"\")","v":""}]
["NCAD EBPT (90 DEGREE BENEFITS HOUSTON - ENTRUST)",null,{"$f":"IF(ISNUMBER(FIND(\"MEDICAID\",A2519)),\"X\",\"\")","v":""},{"$f":"IF(ISNUMBER(FIND(\"MEDICARE\",A2519)),\"X\",\"\")","v":""},{"$f":"IF(ISNUMBER(FIND(\"BC/BS\",#REF!)),\"X\",\"\")","v":""}]
["NEBA (NATIONAL EMPLOYEE BENEFITS ADMINISTRATORS)","X",{"$f":"IF(ISNUMBER(FIND(\"MEDICAID\",A2520)),\"X\",\"\")","v":""},{"$f":"IF(ISNUMBER(FIND(\"MEDICARE\",A2520)),\"X\",\"\")","v":""},{"$f":"IF(ISNUMBER(FIND(\"BC/BS\",#REF!)),\"X\",\"\")","v":""}]
["NEBRASKA TOTAL CARE","X",{"$f":"IF(ISNUMBER(FIND(\"MEDICAID\",A2521)),\"X\",\"\")","v":""},{"$f":"IF(ISNUMBER(FIND(\"MEDICARE\",A2521)),\"X\",\"\")","v":""},{"$f":"IF(ISNUMBER(FIND(\"BC/BS\",#REF!)),\"X\",\"\")","v":""}]
["NEBRASKA WC CLAIMS BRANCH (AUTO-OWNERS INSURANCE COMPANY)",null,{"$f":"IF(ISNUMBER(FIND(\"MEDICAID\",A2522)),\"X\",\"\")","v":""},{"$f":"IF(ISNUMBER(FIND(\"MEDICARE\",A2522)),\"X\",\"\")","v":""},{"$f":"IF(ISNUMBER(FIND(\"BC/BS\",#REF!)),\"X\",\"\")","v":""},"X"]
["NETWORK HEALTH INSURANCE CORPORATION (NETWORK HEALTH PLAN)","X",{"$f":"IF(ISNUMBER(FIND(\"MEDICAID\",A2523)),\"X\",\"\")","v":""},{"$f":"IF(ISNUMBER(FIND(\"MEDICARE\",A2523)),\"X\",\"\")","v":""},{"$f":"IF(ISNUMBER(FIND(\"BC/BS\",#REF!)),\"X\",\"\")","v":""}]
["NETWORK HEALTH PLAN","X",{"$f":"IF(ISNUMBER(FIND(\"MEDICAID\",A2524)),\"X\",\"\")","v":""},{"$f":"IF(ISNUMBER(FIND(\"MEDICARE\",A2524)),\"X\",\"\")","v":""},{"$f":"IF(ISNUMBER(FIND(\"BC/BS\",#REF!)),\"X\",\"\")","v":""}]
["NETWRIX CORPORATION (MAESTRO HEALTH)",null,{"$f":"IF(ISNUMBER(FIND(\"MEDICAID\",A2525)),\"X\",\"\")","v":""},{"$f":"IF(ISNUMBER(FIND(\"MEDICARE\",A2525)),\"X\",\"\")","v":""},{"$f":"IF(ISNUMBER(FIND(\"BC/BS\",#REF!)),\"X\",\"\")","v":""}]
["NEUEHEALTH","X",{"$f":"IF(ISNUMBER(FIND(\"MEDICAID\",A2526)),\"X\",\"\")","v":""},{"$f":"IF(ISNUMBER(FIND(\"MEDICARE\",A2526)),\"X\",\"\")","v":""},{"$f":"IF(ISNUMBER(FIND(\"BC/BS\",#REF!)),\"X\",\"\")","v":""}]
["NEUGEN LLC","X",{"$f":"IF(ISNUMBER(FIND(\"MEDICAID\",A2527)),\"X\",\"\")","v":""},{"$f":"IF(ISNUMBER(FIND(\"MEDICARE\",A2527)),\"X\",\"\")","v":""},{"$f":"IF(ISNUMBER(FIND(\"BC/BS\",#REF!)),\"X\",\"\")","v":""}]
["NEVADA GOLD MINES LLC (AMERIBEN)",null,{"$f":"IF(ISNUMBER(FIND(\"MEDICAID\",A2528)),\"X\",\"\")","v":""},{"$f":"IF(ISNUMBER(FIND(\"MEDICARE\",A2528)),\"X\",\"\")","v":""},{"$f":"IF(ISNUMBER(FIND(\"BC/BS\",#REF!)),\"X\",\"\")","v":""}]
["NEW ATLANTIC CONTRACTING INC (90 DEGREE BENEFITS NORTH CAROLINA - CORPORATE BENEFIT SERVICES)",null,{"$f":"IF(ISNUMBER(FIND(\"MEDICAID\",A2529)),\"X\",\"\")","v":""},{"$f":"IF(ISNUMBER(FIND(\"MEDICARE\",A2529)),\"X\",\"\")","v":""},{"$f":"IF(ISNUMBER(FIND(\"BC/BS\",#REF!)),\"X\",\"\")","v":""}]
["NEW ENGLAND HEALTH CARE EMPLOYEES WELFARE AND PENSION",null,{"$f":"IF(ISNUMBER(FIND(\"MEDICAID\",A2530)),\"X\",\"\")","v":""},{"$f":"IF(ISNUMBER(FIND(\"MEDICARE\",A2530)),\"X\",\"\")","v":""},{"$f":"IF(ISNUMBER(FIND(\"BC/BS\",#REF!)),\"X\",\"\")","v":""}]
["NEW ENTERPRISE ASSOCIATES (NEA) (MAESTRO HEALTH)","X",{"$f":"IF(ISNUMBER(FIND(\"MEDICAID\",A2531)),\"X\",\"\")","v":""},{"$f":"IF(ISNUMBER(FIND(\"MEDICARE\",A2531)),\"X\",\"\")","v":""},{"$f":"IF(ISNUMBER(FIND(\"BC/BS\",#REF!)),\"X\",\"\")","v":""}]
["NEW ERA LIFE INSURANCE COMPANY","X",{"$f":"IF(ISNUMBER(FIND(\"MEDICAID\",A2532)),\"X\",\"\")","v":""},{"$f":"IF(ISNUMBER(FIND(\"MEDICARE\",A2532)),\"X\",\"\")","v":""},{"$f":"IF(ISNUMBER(FIND(\"BC/BS\",#REF!)),\"X\",\"\")","v":""}]
["NEW ERA LIFE INSURANCE COMPANY OF THE MIDWEST","X",{"$f":"IF(ISNUMBER(FIND(\"MEDICAID\",A2533)),\"X\",\"\")","v":""},{"$f":"IF(ISNUMBER(FIND(\"MEDICARE\",A2533)),\"X\",\"\")","v":""},{"$f":"IF(ISNUMBER(FIND(\"BC/BS\",#REF!)),\"X\",\"\")","v":""}]
["NEW HAMPSHIRE HEALTHY FAMILIES","X",{"$f":"IF(ISNUMBER(FIND(\"MEDICAID\",A2534)),\"X\",\"\")","v":""},{"$f":"IF(ISNUMBER(FIND(\"MEDICARE\",A2534)),\"X\",\"\")","v":""},{"$f":"IF(ISNUMBER(FIND(\"BC/BS\",#REF!)),\"X\",\"\")","v":""}]
["NEW HAMPSHIRE INSURANCE COMPANY (AIG)","X",{"$f":"IF(ISNUMBER(FIND(\"MEDICAID\",A2535)),\"X\",\"\")","v":""},{"$f":"IF(ISNUMBER(FIND(\"MEDICARE\",A2535)),\"X\",\"\")","v":""},{"$f":"IF(ISNUMBER(FIND(\"BC/BS\",#REF!)),\"X\",\"\")","v":""},"X"]
["NEW JERSEY MANUFACTURERS INSURANCE COMPANY","X",{"$f":"IF(ISNUMBER(FIND(\"MEDICAID\",A2536)),\"X\",\"\")","v":""},{"$f":"IF(ISNUMBER(FIND(\"MEDICARE\",A2536)),\"X\",\"\")","v":""},{"$f":"IF(ISNUMBER(FIND(\"BC/BS\",#REF!)),\"X\",\"\")","v":""}]
["NEW JERSEY PROPERTY-LIABILTY INSURANCE GUARANTY ASSOCIATION","X",{"$f":"IF(ISNUMBER(FIND(\"MEDICAID\",A2537)),\"X\",\"\")","v":""},{"$f":"IF(ISNUMBER(FIND(\"MEDICARE\",A2537)),\"X\",\"\")","v":""},{"$f":"IF(ISNUMBER(FIND(\"BC/BS\",#REF!)),\"X\",\"\")","v":""},null,"X"]
["NEW MEXICO HEALTH CONNECTIONS ALBUQUERUE PUBLIC SCHOOLS (NMHCAPS) (TRUE HEALTH NEW MEXICO)",null,{"$f":"IF(ISNUMBER(FIND(\"MEDICAID\",A2538)),\"X\",\"\")","v":""},{"$f":"IF(ISNUMBER(FIND(\"MEDICARE\",A2538)),\"X\",\"\")","v":""},{"$f":"IF(ISNUMBER(FIND(\"BC/BS\",#REF!)),\"X\",\"\")","v":""}]
["NEW ORLEANS VA MEDICAL CENTER","X",{"$f":"IF(ISNUMBER(FIND(\"MEDICAID\",A2539)),\"X\",\"\")","v":""},{"$f":"IF(ISNUMBER(FIND(\"MEDICARE\",A2539)),\"X\",\"\")","v":""},{"$f":"IF(ISNUMBER(FIND(\"BC/BS\",#REF!)),\"X\",\"\")","v":""}]
["NEW PORT RICHEY NISSAN LLC (GROUP & PENSION ADMIN)","X",{"$f":"IF(ISNUMBER(FIND(\"MEDICAID\",A2540)),\"X\",\"\")","v":""},{"$f":"IF(ISNUMBER(FIND(\"MEDICARE\",A2540)),\"X\",\"\")","v":""},{"$f":"IF(ISNUMBER(FIND(\"BC/BS\",#REF!)),\"X\",\"\")","v":""}]
["NEW YORK LIFE INSURANCE COMPANY (MUTUAL OF OMAHA)","X",{"$f":"IF(ISNUMBER(FIND(\"MEDICAID\",A2541)),\"X\",\"\")","v":""},{"$f":"IF(ISNUMBER(FIND(\"MEDICARE\",A2541)),\"X\",\"\")","v":""},{"$f":"IF(ISNUMBER(FIND(\"BC/BS\",#REF!)),\"X\",\"\")","v":""}]
["NEWPORT NEWS PUBLIC SCHOOL (SENTARA)","X",{"$f":"IF(ISNUMBER(FIND(\"MEDICAID\",A2542)),\"X\",\"\")","v":""},{"$f":"IF(ISNUMBER(FIND(\"MEDICARE\",A2542)),\"X\",\"\")","v":""},{"$f":"IF(ISNUMBER(FIND(\"BC/BS\",#REF!)),\"X\",\"\")","v":""}]
["NEXCARE HEALTH SYSTEM (EMPLOYEE BENEFIT SERVICES)",null,{"$f":"IF(ISNUMBER(FIND(\"MEDICAID\",A2543)),\"X\",\"\")","v":""},{"$f":"IF(ISNUMBER(FIND(\"MEDICARE\",A2543)),\"X\",\"\")","v":""},{"$f":"IF(ISNUMBER(FIND(\"BC/BS\",#REF!)),\"X\",\"\")","v":""}]
["NEXGEN HVAC SERVICES LLC (SENTARA)","X",{"$f":"IF(ISNUMBER(FIND(\"MEDICAID\",A2544)),\"X\",\"\")","v":""},{"$f":"IF(ISNUMBER(FIND(\"MEDICARE\",A2544)),\"X\",\"\")","v":""},{"$f":"IF(ISNUMBER(FIND(\"BC/BS\",#REF!)),\"X\",\"\")","v":""}]
["NEXT LEVEL ADMINISTRATORS","X",{"$f":"IF(ISNUMBER(FIND(\"MEDICAID\",A2545)),\"X\",\"\")","v":""},{"$f":"IF(ISNUMBER(FIND(\"MEDICARE\",A2545)),\"X\",\"\")","v":""},{"$f":"IF(ISNUMBER(FIND(\"BC/BS\",#REF!)),\"X\",\"\")","v":""}]
["NEXTBLUE OF NORTH DAKOTA","X",{"$f":"IF(ISNUMBER(FIND(\"MEDICAID\",A2546)),\"X\",\"\")","v":""},{"$f":"IF(ISNUMBER(FIND(\"MEDICARE\",A2546)),\"X\",\"\")","v":""},"X"]
["NHC ADVANTAGE","X",{"$f":"IF(ISNUMBER(FIND(\"MEDICAID\",A2547)),\"X\",\"\")","v":""},{"$f":"IF(ISNUMBER(FIND(\"MEDICARE\",A2547)),\"X\",\"\")","v":""},{"$f":"IF(ISNUMBER(FIND(\"BC/BS\",#REF!)),\"X\",\"\")","v":""}]
["NIAGARA FALLS MEMORIAL MEDICAL CENTER (INDEPENDENT HEALTH)",null,{"$f":"IF(ISNUMBER(FIND(\"MEDICAID\",A2548)),\"X\",\"\")","v":""},{"$f":"IF(ISNUMBER(FIND(\"MEDICARE\",A2548)),\"X\",\"\")","v":""},{"$f":"IF(ISNUMBER(FIND(\"BC/BS\",#REF!)),\"X\",\"\")","v":""}]
["NILES STEEL TANK COMPANY (ASR HEALTH BENEFITS)","X",{"$f":"IF(ISNUMBER(FIND(\"MEDICAID\",A2549)),\"X\",\"\")","v":""},{"$f":"IF(ISNUMBER(FIND(\"MEDICARE\",A2549)),\"X\",\"\")","v":""},{"$f":"IF(ISNUMBER(FIND(\"BC/BS\",#REF!)),\"X\",\"\")","v":""}]
["NIPPON LIFE BENEFITS","X",{"$f":"IF(ISNUMBER(FIND(\"MEDICAID\",A2550)),\"X\",\"\")","v":""},{"$f":"IF(ISNUMBER(FIND(\"MEDICARE\",A2550)),\"X\",\"\")","v":""},{"$f":"IF(ISNUMBER(FIND(\"BC/BS\",#REF!)),\"X\",\"\")","v":""}]
["NIVANO PHYSICIANS","X",{"$f":"IF(ISNUMBER(FIND(\"MEDICAID\",A2551)),\"X\",\"\")","v":""},{"$f":"IF(ISNUMBER(FIND(\"MEDICARE\",A2551)),\"X\",\"\")","v":""},{"$f":"IF(ISNUMBER(FIND(\"BC/BS\",#REF!)),\"X\",\"\")","v":""}]
["NIVERT METAL SUPPLY (GEISINGER HEALTH PLAN)","X",{"$f":"IF(ISNUMBER(FIND(\"MEDICAID\",A2552)),\"X\",\"\")","v":""},{"$f":"IF(ISNUMBER(FIND(\"MEDICARE\",A2552)),\"X\",\"\")","v":""},{"$f":"IF(ISNUMBER(FIND(\"BC/BS\",#REF!)),\"X\",\"\")","v":""}]
["NM PUBLIC SCHOOL INSURANCE AUTHORITY ASO (NMPSIA) (PRESBYTERIAN HEALTH PLAN)","X",{"$f":"IF(ISNUMBER(FIND(\"MEDICAID\",A2553)),\"X\",\"\")","v":""},{"$f":"IF(ISNUMBER(FIND(\"MEDICARE\",A2553)),\"X\",\"\")","v":""},{"$f":"IF(ISNUMBER(FIND(\"BC/BS\",#REF!)),\"X\",\"\")","v":""}]
["NM RETIREE HEALTHCARE AUTHORITY ASO (NMRHCA) (PRESBYTERIAN HEALTH PLAN)","X",{"$f":"IF(ISNUMBER(FIND(\"MEDICAID\",A2554)),\"X\",\"\")","v":""},{"$f":"IF(ISNUMBER(FIND(\"MEDICARE\",A2554)),\"X\",\"\")","v":""},{"$f":"IF(ISNUMBER(FIND(\"BC/BS\",#REF!)),\"X\",\"\")","v":""}]
["NOBLE AMA IPA","X",{"$f":"IF(ISNUMBER(FIND(\"MEDICAID\",A2555)),\"X\",\"\")","v":""},{"$f":"IF(ISNUMBER(FIND(\"MEDICARE\",A2555)),\"X\",\"\")","v":""},{"$f":"IF(ISNUMBER(FIND(\"BC/BS\",#REF!)),\"X\",\"\")","v":""}]
["NOBLE CREDIT UNION (PINNACLE CLAIMS MANAGEMENT)",null,{"$f":"IF(ISNUMBER(FIND(\"MEDICAID\",A2556)),\"X\",\"\")","v":""},{"$f":"IF(ISNUMBER(FIND(\"MEDICARE\",A2556)),\"X\",\"\")","v":""},{"$f":"IF(ISNUMBER(FIND(\"BC/BS\",#REF!)),\"X\",\"\")","v":""}]
["NOBLE SERVICES COMPANY LLC (WEBTPA)","X",{"$f":"IF(ISNUMBER(FIND(\"MEDICAID\",A2557)),\"X\",\"\")","v":""},{"$f":"IF(ISNUMBER(FIND(\"MEDICARE\",A2557)),\"X\",\"\")","v":""},{"$f":"IF(ISNUMBER(FIND(\"BC/BS\",#REF!)),\"X\",\"\")","v":""}]
["NOEL CORPORATION (HEALTHCOMP)","X",{"$f":"IF(ISNUMBER(FIND(\"MEDICAID\",A2558)),\"X\",\"\")","v":""},{"$f":"IF(ISNUMBER(FIND(\"MEDICARE\",A2558)),\"X\",\"\")","v":""},{"$f":"IF(ISNUMBER(FIND(\"BC/BS\",#REF!)),\"X\",\"\")","v":""}]
["NORFOLK CONSORTIUM (SENTARA)","X",{"$f":"IF(ISNUMBER(FIND(\"MEDICAID\",A2559)),\"X\",\"\")","v":""},{"$f":"IF(ISNUMBER(FIND(\"MEDICARE\",A2559)),\"X\",\"\")","v":""},{"$f":"IF(ISNUMBER(FIND(\"BC/BS\",#REF!)),\"X\",\"\")","v":""}]
["NORTH AMERICAN INSURANCE COMPANY (OXFORD LIFE)","X",{"$f":"IF(ISNUMBER(FIND(\"MEDICAID\",A2560)),\"X\",\"\")","v":""},{"$f":"IF(ISNUMBER(FIND(\"MEDICARE\",A2560)),\"X\",\"\")","v":""},{"$f":"IF(ISNUMBER(FIND(\"BC/BS\",#REF!)),\"X\",\"\")","v":""}]
["NORTH AMERICAN NATIONAL STATES (OXFORD LIFE)","X",{"$f":"IF(ISNUMBER(FIND(\"MEDICAID\",A2561)),\"X\",\"\")","v":""},{"$f":"IF(ISNUMBER(FIND(\"MEDICARE\",A2561)),\"X\",\"\")","v":""},{"$f":"IF(ISNUMBER(FIND(\"BC/BS\",#REF!)),\"X\",\"\")","v":""}]
["NORTH AMERICAN RISK SERVICES (NARS)","X",{"$f":"IF(ISNUMBER(FIND(\"MEDICAID\",A2562)),\"X\",\"\")","v":""},{"$f":"IF(ISNUMBER(FIND(\"MEDICARE\",A2562)),\"X\",\"\")","v":""},{"$f":"IF(ISNUMBER(FIND(\"BC/BS\",#REF!)),\"X\",\"\")","v":""}]
["NORTH ARKANSAS REG MED CENTER (HEALTHCOMP)","X",{"$f":"IF(ISNUMBER(FIND(\"MEDICAID\",A2563)),\"X\",\"\")","v":""},{"$f":"IF(ISNUMBER(FIND(\"MEDICARE\",A2563)),\"X\",\"\")","v":""},{"$f":"IF(ISNUMBER(FIND(\"BC/BS\",#REF!)),\"X\",\"\")","v":""}]
["NORTH CAROLINA STATE PPO (BCBS OF NORTH CAROLINA)","X",{"$f":"IF(ISNUMBER(FIND(\"MEDICAID\",A2564)),\"X\",\"\")","v":""},{"$f":"IF(ISNUMBER(FIND(\"MEDICARE\",A2564)),\"X\",\"\")","v":""},"X"]
["NORTH CAROLINA WC CLAIMS BRANCH (AUTO-OWNERS INSURANCE COMPANY)",null,{"$f":"IF(ISNUMBER(FIND(\"MEDICAID\",A2565)),\"X\",\"\")","v":""},{"$f":"IF(ISNUMBER(FIND(\"MEDICARE\",A2565)),\"X\",\"\")","v":""},{"$f":"IF(ISNUMBER(FIND(\"BC/BS\",#REF!)),\"X\",\"\")","v":""},"X"]
["NORTH CHICAGO VA MEDICAL CENTER",null,{"$f":"IF(ISNUMBER(FIND(\"MEDICAID\",A2566)),\"X\",\"\")","v":""},{"$f":"IF(ISNUMBER(FIND(\"MEDICARE\",A2566)),\"X\",\"\")","v":""},{"$f":"IF(ISNUMBER(FIND(\"BC/BS\",#REF!)),\"X\",\"\")","v":""}]
["NORTH CROSS SCHOOL (SENTARA)","X",{"$f":"IF(ISNUMBER(FIND(\"MEDICAID\",A2567)),\"X\",\"\")","v":""},{"$f":"IF(ISNUMBER(FIND(\"MEDICARE\",A2567)),\"X\",\"\")","v":""},{"$f":"IF(ISNUMBER(FIND(\"BC/BS\",#REF!)),\"X\",\"\")","v":""}]
["NORTH DAKOTA PIP CLAIMS BRANCH (AUTO-OWNERS INSURANCE COMPANY)","X",{"$f":"IF(ISNUMBER(FIND(\"MEDICAID\",A2568)),\"X\",\"\")","v":""},{"$f":"IF(ISNUMBER(FIND(\"MEDICARE\",A2568)),\"X\",\"\")","v":""},{"$f":"IF(ISNUMBER(FIND(\"BC/BS\",#REF!)),\"X\",\"\")","v":""},null,"X"]
["NORTH SHORE HEALTHCARE (MAESTRO HEALTH)","X",{"$f":"IF(ISNUMBER(FIND(\"MEDICAID\",A2569)),\"X\",\"\")","v":""},{"$f":"IF(ISNUMBER(FIND(\"MEDICARE\",A2569)),\"X\",\"\")","v":""},{"$f":"IF(ISNUMBER(FIND(\"BC/BS\",#REF!)),\"X\",\"\")","v":""}]
["NORTH TONAWANDA CITY SCHOOL DISTRICT (INDEPENDENT HEALTH)","X",{"$f":"IF(ISNUMBER(FIND(\"MEDICAID\",A2570)),\"X\",\"\")","v":""},{"$f":"IF(ISNUMBER(FIND(\"MEDICARE\",A2570)),\"X\",\"\")","v":""},{"$f":"IF(ISNUMBER(FIND(\"BC/BS\",#REF!)),\"X\",\"\")","v":""}]
["NORTHEAST ARKANSAS HEALTH WELFARE PLAN (90 DEGREE BENEFITS NORTH CAROLINA - CORPORATE BENEFIT SERVICES)","X",{"$f":"IF(ISNUMBER(FIND(\"MEDICAID\",A2571)),\"X\",\"\")","v":""},{"$f":"IF(ISNUMBER(FIND(\"MEDICARE\",A2571)),\"X\",\"\")","v":""},{"$f":"IF(ISNUMBER(FIND(\"BC/BS\",#REF!)),\"X\",\"\")","v":""}]
["NORTHERN CALIFORNIA GENERAL TEAMSTERS SECURITY FUND (DELTA HEALTH SYSTEM)",null,{"$f":"IF(ISNUMBER(FIND(\"MEDICAID\",A2572)),\"X\",\"\")","v":""},{"$f":"IF(ISNUMBER(FIND(\"MEDICARE\",A2572)),\"X\",\"\")","v":""},{"$f":"IF(ISNUMBER(FIND(\"BC/BS\",#REF!)),\"X\",\"\")","v":""}]
["NORTHERN ILLINOIS HEALTH PLAN","X",{"$f":"IF(ISNUMBER(FIND(\"MEDICAID\",A2573)),\"X\",\"\")","v":""},{"$f":"IF(ISNUMBER(FIND(\"MEDICARE\",A2573)),\"X\",\"\")","v":""},{"$f":"IF(ISNUMBER(FIND(\"BC/BS\",#REF!)),\"X\",\"\")","v":""}]
["NORTHERN MI PIP BRANCH (AUTO-OWNER INSURANCE COMPANY)","X",{"$f":"IF(ISNUMBER(FIND(\"MEDICAID\",A2574)),\"X\",\"\")","v":""},{"$f":"IF(ISNUMBER(FIND(\"MEDICARE\",A2574)),\"X\",\"\")","v":""},{"$f":"IF(ISNUMBER(FIND(\"BC/BS\",#REF!)),\"X\",\"\")","v":""},null,"X"]
["NORTHERN MI PIP BRANCH (AUTO-OWNERS INSURANCE COMPANY)","X",{"$f":"IF(ISNUMBER(FIND(\"MEDICAID\",A2575)),\"X\",\"\")","v":""},{"$f":"IF(ISNUMBER(FIND(\"MEDICARE\",A2575)),\"X\",\"\")","v":""},{"$f":"IF(ISNUMBER(FIND(\"BC/BS\",#REF!)),\"X\",\"\")","v":""},null,"X"]
["NORTHERN NEVADA LABORERS HEALTH & WELFARE TRUST FUND","X",{"$f":"IF(ISNUMBER(FIND(\"MEDICAID\",A2576)),\"X\",\"\")","v":""},{"$f":"IF(ISNUMBER(FIND(\"MEDICARE\",A2576)),\"X\",\"\")","v":""},{"$f":"IF(ISNUMBER(FIND(\"BC/BS\",#REF!)),\"X\",\"\")","v":""}]
["NORTHERN NEVADA OPERATING ENGINEERS HEALTH & WELFARE TRUST FUND","X",{"$f":"IF(ISNUMBER(FIND(\"MEDICAID\",A2577)),\"X\",\"\")","v":""},{"$f":"IF(ISNUMBER(FIND(\"MEDICARE\",A2577)),\"X\",\"\")","v":""},{"$f":"IF(ISNUMBER(FIND(\"BC/BS\",#REF!)),\"X\",\"\")","v":""}]
["NORTHSHORE PHYSICIAN ASSOCIATES","X",{"$f":"IF(ISNUMBER(FIND(\"MEDICAID\",A2578)),\"X\",\"\")","v":""},{"$f":"IF(ISNUMBER(FIND(\"MEDICARE\",A2578)),\"X\",\"\")","v":""},{"$f":"IF(ISNUMBER(FIND(\"BC/BS\",#REF!)),\"X\",\"\")","v":""}]
["NORTHWEST ADMINISTRATORS","X",{"$f":"IF(ISNUMBER(FIND(\"MEDICAID\",A2579)),\"X\",\"\")","v":""},{"$f":"IF(ISNUMBER(FIND(\"MEDICARE\",A2579)),\"X\",\"\")","v":""},{"$f":"IF(ISNUMBER(FIND(\"BC/BS\",#REF!)),\"X\",\"\")","v":""}]
["NORTHWEST ADMINISTRATORS (HEALTHCOMP)","X",{"$f":"IF(ISNUMBER(FIND(\"MEDICAID\",A2580)),\"X\",\"\")","v":""},{"$f":"IF(ISNUMBER(FIND(\"MEDICARE\",A2580)),\"X\",\"\")","v":""},{"$f":"IF(ISNUMBER(FIND(\"BC/BS\",#REF!)),\"X\",\"\")","v":""}]
["NORTHWEST COMMUNITY - BH MA (ARCADIA SOLUTIONS)",null,{"$f":"IF(ISNUMBER(FIND(\"MEDICAID\",A2581)),\"X\",\"\")","v":""},{"$f":"IF(ISNUMBER(FIND(\"MEDICARE\",A2581)),\"X\",\"\")","v":""},{"$f":"IF(ISNUMBER(FIND(\"BC/BS\",#REF!)),\"X\",\"\")","v":""}]
["NORTHWEST SHEET METAL WORKERS HEALTH & WELFARE PLAN (NWSMW) (REHN AND ASSOCIATES)","X",{"$f":"IF(ISNUMBER(FIND(\"MEDICAID\",A2582)),\"X\",\"\")","v":""},{"$f":"IF(ISNUMBER(FIND(\"MEDICARE\",A2582)),\"X\",\"\")","v":""},{"$f":"IF(ISNUMBER(FIND(\"BC/BS\",#REF!)),\"X\",\"\")","v":""}]
["NORTHWESTERN MEDICINE PHYSICIAN NETWORK LLC","X",{"$f":"IF(ISNUMBER(FIND(\"MEDICAID\",A2583)),\"X\",\"\")","v":""},{"$f":"IF(ISNUMBER(FIND(\"MEDICARE\",A2583)),\"X\",\"\")","v":""},{"$f":"IF(ISNUMBER(FIND(\"BC/BS\",#REF!)),\"X\",\"\")","v":""}]
["NORTHWESTERN OHIO ADMINISTRATORS",null,{"$f":"IF(ISNUMBER(FIND(\"MEDICAID\",A2584)),\"X\",\"\")","v":""},{"$f":"IF(ISNUMBER(FIND(\"MEDICARE\",A2584)),\"X\",\"\")","v":""},{"$f":"IF(ISNUMBER(FIND(\"BC/BS\",#REF!)),\"X\",\"\")","v":""}]
["NORTHWOOD INC","X",{"$f":"IF(ISNUMBER(FIND(\"MEDICAID\",A2585)),\"X\",\"\")","v":""},{"$f":"IF(ISNUMBER(FIND(\"MEDICARE\",A2585)),\"X\",\"\")","v":""},{"$f":"IF(ISNUMBER(FIND(\"BC/BS\",#REF!)),\"X\",\"\")","v":""}]
["NOVA HEALTHCARE","X",{"$f":"IF(ISNUMBER(FIND(\"MEDICAID\",A2586)),\"X\",\"\")","v":""},{"$f":"IF(ISNUMBER(FIND(\"MEDICARE\",A2586)),\"X\",\"\")","v":""},{"$f":"IF(ISNUMBER(FIND(\"BC/BS\",#REF!)),\"X\",\"\")","v":""}]
["NOVA MARKETING SERVICES (IPMG)","X",{"$f":"IF(ISNUMBER(FIND(\"MEDICAID\",A2587)),\"X\",\"\")","v":""},{"$f":"IF(ISNUMBER(FIND(\"MEDICARE\",A2587)),\"X\",\"\")","v":""},{"$f":"IF(ISNUMBER(FIND(\"BC/BS\",#REF!)),\"X\",\"\")","v":""}]
["NPN IPA WASHINGTON PLLC (NORTHWEST PHYSICIANS NETWORK) (OPTUMCARE)","X",{"$f":"IF(ISNUMBER(FIND(\"MEDICAID\",A2588)),\"X\",\"\")","v":""},{"$f":"IF(ISNUMBER(FIND(\"MEDICARE\",A2588)),\"X\",\"\")","v":""},{"$f":"IF(ISNUMBER(FIND(\"BC/BS\",#REF!)),\"X\",\"\")","v":""}]
["NSC MANAGED RESOURCES (GROUP & PENSION ADMIN)","X",{"$f":"IF(ISNUMBER(FIND(\"MEDICAID\",A2589)),\"X\",\"\")","v":""},{"$f":"IF(ISNUMBER(FIND(\"MEDICARE\",A2589)),\"X\",\"\")","v":""},{"$f":"IF(ISNUMBER(FIND(\"BC/BS\",#REF!)),\"X\",\"\")","v":""}]
["NSC MANAGED SERVICES (GROUP & PENSION ADMIN)","X",{"$f":"IF(ISNUMBER(FIND(\"MEDICAID\",A2590)),\"X\",\"\")","v":""},{"$f":"IF(ISNUMBER(FIND(\"MEDICARE\",A2590)),\"X\",\"\")","v":""},{"$f":"IF(ISNUMBER(FIND(\"BC/BS\",#REF!)),\"X\",\"\")","v":""}]
["NTGSH JV EBP (90 DEGREE BENEFITS HOUSTON - ENTRUST)",null,{"$f":"IF(ISNUMBER(FIND(\"MEDICAID\",A2591)),\"X\",\"\")","v":""},{"$f":"IF(ISNUMBER(FIND(\"MEDICARE\",A2591)),\"X\",\"\")","v":""},{"$f":"IF(ISNUMBER(FIND(\"BC/BS\",#REF!)),\"X\",\"\")","v":""}]
["NUCRAFT FURNITURE COMPANY (ASR HEALTH BENEFITS)","X",{"$f":"IF(ISNUMBER(FIND(\"MEDICAID\",A2592)),\"X\",\"\")","v":""},{"$f":"IF(ISNUMBER(FIND(\"MEDICARE\",A2592)),\"X\",\"\")","v":""},{"$f":"IF(ISNUMBER(FIND(\"BC/BS\",#REF!)),\"X\",\"\")","v":""}]
["NUGGET MARKET INC (HEALTHCOMP)",null,{"$f":"IF(ISNUMBER(FIND(\"MEDICAID\",A2593)),\"X\",\"\")","v":""},{"$f":"IF(ISNUMBER(FIND(\"MEDICARE\",A2593)),\"X\",\"\")","v":""},{"$f":"IF(ISNUMBER(FIND(\"BC/BS\",#REF!)),\"X\",\"\")","v":""}]
["NWPS",null,{"$f":"IF(ISNUMBER(FIND(\"MEDICAID\",A2594)),\"X\",\"\")","v":""},{"$f":"IF(ISNUMBER(FIND(\"MEDICARE\",A2594)),\"X\",\"\")","v":""},{"$f":"IF(ISNUMBER(FIND(\"BC/BS\",#REF!)),\"X\",\"\")","v":""}]
["NY MLTC PLAN","X",{"$f":"IF(ISNUMBER(FIND(\"MEDICAID\",A2595)),\"X\",\"\")","v":""},{"$f":"IF(ISNUMBER(FIND(\"MEDICARE\",A2595)),\"X\",\"\")","v":""},{"$f":"IF(ISNUMBER(FIND(\"BC/BS\",#REF!)),\"X\",\"\")","v":""}]
["NY44 HEALTH BENEFITS PLAN TRUST (INDEPENDENT HEALTH)","X",{"$f":"IF(ISNUMBER(FIND(\"MEDICAID\",A2596)),\"X\",\"\")","v":""},{"$f":"IF(ISNUMBER(FIND(\"MEDICARE\",A2596)),\"X\",\"\")","v":""},{"$f":"IF(ISNUMBER(FIND(\"BC/BS\",#REF!)),\"X\",\"\")","v":""}]
["NY44 HEALTH BENEFITS PLAN TRUST (MVP HEALTH CARE)","X",{"$f":"IF(ISNUMBER(FIND(\"MEDICAID\",A2597)),\"X\",\"\")","v":""},{"$f":"IF(ISNUMBER(FIND(\"MEDICARE\",A2597)),\"X\",\"\")","v":""},{"$f":"IF(ISNUMBER(FIND(\"BC/BS\",#REF!)),\"X\",\"\")","v":""}]
["NYISO (CDPHP)","X",{"$f":"IF(ISNUMBER(FIND(\"MEDICAID\",A2598)),\"X\",\"\")","v":""},{"$f":"IF(ISNUMBER(FIND(\"MEDICARE\",A2598)),\"X\",\"\")","v":""},{"$f":"IF(ISNUMBER(FIND(\"BC/BS\",#REF!)),\"X\",\"\")","v":""}]
["OAG EBPT (90 DEGREE BENEFITS HOUSTON - ENTRUST)",null,{"$f":"IF(ISNUMBER(FIND(\"MEDICAID\",A2599)),\"X\",\"\")","v":""},{"$f":"IF(ISNUMBER(FIND(\"MEDICARE\",A2599)),\"X\",\"\")","v":""},{"$f":"IF(ISNUMBER(FIND(\"BC/BS\",#REF!)),\"X\",\"\")","v":""}]
["OAK MANAGEMENT SERVICE INC (GROUP & PENSION ADMIN)","X",{"$f":"IF(ISNUMBER(FIND(\"MEDICAID\",A2600)),\"X\",\"\")","v":""},{"$f":"IF(ISNUMBER(FIND(\"MEDICARE\",A2600)),\"X\",\"\")","v":""},{"$f":"IF(ISNUMBER(FIND(\"BC/BS\",#REF!)),\"X\",\"\")","v":""}]
["OAK STREET HEALTH (INNOVISTA HEALTH)","X",{"$f":"IF(ISNUMBER(FIND(\"MEDICAID\",A2601)),\"X\",\"\")","v":""},{"$f":"IF(ISNUMBER(FIND(\"MEDICARE\",A2601)),\"X\",\"\")","v":""},{"$f":"IF(ISNUMBER(FIND(\"BC/BS\",#REF!)),\"X\",\"\")","v":""}]
["OAK VALLEY HOSPITAL DISTRICT (HEALTHCOMP)",null,{"$f":"IF(ISNUMBER(FIND(\"MEDICAID\",A2602)),\"X\",\"\")","v":""},{"$f":"IF(ISNUMBER(FIND(\"MEDICARE\",A2602)),\"X\",\"\")","v":""},{"$f":"IF(ISNUMBER(FIND(\"BC/BS\",#REF!)),\"X\",\"\")","v":""}]
["OAK WEST PRIMARY PHYSICIAN ASSOCIATION (INNOVISTA HEALTH)","X",{"$f":"IF(ISNUMBER(FIND(\"MEDICAID\",A2603)),\"X\",\"\")","v":""},{"$f":"IF(ISNUMBER(FIND(\"MEDICARE\",A2603)),\"X\",\"\")","v":""},{"$f":"IF(ISNUMBER(FIND(\"BC/BS\",#REF!)),\"X\",\"\")","v":""}]
["OAKLAND COUNTY (ASR HEALTH BENEFITS)","X",{"$f":"IF(ISNUMBER(FIND(\"MEDICAID\",A2604)),\"X\",\"\")","v":""},{"$f":"IF(ISNUMBER(FIND(\"MEDICARE\",A2604)),\"X\",\"\")","v":""},{"$f":"IF(ISNUMBER(FIND(\"BC/BS\",#REF!)),\"X\",\"\")","v":""}]
["OCEAN DRYWALL INC (SENTARA)","X",{"$f":"IF(ISNUMBER(FIND(\"MEDICAID\",A2605)),\"X\",\"\")","v":""},{"$f":"IF(ISNUMBER(FIND(\"MEDICARE\",A2605)),\"X\",\"\")","v":""},{"$f":"IF(ISNUMBER(FIND(\"BC/BS\",#REF!)),\"X\",\"\")","v":""}]
["OCEAN PRODUCTS RESEARCH (SENTARA)","X",{"$f":"IF(ISNUMBER(FIND(\"MEDICAID\",A2606)),\"X\",\"\")","v":""},{"$f":"IF(ISNUMBER(FIND(\"MEDICARE\",A2606)),\"X\",\"\")","v":""},{"$f":"IF(ISNUMBER(FIND(\"BC/BS\",#REF!)),\"X\",\"\")","v":""}]
["ODAWA CASINO RESORT (ASR HEALTH BENEFITS)","X",{"$f":"IF(ISNUMBER(FIND(\"MEDICAID\",A2607)),\"X\",\"\")","v":""},{"$f":"IF(ISNUMBER(FIND(\"MEDICARE\",A2607)),\"X\",\"\")","v":""},{"$f":"IF(ISNUMBER(FIND(\"BC/BS\",#REF!)),\"X\",\"\")","v":""}]
["ODS COMMUNITY HEALTH INC (MODA HEALTH)","X",{"$f":"IF(ISNUMBER(FIND(\"MEDICAID\",A2608)),\"X\",\"\")","v":""},{"$f":"IF(ISNUMBER(FIND(\"MEDICARE\",A2608)),\"X\",\"\")","v":""},{"$f":"IF(ISNUMBER(FIND(\"BC/BS\",#REF!)),\"X\",\"\")","v":""}]
["ODS COMMUNITY HEALTH INC IDS ACCOUNT (MODA HEALTH)","X",{"$f":"IF(ISNUMBER(FIND(\"MEDICAID\",A2609)),\"X\",\"\")","v":""},{"$f":"IF(ISNUMBER(FIND(\"MEDICARE\",A2609)),\"X\",\"\")","v":""},{"$f":"IF(ISNUMBER(FIND(\"BC/BS\",#REF!)),\"X\",\"\")","v":""}]
["ODS HEALTH PLAN INC (MODA HEALTH)","X",{"$f":"IF(ISNUMBER(FIND(\"MEDICAID\",A2610)),\"X\",\"\")","v":""},{"$f":"IF(ISNUMBER(FIND(\"MEDICARE\",A2610)),\"X\",\"\")","v":""},{"$f":"IF(ISNUMBER(FIND(\"BC/BS\",#REF!)),\"X\",\"\")","v":""}]
["OFS BRANDS (WEBTPA)","X",{"$f":"IF(ISNUMBER(FIND(\"MEDICAID\",A2611)),\"X\",\"\")","v":""},{"$f":"IF(ISNUMBER(FIND(\"MEDICARE\",A2611)),\"X\",\"\")","v":""},{"$f":"IF(ISNUMBER(FIND(\"BC/BS\",#REF!)),\"X\",\"\")","v":""}]
["OGBURN LEASING CORPORATION (GROUP & PENSION ADMIN)","X",{"$f":"IF(ISNUMBER(FIND(\"MEDICAID\",A2612)),\"X\",\"\")","v":""},{"$f":"IF(ISNUMBER(FIND(\"MEDICARE\",A2612)),\"X\",\"\")","v":""},{"$f":"IF(ISNUMBER(FIND(\"BC/BS\",#REF!)),\"X\",\"\")","v":""}]
["O'HAIR SHUTTERS EBPT (90 DEGREE BENEFITS HOUSTON - ENTRUST)",null,{"$f":"IF(ISNUMBER(FIND(\"MEDICAID\",A2613)),\"X\",\"\")","v":""},{"$f":"IF(ISNUMBER(FIND(\"MEDICARE\",A2613)),\"X\",\"\")","v":""},{"$f":"IF(ISNUMBER(FIND(\"BC/BS\",#REF!)),\"X\",\"\")","v":""}]
["OHANA HEALTH PLAN (WELLCARE)","X",{"$f":"IF(ISNUMBER(FIND(\"MEDICAID\",A2614)),\"X\",\"\")","v":""},{"$f":"IF(ISNUMBER(FIND(\"MEDICARE\",A2614)),\"X\",\"\")","v":""},{"$f":"IF(ISNUMBER(FIND(\"BC/BS\",#REF!)),\"X\",\"\")","v":""}]
["OHIO BENEFIT ADMINISTRATORS (PARAMOUNT HEALTH CARE)",null,{"$f":"IF(ISNUMBER(FIND(\"MEDICAID\",A2615)),\"X\",\"\")","v":""},{"$f":"IF(ISNUMBER(FIND(\"MEDICARE\",A2615)),\"X\",\"\")","v":""},{"$f":"IF(ISNUMBER(FIND(\"BC/BS\",#REF!)),\"X\",\"\")","v":""}]
["OHIOHEALTH CORPORATION (CONTIGO HEALTH)","X",{"$f":"IF(ISNUMBER(FIND(\"MEDICAID\",A2616)),\"X\",\"\")","v":""},{"$f":"IF(ISNUMBER(FIND(\"MEDICARE\",A2616)),\"X\",\"\")","v":""},{"$f":"IF(ISNUMBER(FIND(\"BC/BS\",#REF!)),\"X\",\"\")","v":""}]
["OHIOHEALTHY (SENTARA)","X",{"$f":"IF(ISNUMBER(FIND(\"MEDICAID\",A2617)),\"X\",\"\")","v":""},{"$f":"IF(ISNUMBER(FIND(\"MEDICARE\",A2617)),\"X\",\"\")","v":""},{"$f":"IF(ISNUMBER(FIND(\"BC/BS\",#REF!)),\"X\",\"\")","v":""}]
["OKLAHOMA CITY VA MEDICAL CENTER","X",{"$f":"IF(ISNUMBER(FIND(\"MEDICAID\",A2618)),\"X\",\"\")","v":""},{"$f":"IF(ISNUMBER(FIND(\"MEDICARE\",A2618)),\"X\",\"\")","v":""},{"$f":"IF(ISNUMBER(FIND(\"BC/BS\",#REF!)),\"X\",\"\")","v":""}]
["OKLAHOMA COUNTY (MAA/HEALTHSMART)",null,{"$f":"IF(ISNUMBER(FIND(\"MEDICAID\",A2619)),\"X\",\"\")","v":""},{"$f":"IF(ISNUMBER(FIND(\"MEDICARE\",A2619)),\"X\",\"\")","v":""},{"$f":"IF(ISNUMBER(FIND(\"BC/BS\",#REF!)),\"X\",\"\")","v":""}]
["OLD SURETY LIFE INSURANCE COMPANY","X",{"$f":"IF(ISNUMBER(FIND(\"MEDICAID\",A2620)),\"X\",\"\")","v":""},{"$f":"IF(ISNUMBER(FIND(\"MEDICARE\",A2620)),\"X\",\"\")","v":""},{"$f":"IF(ISNUMBER(FIND(\"BC/BS\",#REF!)),\"X\",\"\")","v":""}]
["OLIVER DE SILVA INC (HEALTHCOMP)","X",{"$f":"IF(ISNUMBER(FIND(\"MEDICAID\",A2621)),\"X\",\"\")","v":""},{"$f":"IF(ISNUMBER(FIND(\"MEDICARE\",A2621)),\"X\",\"\")","v":""},{"$f":"IF(ISNUMBER(FIND(\"BC/BS\",#REF!)),\"X\",\"\")","v":""}]
["OMAHA DIVISION - VA NEBRASKA - WESTERN IOWA HEALTH CARE SYSTEM","X",{"$f":"IF(ISNUMBER(FIND(\"MEDICAID\",A2622)),\"X\",\"\")","v":""},{"$f":"IF(ISNUMBER(FIND(\"MEDICARE\",A2622)),\"X\",\"\")","v":""},{"$f":"IF(ISNUMBER(FIND(\"BC/BS\",#REF!)),\"X\",\"\")","v":""}]
["OMAHA FIREFIGHTERS HEALTHCARE TRUST (GROUP & PENSION ADMIN)","X",{"$f":"IF(ISNUMBER(FIND(\"MEDICAID\",A2623)),\"X\",\"\")","v":""},{"$f":"IF(ISNUMBER(FIND(\"MEDICARE\",A2623)),\"X\",\"\")","v":""},{"$f":"IF(ISNUMBER(FIND(\"BC/BS\",#REF!)),\"X\",\"\")","v":""}]
["OMAHA INSURANCE COMPANY (MUTUAL OF OMAHA)","X",{"$f":"IF(ISNUMBER(FIND(\"MEDICAID\",A2624)),\"X\",\"\")","v":""},{"$f":"IF(ISNUMBER(FIND(\"MEDICARE\",A2624)),\"X\",\"\")","v":""},{"$f":"IF(ISNUMBER(FIND(\"BC/BS\",#REF!)),\"X\",\"\")","v":""}]
["OMAHA SUPPLEMENTAL INSURANCE COMPANY (MUTUAL OF OMAHA)","X",{"$f":"IF(ISNUMBER(FIND(\"MEDICAID\",A2625)),\"X\",\"\")","v":""},{"$f":"IF(ISNUMBER(FIND(\"MEDICARE\",A2625)),\"X\",\"\")","v":""},{"$f":"IF(ISNUMBER(FIND(\"BC/BS\",#REF!)),\"X\",\"\")","v":""}]
["OMAHA VA MEDICAL CENTER","X",{"$f":"IF(ISNUMBER(FIND(\"MEDICAID\",A2626)),\"X\",\"\")","v":""},{"$f":"IF(ISNUMBER(FIND(\"MEDICARE\",A2626)),\"X\",\"\")","v":""},{"$f":"IF(ISNUMBER(FIND(\"BC/BS\",#REF!)),\"X\",\"\")","v":""}]
["OMEGA ENGINEERING INC (AMERIBEN)",null,{"$f":"IF(ISNUMBER(FIND(\"MEDICAID\",A2627)),\"X\",\"\")","v":""},{"$f":"IF(ISNUMBER(FIND(\"MEDICARE\",A2627)),\"X\",\"\")","v":""},{"$f":"IF(ISNUMBER(FIND(\"BC/BS\",#REF!)),\"X\",\"\")","v":""}]
["OMNICARE MEDICAL GROUP","X",{"$f":"IF(ISNUMBER(FIND(\"MEDICAID\",A2628)),\"X\",\"\")","v":""},{"$f":"IF(ISNUMBER(FIND(\"MEDICARE\",A2628)),\"X\",\"\")","v":""},{"$f":"IF(ISNUMBER(FIND(\"BC/BS\",#REF!)),\"X\",\"\")","v":""}]
["ON LOK SENIOR HEALTH SERVICES","X",{"$f":"IF(ISNUMBER(FIND(\"MEDICAID\",A2629)),\"X\",\"\")","v":""},{"$f":"IF(ISNUMBER(FIND(\"MEDICARE\",A2629)),\"X\",\"\")","v":""},{"$f":"IF(ISNUMBER(FIND(\"BC/BS\",#REF!)),\"X\",\"\")","v":""}]
["ONALASKA ISD EBPT (90 DEGREE BENEFITS HOUSTON - ENTRUST)",null,{"$f":"IF(ISNUMBER(FIND(\"MEDICAID\",A2630)),\"X\",\"\")","v":""},{"$f":"IF(ISNUMBER(FIND(\"MEDICARE\",A2630)),\"X\",\"\")","v":""},{"$f":"IF(ISNUMBER(FIND(\"BC/BS\",#REF!)),\"X\",\"\")","v":""}]
["ONE CALL CARE","X",{"$f":"IF(ISNUMBER(FIND(\"MEDICAID\",A2631)),\"X\",\"\")","v":""},{"$f":"IF(ISNUMBER(FIND(\"MEDICARE\",A2631)),\"X\",\"\")","v":""},{"$f":"IF(ISNUMBER(FIND(\"BC/BS\",#REF!)),\"X\",\"\")","v":""}]
["ONE CALL CARE DIAGNOSTICS","X",{"$f":"IF(ISNUMBER(FIND(\"MEDICAID\",A2632)),\"X\",\"\")","v":""},{"$f":"IF(ISNUMBER(FIND(\"MEDICARE\",A2632)),\"X\",\"\")","v":""},{"$f":"IF(ISNUMBER(FIND(\"BC/BS\",#REF!)),\"X\",\"\")","v":""}]
["ONE CALL CARE DME AND HH","X",{"$f":"IF(ISNUMBER(FIND(\"MEDICAID\",A2633)),\"X\",\"\")","v":""},{"$f":"IF(ISNUMBER(FIND(\"MEDICARE\",A2633)),\"X\",\"\")","v":""},{"$f":"IF(ISNUMBER(FIND(\"BC/BS\",#REF!)),\"X\",\"\")","v":""}]
["ONE GUSTAVE LEVY PLACE LLC (CONTESSA HEALTH)","X",{"$f":"IF(ISNUMBER(FIND(\"MEDICAID\",A2634)),\"X\",\"\")","v":""},{"$f":"IF(ISNUMBER(FIND(\"MEDICARE\",A2634)),\"X\",\"\")","v":""},{"$f":"IF(ISNUMBER(FIND(\"BC/BS\",#REF!)),\"X\",\"\")","v":""}]
["ONE POINT (GEISINGER HEALTH PLAN)","X",{"$f":"IF(ISNUMBER(FIND(\"MEDICAID\",A2635)),\"X\",\"\")","v":""},{"$f":"IF(ISNUMBER(FIND(\"MEDICARE\",A2635)),\"X\",\"\")","v":""},{"$f":"IF(ISNUMBER(FIND(\"BC/BS\",#REF!)),\"X\",\"\")","v":""}]
["ONECARE BY CARE1ST HEALTH PLAN OF AZ (WELLCARE)","X",{"$f":"IF(ISNUMBER(FIND(\"MEDICAID\",A2636)),\"X\",\"\")","v":""},{"$f":"IF(ISNUMBER(FIND(\"MEDICARE\",A2636)),\"X\",\"\")","v":""},{"$f":"IF(ISNUMBER(FIND(\"BC/BS\",#REF!)),\"X\",\"\")","v":""}]
["ONIN STAFFING LLC (MAA/HEALTHSMART)",null,{"$f":"IF(ISNUMBER(FIND(\"MEDICAID\",A2637)),\"X\",\"\")","v":""},{"$f":"IF(ISNUMBER(FIND(\"MEDICARE\",A2637)),\"X\",\"\")","v":""},{"$f":"IF(ISNUMBER(FIND(\"BC/BS\",#REF!)),\"X\",\"\")","v":""}]
["ONYX TECHNICAL SERVICES (SENTARA)","X",{"$f":"IF(ISNUMBER(FIND(\"MEDICAID\",A2638)),\"X\",\"\")","v":""},{"$f":"IF(ISNUMBER(FIND(\"MEDICARE\",A2638)),\"X\",\"\")","v":""},{"$f":"IF(ISNUMBER(FIND(\"BC/BS\",#REF!)),\"X\",\"\")","v":""}]
["OPAL HOTELS GROUP LLC (90 DEGREE BENEFITS NORTH CAROLINA - CORPORATE BENEFIT SERVICES)",null,{"$f":"IF(ISNUMBER(FIND(\"MEDICAID\",A2639)),\"X\",\"\")","v":""},{"$f":"IF(ISNUMBER(FIND(\"MEDICARE\",A2639)),\"X\",\"\")","v":""},{"$f":"IF(ISNUMBER(FIND(\"BC/BS\",#REF!)),\"X\",\"\")","v":""}]
["OPERATING ENGINEERS LOCAL 139 HEALTH BENEFIT FUND","X",{"$f":"IF(ISNUMBER(FIND(\"MEDICAID\",A2640)),\"X\",\"\")","v":""},{"$f":"IF(ISNUMBER(FIND(\"MEDICARE\",A2640)),\"X\",\"\")","v":""},{"$f":"IF(ISNUMBER(FIND(\"BC/BS\",#REF!)),\"X\",\"\")","v":""}]
["OPERATING ENGINEERS TRUST FUNDS","X",{"$f":"IF(ISNUMBER(FIND(\"MEDICAID\",A2641)),\"X\",\"\")","v":""},{"$f":"IF(ISNUMBER(FIND(\"MEDICARE\",A2641)),\"X\",\"\")","v":""},{"$f":"IF(ISNUMBER(FIND(\"BC/BS\",#REF!)),\"X\",\"\")","v":""}]
["OPTIMA HEALTH FEDERAL EMPLOYEES HEALTH BENEFITS PROGRAM (FEHBP) (SENTARA)","X",{"$f":"IF(ISNUMBER(FIND(\"MEDICAID\",A2642)),\"X\",\"\")","v":""},{"$f":"IF(ISNUMBER(FIND(\"MEDICARE\",A2642)),\"X\",\"\")","v":""},{"$f":"IF(ISNUMBER(FIND(\"BC/BS\",#REF!)),\"X\",\"\")","v":""}]
["OPTIMA HEALTH FEDERAL EMPLOYEES HEALTH BENEFITS PROGRAM HDHP (FEHBP) (SENTARA)","X",{"$f":"IF(ISNUMBER(FIND(\"MEDICAID\",A2643)),\"X\",\"\")","v":""},{"$f":"IF(ISNUMBER(FIND(\"MEDICARE\",A2643)),\"X\",\"\")","v":""},{"$f":"IF(ISNUMBER(FIND(\"BC/BS\",#REF!)),\"X\",\"\")","v":""}]
["OPTIMUM CHOICE INC (UHC)","X",{"$f":"IF(ISNUMBER(FIND(\"MEDICAID\",A2644)),\"X\",\"\")","v":""},{"$f":"IF(ISNUMBER(FIND(\"MEDICARE\",A2644)),\"X\",\"\")","v":""},{"$f":"IF(ISNUMBER(FIND(\"BC/BS\",#REF!)),\"X\",\"\")","v":""}]
["OPTIMUM HEALTHCARE INC","X",{"$f":"IF(ISNUMBER(FIND(\"MEDICAID\",A2645)),\"X\",\"\")","v":""},{"$f":"IF(ISNUMBER(FIND(\"MEDICARE\",A2645)),\"X\",\"\")","v":""},{"$f":"IF(ISNUMBER(FIND(\"BC/BS\",#REF!)),\"X\",\"\")","v":""}]
["OPTION SERVICES GROUP (CARE WISCONSIN FIRST)","X",{"$f":"IF(ISNUMBER(FIND(\"MEDICAID\",A2646)),\"X\",\"\")","v":""},{"$f":"IF(ISNUMBER(FIND(\"MEDICARE\",A2646)),\"X\",\"\")","v":""},{"$f":"IF(ISNUMBER(FIND(\"BC/BS\",#REF!)),\"X\",\"\")","v":""}]
["OPTUM","X",{"$f":"IF(ISNUMBER(FIND(\"MEDICAID\",A2647)),\"X\",\"\")","v":""},{"$f":"IF(ISNUMBER(FIND(\"MEDICARE\",A2647)),\"X\",\"\")","v":""},{"$f":"IF(ISNUMBER(FIND(\"BC/BS\",#REF!)),\"X\",\"\")","v":""}]
["OPTUM CARE NETWORK - INLAND FACULTY MG",null,{"$f":"IF(ISNUMBER(FIND(\"MEDICAID\",A2648)),\"X\",\"\")","v":""},{"$f":"IF(ISNUMBER(FIND(\"MEDICARE\",A2648)),\"X\",\"\")","v":""},{"$f":"IF(ISNUMBER(FIND(\"BC/BS\",#REF!)),\"X\",\"\")","v":""}]
["OPTUM CARE NETWORK-MONARCH","X",{"$f":"IF(ISNUMBER(FIND(\"MEDICAID\",A2649)),\"X\",\"\")","v":""},{"$f":"IF(ISNUMBER(FIND(\"MEDICARE\",A2649)),\"X\",\"\")","v":""},{"$f":"IF(ISNUMBER(FIND(\"BC/BS\",#REF!)),\"X\",\"\")","v":""}]
["OPTUM MARYLAND","X",{"$f":"IF(ISNUMBER(FIND(\"MEDICAID\",A2650)),\"X\",\"\")","v":""},{"$f":"IF(ISNUMBER(FIND(\"MEDICARE\",A2650)),\"X\",\"\")","v":""},{"$f":"IF(ISNUMBER(FIND(\"BC/BS\",#REF!)),\"X\",\"\")","v":""}]
["OPTUM SKYGEN IHP","X",{"$f":"IF(ISNUMBER(FIND(\"MEDICAID\",A2651)),\"X\",\"\")","v":""},{"$f":"IF(ISNUMBER(FIND(\"MEDICARE\",A2651)),\"X\",\"\")","v":""},{"$f":"IF(ISNUMBER(FIND(\"BC/BS\",#REF!)),\"X\",\"\")","v":""}]
["OPTUM SKYGEN UHCD GOVERNMENT","X",{"$f":"IF(ISNUMBER(FIND(\"MEDICAID\",A2652)),\"X\",\"\")","v":""},{"$f":"IF(ISNUMBER(FIND(\"MEDICARE\",A2652)),\"X\",\"\")","v":""},{"$f":"IF(ISNUMBER(FIND(\"BC/BS\",#REF!)),\"X\",\"\")","v":""}]
["OPTUM UHC DENTAL COMMERCIAL","X",{"$f":"IF(ISNUMBER(FIND(\"MEDICAID\",A2653)),\"X\",\"\")","v":""},{"$f":"IF(ISNUMBER(FIND(\"MEDICARE\",A2653)),\"X\",\"\")","v":""},{"$f":"IF(ISNUMBER(FIND(\"BC/BS\",#REF!)),\"X\",\"\")","v":""}]
["OPTUM VA CCN REGION 1","X",{"$f":"IF(ISNUMBER(FIND(\"MEDICAID\",A2654)),\"X\",\"\")","v":""},{"$f":"IF(ISNUMBER(FIND(\"MEDICARE\",A2654)),\"X\",\"\")","v":""},{"$f":"IF(ISNUMBER(FIND(\"BC/BS\",#REF!)),\"X\",\"\")","v":""}]
["OPTUM VA CCN REGION 2","X",{"$f":"IF(ISNUMBER(FIND(\"MEDICAID\",A2655)),\"X\",\"\")","v":""},{"$f":"IF(ISNUMBER(FIND(\"MEDICARE\",A2655)),\"X\",\"\")","v":""},{"$f":"IF(ISNUMBER(FIND(\"BC/BS\",#REF!)),\"X\",\"\")","v":""}]
["OPTUM VA CCN REGION 3","X",{"$f":"IF(ISNUMBER(FIND(\"MEDICAID\",A2656)),\"X\",\"\")","v":""},{"$f":"IF(ISNUMBER(FIND(\"MEDICARE\",A2656)),\"X\",\"\")","v":""},{"$f":"IF(ISNUMBER(FIND(\"BC/BS\",#REF!)),\"X\",\"\")","v":""}]
["OPTUM WASHINGTON NETWORK LLC (OPTUMCARE)","X",{"$f":"IF(ISNUMBER(FIND(\"MEDICAID\",A2657)),\"X\",\"\")","v":""},{"$f":"IF(ISNUMBER(FIND(\"MEDICARE\",A2657)),\"X\",\"\")","v":""},{"$f":"IF(ISNUMBER(FIND(\"BC/BS\",#REF!)),\"X\",\"\")","v":""}]
["OPTUMCARE","X",{"$f":"IF(ISNUMBER(FIND(\"MEDICAID\",A2658)),\"X\",\"\")","v":""},{"$f":"IF(ISNUMBER(FIND(\"MEDICARE\",A2658)),\"X\",\"\")","v":""},{"$f":"IF(ISNUMBER(FIND(\"BC/BS\",#REF!)),\"X\",\"\")","v":""}]
["OPTUMCARE NETWORK","X",{"$f":"IF(ISNUMBER(FIND(\"MEDICAID\",A2659)),\"X\",\"\")","v":""},{"$f":"IF(ISNUMBER(FIND(\"MEDICARE\",A2659)),\"X\",\"\")","v":""},{"$f":"IF(ISNUMBER(FIND(\"BC/BS\",#REF!)),\"X\",\"\")","v":""}]
["OPTUMCARE NETWORK CONNECTICUT (NAMM CALIFORNIA)","X",{"$f":"IF(ISNUMBER(FIND(\"MEDICAID\",A2660)),\"X\",\"\")","v":""},{"$f":"IF(ISNUMBER(FIND(\"MEDICARE\",A2660)),\"X\",\"\")","v":""},{"$f":"IF(ISNUMBER(FIND(\"BC/BS\",#REF!)),\"X\",\"\")","v":""}]
["OPTUMHEALTH CARE SOLUTIONS INC",null,{"$f":"IF(ISNUMBER(FIND(\"MEDICAID\",A2661)),\"X\",\"\")","v":""},{"$f":"IF(ISNUMBER(FIND(\"MEDICARE\",A2661)),\"X\",\"\")","v":""},{"$f":"IF(ISNUMBER(FIND(\"BC/BS\",#REF!)),\"X\",\"\")","v":""}]
["OPTUMRX","X",{"$f":"IF(ISNUMBER(FIND(\"MEDICAID\",A2662)),\"X\",\"\")","v":""},{"$f":"IF(ISNUMBER(FIND(\"MEDICARE\",A2662)),\"X\",\"\")","v":""},{"$f":"IF(ISNUMBER(FIND(\"BC/BS\",#REF!)),\"X\",\"\")","v":""}]
["OREGON DENTAL SERVICE - SOA (MODA HEALTH)",null,{"$f":"IF(ISNUMBER(FIND(\"MEDICAID\",A2663)),\"X\",\"\")","v":""},{"$f":"IF(ISNUMBER(FIND(\"MEDICARE\",A2663)),\"X\",\"\")","v":""},{"$f":"IF(ISNUMBER(FIND(\"BC/BS\",#REF!)),\"X\",\"\")","v":""}]
["OREGON DENTAL SERVICE (MODA HEALTH)","X",{"$f":"IF(ISNUMBER(FIND(\"MEDICAID\",A2664)),\"X\",\"\")","v":""},{"$f":"IF(ISNUMBER(FIND(\"MEDICARE\",A2664)),\"X\",\"\")","v":""},{"$f":"IF(ISNUMBER(FIND(\"BC/BS\",#REF!)),\"X\",\"\")","v":""}]
["ORGANON","X",{"$f":"IF(ISNUMBER(FIND(\"MEDICAID\",A2665)),\"X\",\"\")","v":""},{"$f":"IF(ISNUMBER(FIND(\"MEDICARE\",A2665)),\"X\",\"\")","v":""},{"$f":"IF(ISNUMBER(FIND(\"BC/BS\",#REF!)),\"X\",\"\")","v":""}]
["ORION HEALTH INSURANCE POOL (AMERIBEN)",null,{"$f":"IF(ISNUMBER(FIND(\"MEDICAID\",A2666)),\"X\",\"\")","v":""},{"$f":"IF(ISNUMBER(FIND(\"MEDICARE\",A2666)),\"X\",\"\")","v":""},{"$f":"IF(ISNUMBER(FIND(\"BC/BS\",#REF!)),\"X\",\"\")","v":""}]
["ORLAND UNIFIED SCHOOL DISTRICT (HEALTHCOMP)",null,{"$f":"IF(ISNUMBER(FIND(\"MEDICAID\",A2667)),\"X\",\"\")","v":""},{"$f":"IF(ISNUMBER(FIND(\"MEDICARE\",A2667)),\"X\",\"\")","v":""},{"$f":"IF(ISNUMBER(FIND(\"BC/BS\",#REF!)),\"X\",\"\")","v":""}]
["ORLANDO VA MEDICAL CENTER",null,{"$f":"IF(ISNUMBER(FIND(\"MEDICAID\",A2668)),\"X\",\"\")","v":""},{"$f":"IF(ISNUMBER(FIND(\"MEDICARE\",A2668)),\"X\",\"\")","v":""},{"$f":"IF(ISNUMBER(FIND(\"BC/BS\",#REF!)),\"X\",\"\")","v":""}]
["ORMAT TECHNOLOGIES INC (HEALTHCOMP)","X",{"$f":"IF(ISNUMBER(FIND(\"MEDICAID\",A2669)),\"X\",\"\")","v":""},{"$f":"IF(ISNUMBER(FIND(\"MEDICARE\",A2669)),\"X\",\"\")","v":""},{"$f":"IF(ISNUMBER(FIND(\"BC/BS\",#REF!)),\"X\",\"\")","v":""}]
["ORR MOTORS OF WACO EBPT (90 DEGREE BENEFITS HOUSTON - ENTRUST)",null,{"$f":"IF(ISNUMBER(FIND(\"MEDICAID\",A2670)),\"X\",\"\")","v":""},{"$f":"IF(ISNUMBER(FIND(\"MEDICARE\",A2670)),\"X\",\"\")","v":""},{"$f":"IF(ISNUMBER(FIND(\"BC/BS\",#REF!)),\"X\",\"\")","v":""}]
["ORRVILLE TRUCKING & GRADING CO (THE HEALTH PLAN)",null,{"$f":"IF(ISNUMBER(FIND(\"MEDICAID\",A2671)),\"X\",\"\")","v":""},{"$f":"IF(ISNUMBER(FIND(\"MEDICARE\",A2671)),\"X\",\"\")","v":""},{"$f":"IF(ISNUMBER(FIND(\"BC/BS\",#REF!)),\"X\",\"\")","v":""}]
["ORTHOPAEDIC & SPINE CENTER (BENEFIT PLAN ADMINISTRATORS)",null,{"$f":"IF(ISNUMBER(FIND(\"MEDICAID\",A2672)),\"X\",\"\")","v":""},{"$f":"IF(ISNUMBER(FIND(\"MEDICARE\",A2672)),\"X\",\"\")","v":""},{"$f":"IF(ISNUMBER(FIND(\"BC/BS\",#REF!)),\"X\",\"\")","v":""}]
["ORTHOPEDICSNY LLP (MVP HEALTH CARE)","X",{"$f":"IF(ISNUMBER(FIND(\"MEDICAID\",A2673)),\"X\",\"\")","v":""},{"$f":"IF(ISNUMBER(FIND(\"MEDICARE\",A2673)),\"X\",\"\")","v":""},{"$f":"IF(ISNUMBER(FIND(\"BC/BS\",#REF!)),\"X\",\"\")","v":""}]
["OSCAR BUCKEYE STATE INSURANCE CORPORATION","X",{"$f":"IF(ISNUMBER(FIND(\"MEDICAID\",A2674)),\"X\",\"\")","v":""},{"$f":"IF(ISNUMBER(FIND(\"MEDICARE\",A2674)),\"X\",\"\")","v":""},{"$f":"IF(ISNUMBER(FIND(\"BC/BS\",#REF!)),\"X\",\"\")","v":""}]
["OSCAR G. JOHNSON VA MEDICAL CENTER","X",{"$f":"IF(ISNUMBER(FIND(\"MEDICAID\",A2675)),\"X\",\"\")","v":""},{"$f":"IF(ISNUMBER(FIND(\"MEDICARE\",A2675)),\"X\",\"\")","v":""},{"$f":"IF(ISNUMBER(FIND(\"BC/BS\",#REF!)),\"X\",\"\")","v":""}]
["OSCAR GARDEN STATE INSURANCE CORPORATION","X",{"$f":"IF(ISNUMBER(FIND(\"MEDICAID\",A2676)),\"X\",\"\")","v":""},{"$f":"IF(ISNUMBER(FIND(\"MEDICARE\",A2676)),\"X\",\"\")","v":""},{"$f":"IF(ISNUMBER(FIND(\"BC/BS\",#REF!)),\"X\",\"\")","v":""}]
["OSCAR HEALTH PLAN INC","X",{"$f":"IF(ISNUMBER(FIND(\"MEDICAID\",A2677)),\"X\",\"\")","v":""},{"$f":"IF(ISNUMBER(FIND(\"MEDICARE\",A2677)),\"X\",\"\")","v":""},{"$f":"IF(ISNUMBER(FIND(\"BC/BS\",#REF!)),\"X\",\"\")","v":""}]
["OSCAR HEALTH PLAN OF CALIFORNIA","X",{"$f":"IF(ISNUMBER(FIND(\"MEDICAID\",A2678)),\"X\",\"\")","v":""},{"$f":"IF(ISNUMBER(FIND(\"MEDICARE\",A2678)),\"X\",\"\")","v":""},{"$f":"IF(ISNUMBER(FIND(\"BC/BS\",#REF!)),\"X\",\"\")","v":""}]
["OSCAR HEALTH PLAN OF GEORGIA","X",{"$f":"IF(ISNUMBER(FIND(\"MEDICAID\",A2679)),\"X\",\"\")","v":""},{"$f":"IF(ISNUMBER(FIND(\"MEDICARE\",A2679)),\"X\",\"\")","v":""},{"$f":"IF(ISNUMBER(FIND(\"BC/BS\",#REF!)),\"X\",\"\")","v":""}]
["OSCAR HEALTH PLAN OF NEW YORK","X",{"$f":"IF(ISNUMBER(FIND(\"MEDICAID\",A2680)),\"X\",\"\")","v":""},{"$f":"IF(ISNUMBER(FIND(\"MEDICARE\",A2680)),\"X\",\"\")","v":""},{"$f":"IF(ISNUMBER(FIND(\"BC/BS\",#REF!)),\"X\",\"\")","v":""}]
["OSCAR HEALTH PLAN OF PENNSYLVANIA","X",{"$f":"IF(ISNUMBER(FIND(\"MEDICAID\",A2681)),\"X\",\"\")","v":""},{"$f":"IF(ISNUMBER(FIND(\"MEDICARE\",A2681)),\"X\",\"\")","v":""},{"$f":"IF(ISNUMBER(FIND(\"BC/BS\",#REF!)),\"X\",\"\")","v":""}]
["OSCAR INSURANCE COMPANY","X",{"$f":"IF(ISNUMBER(FIND(\"MEDICAID\",A2682)),\"X\",\"\")","v":""},{"$f":"IF(ISNUMBER(FIND(\"MEDICARE\",A2682)),\"X\",\"\")","v":""},{"$f":"IF(ISNUMBER(FIND(\"BC/BS\",#REF!)),\"X\",\"\")","v":""}]
["OSCAR INSURANCE COMPANY OF FLORIDA","X",{"$f":"IF(ISNUMBER(FIND(\"MEDICAID\",A2683)),\"X\",\"\")","v":""},{"$f":"IF(ISNUMBER(FIND(\"MEDICARE\",A2683)),\"X\",\"\")","v":""},{"$f":"IF(ISNUMBER(FIND(\"BC/BS\",#REF!)),\"X\",\"\")","v":""}]
["OSCAR INSURANCE CORPORATION","X",{"$f":"IF(ISNUMBER(FIND(\"MEDICAID\",A2684)),\"X\",\"\")","v":""},{"$f":"IF(ISNUMBER(FIND(\"MEDICARE\",A2684)),\"X\",\"\")","v":""},{"$f":"IF(ISNUMBER(FIND(\"BC/BS\",#REF!)),\"X\",\"\")","v":""}]
["OSCAR INSURANCE CORPORATION OF OHIO","X",{"$f":"IF(ISNUMBER(FIND(\"MEDICAID\",A2685)),\"X\",\"\")","v":""},{"$f":"IF(ISNUMBER(FIND(\"MEDICARE\",A2685)),\"X\",\"\")","v":""},{"$f":"IF(ISNUMBER(FIND(\"BC/BS\",#REF!)),\"X\",\"\")","v":""}]
["OSCAR MANAGED CARE OF SOUTH FLORIDA","X",{"$f":"IF(ISNUMBER(FIND(\"MEDICAID\",A2686)),\"X\",\"\")","v":""},{"$f":"IF(ISNUMBER(FIND(\"MEDICARE\",A2686)),\"X\",\"\")","v":""},{"$f":"IF(ISNUMBER(FIND(\"BC/BS\",#REF!)),\"X\",\"\")","v":""}]
["OSF HEALTHCARE SYSTEM CENTRAL HMOI (INNOVISTA HEALTH)","X",{"$f":"IF(ISNUMBER(FIND(\"MEDICAID\",A2687)),\"X\",\"\")","v":""},{"$f":"IF(ISNUMBER(FIND(\"MEDICARE\",A2687)),\"X\",\"\")","v":""},{"$f":"IF(ISNUMBER(FIND(\"BC/BS\",#REF!)),\"X\",\"\")","v":""}]
["OSF HEALTHCARE SYSTEM EASTERN HMOI (INNOVISTA HEALTH)","X",{"$f":"IF(ISNUMBER(FIND(\"MEDICAID\",A2688)),\"X\",\"\")","v":""},{"$f":"IF(ISNUMBER(FIND(\"MEDICARE\",A2688)),\"X\",\"\")","v":""},{"$f":"IF(ISNUMBER(FIND(\"BC/BS\",#REF!)),\"X\",\"\")","v":""}]
["OSF HEALTHCARE SYSTEMS SOUTHWEST HEALTH SYSTEM (INNOVISTA HEALTH)","X",{"$f":"IF(ISNUMBER(FIND(\"MEDICAID\",A2689)),\"X\",\"\")","v":""},{"$f":"IF(ISNUMBER(FIND(\"MEDICARE\",A2689)),\"X\",\"\")","v":""},{"$f":"IF(ISNUMBER(FIND(\"BC/BS\",#REF!)),\"X\",\"\")","v":""}]
["OSWALD AND ASSOCIATES","X",{"$f":"IF(ISNUMBER(FIND(\"MEDICAID\",A2690)),\"X\",\"\")","v":""},{"$f":"IF(ISNUMBER(FIND(\"MEDICARE\",A2690)),\"X\",\"\")","v":""},{"$f":"IF(ISNUMBER(FIND(\"BC/BS\",#REF!)),\"X\",\"\")","v":""}]
["OUR TOWN HOSPITALITY (MAESTRO HEALTH)",null,{"$f":"IF(ISNUMBER(FIND(\"MEDICAID\",A2691)),\"X\",\"\")","v":""},{"$f":"IF(ISNUMBER(FIND(\"MEDICARE\",A2691)),\"X\",\"\")","v":""},{"$f":"IF(ISNUMBER(FIND(\"BC/BS\",#REF!)),\"X\",\"\")","v":""}]
["OWEN STEEL COMPANY INC (90 DEGREE BENEFITS NORTH CAROLINA - CORPORATE BENEFIT SERVICES)","X",{"$f":"IF(ISNUMBER(FIND(\"MEDICAID\",A2692)),\"X\",\"\")","v":""},{"$f":"IF(ISNUMBER(FIND(\"MEDICARE\",A2692)),\"X\",\"\")","v":""},{"$f":"IF(ISNUMBER(FIND(\"BC/BS\",#REF!)),\"X\",\"\")","v":""}]
["OXFORD HEALTH INSURANCE INC (UHC)","X",{"$f":"IF(ISNUMBER(FIND(\"MEDICAID\",A2693)),\"X\",\"\")","v":""},{"$f":"IF(ISNUMBER(FIND(\"MEDICARE\",A2693)),\"X\",\"\")","v":""},{"$f":"IF(ISNUMBER(FIND(\"BC/BS\",#REF!)),\"X\",\"\")","v":""}]
["OXFORD HEALTH PLANS INC - CONNECTICUT (UHC)","X",{"$f":"IF(ISNUMBER(FIND(\"MEDICAID\",A2694)),\"X\",\"\")","v":""},{"$f":"IF(ISNUMBER(FIND(\"MEDICARE\",A2694)),\"X\",\"\")","v":""},{"$f":"IF(ISNUMBER(FIND(\"BC/BS\",#REF!)),\"X\",\"\")","v":""}]
["OXFORD HEALTH PLANS INC - NEW JERSEY (UHC)","X",{"$f":"IF(ISNUMBER(FIND(\"MEDICAID\",A2695)),\"X\",\"\")","v":""},{"$f":"IF(ISNUMBER(FIND(\"MEDICARE\",A2695)),\"X\",\"\")","v":""},{"$f":"IF(ISNUMBER(FIND(\"BC/BS\",#REF!)),\"X\",\"\")","v":""}]
["OXFORD HEALTH PLANS INC - NEW YORK (UHC)","X",{"$f":"IF(ISNUMBER(FIND(\"MEDICAID\",A2696)),\"X\",\"\")","v":""},{"$f":"IF(ISNUMBER(FIND(\"MEDICARE\",A2696)),\"X\",\"\")","v":""},{"$f":"IF(ISNUMBER(FIND(\"BC/BS\",#REF!)),\"X\",\"\")","v":""}]
["OXFORD HEALTH PLANS LLC (UHC)","X",{"$f":"IF(ISNUMBER(FIND(\"MEDICAID\",A2697)),\"X\",\"\")","v":""},{"$f":"IF(ISNUMBER(FIND(\"MEDICARE\",A2697)),\"X\",\"\")","v":""},{"$f":"IF(ISNUMBER(FIND(\"BC/BS\",#REF!)),\"X\",\"\")","v":""}]
["OXFORD LIFE INSURANCE COMPANY","X",{"$f":"IF(ISNUMBER(FIND(\"MEDICAID\",A2698)),\"X\",\"\")","v":""},{"$f":"IF(ISNUMBER(FIND(\"MEDICARE\",A2698)),\"X\",\"\")","v":""},{"$f":"IF(ISNUMBER(FIND(\"BC/BS\",#REF!)),\"X\",\"\")","v":""}]
["OXFORD NATIONAL STATES (OXFORD LIFE)","X",{"$f":"IF(ISNUMBER(FIND(\"MEDICAID\",A2699)),\"X\",\"\")","v":""},{"$f":"IF(ISNUMBER(FIND(\"MEDICARE\",A2699)),\"X\",\"\")","v":""},{"$f":"IF(ISNUMBER(FIND(\"BC/BS\",#REF!)),\"X\",\"\")","v":""}]
["P&H HOLDINGS LLC (BENEFIT PLAN ADMINISTRATORS)",null,{"$f":"IF(ISNUMBER(FIND(\"MEDICAID\",A2700)),\"X\",\"\")","v":""},{"$f":"IF(ISNUMBER(FIND(\"MEDICARE\",A2700)),\"X\",\"\")","v":""},{"$f":"IF(ISNUMBER(FIND(\"BC/BS\",#REF!)),\"X\",\"\")","v":""}]
["P3 HEALTH PARTNERS","X",{"$f":"IF(ISNUMBER(FIND(\"MEDICAID\",A2701)),\"X\",\"\")","v":""},{"$f":"IF(ISNUMBER(FIND(\"MEDICARE\",A2701)),\"X\",\"\")","v":""},{"$f":"IF(ISNUMBER(FIND(\"BC/BS\",#REF!)),\"X\",\"\")","v":""}]
["PA HEALTH & WELLNESS","X",{"$f":"IF(ISNUMBER(FIND(\"MEDICAID\",A2702)),\"X\",\"\")","v":""},{"$f":"IF(ISNUMBER(FIND(\"MEDICARE\",A2702)),\"X\",\"\")","v":""},{"$f":"IF(ISNUMBER(FIND(\"BC/BS\",#REF!)),\"X\",\"\")","v":""}]
["PACIFIC HEALTHCARE IPA (PROSPECT MEDICAL SYSTEMS)",null,{"$f":"IF(ISNUMBER(FIND(\"MEDICAID\",A2703)),\"X\",\"\")","v":""},{"$f":"IF(ISNUMBER(FIND(\"MEDICARE\",A2703)),\"X\",\"\")","v":""},{"$f":"IF(ISNUMBER(FIND(\"BC/BS\",#REF!)),\"X\",\"\")","v":""}]
["PACIFIC SOUTHWEST ADMINISTRATORS","X",{"$f":"IF(ISNUMBER(FIND(\"MEDICAID\",A2704)),\"X\",\"\")","v":""},{"$f":"IF(ISNUMBER(FIND(\"MEDICARE\",A2704)),\"X\",\"\")","v":""},{"$f":"IF(ISNUMBER(FIND(\"BC/BS\",#REF!)),\"X\",\"\")","v":""}]
["PACIFIC STEEL AND RECYCLING EMPLOYEE (WEBTPA)","X",{"$f":"IF(ISNUMBER(FIND(\"MEDICAID\",A2705)),\"X\",\"\")","v":""},{"$f":"IF(ISNUMBER(FIND(\"MEDICARE\",A2705)),\"X\",\"\")","v":""},{"$f":"IF(ISNUMBER(FIND(\"BC/BS\",#REF!)),\"X\",\"\")","v":""}]
["PACIFICARE INSTIT RISK FOR PMNI (PRIMECARE MEDICAL NETWORK) (NAMM CALIFORNIA)","X",{"$f":"IF(ISNUMBER(FIND(\"MEDICAID\",A2706)),\"X\",\"\")","v":""},{"$f":"IF(ISNUMBER(FIND(\"MEDICARE\",A2706)),\"X\",\"\")","v":""},{"$f":"IF(ISNUMBER(FIND(\"BC/BS\",#REF!)),\"X\",\"\")","v":""}]
["PACIFICARE LIFE AND HEALTH INSURANCE COMPANY (CHCS)","X",{"$f":"IF(ISNUMBER(FIND(\"MEDICAID\",A2707)),\"X\",\"\")","v":""},{"$f":"IF(ISNUMBER(FIND(\"MEDICARE\",A2707)),\"X\",\"\")","v":""},{"$f":"IF(ISNUMBER(FIND(\"BC/BS\",#REF!)),\"X\",\"\")","v":""}]
["PACIFICARE OF COLORADO (UHC)","X",{"$f":"IF(ISNUMBER(FIND(\"MEDICAID\",A2708)),\"X\",\"\")","v":""},{"$f":"IF(ISNUMBER(FIND(\"MEDICARE\",A2708)),\"X\",\"\")","v":""},{"$f":"IF(ISNUMBER(FIND(\"BC/BS\",#REF!)),\"X\",\"\")","v":""}]
["PACIFICSOURCE COMMUNITY HEALTH PLANS","X",{"$f":"IF(ISNUMBER(FIND(\"MEDICAID\",A2709)),\"X\",\"\")","v":""},{"$f":"IF(ISNUMBER(FIND(\"MEDICARE\",A2709)),\"X\",\"\")","v":""},{"$f":"IF(ISNUMBER(FIND(\"BC/BS\",#REF!)),\"X\",\"\")","v":""}]
["PACIFICSOURCE COMMUNITY SOLUTIONS","X",{"$f":"IF(ISNUMBER(FIND(\"MEDICAID\",A2710)),\"X\",\"\")","v":""},{"$f":"IF(ISNUMBER(FIND(\"MEDICARE\",A2710)),\"X\",\"\")","v":""},{"$f":"IF(ISNUMBER(FIND(\"BC/BS\",#REF!)),\"X\",\"\")","v":""}]
["PACIFICSOURCE HEALTH PLANS","X",{"$f":"IF(ISNUMBER(FIND(\"MEDICAID\",A2711)),\"X\",\"\")","v":""},{"$f":"IF(ISNUMBER(FIND(\"MEDICARE\",A2711)),\"X\",\"\")","v":""},{"$f":"IF(ISNUMBER(FIND(\"BC/BS\",#REF!)),\"X\",\"\")","v":""}]
["PAINTERS DC 35 TRUST FUNDS",null,{"$f":"IF(ISNUMBER(FIND(\"MEDICAID\",A2712)),\"X\",\"\")","v":""},{"$f":"IF(ISNUMBER(FIND(\"MEDICARE\",A2712)),\"X\",\"\")","v":""},{"$f":"IF(ISNUMBER(FIND(\"BC/BS\",#REF!)),\"X\",\"\")","v":""}]
["PALA BAND OF MISSION INDIANS (HEALTHSCOPE BENEFITS)",null,{"$f":"IF(ISNUMBER(FIND(\"MEDICAID\",A2713)),\"X\",\"\")","v":""},{"$f":"IF(ISNUMBER(FIND(\"MEDICARE\",A2713)),\"X\",\"\")","v":""},{"$f":"IF(ISNUMBER(FIND(\"BC/BS\",#REF!)),\"X\",\"\")","v":""}]
["PALMETTO BRICK CO (CORPORATE BENEFIT SERVICES)",null,{"$f":"IF(ISNUMBER(FIND(\"MEDICAID\",A2714)),\"X\",\"\")","v":""},{"$f":"IF(ISNUMBER(FIND(\"MEDICARE\",A2714)),\"X\",\"\")","v":""},{"$f":"IF(ISNUMBER(FIND(\"BC/BS\",#REF!)),\"X\",\"\")","v":""}]
["PALMETTO GBA - RAILROAD MEDICARE","X",{"$f":"IF(ISNUMBER(FIND(\"MEDICAID\",A2715)),\"X\",\"\")","v":""},null,{"$f":"IF(ISNUMBER(FIND(\"BC/BS\",#REF!)),\"X\",\"\")","v":""}]
["PALO ALTO MEDICAL FOUDATION - PALO",null,{"$f":"IF(ISNUMBER(FIND(\"MEDICAID\",A2716)),\"X\",\"\")","v":""},{"$f":"IF(ISNUMBER(FIND(\"MEDICARE\",A2716)),\"X\",\"\")","v":""},{"$f":"IF(ISNUMBER(FIND(\"BC/BS\",#REF!)),\"X\",\"\")","v":""}]
["PALO ALTO MEDICAL FOUNDATION - MILL",null,{"$f":"IF(ISNUMBER(FIND(\"MEDICAID\",A2717)),\"X\",\"\")","v":""},{"$f":"IF(ISNUMBER(FIND(\"MEDICARE\",A2717)),\"X\",\"\")","v":""},{"$f":"IF(ISNUMBER(FIND(\"BC/BS\",#REF!)),\"X\",\"\")","v":""}]
["PALO ALTO MEDICAL FOUNDATION - MPMC","X",{"$f":"IF(ISNUMBER(FIND(\"MEDICAID\",A2718)),\"X\",\"\")","v":""},{"$f":"IF(ISNUMBER(FIND(\"MEDICARE\",A2718)),\"X\",\"\")","v":""},{"$f":"IF(ISNUMBER(FIND(\"BC/BS\",#REF!)),\"X\",\"\")","v":""}]
["PALO ALTO VA MEDICAL CENTER","X",{"$f":"IF(ISNUMBER(FIND(\"MEDICAID\",A2719)),\"X\",\"\")","v":""},{"$f":"IF(ISNUMBER(FIND(\"MEDICARE\",A2719)),\"X\",\"\")","v":""},{"$f":"IF(ISNUMBER(FIND(\"BC/BS\",#REF!)),\"X\",\"\")","v":""}]
["PAN FOUNDATION","X",{"$f":"IF(ISNUMBER(FIND(\"MEDICAID\",A2720)),\"X\",\"\")","v":""},{"$f":"IF(ISNUMBER(FIND(\"MEDICARE\",A2720)),\"X\",\"\")","v":""},{"$f":"IF(ISNUMBER(FIND(\"BC/BS\",#REF!)),\"X\",\"\")","v":""}]
["PAN-AMERICAN LIFE INSURANCE COMPANY","X",{"$f":"IF(ISNUMBER(FIND(\"MEDICAID\",A2721)),\"X\",\"\")","v":""},{"$f":"IF(ISNUMBER(FIND(\"MEDICARE\",A2721)),\"X\",\"\")","v":""},{"$f":"IF(ISNUMBER(FIND(\"BC/BS\",#REF!)),\"X\",\"\")","v":""}]
["PANHANDLE CLEANING & RESTORATION (THE HEALTH PLAN)",null,{"$f":"IF(ISNUMBER(FIND(\"MEDICAID\",A2722)),\"X\",\"\")","v":""},{"$f":"IF(ISNUMBER(FIND(\"MEDICARE\",A2722)),\"X\",\"\")","v":""},{"$f":"IF(ISNUMBER(FIND(\"BC/BS\",#REF!)),\"X\",\"\")","v":""}]
["PARADIGM","X",{"$f":"IF(ISNUMBER(FIND(\"MEDICAID\",A2723)),\"X\",\"\")","v":""},{"$f":"IF(ISNUMBER(FIND(\"MEDICARE\",A2723)),\"X\",\"\")","v":""},{"$f":"IF(ISNUMBER(FIND(\"BC/BS\",#REF!)),\"X\",\"\")","v":""}]
["PARADIGM INC (SENTARA)","X",{"$f":"IF(ISNUMBER(FIND(\"MEDICAID\",A2724)),\"X\",\"\")","v":""},{"$f":"IF(ISNUMBER(FIND(\"MEDICARE\",A2724)),\"X\",\"\")","v":""},{"$f":"IF(ISNUMBER(FIND(\"BC/BS\",#REF!)),\"X\",\"\")","v":""}]
["PARADIGM MANAGEMENT SERVICES LLC","X",{"$f":"IF(ISNUMBER(FIND(\"MEDICAID\",A2725)),\"X\",\"\")","v":""},{"$f":"IF(ISNUMBER(FIND(\"MEDICARE\",A2725)),\"X\",\"\")","v":""},{"$f":"IF(ISNUMBER(FIND(\"BC/BS\",#REF!)),\"X\",\"\")","v":""}]
["PARAGON BENEFITS","X",{"$f":"IF(ISNUMBER(FIND(\"MEDICAID\",A2726)),\"X\",\"\")","v":""},{"$f":"IF(ISNUMBER(FIND(\"MEDICARE\",A2726)),\"X\",\"\")","v":""},{"$f":"IF(ISNUMBER(FIND(\"BC/BS\",#REF!)),\"X\",\"\")","v":""}]
["PARAMELT (ASR HEALTH BENEFITS)","X",{"$f":"IF(ISNUMBER(FIND(\"MEDICAID\",A2727)),\"X\",\"\")","v":""},{"$f":"IF(ISNUMBER(FIND(\"MEDICARE\",A2727)),\"X\",\"\")","v":""},{"$f":"IF(ISNUMBER(FIND(\"BC/BS\",#REF!)),\"X\",\"\")","v":""}]
["PARAMOUNT ADVANTAGE","X",{"$f":"IF(ISNUMBER(FIND(\"MEDICAID\",A2728)),\"X\",\"\")","v":""},{"$f":"IF(ISNUMBER(FIND(\"MEDICARE\",A2728)),\"X\",\"\")","v":""},{"$f":"IF(ISNUMBER(FIND(\"BC/BS\",#REF!)),\"X\",\"\")","v":""}]
["PARAMOUNT CARE OF MICHIGAN INC",null,{"$f":"IF(ISNUMBER(FIND(\"MEDICAID\",A2729)),\"X\",\"\")","v":""},{"$f":"IF(ISNUMBER(FIND(\"MEDICARE\",A2729)),\"X\",\"\")","v":""},{"$f":"IF(ISNUMBER(FIND(\"BC/BS\",#REF!)),\"X\",\"\")","v":""}]
["PARAMOUNT ELITE","X",{"$f":"IF(ISNUMBER(FIND(\"MEDICAID\",A2730)),\"X\",\"\")","v":""},{"$f":"IF(ISNUMBER(FIND(\"MEDICARE\",A2730)),\"X\",\"\")","v":""},{"$f":"IF(ISNUMBER(FIND(\"BC/BS\",#REF!)),\"X\",\"\")","v":""}]
["PARAMOUNT HEALTH CARE",null,{"$f":"IF(ISNUMBER(FIND(\"MEDICAID\",A2731)),\"X\",\"\")","v":""},{"$f":"IF(ISNUMBER(FIND(\"MEDICARE\",A2731)),\"X\",\"\")","v":""},{"$f":"IF(ISNUMBER(FIND(\"BC/BS\",#REF!)),\"X\",\"\")","v":""}]
["PARAMOUNT HEALTH CARE - POS",null,{"$f":"IF(ISNUMBER(FIND(\"MEDICAID\",A2732)),\"X\",\"\")","v":""},{"$f":"IF(ISNUMBER(FIND(\"MEDICARE\",A2732)),\"X\",\"\")","v":""},{"$f":"IF(ISNUMBER(FIND(\"BC/BS\",#REF!)),\"X\",\"\")","v":""}]
["PARAMOUNT INSURANCE COMPANY","X",{"$f":"IF(ISNUMBER(FIND(\"MEDICAID\",A2733)),\"X\",\"\")","v":""},{"$f":"IF(ISNUMBER(FIND(\"MEDICARE\",A2733)),\"X\",\"\")","v":""},{"$f":"IF(ISNUMBER(FIND(\"BC/BS\",#REF!)),\"X\",\"\")","v":""}]
["PARCO INC (HEALTHCOMP)",null,{"$f":"IF(ISNUMBER(FIND(\"MEDICAID\",A2734)),\"X\",\"\")","v":""},{"$f":"IF(ISNUMBER(FIND(\"MEDICARE\",A2734)),\"X\",\"\")","v":""},{"$f":"IF(ISNUMBER(FIND(\"BC/BS\",#REF!)),\"X\",\"\")","v":""}]
["PARENT/CHILD INCORPORATED (GROUP & PENSION ADMIN)","X",{"$f":"IF(ISNUMBER(FIND(\"MEDICAID\",A2735)),\"X\",\"\")","v":""},{"$f":"IF(ISNUMBER(FIND(\"MEDICARE\",A2735)),\"X\",\"\")","v":""},{"$f":"IF(ISNUMBER(FIND(\"BC/BS\",#REF!)),\"X\",\"\")","v":""}]
["PARISER DERMATOLOGY SPECIALISTS LTD (BENEFIT PLAN ADMINISTRATORS)",null,{"$f":"IF(ISNUMBER(FIND(\"MEDICAID\",A2736)),\"X\",\"\")","v":""},{"$f":"IF(ISNUMBER(FIND(\"MEDICARE\",A2736)),\"X\",\"\")","v":""},{"$f":"IF(ISNUMBER(FIND(\"BC/BS\",#REF!)),\"X\",\"\")","v":""}]
["PARKLAND COMMUNITY HEALTH PLAN","X",{"$f":"IF(ISNUMBER(FIND(\"MEDICAID\",A2737)),\"X\",\"\")","v":""},{"$f":"IF(ISNUMBER(FIND(\"MEDICARE\",A2737)),\"X\",\"\")","v":""},{"$f":"IF(ISNUMBER(FIND(\"BC/BS\",#REF!)),\"X\",\"\")","v":""}]
["PARKWAY CONSTRUCTION & ARCHITECTURE LP (GROUP & PENSION ADMIN)","X",{"$f":"IF(ISNUMBER(FIND(\"MEDICAID\",A2738)),\"X\",\"\")","v":""},{"$f":"IF(ISNUMBER(FIND(\"MEDICARE\",A2738)),\"X\",\"\")","v":""},{"$f":"IF(ISNUMBER(FIND(\"BC/BS\",#REF!)),\"X\",\"\")","v":""}]
["PARRISH LEASING CO (IPMG)","X",{"$f":"IF(ISNUMBER(FIND(\"MEDICAID\",A2739)),\"X\",\"\")","v":""},{"$f":"IF(ISNUMBER(FIND(\"MEDICARE\",A2739)),\"X\",\"\")","v":""},{"$f":"IF(ISNUMBER(FIND(\"BC/BS\",#REF!)),\"X\",\"\")","v":""}]
["PARTNERS HEALTH PLAN",null,{"$f":"IF(ISNUMBER(FIND(\"MEDICAID\",A2740)),\"X\",\"\")","v":""},{"$f":"IF(ISNUMBER(FIND(\"MEDICARE\",A2740)),\"X\",\"\")","v":""},{"$f":"IF(ISNUMBER(FIND(\"BC/BS\",#REF!)),\"X\",\"\")","v":""}]
["PARTNERSHIP HEALTHPLAN OF CALIFORNIA","X",{"$f":"IF(ISNUMBER(FIND(\"MEDICAID\",A2741)),\"X\",\"\")","v":""},{"$f":"IF(ISNUMBER(FIND(\"MEDICARE\",A2741)),\"X\",\"\")","v":""},{"$f":"IF(ISNUMBER(FIND(\"BC/BS\",#REF!)),\"X\",\"\")","v":""}]
["PASKENTA GOVERNMENT EMPLOYEES (HEALTHCOMP)","X",{"$f":"IF(ISNUMBER(FIND(\"MEDICAID\",A2742)),\"X\",\"\")","v":""},{"$f":"IF(ISNUMBER(FIND(\"MEDICARE\",A2742)),\"X\",\"\")","v":""},{"$f":"IF(ISNUMBER(FIND(\"BC/BS\",#REF!)),\"X\",\"\")","v":""}]
["PASKENTA TRIBAL MEMBERS (HEALTHCOMP)",null,{"$f":"IF(ISNUMBER(FIND(\"MEDICAID\",A2743)),\"X\",\"\")","v":""},{"$f":"IF(ISNUMBER(FIND(\"MEDICARE\",A2743)),\"X\",\"\")","v":""},{"$f":"IF(ISNUMBER(FIND(\"BC/BS\",#REF!)),\"X\",\"\")","v":""}]
["PASO (PROVIDENCE HEALTH PLAN)","X",{"$f":"IF(ISNUMBER(FIND(\"MEDICAID\",A2744)),\"X\",\"\")","v":""},{"$f":"IF(ISNUMBER(FIND(\"MEDICARE\",A2744)),\"X\",\"\")","v":""},{"$f":"IF(ISNUMBER(FIND(\"BC/BS\",#REF!)),\"X\",\"\")","v":""}]
["PASO (PROVIDENCE HEALTH PLANS)","X",{"$f":"IF(ISNUMBER(FIND(\"MEDICAID\",A2745)),\"X\",\"\")","v":""},{"$f":"IF(ISNUMBER(FIND(\"MEDICARE\",A2745)),\"X\",\"\")","v":""},{"$f":"IF(ISNUMBER(FIND(\"BC/BS\",#REF!)),\"X\",\"\")","v":""}]
["PASSPORT HEALTH (PASSPORT ADVANTAGE) (MEDICARE)","X",{"$f":"IF(ISNUMBER(FIND(\"MEDICAID\",A2746)),\"X\",\"\")","v":""},null,{"$f":"IF(ISNUMBER(FIND(\"BC/BS\",#REF!)),\"X\",\"\")","v":""}]
["PASSPORT HEALTH PLAN","X",{"$f":"IF(ISNUMBER(FIND(\"MEDICAID\",A2747)),\"X\",\"\")","v":""},{"$f":"IF(ISNUMBER(FIND(\"MEDICARE\",A2747)),\"X\",\"\")","v":""},{"$f":"IF(ISNUMBER(FIND(\"BC/BS\",#REF!)),\"X\",\"\")","v":""}]
["PASSPORT HEALTH PLAN BY MOLINA HEALTHCARE","X",{"$f":"IF(ISNUMBER(FIND(\"MEDICAID\",A2748)),\"X\",\"\")","v":""},{"$f":"IF(ISNUMBER(FIND(\"MEDICARE\",A2748)),\"X\",\"\")","v":""},{"$f":"IF(ISNUMBER(FIND(\"BC/BS\",#REF!)),\"X\",\"\")","v":""}]
["PATIENT ADVOCATES","X",{"$f":"IF(ISNUMBER(FIND(\"MEDICAID\",A2749)),\"X\",\"\")","v":""},{"$f":"IF(ISNUMBER(FIND(\"MEDICARE\",A2749)),\"X\",\"\")","v":""},{"$f":"IF(ISNUMBER(FIND(\"BC/BS\",#REF!)),\"X\",\"\")","v":""}]
["PATRICK OCONNOR EBPT (90 DEGREE BENEFITS HOUSTON - ENTRUST)",null,{"$f":"IF(ISNUMBER(FIND(\"MEDICAID\",A2750)),\"X\",\"\")","v":""},{"$f":"IF(ISNUMBER(FIND(\"MEDICARE\",A2750)),\"X\",\"\")","v":""},{"$f":"IF(ISNUMBER(FIND(\"BC/BS\",#REF!)),\"X\",\"\")","v":""}]
["PATTERSON HORTH INC (GROUP & PENSION ADMIN)","X",{"$f":"IF(ISNUMBER(FIND(\"MEDICAID\",A2751)),\"X\",\"\")","v":""},{"$f":"IF(ISNUMBER(FIND(\"MEDICARE\",A2751)),\"X\",\"\")","v":""},{"$f":"IF(ISNUMBER(FIND(\"BC/BS\",#REF!)),\"X\",\"\")","v":""}]
["PAYSIGN INC",null,{"$f":"IF(ISNUMBER(FIND(\"MEDICAID\",A2752)),\"X\",\"\")","v":""},{"$f":"IF(ISNUMBER(FIND(\"MEDICARE\",A2752)),\"X\",\"\")","v":""},{"$f":"IF(ISNUMBER(FIND(\"BC/BS\",#REF!)),\"X\",\"\")","v":""}]
["PBS ENGINEER & ENVIRONMENTAL (HEALTHCOMP)","X",{"$f":"IF(ISNUMBER(FIND(\"MEDICAID\",A2753)),\"X\",\"\")","v":""},{"$f":"IF(ISNUMBER(FIND(\"MEDICARE\",A2753)),\"X\",\"\")","v":""},{"$f":"IF(ISNUMBER(FIND(\"BC/BS\",#REF!)),\"X\",\"\")","v":""}]
["PCI CONSTRUCTION INC (GROUP & PENSION ADMIN)",null,{"$f":"IF(ISNUMBER(FIND(\"MEDICAID\",A2754)),\"X\",\"\")","v":""},{"$f":"IF(ISNUMBER(FIND(\"MEDICARE\",A2754)),\"X\",\"\")","v":""},{"$f":"IF(ISNUMBER(FIND(\"BC/BS\",#REF!)),\"X\",\"\")","v":""}]
["PEACE HAVEN EBPT (90 DEGREE BENEFITS HOUSTON - ENTRUST)","X",{"$f":"IF(ISNUMBER(FIND(\"MEDICAID\",A2755)),\"X\",\"\")","v":""},{"$f":"IF(ISNUMBER(FIND(\"MEDICARE\",A2755)),\"X\",\"\")","v":""},{"$f":"IF(ISNUMBER(FIND(\"BC/BS\",#REF!)),\"X\",\"\")","v":""}]
["PEACE INC (MVP HEALTH CARE)","X",{"$f":"IF(ISNUMBER(FIND(\"MEDICAID\",A2756)),\"X\",\"\")","v":""},{"$f":"IF(ISNUMBER(FIND(\"MEDICARE\",A2756)),\"X\",\"\")","v":""},{"$f":"IF(ISNUMBER(FIND(\"BC/BS\",#REF!)),\"X\",\"\")","v":""}]
["PEACH STATE HEALTH PLAN","X",{"$f":"IF(ISNUMBER(FIND(\"MEDICAID\",A2757)),\"X\",\"\")","v":""},{"$f":"IF(ISNUMBER(FIND(\"MEDICARE\",A2757)),\"X\",\"\")","v":""},{"$f":"IF(ISNUMBER(FIND(\"BC/BS\",#REF!)),\"X\",\"\")","v":""}]
["PEAK INSURANCE","X",{"$f":"IF(ISNUMBER(FIND(\"MEDICAID\",A2758)),\"X\",\"\")","v":""},{"$f":"IF(ISNUMBER(FIND(\"MEDICARE\",A2758)),\"X\",\"\")","v":""},{"$f":"IF(ISNUMBER(FIND(\"BC/BS\",#REF!)),\"X\",\"\")","v":""}]
["PEAK RESOURCES INC (90 DEGREE BENEFITS NORTH CAROLINA - CORPORATE BENEFIT SERVICES)","X",{"$f":"IF(ISNUMBER(FIND(\"MEDICAID\",A2759)),\"X\",\"\")","v":""},{"$f":"IF(ISNUMBER(FIND(\"MEDICARE\",A2759)),\"X\",\"\")","v":""},{"$f":"IF(ISNUMBER(FIND(\"BC/BS\",#REF!)),\"X\",\"\")","v":""}]
["PEARCE PUMP SUPPLY EBPT (90 DEGREE BENEFITS HOUSTON - ENTRUST)",null,{"$f":"IF(ISNUMBER(FIND(\"MEDICAID\",A2760)),\"X\",\"\")","v":""},{"$f":"IF(ISNUMBER(FIND(\"MEDICARE\",A2760)),\"X\",\"\")","v":""},{"$f":"IF(ISNUMBER(FIND(\"BC/BS\",#REF!)),\"X\",\"\")","v":""}]
["PECKHAM INDUSTRIES INC (MVP HEALTH CARE)","X",{"$f":"IF(ISNUMBER(FIND(\"MEDICAID\",A2761)),\"X\",\"\")","v":""},{"$f":"IF(ISNUMBER(FIND(\"MEDICARE\",A2761)),\"X\",\"\")","v":""},{"$f":"IF(ISNUMBER(FIND(\"BC/BS\",#REF!)),\"X\",\"\")","v":""}]
["PEF CLINIC LTD (INNOVISTA HEALTH)","X",{"$f":"IF(ISNUMBER(FIND(\"MEDICAID\",A2762)),\"X\",\"\")","v":""},{"$f":"IF(ISNUMBER(FIND(\"MEDICARE\",A2762)),\"X\",\"\")","v":""},{"$f":"IF(ISNUMBER(FIND(\"BC/BS\",#REF!)),\"X\",\"\")","v":""}]
["PEKIN LIFE INSURANCE","X",{"$f":"IF(ISNUMBER(FIND(\"MEDICAID\",A2763)),\"X\",\"\")","v":""},{"$f":"IF(ISNUMBER(FIND(\"MEDICARE\",A2763)),\"X\",\"\")","v":""},{"$f":"IF(ISNUMBER(FIND(\"BC/BS\",#REF!)),\"X\",\"\")","v":""}]
["PENINSULA PAVING INC (SENTARA)","X",{"$f":"IF(ISNUMBER(FIND(\"MEDICAID\",A2764)),\"X\",\"\")","v":""},{"$f":"IF(ISNUMBER(FIND(\"MEDICARE\",A2764)),\"X\",\"\")","v":""},{"$f":"IF(ISNUMBER(FIND(\"BC/BS\",#REF!)),\"X\",\"\")","v":""}]
["PENN STATE HOME RECOVERY CARE (CONTESSA HEALTH)","X",{"$f":"IF(ISNUMBER(FIND(\"MEDICAID\",A2765)),\"X\",\"\")","v":""},{"$f":"IF(ISNUMBER(FIND(\"MEDICARE\",A2765)),\"X\",\"\")","v":""},{"$f":"IF(ISNUMBER(FIND(\"BC/BS\",#REF!)),\"X\",\"\")","v":""}]
["PENNSYLVANIA EMPLOYEES BENEFIT TRUST FUND (PEBTF) (GEISINGER HEALTH PLAN)","X",{"$f":"IF(ISNUMBER(FIND(\"MEDICAID\",A2766)),\"X\",\"\")","v":""},{"$f":"IF(ISNUMBER(FIND(\"MEDICARE\",A2766)),\"X\",\"\")","v":""},{"$f":"IF(ISNUMBER(FIND(\"BC/BS\",#REF!)),\"X\",\"\")","v":""}]
["PENNSYLVANIA TRUST (GEISINGER HEALTH PLAN)","X",{"$f":"IF(ISNUMBER(FIND(\"MEDICAID\",A2767)),\"X\",\"\")","v":""},{"$f":"IF(ISNUMBER(FIND(\"MEDICARE\",A2767)),\"X\",\"\")","v":""},{"$f":"IF(ISNUMBER(FIND(\"BC/BS\",#REF!)),\"X\",\"\")","v":""}]
["PENSION CORPORATION OF AMERICA OF CINCINNATI (THE HEALTH PLAN)",null,{"$f":"IF(ISNUMBER(FIND(\"MEDICAID\",A2768)),\"X\",\"\")","v":""},{"$f":"IF(ISNUMBER(FIND(\"MEDICARE\",A2768)),\"X\",\"\")","v":""},{"$f":"IF(ISNUMBER(FIND(\"BC/BS\",#REF!)),\"X\",\"\")","v":""}]
["PENSKE MOTOR GROUP LLC (HEALTHCOMP)",null,{"$f":"IF(ISNUMBER(FIND(\"MEDICAID\",A2769)),\"X\",\"\")","v":""},{"$f":"IF(ISNUMBER(FIND(\"MEDICARE\",A2769)),\"X\",\"\")","v":""},{"$f":"IF(ISNUMBER(FIND(\"BC/BS\",#REF!)),\"X\",\"\")","v":""}]
["PEOPLE 1ST HEALTH STRATEGIES INC","X",{"$f":"IF(ISNUMBER(FIND(\"MEDICAID\",A2770)),\"X\",\"\")","v":""},{"$f":"IF(ISNUMBER(FIND(\"MEDICARE\",A2770)),\"X\",\"\")","v":""},{"$f":"IF(ISNUMBER(FIND(\"BC/BS\",#REF!)),\"X\",\"\")","v":""}]
["PEOPLES HEALTH","X",{"$f":"IF(ISNUMBER(FIND(\"MEDICAID\",A2771)),\"X\",\"\")","v":""},{"$f":"IF(ISNUMBER(FIND(\"MEDICARE\",A2771)),\"X\",\"\")","v":""},{"$f":"IF(ISNUMBER(FIND(\"BC/BS\",#REF!)),\"X\",\"\")","v":""}]
["PEPPERMILL CASINO (HOMETOWN HEALTH NEVADA)","X",{"$f":"IF(ISNUMBER(FIND(\"MEDICAID\",A2772)),\"X\",\"\")","v":""},{"$f":"IF(ISNUMBER(FIND(\"MEDICARE\",A2772)),\"X\",\"\")","v":""},{"$f":"IF(ISNUMBER(FIND(\"BC/BS\",#REF!)),\"X\",\"\")","v":""}]
["PEQUOT HEALTH CARE","X",{"$f":"IF(ISNUMBER(FIND(\"MEDICAID\",A2773)),\"X\",\"\")","v":""},{"$f":"IF(ISNUMBER(FIND(\"MEDICARE\",A2773)),\"X\",\"\")","v":""},{"$f":"IF(ISNUMBER(FIND(\"BC/BS\",#REF!)),\"X\",\"\")","v":""}]
["PERATON (AMERIBEN)",null,{"$f":"IF(ISNUMBER(FIND(\"MEDICAID\",A2774)),\"X\",\"\")","v":""},{"$f":"IF(ISNUMBER(FIND(\"MEDICARE\",A2774)),\"X\",\"\")","v":""},{"$f":"IF(ISNUMBER(FIND(\"BC/BS\",#REF!)),\"X\",\"\")","v":""}]
["PERENNIAL ADVANTAGE OF OH","X",{"$f":"IF(ISNUMBER(FIND(\"MEDICAID\",A2775)),\"X\",\"\")","v":""},{"$f":"IF(ISNUMBER(FIND(\"MEDICARE\",A2775)),\"X\",\"\")","v":""},{"$f":"IF(ISNUMBER(FIND(\"BC/BS\",#REF!)),\"X\",\"\")","v":""}]
["PERFORMANCE HEALTH","X",{"$f":"IF(ISNUMBER(FIND(\"MEDICAID\",A2776)),\"X\",\"\")","v":""},{"$f":"IF(ISNUMBER(FIND(\"MEDICARE\",A2776)),\"X\",\"\")","v":""},{"$f":"IF(ISNUMBER(FIND(\"BC/BS\",#REF!)),\"X\",\"\")","v":""}]
["PERFORMCARE","X",{"$f":"IF(ISNUMBER(FIND(\"MEDICAID\",A2777)),\"X\",\"\")","v":""},{"$f":"IF(ISNUMBER(FIND(\"MEDICARE\",A2777)),\"X\",\"\")","v":""},{"$f":"IF(ISNUMBER(FIND(\"BC/BS\",#REF!)),\"X\",\"\")","v":""}]
["PERMA","X",{"$f":"IF(ISNUMBER(FIND(\"MEDICAID\",A2778)),\"X\",\"\")","v":""},{"$f":"IF(ISNUMBER(FIND(\"MEDICARE\",A2778)),\"X\",\"\")","v":""},{"$f":"IF(ISNUMBER(FIND(\"BC/BS\",#REF!)),\"X\",\"\")","v":""}]
["PERRY COUNTY (GROUP & PENSION ADMIN)","X",{"$f":"IF(ISNUMBER(FIND(\"MEDICAID\",A2779)),\"X\",\"\")","v":""},{"$f":"IF(ISNUMBER(FIND(\"MEDICARE\",A2779)),\"X\",\"\")","v":""},{"$f":"IF(ISNUMBER(FIND(\"BC/BS\",#REF!)),\"X\",\"\")","v":""}]
["PERSONALIZED RECOVERY CARE LLC (CONTESSA HEALTH)","X",{"$f":"IF(ISNUMBER(FIND(\"MEDICAID\",A2780)),\"X\",\"\")","v":""},{"$f":"IF(ISNUMBER(FIND(\"MEDICARE\",A2780)),\"X\",\"\")","v":""},{"$f":"IF(ISNUMBER(FIND(\"BC/BS\",#REF!)),\"X\",\"\")","v":""}]
["PETERSON HOLDING COMPANY (HEALTHCOMP)",null,{"$f":"IF(ISNUMBER(FIND(\"MEDICAID\",A2781)),\"X\",\"\")","v":""},{"$f":"IF(ISNUMBER(FIND(\"MEDICARE\",A2781)),\"X\",\"\")","v":""},{"$f":"IF(ISNUMBER(FIND(\"BC/BS\",#REF!)),\"X\",\"\")","v":""}]
["PETRA OIL COMPANY EBPT (90 DEGREE BENEFITS HOUSTON - ENTRUST)",null,{"$f":"IF(ISNUMBER(FIND(\"MEDICAID\",A2782)),\"X\",\"\")","v":""},{"$f":"IF(ISNUMBER(FIND(\"MEDICARE\",A2782)),\"X\",\"\")","v":""},{"$f":"IF(ISNUMBER(FIND(\"BC/BS\",#REF!)),\"X\",\"\")","v":""}]
["PETRO-HUNT LLC (GROUP & PENSION ADMIN)","X",{"$f":"IF(ISNUMBER(FIND(\"MEDICAID\",A2783)),\"X\",\"\")","v":""},{"$f":"IF(ISNUMBER(FIND(\"MEDICARE\",A2783)),\"X\",\"\")","v":""},{"$f":"IF(ISNUMBER(FIND(\"BC/BS\",#REF!)),\"X\",\"\")","v":""}]
["PETROLEUM WHOLESALE LP (GROUP & PENSION ADMIN)","X",{"$f":"IF(ISNUMBER(FIND(\"MEDICAID\",A2784)),\"X\",\"\")","v":""},{"$f":"IF(ISNUMBER(FIND(\"MEDICARE\",A2784)),\"X\",\"\")","v":""},{"$f":"IF(ISNUMBER(FIND(\"BC/BS\",#REF!)),\"X\",\"\")","v":""}]
["PFLUGERVILLE ISD (WEBTPA)",null,{"$f":"IF(ISNUMBER(FIND(\"MEDICAID\",A2785)),\"X\",\"\")","v":""},{"$f":"IF(ISNUMBER(FIND(\"MEDICARE\",A2785)),\"X\",\"\")","v":""},{"$f":"IF(ISNUMBER(FIND(\"BC/BS\",#REF!)),\"X\",\"\")","v":""}]
["PGBA LLC - TRICARE (WEST)","X",{"$f":"IF(ISNUMBER(FIND(\"MEDICAID\",A2786)),\"X\",\"\")","v":""},{"$f":"IF(ISNUMBER(FIND(\"MEDICARE\",A2786)),\"X\",\"\")","v":""},{"$f":"IF(ISNUMBER(FIND(\"BC/BS\",#REF!)),\"X\",\"\")","v":""}]
["PHA2 EFFECTIVE 1/1/2021 - PROV HLTH ASSURANCE-PHT (PROVIDENCE HEALTH PLAN)",null,{"$f":"IF(ISNUMBER(FIND(\"MEDICAID\",A2787)),\"X\",\"\")","v":""},{"$f":"IF(ISNUMBER(FIND(\"MEDICARE\",A2787)),\"X\",\"\")","v":""},{"$f":"IF(ISNUMBER(FIND(\"BC/BS\",#REF!)),\"X\",\"\")","v":""}]
["PHARMACOSMOS","X",{"$f":"IF(ISNUMBER(FIND(\"MEDICAID\",A2788)),\"X\",\"\")","v":""},{"$f":"IF(ISNUMBER(FIND(\"MEDICARE\",A2788)),\"X\",\"\")","v":""},{"$f":"IF(ISNUMBER(FIND(\"BC/BS\",#REF!)),\"X\",\"\")","v":""}]
["PHARMACY DATA MANAGEMENT INC","X",{"$f":"IF(ISNUMBER(FIND(\"MEDICAID\",A2789)),\"X\",\"\")","v":""},{"$f":"IF(ISNUMBER(FIND(\"MEDICARE\",A2789)),\"X\",\"\")","v":""},{"$f":"IF(ISNUMBER(FIND(\"BC/BS\",#REF!)),\"X\",\"\")","v":""}]
["PHARMAPIX INTERNATIONAL","X",{"$f":"IF(ISNUMBER(FIND(\"MEDICAID\",A2790)),\"X\",\"\")","v":""},{"$f":"IF(ISNUMBER(FIND(\"MEDICARE\",A2790)),\"X\",\"\")","v":""},{"$f":"IF(ISNUMBER(FIND(\"BC/BS\",#REF!)),\"X\",\"\")","v":""}]
["PHILADELPHIA AMERICAN LIFE INSURANCE CO (NEW ERA LIFE)","X",{"$f":"IF(ISNUMBER(FIND(\"MEDICAID\",A2791)),\"X\",\"\")","v":""},{"$f":"IF(ISNUMBER(FIND(\"MEDICARE\",A2791)),\"X\",\"\")","v":""},{"$f":"IF(ISNUMBER(FIND(\"BC/BS\",#REF!)),\"X\",\"\")","v":""}]
["PHN DISBURSEMENTS (FACEY MEDICAL GROUP)","X",{"$f":"IF(ISNUMBER(FIND(\"MEDICAID\",A2792)),\"X\",\"\")","v":""},{"$f":"IF(ISNUMBER(FIND(\"MEDICARE\",A2792)),\"X\",\"\")","v":""},{"$f":"IF(ISNUMBER(FIND(\"BC/BS\",#REF!)),\"X\",\"\")","v":""}]
["PHOEBE PUTNAM HEALTH SYSTEM (MAESTRO HEALTH)","X",{"$f":"IF(ISNUMBER(FIND(\"MEDICAID\",A2793)),\"X\",\"\")","v":""},{"$f":"IF(ISNUMBER(FIND(\"MEDICARE\",A2793)),\"X\",\"\")","v":""},{"$f":"IF(ISNUMBER(FIND(\"BC/BS\",#REF!)),\"X\",\"\")","v":""}]
["PHOENICIA FOODS EBPT (90 DEGREE BENEFITS HOUSTON - ENTRUST)",null,{"$f":"IF(ISNUMBER(FIND(\"MEDICAID\",A2794)),\"X\",\"\")","v":""},{"$f":"IF(ISNUMBER(FIND(\"MEDICARE\",A2794)),\"X\",\"\")","v":""},{"$f":"IF(ISNUMBER(FIND(\"BC/BS\",#REF!)),\"X\",\"\")","v":""}]
["PHP TPA SERVICES","X",{"$f":"IF(ISNUMBER(FIND(\"MEDICAID\",A2795)),\"X\",\"\")","v":""},{"$f":"IF(ISNUMBER(FIND(\"MEDICARE\",A2795)),\"X\",\"\")","v":""},{"$f":"IF(ISNUMBER(FIND(\"BC/BS\",#REF!)),\"X\",\"\")","v":""}]
["PHYS NET ADV AND FORWARD ADV (HEALTHCOMP)","X",{"$f":"IF(ISNUMBER(FIND(\"MEDICAID\",A2796)),\"X\",\"\")","v":""},{"$f":"IF(ISNUMBER(FIND(\"MEDICARE\",A2796)),\"X\",\"\")","v":""},{"$f":"IF(ISNUMBER(FIND(\"BC/BS\",#REF!)),\"X\",\"\")","v":""}]
["PHYSICIANS CARE NETWORK (ARCADIA SOLUTIONS)","X",{"$f":"IF(ISNUMBER(FIND(\"MEDICAID\",A2797)),\"X\",\"\")","v":""},{"$f":"IF(ISNUMBER(FIND(\"MEDICARE\",A2797)),\"X\",\"\")","v":""},{"$f":"IF(ISNUMBER(FIND(\"BC/BS\",#REF!)),\"X\",\"\")","v":""}]
["PHYSICIANS CHOICE SAN LUIS OBISPO","X",{"$f":"IF(ISNUMBER(FIND(\"MEDICAID\",A2798)),\"X\",\"\")","v":""},{"$f":"IF(ISNUMBER(FIND(\"MEDICARE\",A2798)),\"X\",\"\")","v":""},{"$f":"IF(ISNUMBER(FIND(\"BC/BS\",#REF!)),\"X\",\"\")","v":""}]
["PHYSICIANS CHOICE SANTA MARIA",null,{"$f":"IF(ISNUMBER(FIND(\"MEDICAID\",A2799)),\"X\",\"\")","v":""},{"$f":"IF(ISNUMBER(FIND(\"MEDICARE\",A2799)),\"X\",\"\")","v":""},{"$f":"IF(ISNUMBER(FIND(\"BC/BS\",#REF!)),\"X\",\"\")","v":""}]
["PHYSICIANS HEALTH ASSOCIATION OF ILLINOIS (INNOVISTA HEALTH)","X",{"$f":"IF(ISNUMBER(FIND(\"MEDICAID\",A2800)),\"X\",\"\")","v":""},{"$f":"IF(ISNUMBER(FIND(\"MEDICARE\",A2800)),\"X\",\"\")","v":""},{"$f":"IF(ISNUMBER(FIND(\"BC/BS\",#REF!)),\"X\",\"\")","v":""}]
["PHYSICIANS HEALTH NETWORK",null,{"$f":"IF(ISNUMBER(FIND(\"MEDICAID\",A2801)),\"X\",\"\")","v":""},{"$f":"IF(ISNUMBER(FIND(\"MEDICARE\",A2801)),\"X\",\"\")","v":""},{"$f":"IF(ISNUMBER(FIND(\"BC/BS\",#REF!)),\"X\",\"\")","v":""}]
["PHYSICIANS HEALTH PLAN","X",{"$f":"IF(ISNUMBER(FIND(\"MEDICAID\",A2802)),\"X\",\"\")","v":""},{"$f":"IF(ISNUMBER(FIND(\"MEDICARE\",A2802)),\"X\",\"\")","v":""},{"$f":"IF(ISNUMBER(FIND(\"BC/BS\",#REF!)),\"X\",\"\")","v":""}]
["PHYSICIANS HEALTH PLAN (PHP)",null,{"$f":"IF(ISNUMBER(FIND(\"MEDICAID\",A2803)),\"X\",\"\")","v":""},{"$f":"IF(ISNUMBER(FIND(\"MEDICARE\",A2803)),\"X\",\"\")","v":""},{"$f":"IF(ISNUMBER(FIND(\"BC/BS\",#REF!)),\"X\",\"\")","v":""}]
["PHYSICIANS HEALTH PLAN INSURANCE COMPANY (PHP)","X",{"$f":"IF(ISNUMBER(FIND(\"MEDICAID\",A2804)),\"X\",\"\")","v":""},{"$f":"IF(ISNUMBER(FIND(\"MEDICARE\",A2804)),\"X\",\"\")","v":""},{"$f":"IF(ISNUMBER(FIND(\"BC/BS\",#REF!)),\"X\",\"\")","v":""}]
["PHYSICIANS HEALTH PLAN OF NORTHERN INDIANA INC (PHP)","X",{"$f":"IF(ISNUMBER(FIND(\"MEDICAID\",A2805)),\"X\",\"\")","v":""},{"$f":"IF(ISNUMBER(FIND(\"MEDICARE\",A2805)),\"X\",\"\")","v":""},{"$f":"IF(ISNUMBER(FIND(\"BC/BS\",#REF!)),\"X\",\"\")","v":""}]
["PHYSICIANS HEALTH PLAN SERVICE COMPANY (PHP)","X",{"$f":"IF(ISNUMBER(FIND(\"MEDICAID\",A2806)),\"X\",\"\")","v":""},{"$f":"IF(ISNUMBER(FIND(\"MEDICARE\",A2806)),\"X\",\"\")","v":""},{"$f":"IF(ISNUMBER(FIND(\"BC/BS\",#REF!)),\"X\",\"\")","v":""}]
["PHYSICIANS MEDICAL GROUP OF SAN JOSE",null,{"$f":"IF(ISNUMBER(FIND(\"MEDICAID\",A2807)),\"X\",\"\")","v":""},{"$f":"IF(ISNUMBER(FIND(\"MEDICARE\",A2807)),\"X\",\"\")","v":""},{"$f":"IF(ISNUMBER(FIND(\"BC/BS\",#REF!)),\"X\",\"\")","v":""}]
["PHYSICIANS MUTUAL INSURANCE COMPANY","X",{"$f":"IF(ISNUMBER(FIND(\"MEDICAID\",A2808)),\"X\",\"\")","v":""},{"$f":"IF(ISNUMBER(FIND(\"MEDICARE\",A2808)),\"X\",\"\")","v":""},{"$f":"IF(ISNUMBER(FIND(\"BC/BS\",#REF!)),\"X\",\"\")","v":""},null,"X"]
["PHYSICIANS OF SOUTHWEST WASHINGTON","X",{"$f":"IF(ISNUMBER(FIND(\"MEDICAID\",A2809)),\"X\",\"\")","v":""},{"$f":"IF(ISNUMBER(FIND(\"MEDICARE\",A2809)),\"X\",\"\")","v":""},{"$f":"IF(ISNUMBER(FIND(\"BC/BS\",#REF!)),\"X\",\"\")","v":""}]
["PIEDMONT COMMUNITY HEALTH PLAN","X",{"$f":"IF(ISNUMBER(FIND(\"MEDICAID\",A2810)),\"X\",\"\")","v":""},{"$f":"IF(ISNUMBER(FIND(\"MEDICARE\",A2810)),\"X\",\"\")","v":""},{"$f":"IF(ISNUMBER(FIND(\"BC/BS\",#REF!)),\"X\",\"\")","v":""}]
["PIH HEALTH PHYSICIANS","X",{"$f":"IF(ISNUMBER(FIND(\"MEDICAID\",A2811)),\"X\",\"\")","v":""},{"$f":"IF(ISNUMBER(FIND(\"MEDICARE\",A2811)),\"X\",\"\")","v":""},{"$f":"IF(ISNUMBER(FIND(\"BC/BS\",#REF!)),\"X\",\"\")","v":""}]
["PILGRIMAGE HEALTH CARE LLC (GROUP & PENSION ADMIN)",null,{"$f":"IF(ISNUMBER(FIND(\"MEDICAID\",A2812)),\"X\",\"\")","v":""},{"$f":"IF(ISNUMBER(FIND(\"MEDICARE\",A2812)),\"X\",\"\")","v":""},{"$f":"IF(ISNUMBER(FIND(\"BC/BS\",#REF!)),\"X\",\"\")","v":""}]
["PINNACLE MEDICAL GROUP (EPIC MANAGEMENT)","X",{"$f":"IF(ISNUMBER(FIND(\"MEDICAID\",A2813)),\"X\",\"\")","v":""},{"$f":"IF(ISNUMBER(FIND(\"MEDICARE\",A2813)),\"X\",\"\")","v":""},{"$f":"IF(ISNUMBER(FIND(\"BC/BS\",#REF!)),\"X\",\"\")","v":""}]
["PIONEER CONTRACT SERVICES INC (GROUP & PENSION ADMIN)","X",{"$f":"IF(ISNUMBER(FIND(\"MEDICAID\",A2814)),\"X\",\"\")","v":""},{"$f":"IF(ISNUMBER(FIND(\"MEDICARE\",A2814)),\"X\",\"\")","v":""},{"$f":"IF(ISNUMBER(FIND(\"BC/BS\",#REF!)),\"X\",\"\")","v":""}]
["PIPE FITTERS WELFARE FUND LOCAL 597","X",{"$f":"IF(ISNUMBER(FIND(\"MEDICAID\",A2815)),\"X\",\"\")","v":""},{"$f":"IF(ISNUMBER(FIND(\"MEDICARE\",A2815)),\"X\",\"\")","v":""},{"$f":"IF(ISNUMBER(FIND(\"BC/BS\",#REF!)),\"X\",\"\")","v":""}]
["PIPE TRADES INDUSTRY HEALTH & WELFARE",null,{"$f":"IF(ISNUMBER(FIND(\"MEDICAID\",A2816)),\"X\",\"\")","v":""},{"$f":"IF(ISNUMBER(FIND(\"MEDICARE\",A2816)),\"X\",\"\")","v":""},{"$f":"IF(ISNUMBER(FIND(\"BC/BS\",#REF!)),\"X\",\"\")","v":""}]
["PIPELINE INDUSTRY BENEFIT FUND","X",{"$f":"IF(ISNUMBER(FIND(\"MEDICAID\",A2817)),\"X\",\"\")","v":""},{"$f":"IF(ISNUMBER(FIND(\"MEDICARE\",A2817)),\"X\",\"\")","v":""},{"$f":"IF(ISNUMBER(FIND(\"BC/BS\",#REF!)),\"X\",\"\")","v":""}]
["PIPP MOBILE STORAGE SYSTEMS INC (ASR CORP)","X",{"$f":"IF(ISNUMBER(FIND(\"MEDICAID\",A2818)),\"X\",\"\")","v":""},{"$f":"IF(ISNUMBER(FIND(\"MEDICARE\",A2818)),\"X\",\"\")","v":""},{"$f":"IF(ISNUMBER(FIND(\"BC/BS\",#REF!)),\"X\",\"\")","v":""}]
["PIRELLI ARMSTRONG TIRE CORP RETIREE MEDICAL (SOUTHERN BENEFIT ADMINISTRATORS)","X",{"$f":"IF(ISNUMBER(FIND(\"MEDICAID\",A2819)),\"X\",\"\")","v":""},{"$f":"IF(ISNUMBER(FIND(\"MEDICARE\",A2819)),\"X\",\"\")","v":""},{"$f":"IF(ISNUMBER(FIND(\"BC/BS\",#REF!)),\"X\",\"\")","v":""}]
["PITCHFORD ELEVATOR (IPMG)","X",{"$f":"IF(ISNUMBER(FIND(\"MEDICAID\",A2820)),\"X\",\"\")","v":""},{"$f":"IF(ISNUMBER(FIND(\"MEDICARE\",A2820)),\"X\",\"\")","v":""},{"$f":"IF(ISNUMBER(FIND(\"BC/BS\",#REF!)),\"X\",\"\")","v":""}]
["PITSCO INC (MAA/HEALTHSMART)",null,{"$f":"IF(ISNUMBER(FIND(\"MEDICAID\",A2821)),\"X\",\"\")","v":""},{"$f":"IF(ISNUMBER(FIND(\"MEDICARE\",A2821)),\"X\",\"\")","v":""},{"$f":"IF(ISNUMBER(FIND(\"BC/BS\",#REF!)),\"X\",\"\")","v":""}]
["PITTSBURGH CARE PARTNERSHIP INC","X",{"$f":"IF(ISNUMBER(FIND(\"MEDICAID\",A2822)),\"X\",\"\")","v":""},{"$f":"IF(ISNUMBER(FIND(\"MEDICARE\",A2822)),\"X\",\"\")","v":""},{"$f":"IF(ISNUMBER(FIND(\"BC/BS\",#REF!)),\"X\",\"\")","v":""}]
["PITTSBURGH CLAIMS BRANCH (AUTO-OWNERS INSURANCE COMPANY)","X",{"$f":"IF(ISNUMBER(FIND(\"MEDICAID\",A2823)),\"X\",\"\")","v":""},{"$f":"IF(ISNUMBER(FIND(\"MEDICARE\",A2823)),\"X\",\"\")","v":""},{"$f":"IF(ISNUMBER(FIND(\"BC/BS\",#REF!)),\"X\",\"\")","v":""},"X","X"]
["PITTSBURGH VA MEDICAL CENTER-UNIVERSITY DRIVE","X",{"$f":"IF(ISNUMBER(FIND(\"MEDICAID\",A2824)),\"X\",\"\")","v":""},{"$f":"IF(ISNUMBER(FIND(\"MEDICARE\",A2824)),\"X\",\"\")","v":""},{"$f":"IF(ISNUMBER(FIND(\"BC/BS\",#REF!)),\"X\",\"\")","v":""}]
["PITTSTON AREA SCHOOL DISTRICT (GEISINGER HEALTH PLAN)","X",{"$f":"IF(ISNUMBER(FIND(\"MEDICAID\",A2825)),\"X\",\"\")","v":""},{"$f":"IF(ISNUMBER(FIND(\"MEDICARE\",A2825)),\"X\",\"\")","v":""},{"$f":"IF(ISNUMBER(FIND(\"BC/BS\",#REF!)),\"X\",\"\")","v":""}]
["PLAN DE SALUD MENONITA",null,{"$f":"IF(ISNUMBER(FIND(\"MEDICAID\",A2826)),\"X\",\"\")","v":""},{"$f":"IF(ISNUMBER(FIND(\"MEDICARE\",A2826)),\"X\",\"\")","v":""},{"$f":"IF(ISNUMBER(FIND(\"BC/BS\",#REF!)),\"X\",\"\")","v":""}]
["PLANET FITNESS (SENTARA)","X",{"$f":"IF(ISNUMBER(FIND(\"MEDICAID\",A2827)),\"X\",\"\")","v":""},{"$f":"IF(ISNUMBER(FIND(\"MEDICARE\",A2827)),\"X\",\"\")","v":""},{"$f":"IF(ISNUMBER(FIND(\"BC/BS\",#REF!)),\"X\",\"\")","v":""}]
["PLANNED ADMINISTRATORS INC","X",{"$f":"IF(ISNUMBER(FIND(\"MEDICAID\",A2828)),\"X\",\"\")","v":""},{"$f":"IF(ISNUMBER(FIND(\"MEDICARE\",A2828)),\"X\",\"\")","v":""},{"$f":"IF(ISNUMBER(FIND(\"BC/BS\",#REF!)),\"X\",\"\")","v":""}]
["PLEASANT MOUNT WELDING INC (GEISINGER HEALTH PLAN)","X",{"$f":"IF(ISNUMBER(FIND(\"MEDICAID\",A2829)),\"X\",\"\")","v":""},{"$f":"IF(ISNUMBER(FIND(\"MEDICARE\",A2829)),\"X\",\"\")","v":""},{"$f":"IF(ISNUMBER(FIND(\"BC/BS\",#REF!)),\"X\",\"\")","v":""}]
["PLUMBERS & PIPEFITTERS UA LOCAL 350","X",{"$f":"IF(ISNUMBER(FIND(\"MEDICAID\",A2830)),\"X\",\"\")","v":""},{"$f":"IF(ISNUMBER(FIND(\"MEDICARE\",A2830)),\"X\",\"\")","v":""},{"$f":"IF(ISNUMBER(FIND(\"BC/BS\",#REF!)),\"X\",\"\")","v":""}]
["PLUMBERS AND PIPEFITTERS WELFARE EDUCATIONAL FUND","X",{"$f":"IF(ISNUMBER(FIND(\"MEDICAID\",A2831)),\"X\",\"\")","v":""},{"$f":"IF(ISNUMBER(FIND(\"MEDICARE\",A2831)),\"X\",\"\")","v":""},{"$f":"IF(ISNUMBER(FIND(\"BC/BS\",#REF!)),\"X\",\"\")","v":""}]
["PLUMBERS LOCAL 130","X",{"$f":"IF(ISNUMBER(FIND(\"MEDICAID\",A2832)),\"X\",\"\")","v":""},{"$f":"IF(ISNUMBER(FIND(\"MEDICARE\",A2832)),\"X\",\"\")","v":""},{"$f":"IF(ISNUMBER(FIND(\"BC/BS\",#REF!)),\"X\",\"\")","v":""}]
["PMA AXMINSTER MEDICAL GROUP (FACEY MEDICAL GROUP)","X",{"$f":"IF(ISNUMBER(FIND(\"MEDICAID\",A2833)),\"X\",\"\")","v":""},{"$f":"IF(ISNUMBER(FIND(\"MEDICARE\",A2833)),\"X\",\"\")","v":""},{"$f":"IF(ISNUMBER(FIND(\"BC/BS\",#REF!)),\"X\",\"\")","v":""}]
["PMF INDUSTRIES (GEISINGER HEALTH PLAN)","X",{"$f":"IF(ISNUMBER(FIND(\"MEDICAID\",A2834)),\"X\",\"\")","v":""},{"$f":"IF(ISNUMBER(FIND(\"MEDICARE\",A2834)),\"X\",\"\")","v":""},{"$f":"IF(ISNUMBER(FIND(\"BC/BS\",#REF!)),\"X\",\"\")","v":""}]
["PNM RESOURCES ASO (PRESBYTERIAN HEALTH PLAN)","X",{"$f":"IF(ISNUMBER(FIND(\"MEDICAID\",A2835)),\"X\",\"\")","v":""},{"$f":"IF(ISNUMBER(FIND(\"MEDICARE\",A2835)),\"X\",\"\")","v":""},{"$f":"IF(ISNUMBER(FIND(\"BC/BS\",#REF!)),\"X\",\"\")","v":""}]
["POINT BANK (GROUP & PENSION ADMIN)","X",{"$f":"IF(ISNUMBER(FIND(\"MEDICAID\",A2836)),\"X\",\"\")","v":""},{"$f":"IF(ISNUMBER(FIND(\"MEDICARE\",A2836)),\"X\",\"\")","v":""},{"$f":"IF(ISNUMBER(FIND(\"BC/BS\",#REF!)),\"X\",\"\")","v":""}]
["POINT SPRING COMPANY (GROUP & PENSION ADMIN)","X",{"$f":"IF(ISNUMBER(FIND(\"MEDICAID\",A2837)),\"X\",\"\")","v":""},{"$f":"IF(ISNUMBER(FIND(\"MEDICARE\",A2837)),\"X\",\"\")","v":""},{"$f":"IF(ISNUMBER(FIND(\"BC/BS\",#REF!)),\"X\",\"\")","v":""}]
["POLISH FALCONS OF AMERICA (SENTINEL SECURITY)","X",{"$f":"IF(ISNUMBER(FIND(\"MEDICAID\",A2838)),\"X\",\"\")","v":""},{"$f":"IF(ISNUMBER(FIND(\"MEDICARE\",A2838)),\"X\",\"\")","v":""},{"$f":"IF(ISNUMBER(FIND(\"BC/BS\",#REF!)),\"X\",\"\")","v":""}]
["POLO LOGISTICS LLC (GROUP & PENSION ADMIN)","X",{"$f":"IF(ISNUMBER(FIND(\"MEDICAID\",A2839)),\"X\",\"\")","v":""},{"$f":"IF(ISNUMBER(FIND(\"MEDICARE\",A2839)),\"X\",\"\")","v":""},{"$f":"IF(ISNUMBER(FIND(\"BC/BS\",#REF!)),\"X\",\"\")","v":""}]
["POMONA VALLEY MEDICAL GROUP (PROSPECT MEDICAL SYSTEMS)","X",{"$f":"IF(ISNUMBER(FIND(\"MEDICAID\",A2840)),\"X\",\"\")","v":""},{"$f":"IF(ISNUMBER(FIND(\"MEDICARE\",A2840)),\"X\",\"\")","v":""},{"$f":"IF(ISNUMBER(FIND(\"BC/BS\",#REF!)),\"X\",\"\")","v":""}]
["PONSSE NORTH AMERICA (FLUME)","X",{"$f":"IF(ISNUMBER(FIND(\"MEDICAID\",A2841)),\"X\",\"\")","v":""},{"$f":"IF(ISNUMBER(FIND(\"MEDICARE\",A2841)),\"X\",\"\")","v":""},{"$f":"IF(ISNUMBER(FIND(\"BC/BS\",#REF!)),\"X\",\"\")","v":""}]
["POPULYTICS","X",{"$f":"IF(ISNUMBER(FIND(\"MEDICAID\",A2842)),\"X\",\"\")","v":""},{"$f":"IF(ISNUMBER(FIND(\"MEDICARE\",A2842)),\"X\",\"\")","v":""},{"$f":"IF(ISNUMBER(FIND(\"BC/BS\",#REF!)),\"X\",\"\")","v":""}]
["PORT OF CORPUS CHRISTI AUTHORITY EBPT (90 DEGREE BENEFITS HOUSTON - ENTRUST)",null,{"$f":"IF(ISNUMBER(FIND(\"MEDICAID\",A2843)),\"X\",\"\")","v":""},{"$f":"IF(ISNUMBER(FIND(\"MEDICARE\",A2843)),\"X\",\"\")","v":""},{"$f":"IF(ISNUMBER(FIND(\"BC/BS\",#REF!)),\"X\",\"\")","v":""}]
["PORTERVILLE UNIFIED SCHOOL DISTRICT (ADVANTEK BENEFIT ADMINISTRATORS)","X",{"$f":"IF(ISNUMBER(FIND(\"MEDICAID\",A2844)),\"X\",\"\")","v":""},{"$f":"IF(ISNUMBER(FIND(\"MEDICARE\",A2844)),\"X\",\"\")","v":""},{"$f":"IF(ISNUMBER(FIND(\"BC/BS\",#REF!)),\"X\",\"\")","v":""}]
["PORTLAND VA MEDICAL CENTER","X",{"$f":"IF(ISNUMBER(FIND(\"MEDICAID\",A2845)),\"X\",\"\")","v":""},{"$f":"IF(ISNUMBER(FIND(\"MEDICARE\",A2845)),\"X\",\"\")","v":""},{"$f":"IF(ISNUMBER(FIND(\"BC/BS\",#REF!)),\"X\",\"\")","v":""}]
["PORTSMOUTH PUBLIC SCHOOLS (SENTARA)","X",{"$f":"IF(ISNUMBER(FIND(\"MEDICAID\",A2846)),\"X\",\"\")","v":""},{"$f":"IF(ISNUMBER(FIND(\"MEDICARE\",A2846)),\"X\",\"\")","v":""},{"$f":"IF(ISNUMBER(FIND(\"BC/BS\",#REF!)),\"X\",\"\")","v":""}]
["POUDRE SCHOOL DISTRICT (UC HEALTH PLAN ADMINISTRATORS)",null,{"$f":"IF(ISNUMBER(FIND(\"MEDICAID\",A2847)),\"X\",\"\")","v":""},{"$f":"IF(ISNUMBER(FIND(\"MEDICARE\",A2847)),\"X\",\"\")","v":""},{"$f":"IF(ISNUMBER(FIND(\"BC/BS\",#REF!)),\"X\",\"\")","v":""}]
["POWER SUBSTATION SERVICES (THE HEALTH PLAN)","X",{"$f":"IF(ISNUMBER(FIND(\"MEDICAID\",A2848)),\"X\",\"\")","v":""},{"$f":"IF(ISNUMBER(FIND(\"MEDICARE\",A2848)),\"X\",\"\")","v":""},{"$f":"IF(ISNUMBER(FIND(\"BC/BS\",#REF!)),\"X\",\"\")","v":""}]
["POWERSPORTS PLUS LLC (GROUP & PENSION ADMIN)","X",{"$f":"IF(ISNUMBER(FIND(\"MEDICAID\",A2849)),\"X\",\"\")","v":""},{"$f":"IF(ISNUMBER(FIND(\"MEDICARE\",A2849)),\"X\",\"\")","v":""},{"$f":"IF(ISNUMBER(FIND(\"BC/BS\",#REF!)),\"X\",\"\")","v":""}]
["PRACTITIONER SUPPORT SERVICE (WEBTPA)",null,{"$f":"IF(ISNUMBER(FIND(\"MEDICAID\",A2850)),\"X\",\"\")","v":""},{"$f":"IF(ISNUMBER(FIND(\"MEDICARE\",A2850)),\"X\",\"\")","v":""},{"$f":"IF(ISNUMBER(FIND(\"BC/BS\",#REF!)),\"X\",\"\")","v":""}]
["PRAIRIE STATES ENTERPRISES INC","X",{"$f":"IF(ISNUMBER(FIND(\"MEDICAID\",A2851)),\"X\",\"\")","v":""},{"$f":"IF(ISNUMBER(FIND(\"MEDICARE\",A2851)),\"X\",\"\")","v":""},{"$f":"IF(ISNUMBER(FIND(\"BC/BS\",#REF!)),\"X\",\"\")","v":""}]
["PRASEK'S HILLJE EBPT (90 DEGREE BENEFITS HOUSTON - ENTRUST)",null,{"$f":"IF(ISNUMBER(FIND(\"MEDICAID\",A2852)),\"X\",\"\")","v":""},{"$f":"IF(ISNUMBER(FIND(\"MEDICARE\",A2852)),\"X\",\"\")","v":""},{"$f":"IF(ISNUMBER(FIND(\"BC/BS\",#REF!)),\"X\",\"\")","v":""}]
["PRECISION CONCEPTS (90 DEGREE BENEFITS NORTH CAROLINA - CORPORATE BENEFIT SERVICES)","X",{"$f":"IF(ISNUMBER(FIND(\"MEDICAID\",A2853)),\"X\",\"\")","v":""},{"$f":"IF(ISNUMBER(FIND(\"MEDICARE\",A2853)),\"X\",\"\")","v":""},{"$f":"IF(ISNUMBER(FIND(\"BC/BS\",#REF!)),\"X\",\"\")","v":""}]
["PRECISION PUMP & VALVE SERVICE INC (THE HEALTH PLAN)",null,{"$f":"IF(ISNUMBER(FIND(\"MEDICAID\",A2854)),\"X\",\"\")","v":""},{"$f":"IF(ISNUMBER(FIND(\"MEDICARE\",A2854)),\"X\",\"\")","v":""},{"$f":"IF(ISNUMBER(FIND(\"BC/BS\",#REF!)),\"X\",\"\")","v":""}]
["PRECISION REBUILDERS INC (IPMG)","X",{"$f":"IF(ISNUMBER(FIND(\"MEDICAID\",A2855)),\"X\",\"\")","v":""},{"$f":"IF(ISNUMBER(FIND(\"MEDICARE\",A2855)),\"X\",\"\")","v":""},{"$f":"IF(ISNUMBER(FIND(\"BC/BS\",#REF!)),\"X\",\"\")","v":""}]
["PREFERRED BEHAVIORAL HEALTH (GROUP & PENSION ADMIN)","X",{"$f":"IF(ISNUMBER(FIND(\"MEDICAID\",A2856)),\"X\",\"\")","v":""},{"$f":"IF(ISNUMBER(FIND(\"MEDICARE\",A2856)),\"X\",\"\")","v":""},{"$f":"IF(ISNUMBER(FIND(\"BC/BS\",#REF!)),\"X\",\"\")","v":""}]
["PREFERRED DIRECT MKTG SER (SENTARA)","X",{"$f":"IF(ISNUMBER(FIND(\"MEDICAID\",A2857)),\"X\",\"\")","v":""},{"$f":"IF(ISNUMBER(FIND(\"MEDICARE\",A2857)),\"X\",\"\")","v":""},{"$f":"IF(ISNUMBER(FIND(\"BC/BS\",#REF!)),\"X\",\"\")","v":""}]
["PREFERRED EMPLOYERS INSURANCE COMPANY",null,{"$f":"IF(ISNUMBER(FIND(\"MEDICAID\",A2858)),\"X\",\"\")","v":""},{"$f":"IF(ISNUMBER(FIND(\"MEDICARE\",A2858)),\"X\",\"\")","v":""},{"$f":"IF(ISNUMBER(FIND(\"BC/BS\",#REF!)),\"X\",\"\")","v":""}]
["PREFERRED HEALTH PLAN OF THE CAROLINAS","X",{"$f":"IF(ISNUMBER(FIND(\"MEDICAID\",A2859)),\"X\",\"\")","v":""},{"$f":"IF(ISNUMBER(FIND(\"MEDICARE\",A2859)),\"X\",\"\")","v":""},{"$f":"IF(ISNUMBER(FIND(\"BC/BS\",#REF!)),\"X\",\"\")","v":""}]
["PREFERREDONE ADMINISTRATIVE SERVICES","X",{"$f":"IF(ISNUMBER(FIND(\"MEDICAID\",A2860)),\"X\",\"\")","v":""},{"$f":"IF(ISNUMBER(FIND(\"MEDICARE\",A2860)),\"X\",\"\")","v":""},{"$f":"IF(ISNUMBER(FIND(\"BC/BS\",#REF!)),\"X\",\"\")","v":""}]
["PREFERREDONE INSURANCE COMPANY","X",{"$f":"IF(ISNUMBER(FIND(\"MEDICAID\",A2861)),\"X\",\"\")","v":""},{"$f":"IF(ISNUMBER(FIND(\"MEDICARE\",A2861)),\"X\",\"\")","v":""},{"$f":"IF(ISNUMBER(FIND(\"BC/BS\",#REF!)),\"X\",\"\")","v":""}]
["PREMERA BCBS OF ALASKA","X",{"$f":"IF(ISNUMBER(FIND(\"MEDICAID\",A2862)),\"X\",\"\")","v":""},{"$f":"IF(ISNUMBER(FIND(\"MEDICARE\",A2862)),\"X\",\"\")","v":""},"X"]
["PREMERA BLUE CROSS","X",{"$f":"IF(ISNUMBER(FIND(\"MEDICAID\",A2863)),\"X\",\"\")","v":""},{"$f":"IF(ISNUMBER(FIND(\"MEDICARE\",A2863)),\"X\",\"\")","v":""},"X"]
["PREMIER ADMIN SOLUTIONS","X",{"$f":"IF(ISNUMBER(FIND(\"MEDICAID\",A2864)),\"X\",\"\")","v":""},{"$f":"IF(ISNUMBER(FIND(\"MEDICARE\",A2864)),\"X\",\"\")","v":""},{"$f":"IF(ISNUMBER(FIND(\"BC/BS\",#REF!)),\"X\",\"\")","v":""}]
["PREMIER HEALTH PLAN (EXCELLUS BCBS)","X",{"$f":"IF(ISNUMBER(FIND(\"MEDICAID\",A2865)),\"X\",\"\")","v":""},{"$f":"IF(ISNUMBER(FIND(\"MEDICARE\",A2865)),\"X\",\"\")","v":""},"X"]
["PRESBYTERIAN CARE SERVICES ASO (PRESBYTERIAN HEALTH PLAN)","X",{"$f":"IF(ISNUMBER(FIND(\"MEDICAID\",A2866)),\"X\",\"\")","v":""},{"$f":"IF(ISNUMBER(FIND(\"MEDICARE\",A2866)),\"X\",\"\")","v":""},{"$f":"IF(ISNUMBER(FIND(\"BC/BS\",#REF!)),\"X\",\"\")","v":""}]
["PRESBYTERIAN CENTENNIAL CARE (PRESYBYTERIAN HEALTH PLAN)","X",{"$f":"IF(ISNUMBER(FIND(\"MEDICAID\",A2867)),\"X\",\"\")","v":""},{"$f":"IF(ISNUMBER(FIND(\"MEDICARE\",A2867)),\"X\",\"\")","v":""},{"$f":"IF(ISNUMBER(FIND(\"BC/BS\",#REF!)),\"X\",\"\")","v":""}]
["PRESBYTERIAN HEALTH PLAN","X",{"$f":"IF(ISNUMBER(FIND(\"MEDICAID\",A2868)),\"X\",\"\")","v":""},{"$f":"IF(ISNUMBER(FIND(\"MEDICARE\",A2868)),\"X\",\"\")","v":""},{"$f":"IF(ISNUMBER(FIND(\"BC/BS\",#REF!)),\"X\",\"\")","v":""}]
["PRESBYTERIAN HEALTH PLAN (MAGELLAN HEALTH)","X",{"$f":"IF(ISNUMBER(FIND(\"MEDICAID\",A2869)),\"X\",\"\")","v":""},{"$f":"IF(ISNUMBER(FIND(\"MEDICARE\",A2869)),\"X\",\"\")","v":""},{"$f":"IF(ISNUMBER(FIND(\"BC/BS\",#REF!)),\"X\",\"\")","v":""}]
["PRESBYTERIAN HEALTHCARE SERVICES ASO (PRESBYTERIAN HEALTH PLAN)",null,{"$f":"IF(ISNUMBER(FIND(\"MEDICAID\",A2870)),\"X\",\"\")","v":""},{"$f":"IF(ISNUMBER(FIND(\"MEDICARE\",A2870)),\"X\",\"\")","v":""},{"$f":"IF(ISNUMBER(FIND(\"BC/BS\",#REF!)),\"X\",\"\")","v":""}]
["PRESBYTERIAN INSURANCE COMPANY INC (PRESBYTERIAN HEALTH PLAN)","X",{"$f":"IF(ISNUMBER(FIND(\"MEDICAID\",A2871)),\"X\",\"\")","v":""},{"$f":"IF(ISNUMBER(FIND(\"MEDICARE\",A2871)),\"X\",\"\")","v":""},{"$f":"IF(ISNUMBER(FIND(\"BC/BS\",#REF!)),\"X\",\"\")","v":""}]
["PRESS ENTERPRISE (GEISINGER HEALTH PLAN)","X",{"$f":"IF(ISNUMBER(FIND(\"MEDICAID\",A2872)),\"X\",\"\")","v":""},{"$f":"IF(ISNUMBER(FIND(\"MEDICARE\",A2872)),\"X\",\"\")","v":""},{"$f":"IF(ISNUMBER(FIND(\"BC/BS\",#REF!)),\"X\",\"\")","v":""}]
["PRESTIGE GUNITE INC (GROUP & PENSION ADMIN)","X",{"$f":"IF(ISNUMBER(FIND(\"MEDICAID\",A2873)),\"X\",\"\")","v":""},{"$f":"IF(ISNUMBER(FIND(\"MEDICARE\",A2873)),\"X\",\"\")","v":""},{"$f":"IF(ISNUMBER(FIND(\"BC/BS\",#REF!)),\"X\",\"\")","v":""}]
["PREVEA360 HEALTH PLAN","X",{"$f":"IF(ISNUMBER(FIND(\"MEDICAID\",A2874)),\"X\",\"\")","v":""},{"$f":"IF(ISNUMBER(FIND(\"MEDICARE\",A2874)),\"X\",\"\")","v":""},{"$f":"IF(ISNUMBER(FIND(\"BC/BS\",#REF!)),\"X\",\"\")","v":""}]
["PRIDE MOBILITY (GEISINGER HEALTH PLAN)","X",{"$f":"IF(ISNUMBER(FIND(\"MEDICAID\",A2875)),\"X\",\"\")","v":""},{"$f":"IF(ISNUMBER(FIND(\"MEDICARE\",A2875)),\"X\",\"\")","v":""},{"$f":"IF(ISNUMBER(FIND(\"BC/BS\",#REF!)),\"X\",\"\")","v":""}]
["PRIMARY CARE ASSOC MED GRP DBA OPTUM (NAMM CALIFORNIA)","X",{"$f":"IF(ISNUMBER(FIND(\"MEDICAID\",A2876)),\"X\",\"\")","v":""},{"$f":"IF(ISNUMBER(FIND(\"MEDICARE\",A2876)),\"X\",\"\")","v":""},{"$f":"IF(ISNUMBER(FIND(\"BC/BS\",#REF!)),\"X\",\"\")","v":""}]
["PRIME HEALTH CHOICE","X",{"$f":"IF(ISNUMBER(FIND(\"MEDICAID\",A2877)),\"X\",\"\")","v":""},{"$f":"IF(ISNUMBER(FIND(\"MEDICARE\",A2877)),\"X\",\"\")","v":""},{"$f":"IF(ISNUMBER(FIND(\"BC/BS\",#REF!)),\"X\",\"\")","v":""}]
["PRIME THERAPEUTICS LLC","X",{"$f":"IF(ISNUMBER(FIND(\"MEDICAID\",A2878)),\"X\",\"\")","v":""},{"$f":"IF(ISNUMBER(FIND(\"MEDICARE\",A2878)),\"X\",\"\")","v":""},{"$f":"IF(ISNUMBER(FIND(\"BC/BS\",#REF!)),\"X\",\"\")","v":""}]
["PRIMECARE CITRUS VALLEY DBA OPTUM (NAMM CALIFORNIA)","X",{"$f":"IF(ISNUMBER(FIND(\"MEDICAID\",A2879)),\"X\",\"\")","v":""},{"$f":"IF(ISNUMBER(FIND(\"MEDICARE\",A2879)),\"X\",\"\")","v":""},{"$f":"IF(ISNUMBER(FIND(\"BC/BS\",#REF!)),\"X\",\"\")","v":""}]
["PRIMECARE MEDICAL GROUP CORONA DBA OPTUM (NAMM CALIFORNIA)","X",{"$f":"IF(ISNUMBER(FIND(\"MEDICAID\",A2880)),\"X\",\"\")","v":""},{"$f":"IF(ISNUMBER(FIND(\"MEDICARE\",A2880)),\"X\",\"\")","v":""},{"$f":"IF(ISNUMBER(FIND(\"BC/BS\",#REF!)),\"X\",\"\")","v":""}]
["PRIMECARE MEDICAL GROUP INLAND VALLEY DBA OPTUM (NAMM CALIFORNIA)","X",{"$f":"IF(ISNUMBER(FIND(\"MEDICAID\",A2881)),\"X\",\"\")","v":""},{"$f":"IF(ISNUMBER(FIND(\"MEDICARE\",A2881)),\"X\",\"\")","v":""},{"$f":"IF(ISNUMBER(FIND(\"BC/BS\",#REF!)),\"X\",\"\")","v":""}]
["PRIMECARE MEDICAL GROUP MORENO VALLEY DBA OPTUM (NAMM CALIFORNIA)","X",{"$f":"IF(ISNUMBER(FIND(\"MEDICAID\",A2882)),\"X\",\"\")","v":""},{"$f":"IF(ISNUMBER(FIND(\"MEDICARE\",A2882)),\"X\",\"\")","v":""},{"$f":"IF(ISNUMBER(FIND(\"BC/BS\",#REF!)),\"X\",\"\")","v":""}]
["PRIMECARE MEDICAL GROUP OF CHINO VALLEY (NAMM CALIFORNIA)","X",{"$f":"IF(ISNUMBER(FIND(\"MEDICAID\",A2883)),\"X\",\"\")","v":""},{"$f":"IF(ISNUMBER(FIND(\"MEDICARE\",A2883)),\"X\",\"\")","v":""},{"$f":"IF(ISNUMBER(FIND(\"BC/BS\",#REF!)),\"X\",\"\")","v":""}]
["PRIMECARE MEDICAL GROUP REDLANDS DBA OPTUM (NAMM CALIFORNIA)","X",{"$f":"IF(ISNUMBER(FIND(\"MEDICAID\",A2884)),\"X\",\"\")","v":""},{"$f":"IF(ISNUMBER(FIND(\"MEDICARE\",A2884)),\"X\",\"\")","v":""},{"$f":"IF(ISNUMBER(FIND(\"BC/BS\",#REF!)),\"X\",\"\")","v":""}]
["PRIMECARE MEDICAL GROUP RIVERSIDE DBA OPTUM (NAMM CALIFORNIA)","X",{"$f":"IF(ISNUMBER(FIND(\"MEDICAID\",A2885)),\"X\",\"\")","v":""},{"$f":"IF(ISNUMBER(FIND(\"MEDICARE\",A2885)),\"X\",\"\")","v":""},{"$f":"IF(ISNUMBER(FIND(\"BC/BS\",#REF!)),\"X\",\"\")","v":""}]
["PRIMECARE MEDICAL GROUP SUN CITY DBA OPTUM (NAMM CALIFORNIA)","X",{"$f":"IF(ISNUMBER(FIND(\"MEDICAID\",A2886)),\"X\",\"\")","v":""},{"$f":"IF(ISNUMBER(FIND(\"MEDICARE\",A2886)),\"X\",\"\")","v":""},{"$f":"IF(ISNUMBER(FIND(\"BC/BS\",#REF!)),\"X\",\"\")","v":""}]
["PRIMECARE MEDICAL GROUP TEMECULA DBA OPTUM (NAMM CALIFORNIA)","X",{"$f":"IF(ISNUMBER(FIND(\"MEDICAID\",A2887)),\"X\",\"\")","v":""},{"$f":"IF(ISNUMBER(FIND(\"MEDICARE\",A2887)),\"X\",\"\")","v":""},{"$f":"IF(ISNUMBER(FIND(\"BC/BS\",#REF!)),\"X\",\"\")","v":""}]
["PRIMECARE MEDICAL GROUPP HEMET VALLEY DBA OPTUM (NAMM CALIFORNIA)","X",{"$f":"IF(ISNUMBER(FIND(\"MEDICAID\",A2888)),\"X\",\"\")","v":""},{"$f":"IF(ISNUMBER(FIND(\"MEDICARE\",A2888)),\"X\",\"\")","v":""},{"$f":"IF(ISNUMBER(FIND(\"BC/BS\",#REF!)),\"X\",\"\")","v":""}]
["PRIMECARE MEDICAL NETWORK - PAC/COM INSTIT RISK (NAMM CALIFORNIA)","X",{"$f":"IF(ISNUMBER(FIND(\"MEDICAID\",A2889)),\"X\",\"\")","v":""},{"$f":"IF(ISNUMBER(FIND(\"MEDICARE\",A2889)),\"X\",\"\")","v":""},{"$f":"IF(ISNUMBER(FIND(\"BC/BS\",#REF!)),\"X\",\"\")","v":""}]
["PRIMECARE SAN BERNARDINO DBA OPTUM (NAMM CALIFORNIA)","X",{"$f":"IF(ISNUMBER(FIND(\"MEDICAID\",A2890)),\"X\",\"\")","v":""},{"$f":"IF(ISNUMBER(FIND(\"MEDICARE\",A2890)),\"X\",\"\")","v":""},{"$f":"IF(ISNUMBER(FIND(\"BC/BS\",#REF!)),\"X\",\"\")","v":""}]
["PRIMEMED PC (GEISINGER HEALTH PLAN)","X",{"$f":"IF(ISNUMBER(FIND(\"MEDICAID\",A2891)),\"X\",\"\")","v":""},{"$f":"IF(ISNUMBER(FIND(\"MEDICARE\",A2891)),\"X\",\"\")","v":""},{"$f":"IF(ISNUMBER(FIND(\"BC/BS\",#REF!)),\"X\",\"\")","v":""}]
["PRIMEWEST HEALTH","X",{"$f":"IF(ISNUMBER(FIND(\"MEDICAID\",A2892)),\"X\",\"\")","v":""},{"$f":"IF(ISNUMBER(FIND(\"MEDICARE\",A2892)),\"X\",\"\")","v":""},{"$f":"IF(ISNUMBER(FIND(\"BC/BS\",#REF!)),\"X\",\"\")","v":""}]
["PRINCIPAL FINANCIAL GROUP (IAS ADMIN)","X",{"$f":"IF(ISNUMBER(FIND(\"MEDICAID\",A2893)),\"X\",\"\")","v":""},{"$f":"IF(ISNUMBER(FIND(\"MEDICARE\",A2893)),\"X\",\"\")","v":""},{"$f":"IF(ISNUMBER(FIND(\"BC/BS\",#REF!)),\"X\",\"\")","v":""}]
["PRINCIPAL LIFE INSURANCE COMPANY","X",{"$f":"IF(ISNUMBER(FIND(\"MEDICAID\",A2894)),\"X\",\"\")","v":""},{"$f":"IF(ISNUMBER(FIND(\"MEDICARE\",A2894)),\"X\",\"\")","v":""},{"$f":"IF(ISNUMBER(FIND(\"BC/BS\",#REF!)),\"X\",\"\")","v":""}]
["PRINTING INDUSTRIES BENEFIT TRUST-CDA (GROUP & PENSION ADMIN)","X",{"$f":"IF(ISNUMBER(FIND(\"MEDICAID\",A2895)),\"X\",\"\")","v":""},{"$f":"IF(ISNUMBER(FIND(\"MEDICARE\",A2895)),\"X\",\"\")","v":""},{"$f":"IF(ISNUMBER(FIND(\"BC/BS\",#REF!)),\"X\",\"\")","v":""}]
["PRIORITY HEALTH","X",{"$f":"IF(ISNUMBER(FIND(\"MEDICAID\",A2896)),\"X\",\"\")","v":""},{"$f":"IF(ISNUMBER(FIND(\"MEDICARE\",A2896)),\"X\",\"\")","v":""},{"$f":"IF(ISNUMBER(FIND(\"BC/BS\",#REF!)),\"X\",\"\")","v":""}]
["PRIZ FOODS (GROUP & PENSION ADMIN)",null,{"$f":"IF(ISNUMBER(FIND(\"MEDICAID\",A2897)),\"X\",\"\")","v":""},{"$f":"IF(ISNUMBER(FIND(\"MEDICARE\",A2897)),\"X\",\"\")","v":""},{"$f":"IF(ISNUMBER(FIND(\"BC/BS\",#REF!)),\"X\",\"\")","v":""}]
["PRO MACH INC (AMERIBEN)",null,{"$f":"IF(ISNUMBER(FIND(\"MEDICAID\",A2898)),\"X\",\"\")","v":""},{"$f":"IF(ISNUMBER(FIND(\"MEDICARE\",A2898)),\"X\",\"\")","v":""},{"$f":"IF(ISNUMBER(FIND(\"BC/BS\",#REF!)),\"X\",\"\")","v":""}]
["PRO-CLAIM PLUS INC","X",{"$f":"IF(ISNUMBER(FIND(\"MEDICAID\",A2899)),\"X\",\"\")","v":""},{"$f":"IF(ISNUMBER(FIND(\"MEDICARE\",A2899)),\"X\",\"\")","v":""},{"$f":"IF(ISNUMBER(FIND(\"BC/BS\",#REF!)),\"X\",\"\")","v":""}]
["PROCTOR & GAMBLE (CIGNA)",null,{"$f":"IF(ISNUMBER(FIND(\"MEDICAID\",A2900)),\"X\",\"\")","v":""},{"$f":"IF(ISNUMBER(FIND(\"MEDICARE\",A2900)),\"X\",\"\")","v":""},{"$f":"IF(ISNUMBER(FIND(\"BC/BS\",#REF!)),\"X\",\"\")","v":""}]
["PRODEGI CORPORATE BENEFIT SERVICES LLC","X",{"$f":"IF(ISNUMBER(FIND(\"MEDICAID\",A2901)),\"X\",\"\")","v":""},{"$f":"IF(ISNUMBER(FIND(\"MEDICARE\",A2901)),\"X\",\"\")","v":""},{"$f":"IF(ISNUMBER(FIND(\"BC/BS\",#REF!)),\"X\",\"\")","v":""}]
["PRODUCER'S DAIRY FOODS INC (PINNACLE CLAIMS MANAGEMENT)",null,{"$f":"IF(ISNUMBER(FIND(\"MEDICAID\",A2902)),\"X\",\"\")","v":""},{"$f":"IF(ISNUMBER(FIND(\"MEDICARE\",A2902)),\"X\",\"\")","v":""},{"$f":"IF(ISNUMBER(FIND(\"BC/BS\",#REF!)),\"X\",\"\")","v":""}]
["PRODUCTIVE PROGRAMMING INC (PPI)","X",{"$f":"IF(ISNUMBER(FIND(\"MEDICAID\",A2903)),\"X\",\"\")","v":""},{"$f":"IF(ISNUMBER(FIND(\"MEDICARE\",A2903)),\"X\",\"\")","v":""},{"$f":"IF(ISNUMBER(FIND(\"BC/BS\",#REF!)),\"X\",\"\")","v":""}]
["PROFESSIONAL BENEFIT ADMINISTRATORS","X",{"$f":"IF(ISNUMBER(FIND(\"MEDICAID\",A2904)),\"X\",\"\")","v":""},{"$f":"IF(ISNUMBER(FIND(\"MEDICARE\",A2904)),\"X\",\"\")","v":""},{"$f":"IF(ISNUMBER(FIND(\"BC/BS\",#REF!)),\"X\",\"\")","v":""}]
["PROFESSIONAL BENEFIT SERVICES INC","X",{"$f":"IF(ISNUMBER(FIND(\"MEDICAID\",A2905)),\"X\",\"\")","v":""},{"$f":"IF(ISNUMBER(FIND(\"MEDICARE\",A2905)),\"X\",\"\")","v":""},{"$f":"IF(ISNUMBER(FIND(\"BC/BS\",#REF!)),\"X\",\"\")","v":""}]
["PROFESSIONAL FIRE TA (SENTARA)","X",{"$f":"IF(ISNUMBER(FIND(\"MEDICAID\",A2906)),\"X\",\"\")","v":""},{"$f":"IF(ISNUMBER(FIND(\"MEDICARE\",A2906)),\"X\",\"\")","v":""},{"$f":"IF(ISNUMBER(FIND(\"BC/BS\",#REF!)),\"X\",\"\")","v":""}]
["PROFESSIONAL HEATING & CO (SENTARA)",null,{"$f":"IF(ISNUMBER(FIND(\"MEDICAID\",A2907)),\"X\",\"\")","v":""},{"$f":"IF(ISNUMBER(FIND(\"MEDICARE\",A2907)),\"X\",\"\")","v":""},{"$f":"IF(ISNUMBER(FIND(\"BC/BS\",#REF!)),\"X\",\"\")","v":""}]
["PROGRESSHEALTH PHO (ARCADIA SOLUTIONS)","X",{"$f":"IF(ISNUMBER(FIND(\"MEDICAID\",A2908)),\"X\",\"\")","v":""},{"$f":"IF(ISNUMBER(FIND(\"MEDICARE\",A2908)),\"X\",\"\")","v":""},{"$f":"IF(ISNUMBER(FIND(\"BC/BS\",#REF!)),\"X\",\"\")","v":""}]
["PROGRESSIVE MANAGEMENT","X",{"$f":"IF(ISNUMBER(FIND(\"MEDICAID\",A2909)),\"X\",\"\")","v":""},{"$f":"IF(ISNUMBER(FIND(\"MEDICARE\",A2909)),\"X\",\"\")","v":""},{"$f":"IF(ISNUMBER(FIND(\"BC/BS\",#REF!)),\"X\",\"\")","v":""}]
["PROMINENCE HEALTH PLAN","X",{"$f":"IF(ISNUMBER(FIND(\"MEDICAID\",A2910)),\"X\",\"\")","v":""},{"$f":"IF(ISNUMBER(FIND(\"MEDICARE\",A2910)),\"X\",\"\")","v":""},{"$f":"IF(ISNUMBER(FIND(\"BC/BS\",#REF!)),\"X\",\"\")","v":""}]
["PROSPECT EDUCATION LLC (GROUP & PENSION ADMIN)",null,{"$f":"IF(ISNUMBER(FIND(\"MEDICAID\",A2911)),\"X\",\"\")","v":""},{"$f":"IF(ISNUMBER(FIND(\"MEDICARE\",A2911)),\"X\",\"\")","v":""},{"$f":"IF(ISNUMBER(FIND(\"BC/BS\",#REF!)),\"X\",\"\")","v":""}]
["PROSPECT HEALTH SOURCE (PROSPECT MEDICAL SYSTEMS)","X",{"$f":"IF(ISNUMBER(FIND(\"MEDICAID\",A2912)),\"X\",\"\")","v":""},{"$f":"IF(ISNUMBER(FIND(\"MEDICARE\",A2912)),\"X\",\"\")","v":""},{"$f":"IF(ISNUMBER(FIND(\"BC/BS\",#REF!)),\"X\",\"\")","v":""}]
["PROSPECT MEDICAL ARIZONA (PROSPECT MEDICAL SYSTEMS)",null,{"$f":"IF(ISNUMBER(FIND(\"MEDICAID\",A2913)),\"X\",\"\")","v":""},{"$f":"IF(ISNUMBER(FIND(\"MEDICARE\",A2913)),\"X\",\"\")","v":""},{"$f":"IF(ISNUMBER(FIND(\"BC/BS\",#REF!)),\"X\",\"\")","v":""}]
["PROSPECT MEDICAL HOLDINGS (HEALTHCOMP)","X",{"$f":"IF(ISNUMBER(FIND(\"MEDICAID\",A2914)),\"X\",\"\")","v":""},{"$f":"IF(ISNUMBER(FIND(\"MEDICARE\",A2914)),\"X\",\"\")","v":""},{"$f":"IF(ISNUMBER(FIND(\"BC/BS\",#REF!)),\"X\",\"\")","v":""}]
["PROSPECT MEDICAL IE (PROSPECT MEDICAL SYSTEMS)","X",{"$f":"IF(ISNUMBER(FIND(\"MEDICAID\",A2915)),\"X\",\"\")","v":""},{"$f":"IF(ISNUMBER(FIND(\"MEDICARE\",A2915)),\"X\",\"\")","v":""},{"$f":"IF(ISNUMBER(FIND(\"BC/BS\",#REF!)),\"X\",\"\")","v":""}]
["PROSPECT MEDICAL SD (PROSPECT MEDICAL SYSTEMS)","X",{"$f":"IF(ISNUMBER(FIND(\"MEDICAID\",A2916)),\"X\",\"\")","v":""},{"$f":"IF(ISNUMBER(FIND(\"MEDICARE\",A2916)),\"X\",\"\")","v":""},{"$f":"IF(ISNUMBER(FIND(\"BC/BS\",#REF!)),\"X\",\"\")","v":""}]
["PROSPECT MEDICAL SYSTEMS","X",{"$f":"IF(ISNUMBER(FIND(\"MEDICAID\",A2917)),\"X\",\"\")","v":""},{"$f":"IF(ISNUMBER(FIND(\"MEDICARE\",A2917)),\"X\",\"\")","v":""},{"$f":"IF(ISNUMBER(FIND(\"BC/BS\",#REF!)),\"X\",\"\")","v":""}]
["PROSPECT NW MEDICAL GROUP (PROSPECT MEDICAL SYSTEMS)","X",{"$f":"IF(ISNUMBER(FIND(\"MEDICAID\",A2918)),\"X\",\"\")","v":""},{"$f":"IF(ISNUMBER(FIND(\"MEDICARE\",A2918)),\"X\",\"\")","v":""},{"$f":"IF(ISNUMBER(FIND(\"BC/BS\",#REF!)),\"X\",\"\")","v":""}]
["PROSPECT PROVIDER GROUP-TEXAS (PROSPECT MEDICAL SYSTEMS)",null,{"$f":"IF(ISNUMBER(FIND(\"MEDICAID\",A2919)),\"X\",\"\")","v":""},{"$f":"IF(ISNUMBER(FIND(\"MEDICARE\",A2919)),\"X\",\"\")","v":""},{"$f":"IF(ISNUMBER(FIND(\"BC/BS\",#REF!)),\"X\",\"\")","v":""}]
["PROSPECT REGION B (PROSPECT MEDICAL SYSTEMS)","X",{"$f":"IF(ISNUMBER(FIND(\"MEDICAID\",A2920)),\"X\",\"\")","v":""},{"$f":"IF(ISNUMBER(FIND(\"MEDICARE\",A2920)),\"X\",\"\")","v":""},{"$f":"IF(ISNUMBER(FIND(\"BC/BS\",#REF!)),\"X\",\"\")","v":""}]
["PROSPECT STARCARE MEDICAL GROUP (PROSPECT MEDICAL SYSTEMS)","X",{"$f":"IF(ISNUMBER(FIND(\"MEDICAID\",A2921)),\"X\",\"\")","v":""},{"$f":"IF(ISNUMBER(FIND(\"MEDICARE\",A2921)),\"X\",\"\")","v":""},{"$f":"IF(ISNUMBER(FIND(\"BC/BS\",#REF!)),\"X\",\"\")","v":""}]
["PROVIDENCE ADMINISTRATIVE SERVICES INC","X",{"$f":"IF(ISNUMBER(FIND(\"MEDICAID\",A2922)),\"X\",\"\")","v":""},{"$f":"IF(ISNUMBER(FIND(\"MEDICARE\",A2922)),\"X\",\"\")","v":""},{"$f":"IF(ISNUMBER(FIND(\"BC/BS\",#REF!)),\"X\",\"\")","v":""}]
["PROVIDENCE ENTERPRISES LLC (GROUP & PENSION ADMIN)","X",{"$f":"IF(ISNUMBER(FIND(\"MEDICAID\",A2923)),\"X\",\"\")","v":""},{"$f":"IF(ISNUMBER(FIND(\"MEDICARE\",A2923)),\"X\",\"\")","v":""},{"$f":"IF(ISNUMBER(FIND(\"BC/BS\",#REF!)),\"X\",\"\")","v":""}]
["PROVIDENCE ENTERPRISES, LLC",null,{"$f":"IF(ISNUMBER(FIND(\"MEDICAID\",A2924)),\"X\",\"\")","v":""},{"$f":"IF(ISNUMBER(FIND(\"MEDICARE\",A2924)),\"X\",\"\")","v":""},{"$f":"IF(ISNUMBER(FIND(\"BC/BS\",#REF!)),\"X\",\"\")","v":""}]
["PROVIDENCE HEALTH ASSURANCE (PERFORMANCE HEALTH TECHNOLOGY)","X",{"$f":"IF(ISNUMBER(FIND(\"MEDICAID\",A2925)),\"X\",\"\")","v":""},{"$f":"IF(ISNUMBER(FIND(\"MEDICARE\",A2925)),\"X\",\"\")","v":""},{"$f":"IF(ISNUMBER(FIND(\"BC/BS\",#REF!)),\"X\",\"\")","v":""}]
["PROVIDENCE HEALTH ASSURANCE (PROVIDENCE HEALTH PLAN)","X",{"$f":"IF(ISNUMBER(FIND(\"MEDICAID\",A2926)),\"X\",\"\")","v":""},{"$f":"IF(ISNUMBER(FIND(\"MEDICARE\",A2926)),\"X\",\"\")","v":""},{"$f":"IF(ISNUMBER(FIND(\"BC/BS\",#REF!)),\"X\",\"\")","v":""}]
["PROVIDENCE HEALTH PLAN","X",{"$f":"IF(ISNUMBER(FIND(\"MEDICAID\",A2927)),\"X\",\"\")","v":""},{"$f":"IF(ISNUMBER(FIND(\"MEDICARE\",A2927)),\"X\",\"\")","v":""},{"$f":"IF(ISNUMBER(FIND(\"BC/BS\",#REF!)),\"X\",\"\")","v":""}]
["PROVIDENCE HEALTH PLAN - HARRISON ELECTRICAL WORKERS TRUST FUND ASO (SELF FUNDED)","X",{"$f":"IF(ISNUMBER(FIND(\"MEDICAID\",A2928)),\"X\",\"\")","v":""},{"$f":"IF(ISNUMBER(FIND(\"MEDICARE\",A2928)),\"X\",\"\")","v":""},{"$f":"IF(ISNUMBER(FIND(\"BC/BS\",#REF!)),\"X\",\"\")","v":""}]
["PROVIDENCE INSURANCE AND ADMIN SERVICES",null,{"$f":"IF(ISNUMBER(FIND(\"MEDICAID\",A2929)),\"X\",\"\")","v":""},{"$f":"IF(ISNUMBER(FIND(\"MEDICARE\",A2929)),\"X\",\"\")","v":""},{"$f":"IF(ISNUMBER(FIND(\"BC/BS\",#REF!)),\"X\",\"\")","v":""}]
["PROVIDENCE MEDICAL FOUNDATION",null,{"$f":"IF(ISNUMBER(FIND(\"MEDICAID\",A2930)),\"X\",\"\")","v":""},{"$f":"IF(ISNUMBER(FIND(\"MEDICARE\",A2930)),\"X\",\"\")","v":""},{"$f":"IF(ISNUMBER(FIND(\"BC/BS\",#REF!)),\"X\",\"\")","v":""}]
["PROVIDENCE MEDICAL GROUP",null,{"$f":"IF(ISNUMBER(FIND(\"MEDICAID\",A2931)),\"X\",\"\")","v":""},{"$f":"IF(ISNUMBER(FIND(\"MEDICARE\",A2931)),\"X\",\"\")","v":""},{"$f":"IF(ISNUMBER(FIND(\"BC/BS\",#REF!)),\"X\",\"\")","v":""}]
["PROVIDENCE SOCAL FACILITY (FACEY MEDICAL GROUP)",null,{"$f":"IF(ISNUMBER(FIND(\"MEDICAID\",A2932)),\"X\",\"\")","v":""},{"$f":"IF(ISNUMBER(FIND(\"MEDICARE\",A2932)),\"X\",\"\")","v":""},{"$f":"IF(ISNUMBER(FIND(\"BC/BS\",#REF!)),\"X\",\"\")","v":""}]
["PROVIDENCE ST JOHNS (FACEY MEDICAL GROUP)",null,{"$f":"IF(ISNUMBER(FIND(\"MEDICAID\",A2933)),\"X\",\"\")","v":""},{"$f":"IF(ISNUMBER(FIND(\"MEDICARE\",A2933)),\"X\",\"\")","v":""},{"$f":"IF(ISNUMBER(FIND(\"BC/BS\",#REF!)),\"X\",\"\")","v":""}]
["PROVIDER PARTNERS HEALTH PLAN OF ILLINOIS",null,{"$f":"IF(ISNUMBER(FIND(\"MEDICAID\",A2934)),\"X\",\"\")","v":""},{"$f":"IF(ISNUMBER(FIND(\"MEDICARE\",A2934)),\"X\",\"\")","v":""},{"$f":"IF(ISNUMBER(FIND(\"BC/BS\",#REF!)),\"X\",\"\")","v":""}]
["PROVIDER PARTNERS HEALTH PLAN OF MISSOURI",null,{"$f":"IF(ISNUMBER(FIND(\"MEDICAID\",A2935)),\"X\",\"\")","v":""},{"$f":"IF(ISNUMBER(FIND(\"MEDICARE\",A2935)),\"X\",\"\")","v":""},{"$f":"IF(ISNUMBER(FIND(\"BC/BS\",#REF!)),\"X\",\"\")","v":""}]
["PROVIDER PARTNERS HEALTH PLAN OF PENNSYLVANIA",null,{"$f":"IF(ISNUMBER(FIND(\"MEDICAID\",A2936)),\"X\",\"\")","v":""},{"$f":"IF(ISNUMBER(FIND(\"MEDICARE\",A2936)),\"X\",\"\")","v":""},{"$f":"IF(ISNUMBER(FIND(\"BC/BS\",#REF!)),\"X\",\"\")","v":""}]
["PRUITTHEALTH PREMIER (ALLYALIGN)","X",{"$f":"IF(ISNUMBER(FIND(\"MEDICAID\",A2937)),\"X\",\"\")","v":""},{"$f":"IF(ISNUMBER(FIND(\"MEDICARE\",A2937)),\"X\",\"\")","v":""},{"$f":"IF(ISNUMBER(FIND(\"BC/BS\",#REF!)),\"X\",\"\")","v":""}]
["PTA CORPORATION (MAESTRO HEALTH)","X",{"$f":"IF(ISNUMBER(FIND(\"MEDICAID\",A2938)),\"X\",\"\")","v":""},{"$f":"IF(ISNUMBER(FIND(\"MEDICARE\",A2938)),\"X\",\"\")","v":""},{"$f":"IF(ISNUMBER(FIND(\"BC/BS\",#REF!)),\"X\",\"\")","v":""}]
["PUBLIC EMPLOYEES HEALTH PROGRAM (PEHP)","X",{"$f":"IF(ISNUMBER(FIND(\"MEDICAID\",A2939)),\"X\",\"\")","v":""},{"$f":"IF(ISNUMBER(FIND(\"MEDICARE\",A2939)),\"X\",\"\")","v":""},{"$f":"IF(ISNUMBER(FIND(\"BC/BS\",#REF!)),\"X\",\"\")","v":""}]
["PULMONICS PLUS EBPT (90 DEGREE BENEFITS HOUSTON - ENTRUST)",null,{"$f":"IF(ISNUMBER(FIND(\"MEDICAID\",A2940)),\"X\",\"\")","v":""},{"$f":"IF(ISNUMBER(FIND(\"MEDICARE\",A2940)),\"X\",\"\")","v":""},{"$f":"IF(ISNUMBER(FIND(\"BC/BS\",#REF!)),\"X\",\"\")","v":""}]
["PURCHASED REFERRED CARE (HUMBOLDT IPA)","X",{"$f":"IF(ISNUMBER(FIND(\"MEDICAID\",A2941)),\"X\",\"\")","v":""},{"$f":"IF(ISNUMBER(FIND(\"MEDICARE\",A2941)),\"X\",\"\")","v":""},{"$f":"IF(ISNUMBER(FIND(\"BC/BS\",#REF!)),\"X\",\"\")","v":""}]
["PURESTAR LINEN GROUP (GROUP & PENSION ADMIN)","X",{"$f":"IF(ISNUMBER(FIND(\"MEDICAID\",A2942)),\"X\",\"\")","v":""},{"$f":"IF(ISNUMBER(FIND(\"MEDICARE\",A2942)),\"X\",\"\")","v":""},{"$f":"IF(ISNUMBER(FIND(\"BC/BS\",#REF!)),\"X\",\"\")","v":""}]
["PURITAN LIFE (IAS ADMIN)","X",{"$f":"IF(ISNUMBER(FIND(\"MEDICAID\",A2943)),\"X\",\"\")","v":""},{"$f":"IF(ISNUMBER(FIND(\"MEDICARE\",A2943)),\"X\",\"\")","v":""},{"$f":"IF(ISNUMBER(FIND(\"BC/BS\",#REF!)),\"X\",\"\")","v":""}]
["PURITAN LIFE INSURANCE COMPANY (AETNA SSI)","X",{"$f":"IF(ISNUMBER(FIND(\"MEDICAID\",A2944)),\"X\",\"\")","v":""},{"$f":"IF(ISNUMBER(FIND(\"MEDICARE\",A2944)),\"X\",\"\")","v":""},{"$f":"IF(ISNUMBER(FIND(\"BC/BS\",#REF!)),\"X\",\"\")","v":""}]
["PURITY OIL FIELD SERVICES LLC-PUSH (GROUP & PENSION ADMIN)","X",{"$f":"IF(ISNUMBER(FIND(\"MEDICAID\",A2945)),\"X\",\"\")","v":""},{"$f":"IF(ISNUMBER(FIND(\"MEDICARE\",A2945)),\"X\",\"\")","v":""},{"$f":"IF(ISNUMBER(FIND(\"BC/BS\",#REF!)),\"X\",\"\")","v":""}]
["PYROTECHNIQUE EBPT (90 DEGREE BENEFITS HOUSTON - ENTRUST)",null,{"$f":"IF(ISNUMBER(FIND(\"MEDICAID\",A2946)),\"X\",\"\")","v":""},{"$f":"IF(ISNUMBER(FIND(\"MEDICARE\",A2946)),\"X\",\"\")","v":""},{"$f":"IF(ISNUMBER(FIND(\"BC/BS\",#REF!)),\"X\",\"\")","v":""}]
["QCA HEALTH PLAN INC","X",{"$f":"IF(ISNUMBER(FIND(\"MEDICAID\",A2947)),\"X\",\"\")","v":""},{"$f":"IF(ISNUMBER(FIND(\"MEDICARE\",A2947)),\"X\",\"\")","v":""},{"$f":"IF(ISNUMBER(FIND(\"BC/BS\",#REF!)),\"X\",\"\")","v":""}]
["QUALCHOICE LIFE AND HEALTH INSURANCE COMPANY INC","X",{"$f":"IF(ISNUMBER(FIND(\"MEDICAID\",A2948)),\"X\",\"\")","v":""},{"$f":"IF(ISNUMBER(FIND(\"MEDICARE\",A2948)),\"X\",\"\")","v":""},{"$f":"IF(ISNUMBER(FIND(\"BC/BS\",#REF!)),\"X\",\"\")","v":""}]
["QUALFON DATA SERVICES GROUP LLC (HEALTHSCOPE BENEFITS)",null,{"$f":"IF(ISNUMBER(FIND(\"MEDICAID\",A2949)),\"X\",\"\")","v":""},{"$f":"IF(ISNUMBER(FIND(\"MEDICARE\",A2949)),\"X\",\"\")","v":""},{"$f":"IF(ISNUMBER(FIND(\"BC/BS\",#REF!)),\"X\",\"\")","v":""}]
["QUALITY CORRECTIONAL CARE LLC (GROUP & PENSION ADMIN)","X",{"$f":"IF(ISNUMBER(FIND(\"MEDICAID\",A2950)),\"X\",\"\")","v":""},{"$f":"IF(ISNUMBER(FIND(\"MEDICARE\",A2950)),\"X\",\"\")","v":""},{"$f":"IF(ISNUMBER(FIND(\"BC/BS\",#REF!)),\"X\",\"\")","v":""}]
["QUARTZ HEALTH BENEFIT PLANS","X",{"$f":"IF(ISNUMBER(FIND(\"MEDICAID\",A2951)),\"X\",\"\")","v":""},{"$f":"IF(ISNUMBER(FIND(\"MEDICARE\",A2951)),\"X\",\"\")","v":""},{"$f":"IF(ISNUMBER(FIND(\"BC/BS\",#REF!)),\"X\",\"\")","v":""}]
["QUARTZ HEALTH INSURANCE CORPORATION","X",{"$f":"IF(ISNUMBER(FIND(\"MEDICAID\",A2952)),\"X\",\"\")","v":""},{"$f":"IF(ISNUMBER(FIND(\"MEDICARE\",A2952)),\"X\",\"\")","v":""},{"$f":"IF(ISNUMBER(FIND(\"BC/BS\",#REF!)),\"X\",\"\")","v":""}]
["QUARTZ HEALTH PLAN","X",{"$f":"IF(ISNUMBER(FIND(\"MEDICAID\",A2953)),\"X\",\"\")","v":""},{"$f":"IF(ISNUMBER(FIND(\"MEDICARE\",A2953)),\"X\",\"\")","v":""},{"$f":"IF(ISNUMBER(FIND(\"BC/BS\",#REF!)),\"X\",\"\")","v":""}]
["QUARTZ HEALTH PLAN MN","X",{"$f":"IF(ISNUMBER(FIND(\"MEDICAID\",A2954)),\"X\",\"\")","v":""},{"$f":"IF(ISNUMBER(FIND(\"MEDICARE\",A2954)),\"X\",\"\")","v":""},{"$f":"IF(ISNUMBER(FIND(\"BC/BS\",#REF!)),\"X\",\"\")","v":""}]
["QUARTZASO","X",{"$f":"IF(ISNUMBER(FIND(\"MEDICAID\",A2955)),\"X\",\"\")","v":""},{"$f":"IF(ISNUMBER(FIND(\"MEDICARE\",A2955)),\"X\",\"\")","v":""},{"$f":"IF(ISNUMBER(FIND(\"BC/BS\",#REF!)),\"X\",\"\")","v":""}]
["QUEST BEHAVIORAL HEALTH","X",{"$f":"IF(ISNUMBER(FIND(\"MEDICAID\",A2956)),\"X\",\"\")","v":""},{"$f":"IF(ISNUMBER(FIND(\"MEDICARE\",A2956)),\"X\",\"\")","v":""},{"$f":"IF(ISNUMBER(FIND(\"BC/BS\",#REF!)),\"X\",\"\")","v":""}]
["QUIKTRIP","X",{"$f":"IF(ISNUMBER(FIND(\"MEDICAID\",A2957)),\"X\",\"\")","v":""},{"$f":"IF(ISNUMBER(FIND(\"MEDICARE\",A2957)),\"X\",\"\")","v":""},{"$f":"IF(ISNUMBER(FIND(\"BC/BS\",#REF!)),\"X\",\"\")","v":""}]
["QUILT BENEFITS C/O KHA (KENTUCKY HEALTH ADMINISTRATORS)","X",{"$f":"IF(ISNUMBER(FIND(\"MEDICAID\",A2958)),\"X\",\"\")","v":""},{"$f":"IF(ISNUMBER(FIND(\"MEDICARE\",A2958)),\"X\",\"\")","v":""},{"$f":"IF(ISNUMBER(FIND(\"BC/BS\",#REF!)),\"X\",\"\")","v":""}]
["R.S. HUGHES (HEALTHCOMP)",null,{"$f":"IF(ISNUMBER(FIND(\"MEDICAID\",A2959)),\"X\",\"\")","v":""},{"$f":"IF(ISNUMBER(FIND(\"MEDICARE\",A2959)),\"X\",\"\")","v":""},{"$f":"IF(ISNUMBER(FIND(\"BC/BS\",#REF!)),\"X\",\"\")","v":""}]
["RADIOLOGICAL PHYSICIAN ASSOCIATES (THE HEALTH PLAN)",null,{"$f":"IF(ISNUMBER(FIND(\"MEDICAID\",A2960)),\"X\",\"\")","v":""},{"$f":"IF(ISNUMBER(FIND(\"MEDICARE\",A2960)),\"X\",\"\")","v":""},{"$f":"IF(ISNUMBER(FIND(\"BC/BS\",#REF!)),\"X\",\"\")","v":""}]
["RADY'S CHILDRENS",null,{"$f":"IF(ISNUMBER(FIND(\"MEDICAID\",A2961)),\"X\",\"\")","v":""},{"$f":"IF(ISNUMBER(FIND(\"MEDICARE\",A2961)),\"X\",\"\")","v":""},{"$f":"IF(ISNUMBER(FIND(\"BC/BS\",#REF!)),\"X\",\"\")","v":""}]
["RAGO EBPT (90 DEGREE BENEFITS HOUSTON - ENTRUST)",null,{"$f":"IF(ISNUMBER(FIND(\"MEDICAID\",A2962)),\"X\",\"\")","v":""},{"$f":"IF(ISNUMBER(FIND(\"MEDICARE\",A2962)),\"X\",\"\")","v":""},{"$f":"IF(ISNUMBER(FIND(\"BC/BS\",#REF!)),\"X\",\"\")","v":""}]
["RAIN FOR RENT (HEALTHCOMP)",null,{"$f":"IF(ISNUMBER(FIND(\"MEDICAID\",A2963)),\"X\",\"\")","v":""},{"$f":"IF(ISNUMBER(FIND(\"MEDICARE\",A2963)),\"X\",\"\")","v":""},{"$f":"IF(ISNUMBER(FIND(\"BC/BS\",#REF!)),\"X\",\"\")","v":""}]
["RAINELLE MEDICAL CENTER (THE HEALTH PLAN)",null,{"$f":"IF(ISNUMBER(FIND(\"MEDICAID\",A2964)),\"X\",\"\")","v":""},{"$f":"IF(ISNUMBER(FIND(\"MEDICARE\",A2964)),\"X\",\"\")","v":""},{"$f":"IF(ISNUMBER(FIND(\"BC/BS\",#REF!)),\"X\",\"\")","v":""}]
["RALPH H. JOHNSON VA MEDICAL CENTER","X",{"$f":"IF(ISNUMBER(FIND(\"MEDICAID\",A2965)),\"X\",\"\")","v":""},{"$f":"IF(ISNUMBER(FIND(\"MEDICARE\",A2965)),\"X\",\"\")","v":""},{"$f":"IF(ISNUMBER(FIND(\"BC/BS\",#REF!)),\"X\",\"\")","v":""}]
["RAM MUTUAL INSURANCE",null,{"$f":"IF(ISNUMBER(FIND(\"MEDICAID\",A2966)),\"X\",\"\")","v":""},{"$f":"IF(ISNUMBER(FIND(\"MEDICARE\",A2966)),\"X\",\"\")","v":""},{"$f":"IF(ISNUMBER(FIND(\"BC/BS\",#REF!)),\"X\",\"\")","v":""},null,"X"]
["RAPIDAN SERVICE AUTHORITY (SENTARA)",null,{"$f":"IF(ISNUMBER(FIND(\"MEDICAID\",A2967)),\"X\",\"\")","v":""},{"$f":"IF(ISNUMBER(FIND(\"MEDICARE\",A2967)),\"X\",\"\")","v":""},{"$f":"IF(ISNUMBER(FIND(\"BC/BS\",#REF!)),\"X\",\"\")","v":""}]
["RAYMOND G. MURPHY VA MEDICAL CENTER","X",{"$f":"IF(ISNUMBER(FIND(\"MEDICAID\",A2968)),\"X\",\"\")","v":""},{"$f":"IF(ISNUMBER(FIND(\"MEDICARE\",A2968)),\"X\",\"\")","v":""},{"$f":"IF(ISNUMBER(FIND(\"BC/BS\",#REF!)),\"X\",\"\")","v":""}]
["RBC MINISTRIES (OUR DAILY BREAD MINISTRIES) (ASR HEALTH BENEFITS)","X",{"$f":"IF(ISNUMBER(FIND(\"MEDICAID\",A2969)),\"X\",\"\")","v":""},{"$f":"IF(ISNUMBER(FIND(\"MEDICARE\",A2969)),\"X\",\"\")","v":""},{"$f":"IF(ISNUMBER(FIND(\"BC/BS\",#REF!)),\"X\",\"\")","v":""}]
["RCA HEALTHCARE MANAGEMENT LLC (INDEPENDENT HEALTH)",null,{"$f":"IF(ISNUMBER(FIND(\"MEDICAID\",A2970)),\"X\",\"\")","v":""},{"$f":"IF(ISNUMBER(FIND(\"MEDICARE\",A2970)),\"X\",\"\")","v":""},{"$f":"IF(ISNUMBER(FIND(\"BC/BS\",#REF!)),\"X\",\"\")","v":""}]
["RCI CONSULTANTS INC (GROUP & PENSION ADMIN)","X",{"$f":"IF(ISNUMBER(FIND(\"MEDICAID\",A2971)),\"X\",\"\")","v":""},{"$f":"IF(ISNUMBER(FIND(\"MEDICARE\",A2971)),\"X\",\"\")","v":""},{"$f":"IF(ISNUMBER(FIND(\"BC/BS\",#REF!)),\"X\",\"\")","v":""}]
["RCS PERSONNEL EBPT (90 DEGREE BENEFITS HOUSTON - ENTRUST)",null,{"$f":"IF(ISNUMBER(FIND(\"MEDICAID\",A2972)),\"X\",\"\")","v":""},{"$f":"IF(ISNUMBER(FIND(\"MEDICARE\",A2972)),\"X\",\"\")","v":""},{"$f":"IF(ISNUMBER(FIND(\"BC/BS\",#REF!)),\"X\",\"\")","v":""}]
["RDS OF VIRGINIA LLC (SENTARA)",null,{"$f":"IF(ISNUMBER(FIND(\"MEDICAID\",A2973)),\"X\",\"\")","v":""},{"$f":"IF(ISNUMBER(FIND(\"MEDICARE\",A2973)),\"X\",\"\")","v":""},{"$f":"IF(ISNUMBER(FIND(\"BC/BS\",#REF!)),\"X\",\"\")","v":""}]
["RECEIVABLE SOLUTIONS (BENEFIT PLAN ADMINISTRATORS)",null,{"$f":"IF(ISNUMBER(FIND(\"MEDICAID\",A2974)),\"X\",\"\")","v":""},{"$f":"IF(ISNUMBER(FIND(\"MEDICARE\",A2974)),\"X\",\"\")","v":""},{"$f":"IF(ISNUMBER(FIND(\"BC/BS\",#REF!)),\"X\",\"\")","v":""}]
["REDLANDS YUCAIPA MEDICAL GROUP (EPIC MANAGEMENT)","X",{"$f":"IF(ISNUMBER(FIND(\"MEDICAID\",A2975)),\"X\",\"\")","v":""},{"$f":"IF(ISNUMBER(FIND(\"MEDICARE\",A2975)),\"X\",\"\")","v":""},{"$f":"IF(ISNUMBER(FIND(\"BC/BS\",#REF!)),\"X\",\"\")","v":""}]
["REDWOOD HEALTH SERVICES","X",{"$f":"IF(ISNUMBER(FIND(\"MEDICAID\",A2976)),\"X\",\"\")","v":""},{"$f":"IF(ISNUMBER(FIND(\"MEDICARE\",A2976)),\"X\",\"\")","v":""},{"$f":"IF(ISNUMBER(FIND(\"BC/BS\",#REF!)),\"X\",\"\")","v":""}]
["REECE ALBERT INC (GROUP & PENSION ADMIN)","X",{"$f":"IF(ISNUMBER(FIND(\"MEDICAID\",A2977)),\"X\",\"\")","v":""},{"$f":"IF(ISNUMBER(FIND(\"MEDICARE\",A2977)),\"X\",\"\")","v":""},{"$f":"IF(ISNUMBER(FIND(\"BC/BS\",#REF!)),\"X\",\"\")","v":""}]
["REED OIL (THE HEALTH PLAN)","X",{"$f":"IF(ISNUMBER(FIND(\"MEDICAID\",A2978)),\"X\",\"\")","v":""},{"$f":"IF(ISNUMBER(FIND(\"MEDICARE\",A2978)),\"X\",\"\")","v":""},{"$f":"IF(ISNUMBER(FIND(\"BC/BS\",#REF!)),\"X\",\"\")","v":""}]
["REEDMANN TOLL (GROUP & PENSION ADMIN)","X",{"$f":"IF(ISNUMBER(FIND(\"MEDICAID\",A2979)),\"X\",\"\")","v":""},{"$f":"IF(ISNUMBER(FIND(\"MEDICARE\",A2979)),\"X\",\"\")","v":""},{"$f":"IF(ISNUMBER(FIND(\"BC/BS\",#REF!)),\"X\",\"\")","v":""}]
["REFUGIO COUNTY MEMORIAL HOSPITAL (GROUP & PENSION ADMIN)","X",{"$f":"IF(ISNUMBER(FIND(\"MEDICAID\",A2980)),\"X\",\"\")","v":""},{"$f":"IF(ISNUMBER(FIND(\"MEDICARE\",A2980)),\"X\",\"\")","v":""},{"$f":"IF(ISNUMBER(FIND(\"BC/BS\",#REF!)),\"X\",\"\")","v":""}]
["REGAL CUTTING TOOLS INC (GROUP & PENSION ADMIN)","X",{"$f":"IF(ISNUMBER(FIND(\"MEDICAID\",A2981)),\"X\",\"\")","v":""},{"$f":"IF(ISNUMBER(FIND(\"MEDICARE\",A2981)),\"X\",\"\")","v":""},{"$f":"IF(ISNUMBER(FIND(\"BC/BS\",#REF!)),\"X\",\"\")","v":""}]
["REGENCE BCBS OF OREGON","X",{"$f":"IF(ISNUMBER(FIND(\"MEDICAID\",A2982)),\"X\",\"\")","v":""},{"$f":"IF(ISNUMBER(FIND(\"MEDICARE\",A2982)),\"X\",\"\")","v":""},"X"]
["REGENCE BCBS OF OREGON FEP","X",{"$f":"IF(ISNUMBER(FIND(\"MEDICAID\",A2983)),\"X\",\"\")","v":""},{"$f":"IF(ISNUMBER(FIND(\"MEDICARE\",A2983)),\"X\",\"\")","v":""},"X"]
["REGENCE BCBS OF UTAH","X",{"$f":"IF(ISNUMBER(FIND(\"MEDICAID\",A2984)),\"X\",\"\")","v":""},{"$f":"IF(ISNUMBER(FIND(\"MEDICARE\",A2984)),\"X\",\"\")","v":""},"X"]
["REGENCE BCBS OF UTAH FEP","X",{"$f":"IF(ISNUMBER(FIND(\"MEDICAID\",A2985)),\"X\",\"\")","v":""},{"$f":"IF(ISNUMBER(FIND(\"MEDICARE\",A2985)),\"X\",\"\")","v":""},"X"]
["REGENCE BLUESHIELD","X",{"$f":"IF(ISNUMBER(FIND(\"MEDICAID\",A2986)),\"X\",\"\")","v":""},{"$f":"IF(ISNUMBER(FIND(\"MEDICARE\",A2986)),\"X\",\"\")","v":""},"X"]
["REGENCE BLUESHIELD OF IDAHO","X",{"$f":"IF(ISNUMBER(FIND(\"MEDICAID\",A2987)),\"X\",\"\")","v":""},{"$f":"IF(ISNUMBER(FIND(\"MEDICARE\",A2987)),\"X\",\"\")","v":""},"X"]
["REGENCE BLUESHIELD OF IDAHO FEP","X",{"$f":"IF(ISNUMBER(FIND(\"MEDICAID\",A2988)),\"X\",\"\")","v":""},{"$f":"IF(ISNUMBER(FIND(\"MEDICARE\",A2988)),\"X\",\"\")","v":""},"X"]
["REGENCE BLUESHIELD OF WASHINGTON FEP","X",{"$f":"IF(ISNUMBER(FIND(\"MEDICAID\",A2989)),\"X\",\"\")","v":""},{"$f":"IF(ISNUMBER(FIND(\"MEDICARE\",A2989)),\"X\",\"\")","v":""},"X"]
["REGENCE GROUP ADMINISTRATORS","X",{"$f":"IF(ISNUMBER(FIND(\"MEDICAID\",A2990)),\"X\",\"\")","v":""},{"$f":"IF(ISNUMBER(FIND(\"MEDICARE\",A2990)),\"X\",\"\")","v":""},{"$f":"IF(ISNUMBER(FIND(\"BC/BS\",#REF!)),\"X\",\"\")","v":""}]
["REGENT UNIVERSITY (SENTARA)","X",{"$f":"IF(ISNUMBER(FIND(\"MEDICAID\",A2991)),\"X\",\"\")","v":""},{"$f":"IF(ISNUMBER(FIND(\"MEDICARE\",A2991)),\"X\",\"\")","v":""},{"$f":"IF(ISNUMBER(FIND(\"BC/BS\",#REF!)),\"X\",\"\")","v":""}]
["REGIONAL CARE INC","X",{"$f":"IF(ISNUMBER(FIND(\"MEDICAID\",A2992)),\"X\",\"\")","v":""},{"$f":"IF(ISNUMBER(FIND(\"MEDICARE\",A2992)),\"X\",\"\")","v":""},{"$f":"IF(ISNUMBER(FIND(\"BC/BS\",#REF!)),\"X\",\"\")","v":""}]
["REID COMPANIES (INDEPENDENT HEALTH)",null,{"$f":"IF(ISNUMBER(FIND(\"MEDICAID\",A2993)),\"X\",\"\")","v":""},{"$f":"IF(ISNUMBER(FIND(\"MEDICARE\",A2993)),\"X\",\"\")","v":""},{"$f":"IF(ISNUMBER(FIND(\"BC/BS\",#REF!)),\"X\",\"\")","v":""}]
["REIMBURSEMENT SPECIALISTS INC","X",{"$f":"IF(ISNUMBER(FIND(\"MEDICAID\",A2994)),\"X\",\"\")","v":""},{"$f":"IF(ISNUMBER(FIND(\"MEDICARE\",A2994)),\"X\",\"\")","v":""},{"$f":"IF(ISNUMBER(FIND(\"BC/BS\",#REF!)),\"X\",\"\")","v":""}]
["RELATION INSURANCE SERVICES (PERSONAL INSURANCE ADMINISTRATORS)","X",{"$f":"IF(ISNUMBER(FIND(\"MEDICAID\",A2995)),\"X\",\"\")","v":""},{"$f":"IF(ISNUMBER(FIND(\"MEDICARE\",A2995)),\"X\",\"\")","v":""},{"$f":"IF(ISNUMBER(FIND(\"BC/BS\",#REF!)),\"X\",\"\")","v":""}]
["RELIABLE CARRIERS (MAESTRO HEALTH)",null,{"$f":"IF(ISNUMBER(FIND(\"MEDICAID\",A2996)),\"X\",\"\")","v":""},{"$f":"IF(ISNUMBER(FIND(\"MEDICARE\",A2996)),\"X\",\"\")","v":""},{"$f":"IF(ISNUMBER(FIND(\"BC/BS\",#REF!)),\"X\",\"\")","v":""}]
["RELIANCE STANDARD LIFE INSURANCE CO",null,{"$f":"IF(ISNUMBER(FIND(\"MEDICAID\",A2997)),\"X\",\"\")","v":""},{"$f":"IF(ISNUMBER(FIND(\"MEDICARE\",A2997)),\"X\",\"\")","v":""},{"$f":"IF(ISNUMBER(FIND(\"BC/BS\",#REF!)),\"X\",\"\")","v":""}]
["RELIGIOUS ORDER OF JEHOVAH'S WITNESSES - HEALTH CARE SUPPORT","X",{"$f":"IF(ISNUMBER(FIND(\"MEDICAID\",A2998)),\"X\",\"\")","v":""},{"$f":"IF(ISNUMBER(FIND(\"MEDICARE\",A2998)),\"X\",\"\")","v":""},{"$f":"IF(ISNUMBER(FIND(\"BC/BS\",#REF!)),\"X\",\"\")","v":""}]
["REMIF (HEALTHCOMP)",null,{"$f":"IF(ISNUMBER(FIND(\"MEDICAID\",A2999)),\"X\",\"\")","v":""},{"$f":"IF(ISNUMBER(FIND(\"MEDICARE\",A2999)),\"X\",\"\")","v":""},{"$f":"IF(ISNUMBER(FIND(\"BC/BS\",#REF!)),\"X\",\"\")","v":""}]
["RENAISSANCE LIFE & HEALTH INSURANCE COMPANY OF AMERICA","X",{"$f":"IF(ISNUMBER(FIND(\"MEDICAID\",A3000)),\"X\",\"\")","v":""},{"$f":"IF(ISNUMBER(FIND(\"MEDICARE\",A3000)),\"X\",\"\")","v":""},{"$f":"IF(ISNUMBER(FIND(\"BC/BS\",#REF!)),\"X\",\"\")","v":""}]
["REND LAKE COMMUNITY COLLEGE (IPMG) ","X",{"$f":"IF(ISNUMBER(FIND(\"MEDICAID\",A3001)),\"X\",\"\")","v":""},{"$f":"IF(ISNUMBER(FIND(\"MEDICARE\",A3001)),\"X\",\"\")","v":""},{"$f":"IF(ISNUMBER(FIND(\"BC/BS\",#REF!)),\"X\",\"\")","v":""}]
["RENEGADE GROUP LLC (GROUP & PENSION ADMIN)","X",{"$f":"IF(ISNUMBER(FIND(\"MEDICAID\",A3002)),\"X\",\"\")","v":""},{"$f":"IF(ISNUMBER(FIND(\"MEDICARE\",A3002)),\"X\",\"\")","v":""},{"$f":"IF(ISNUMBER(FIND(\"BC/BS\",#REF!)),\"X\",\"\")","v":""}]
["RENOWN HEALTH (HOMETOWN HEALTH NEVADA)","X",{"$f":"IF(ISNUMBER(FIND(\"MEDICAID\",A3003)),\"X\",\"\")","v":""},{"$f":"IF(ISNUMBER(FIND(\"MEDICARE\",A3003)),\"X\",\"\")","v":""},{"$f":"IF(ISNUMBER(FIND(\"BC/BS\",#REF!)),\"X\",\"\")","v":""}]
["RENSSELAER POLYTECHNIC INSTITUTE (CDPHP)","X",{"$f":"IF(ISNUMBER(FIND(\"MEDICAID\",A3004)),\"X\",\"\")","v":""},{"$f":"IF(ISNUMBER(FIND(\"MEDICARE\",A3004)),\"X\",\"\")","v":""},{"$f":"IF(ISNUMBER(FIND(\"BC/BS\",#REF!)),\"X\",\"\")","v":""}]
["RESURRECTION PHYSICIANS PROVIDER GROUP","X",{"$f":"IF(ISNUMBER(FIND(\"MEDICAID\",A3005)),\"X\",\"\")","v":""},{"$f":"IF(ISNUMBER(FIND(\"MEDICARE\",A3005)),\"X\",\"\")","v":""},{"$f":"IF(ISNUMBER(FIND(\"BC/BS\",#REF!)),\"X\",\"\")","v":""}]
["RETAIL INVESTORS OF TEXAS LTD (GROUP & PENSION ADMIN)","X",{"$f":"IF(ISNUMBER(FIND(\"MEDICAID\",A3006)),\"X\",\"\")","v":""},{"$f":"IF(ISNUMBER(FIND(\"MEDICARE\",A3006)),\"X\",\"\")","v":""},{"$f":"IF(ISNUMBER(FIND(\"BC/BS\",#REF!)),\"X\",\"\")","v":""}]
["REVERE COPPER PRODUCTS INC (MVP HEALTH CARE)","X",{"$f":"IF(ISNUMBER(FIND(\"MEDICAID\",A3007)),\"X\",\"\")","v":""},{"$f":"IF(ISNUMBER(FIND(\"MEDICARE\",A3007)),\"X\",\"\")","v":""},{"$f":"IF(ISNUMBER(FIND(\"BC/BS\",#REF!)),\"X\",\"\")","v":""}]
["RFJ AUTO PARTNERS HOLDING (GROUP & PENSION ADMIN)","X",{"$f":"IF(ISNUMBER(FIND(\"MEDICAID\",A3008)),\"X\",\"\")","v":""},{"$f":"IF(ISNUMBER(FIND(\"MEDICARE\",A3008)),\"X\",\"\")","v":""},{"$f":"IF(ISNUMBER(FIND(\"BC/BS\",#REF!)),\"X\",\"\")","v":""}]
["RHF INVESTMENTS (THE HEALTH PLAN)",null,{"$f":"IF(ISNUMBER(FIND(\"MEDICAID\",A3009)),\"X\",\"\")","v":""},{"$f":"IF(ISNUMBER(FIND(\"MEDICARE\",A3009)),\"X\",\"\")","v":""},{"$f":"IF(ISNUMBER(FIND(\"BC/BS\",#REF!)),\"X\",\"\")","v":""}]
["RICHARD L. ROUDEBUSH VA MEDICAL CENTER","X",{"$f":"IF(ISNUMBER(FIND(\"MEDICAID\",A3010)),\"X\",\"\")","v":""},{"$f":"IF(ISNUMBER(FIND(\"MEDICARE\",A3010)),\"X\",\"\")","v":""},{"$f":"IF(ISNUMBER(FIND(\"BC/BS\",#REF!)),\"X\",\"\")","v":""}]
["RIDES MASS TRANSIT (IPMG)","X",{"$f":"IF(ISNUMBER(FIND(\"MEDICAID\",A3011)),\"X\",\"\")","v":""},{"$f":"IF(ISNUMBER(FIND(\"MEDICARE\",A3011)),\"X\",\"\")","v":""},{"$f":"IF(ISNUMBER(FIND(\"BC/BS\",#REF!)),\"X\",\"\")","v":""}]
["RIDGECREST REGIONAL HOSPITAL (HEALTHCOMP)",null,{"$f":"IF(ISNUMBER(FIND(\"MEDICAID\",A3012)),\"X\",\"\")","v":""},{"$f":"IF(ISNUMBER(FIND(\"MEDICARE\",A3012)),\"X\",\"\")","v":""},{"$f":"IF(ISNUMBER(FIND(\"BC/BS\",#REF!)),\"X\",\"\")","v":""}]
["RIGHTCARE FROM SCOTT & WHITE HEALTH PLAN","X",{"$f":"IF(ISNUMBER(FIND(\"MEDICAID\",A3013)),\"X\",\"\")","v":""},{"$f":"IF(ISNUMBER(FIND(\"MEDICARE\",A3013)),\"X\",\"\")","v":""},{"$f":"IF(ISNUMBER(FIND(\"BC/BS\",#REF!)),\"X\",\"\")","v":""}]
["RIPLEY COUNTY GOVERNMENT (GROUP & PENSION ADMIN)","X",{"$f":"IF(ISNUMBER(FIND(\"MEDICAID\",A3014)),\"X\",\"\")","v":""},{"$f":"IF(ISNUMBER(FIND(\"MEDICARE\",A3014)),\"X\",\"\")","v":""},{"$f":"IF(ISNUMBER(FIND(\"BC/BS\",#REF!)),\"X\",\"\")","v":""}]
["RISING MEDICAL","X",{"$f":"IF(ISNUMBER(FIND(\"MEDICAID\",A3015)),\"X\",\"\")","v":""},{"$f":"IF(ISNUMBER(FIND(\"MEDICARE\",A3015)),\"X\",\"\")","v":""},{"$f":"IF(ISNUMBER(FIND(\"BC/BS\",#REF!)),\"X\",\"\")","v":""}]
["RISK ADMINISTRATION SERVICES INC","X",{"$f":"IF(ISNUMBER(FIND(\"MEDICAID\",A3016)),\"X\",\"\")","v":""},{"$f":"IF(ISNUMBER(FIND(\"MEDICARE\",A3016)),\"X\",\"\")","v":""},{"$f":"IF(ISNUMBER(FIND(\"BC/BS\",#REF!)),\"X\",\"\")","v":""}]
["RIVER CITY MEDICAL GROUP","X",{"$f":"IF(ISNUMBER(FIND(\"MEDICAID\",A3017)),\"X\",\"\")","v":""},{"$f":"IF(ISNUMBER(FIND(\"MEDICARE\",A3017)),\"X\",\"\")","v":""},{"$f":"IF(ISNUMBER(FIND(\"BC/BS\",#REF!)),\"X\",\"\")","v":""}]
["RIVERSIDE MARKET INC (ASR HEALTH BENEFITS)","X",{"$f":"IF(ISNUMBER(FIND(\"MEDICAID\",A3018)),\"X\",\"\")","v":""},{"$f":"IF(ISNUMBER(FIND(\"MEDICARE\",A3018)),\"X\",\"\")","v":""},{"$f":"IF(ISNUMBER(FIND(\"BC/BS\",#REF!)),\"X\",\"\")","v":""}]
["RLJ MANAGEMENT (THE HEALTH PLAN)","X",{"$f":"IF(ISNUMBER(FIND(\"MEDICAID\",A3019)),\"X\",\"\")","v":""},{"$f":"IF(ISNUMBER(FIND(\"MEDICARE\",A3019)),\"X\",\"\")","v":""},{"$f":"IF(ISNUMBER(FIND(\"BC/BS\",#REF!)),\"X\",\"\")","v":""}]
["RMH FRANCHASE CORPORATION (GROUP & PENSION ADMIN)","X",{"$f":"IF(ISNUMBER(FIND(\"MEDICAID\",A3020)),\"X\",\"\")","v":""},{"$f":"IF(ISNUMBER(FIND(\"MEDICARE\",A3020)),\"X\",\"\")","v":""},{"$f":"IF(ISNUMBER(FIND(\"BC/BS\",#REF!)),\"X\",\"\")","v":""}]
["ROBERT J. DOLE VA MEDICAL & REGIONAL OFFICE CENTER (WICHITA)","X",{"$f":"IF(ISNUMBER(FIND(\"MEDICAID\",A3021)),\"X\",\"\")","v":""},{"$f":"IF(ISNUMBER(FIND(\"MEDICARE\",A3021)),\"X\",\"\")","v":""},{"$f":"IF(ISNUMBER(FIND(\"BC/BS\",#REF!)),\"X\",\"\")","v":""}]
["ROBLEY REX VA MEDICAL CENTER","X",{"$f":"IF(ISNUMBER(FIND(\"MEDICAID\",A3022)),\"X\",\"\")","v":""},{"$f":"IF(ISNUMBER(FIND(\"MEDICARE\",A3022)),\"X\",\"\")","v":""},{"$f":"IF(ISNUMBER(FIND(\"BC/BS\",#REF!)),\"X\",\"\")","v":""}]
["ROCHESTER METAL PRODUCTS CORP (GROUP & PENSION ADMIN)","X",{"$f":"IF(ISNUMBER(FIND(\"MEDICAID\",A3023)),\"X\",\"\")","v":""},{"$f":"IF(ISNUMBER(FIND(\"MEDICARE\",A3023)),\"X\",\"\")","v":""},{"$f":"IF(ISNUMBER(FIND(\"BC/BS\",#REF!)),\"X\",\"\")","v":""}]
["ROCKCASTLE COUNTY FISCAL COURT EBPT (90 DEGREE BENEFITS HOUSTON - ENTRUST)",null,{"$f":"IF(ISNUMBER(FIND(\"MEDICAID\",A3024)),\"X\",\"\")","v":""},{"$f":"IF(ISNUMBER(FIND(\"MEDICARE\",A3024)),\"X\",\"\")","v":""},{"$f":"IF(ISNUMBER(FIND(\"BC/BS\",#REF!)),\"X\",\"\")","v":""}]
["ROCKY MOUNTAIN HEALTH MAINTENANCE ORGANIZATION (ROCKY MOUNTAIN HEALTH PLANS)",null,{"$f":"IF(ISNUMBER(FIND(\"MEDICAID\",A3025)),\"X\",\"\")","v":""},{"$f":"IF(ISNUMBER(FIND(\"MEDICARE\",A3025)),\"X\",\"\")","v":""},{"$f":"IF(ISNUMBER(FIND(\"BC/BS\",#REF!)),\"X\",\"\")","v":""}]
["ROCKY MOUNTAIN HOSPITAL & MEDICAL SERVICES - NEVADA (RMHMS) (ANTHEM)","X",{"$f":"IF(ISNUMBER(FIND(\"MEDICAID\",A3026)),\"X\",\"\")","v":""},{"$f":"IF(ISNUMBER(FIND(\"MEDICARE\",A3026)),\"X\",\"\")","v":""},"X"]
["ROCKY MOUNTAIN HOSPITAL & MEDICAL SERVICES (RMHMS) (ANTHEM)","X",{"$f":"IF(ISNUMBER(FIND(\"MEDICAID\",A3027)),\"X\",\"\")","v":""},{"$f":"IF(ISNUMBER(FIND(\"MEDICARE\",A3027)),\"X\",\"\")","v":""},"X"]
["ROD BUSTERS INC (SENTARA)","X",{"$f":"IF(ISNUMBER(FIND(\"MEDICAID\",A3028)),\"X\",\"\")","v":""},{"$f":"IF(ISNUMBER(FIND(\"MEDICARE\",A3028)),\"X\",\"\")","v":""},{"$f":"IF(ISNUMBER(FIND(\"BC/BS\",#REF!)),\"X\",\"\")","v":""}]
["ROLLING HILLS CASINO (HEALTHCOMP)","X",{"$f":"IF(ISNUMBER(FIND(\"MEDICAID\",A3029)),\"X\",\"\")","v":""},{"$f":"IF(ISNUMBER(FIND(\"MEDICARE\",A3029)),\"X\",\"\")","v":""},{"$f":"IF(ISNUMBER(FIND(\"BC/BS\",#REF!)),\"X\",\"\")","v":""}]
["ROLLINS INC (THE HEALTH PLAN)","X",{"$f":"IF(ISNUMBER(FIND(\"MEDICAID\",A3030)),\"X\",\"\")","v":""},{"$f":"IF(ISNUMBER(FIND(\"MEDICARE\",A3030)),\"X\",\"\")","v":""},{"$f":"IF(ISNUMBER(FIND(\"BC/BS\",#REF!)),\"X\",\"\")","v":""}]
["ROMAN CATHOLIC ARCHDIOCESE OF L.A. RETIRED PRIESTS' PLAN (DELTA HEALTH SYSTEM)",null,{"$f":"IF(ISNUMBER(FIND(\"MEDICAID\",A3031)),\"X\",\"\")","v":""},{"$f":"IF(ISNUMBER(FIND(\"MEDICARE\",A3031)),\"X\",\"\")","v":""},{"$f":"IF(ISNUMBER(FIND(\"BC/BS\",#REF!)),\"X\",\"\")","v":""}]
["ROSEBURG VA MEDICAL CENTER","X",{"$f":"IF(ISNUMBER(FIND(\"MEDICAID\",A3032)),\"X\",\"\")","v":""},{"$f":"IF(ISNUMBER(FIND(\"MEDICARE\",A3032)),\"X\",\"\")","v":""},{"$f":"IF(ISNUMBER(FIND(\"BC/BS\",#REF!)),\"X\",\"\")","v":""}]
["ROSINA FOODS (INDEPENDENT HEALTH)",null,{"$f":"IF(ISNUMBER(FIND(\"MEDICAID\",A3033)),\"X\",\"\")","v":""},{"$f":"IF(ISNUMBER(FIND(\"MEDICARE\",A3033)),\"X\",\"\")","v":""},{"$f":"IF(ISNUMBER(FIND(\"BC/BS\",#REF!)),\"X\",\"\")","v":""}]
["ROWLEY COMPANY (90 DEGREE BENEFITS NORTH CAROLINA - CORPORATE BENEFIT SERVICES)",null,{"$f":"IF(ISNUMBER(FIND(\"MEDICAID\",A3034)),\"X\",\"\")","v":""},{"$f":"IF(ISNUMBER(FIND(\"MEDICARE\",A3034)),\"X\",\"\")","v":""},{"$f":"IF(ISNUMBER(FIND(\"BC/BS\",#REF!)),\"X\",\"\")","v":""}]
["ROYAL C. JOHNSON VETERANS MEMORIAL HOSPITAL","X",{"$f":"IF(ISNUMBER(FIND(\"MEDICAID\",A3035)),\"X\",\"\")","v":""},{"$f":"IF(ISNUMBER(FIND(\"MEDICARE\",A3035)),\"X\",\"\")","v":""},{"$f":"IF(ISNUMBER(FIND(\"BC/BS\",#REF!)),\"X\",\"\")","v":""}]
["ROYAL NEIGHBORS OF AMERICA (IAS ADMIN)","X",{"$f":"IF(ISNUMBER(FIND(\"MEDICAID\",A3036)),\"X\",\"\")","v":""},{"$f":"IF(ISNUMBER(FIND(\"MEDICARE\",A3036)),\"X\",\"\")","v":""},{"$f":"IF(ISNUMBER(FIND(\"BC/BS\",#REF!)),\"X\",\"\")","v":""}]
["ROYAL PLASTICS INC (ASR HEALTH BENEFITS)","X",{"$f":"IF(ISNUMBER(FIND(\"MEDICAID\",A3037)),\"X\",\"\")","v":""},{"$f":"IF(ISNUMBER(FIND(\"MEDICARE\",A3037)),\"X\",\"\")","v":""},{"$f":"IF(ISNUMBER(FIND(\"BC/BS\",#REF!)),\"X\",\"\")","v":""}]
["RTA EBP (90 DEGREE BENEFITS HOUSTON - ENTRUST)",null,{"$f":"IF(ISNUMBER(FIND(\"MEDICAID\",A3038)),\"X\",\"\")","v":""},{"$f":"IF(ISNUMBER(FIND(\"MEDICARE\",A3038)),\"X\",\"\")","v":""},{"$f":"IF(ISNUMBER(FIND(\"BC/BS\",#REF!)),\"X\",\"\")","v":""}]
["RUIZ FOODS (HEALTHCOMP)","X",{"$f":"IF(ISNUMBER(FIND(\"MEDICAID\",A3039)),\"X\",\"\")","v":""},{"$f":"IF(ISNUMBER(FIND(\"MEDICARE\",A3039)),\"X\",\"\")","v":""},{"$f":"IF(ISNUMBER(FIND(\"BC/BS\",#REF!)),\"X\",\"\")","v":""}]
["RURAL MUTUAL INSURANCE","X",{"$f":"IF(ISNUMBER(FIND(\"MEDICAID\",A3040)),\"X\",\"\")","v":""},{"$f":"IF(ISNUMBER(FIND(\"MEDICARE\",A3040)),\"X\",\"\")","v":""},{"$f":"IF(ISNUMBER(FIND(\"BC/BS\",#REF!)),\"X\",\"\")","v":""},null,"X"]
["RUSSELL SIGLER INC (AMERIBEN)",null,{"$f":"IF(ISNUMBER(FIND(\"MEDICAID\",A3041)),\"X\",\"\")","v":""},{"$f":"IF(ISNUMBER(FIND(\"MEDICARE\",A3041)),\"X\",\"\")","v":""},{"$f":"IF(ISNUMBER(FIND(\"BC/BS\",#REF!)),\"X\",\"\")","v":""}]
["RXSENSE","X",{"$f":"IF(ISNUMBER(FIND(\"MEDICAID\",A3042)),\"X\",\"\")","v":""},{"$f":"IF(ISNUMBER(FIND(\"MEDICARE\",A3042)),\"X\",\"\")","v":""},{"$f":"IF(ISNUMBER(FIND(\"BC/BS\",#REF!)),\"X\",\"\")","v":""}]
["RXWEST (OPTUMRX)","X",{"$f":"IF(ISNUMBER(FIND(\"MEDICAID\",A3043)),\"X\",\"\")","v":""},{"$f":"IF(ISNUMBER(FIND(\"MEDICARE\",A3043)),\"X\",\"\")","v":""},{"$f":"IF(ISNUMBER(FIND(\"BC/BS\",#REF!)),\"X\",\"\")","v":""}]
["S NEW HAMPSHIRE HEALTH SYSTEM (AMERIBEN)",null,{"$f":"IF(ISNUMBER(FIND(\"MEDICAID\",A3044)),\"X\",\"\")","v":""},{"$f":"IF(ISNUMBER(FIND(\"MEDICARE\",A3044)),\"X\",\"\")","v":""},{"$f":"IF(ISNUMBER(FIND(\"BC/BS\",#REF!)),\"X\",\"\")","v":""}]
["S USA LIFE INS CO (IAS ADMIN)","X",{"$f":"IF(ISNUMBER(FIND(\"MEDICAID\",A3045)),\"X\",\"\")","v":""},{"$f":"IF(ISNUMBER(FIND(\"MEDICARE\",A3045)),\"X\",\"\")","v":""},{"$f":"IF(ISNUMBER(FIND(\"BC/BS\",#REF!)),\"X\",\"\")","v":""}]
["S&S HEALTHCARE STRATEGIES","X",{"$f":"IF(ISNUMBER(FIND(\"MEDICAID\",A3046)),\"X\",\"\")","v":""},{"$f":"IF(ISNUMBER(FIND(\"MEDICARE\",A3046)),\"X\",\"\")","v":""},{"$f":"IF(ISNUMBER(FIND(\"BC/BS\",#REF!)),\"X\",\"\")","v":""}]
["S1 MEDICAL",null,{"$f":"IF(ISNUMBER(FIND(\"MEDICAID\",A3047)),\"X\",\"\")","v":""},{"$f":"IF(ISNUMBER(FIND(\"MEDICARE\",A3047)),\"X\",\"\")","v":""},{"$f":"IF(ISNUMBER(FIND(\"BC/BS\",#REF!)),\"X\",\"\")","v":""}]
["SAAB INVESTMENT LLC (BENEFIT PLAN ADMINISTRATORS)",null,{"$f":"IF(ISNUMBER(FIND(\"MEDICAID\",A3048)),\"X\",\"\")","v":""},{"$f":"IF(ISNUMBER(FIND(\"MEDICARE\",A3048)),\"X\",\"\")","v":""},{"$f":"IF(ISNUMBER(FIND(\"BC/BS\",#REF!)),\"X\",\"\")","v":""}]
["SABIC INNOVATIVE PLASTICS (CDPHP)","X",{"$f":"IF(ISNUMBER(FIND(\"MEDICAID\",A3049)),\"X\",\"\")","v":""},{"$f":"IF(ISNUMBER(FIND(\"MEDICARE\",A3049)),\"X\",\"\")","v":""},{"$f":"IF(ISNUMBER(FIND(\"BC/BS\",#REF!)),\"X\",\"\")","v":""}]
["SACRAMENTO VA MEDICAL CENTER","X",{"$f":"IF(ISNUMBER(FIND(\"MEDICAID\",A3050)),\"X\",\"\")","v":""},{"$f":"IF(ISNUMBER(FIND(\"MEDICARE\",A3050)),\"X\",\"\")","v":""},{"$f":"IF(ISNUMBER(FIND(\"BC/BS\",#REF!)),\"X\",\"\")","v":""}]
["SADDLEBACK VALLEY CHURCH - EMT (HEALTHCOMP)","X",{"$f":"IF(ISNUMBER(FIND(\"MEDICAID\",A3051)),\"X\",\"\")","v":""},{"$f":"IF(ISNUMBER(FIND(\"MEDICARE\",A3051)),\"X\",\"\")","v":""},{"$f":"IF(ISNUMBER(FIND(\"BC/BS\",#REF!)),\"X\",\"\")","v":""}]
["SADDLEBACK VALLEY CHURCH (HEALTHCOMP)","X",{"$f":"IF(ISNUMBER(FIND(\"MEDICAID\",A3052)),\"X\",\"\")","v":""},{"$f":"IF(ISNUMBER(FIND(\"MEDICARE\",A3052)),\"X\",\"\")","v":""},{"$f":"IF(ISNUMBER(FIND(\"BC/BS\",#REF!)),\"X\",\"\")","v":""}]
["SAES GETTERS USA INC (UC HEALTH PLAN ADMINISTRATORS)",null,{"$f":"IF(ISNUMBER(FIND(\"MEDICAID\",A3053)),\"X\",\"\")","v":""},{"$f":"IF(ISNUMBER(FIND(\"MEDICARE\",A3053)),\"X\",\"\")","v":""},{"$f":"IF(ISNUMBER(FIND(\"BC/BS\",#REF!)),\"X\",\"\")","v":""}]
["SAGE PUBLICATIONS (HEALTHCOMP)",null,{"$f":"IF(ISNUMBER(FIND(\"MEDICAID\",A3054)),\"X\",\"\")","v":""},{"$f":"IF(ISNUMBER(FIND(\"MEDICARE\",A3054)),\"X\",\"\")","v":""},{"$f":"IF(ISNUMBER(FIND(\"BC/BS\",#REF!)),\"X\",\"\")","v":""}]
["SAGINAW COUNTY (ASR HEALTH BENEFITS)","X",{"$f":"IF(ISNUMBER(FIND(\"MEDICAID\",A3055)),\"X\",\"\")","v":""},{"$f":"IF(ISNUMBER(FIND(\"MEDICARE\",A3055)),\"X\",\"\")","v":""},{"$f":"IF(ISNUMBER(FIND(\"BC/BS\",#REF!)),\"X\",\"\")","v":""}]
["SAINT CLAIR MGMT EBPT (90 DEGREE BENEFITS HOUSTON - ENTRUST)",null,{"$f":"IF(ISNUMBER(FIND(\"MEDICAID\",A3056)),\"X\",\"\")","v":""},{"$f":"IF(ISNUMBER(FIND(\"MEDICARE\",A3056)),\"X\",\"\")","v":""},{"$f":"IF(ISNUMBER(FIND(\"BC/BS\",#REF!)),\"X\",\"\")","v":""}]
["SALEM VA MEDICAL CENTER",null,{"$f":"IF(ISNUMBER(FIND(\"MEDICAID\",A3057)),\"X\",\"\")","v":""},{"$f":"IF(ISNUMBER(FIND(\"MEDICARE\",A3057)),\"X\",\"\")","v":""},{"$f":"IF(ISNUMBER(FIND(\"BC/BS\",#REF!)),\"X\",\"\")","v":""}]
["SALISBURY - W.G. (BILL) HEFNER VA MEDICAL CENTER",null,{"$f":"IF(ISNUMBER(FIND(\"MEDICAID\",A3058)),\"X\",\"\")","v":""},{"$f":"IF(ISNUMBER(FIND(\"MEDICARE\",A3058)),\"X\",\"\")","v":""},{"$f":"IF(ISNUMBER(FIND(\"BC/BS\",#REF!)),\"X\",\"\")","v":""}]
["SALMONS INC (SENTARA)",null,{"$f":"IF(ISNUMBER(FIND(\"MEDICAID\",A3059)),\"X\",\"\")","v":""},{"$f":"IF(ISNUMBER(FIND(\"MEDICARE\",A3059)),\"X\",\"\")","v":""},{"$f":"IF(ISNUMBER(FIND(\"BC/BS\",#REF!)),\"X\",\"\")","v":""}]
["SALT RIVER PIMA - MARICOPA (AMERIBEN)",null,{"$f":"IF(ISNUMBER(FIND(\"MEDICAID\",A3060)),\"X\",\"\")","v":""},{"$f":"IF(ISNUMBER(FIND(\"MEDICARE\",A3060)),\"X\",\"\")","v":""},{"$f":"IF(ISNUMBER(FIND(\"BC/BS\",#REF!)),\"X\",\"\")","v":""}]
["SAMARITAN CHOICE PLANS","X",{"$f":"IF(ISNUMBER(FIND(\"MEDICAID\",A3061)),\"X\",\"\")","v":""},{"$f":"IF(ISNUMBER(FIND(\"MEDICARE\",A3061)),\"X\",\"\")","v":""},{"$f":"IF(ISNUMBER(FIND(\"BC/BS\",#REF!)),\"X\",\"\")","v":""}]
["SAMARITAN COMMERCIAL PLANS","X",{"$f":"IF(ISNUMBER(FIND(\"MEDICAID\",A3062)),\"X\",\"\")","v":""},{"$f":"IF(ISNUMBER(FIND(\"MEDICARE\",A3062)),\"X\",\"\")","v":""},{"$f":"IF(ISNUMBER(FIND(\"BC/BS\",#REF!)),\"X\",\"\")","v":""}]
["SAMARITAN HEALTH PLANS","X",{"$f":"IF(ISNUMBER(FIND(\"MEDICAID\",A3063)),\"X\",\"\")","v":""},{"$f":"IF(ISNUMBER(FIND(\"MEDICARE\",A3063)),\"X\",\"\")","v":""},{"$f":"IF(ISNUMBER(FIND(\"BC/BS\",#REF!)),\"X\",\"\")","v":""}]
["SAMARITAN MINISTRIES INTERNATIONAL","X",{"$f":"IF(ISNUMBER(FIND(\"MEDICAID\",A3064)),\"X\",\"\")","v":""},{"$f":"IF(ISNUMBER(FIND(\"MEDICARE\",A3064)),\"X\",\"\")","v":""},{"$f":"IF(ISNUMBER(FIND(\"BC/BS\",#REF!)),\"X\",\"\")","v":""}]
["SAMBA","X",{"$f":"IF(ISNUMBER(FIND(\"MEDICAID\",A3065)),\"X\",\"\")","v":""},{"$f":"IF(ISNUMBER(FIND(\"MEDICARE\",A3065)),\"X\",\"\")","v":""},{"$f":"IF(ISNUMBER(FIND(\"BC/BS\",#REF!)),\"X\",\"\")","v":""}]
["SAMERA HEALTH","X",{"$f":"IF(ISNUMBER(FIND(\"MEDICAID\",A3066)),\"X\",\"\")","v":""},{"$f":"IF(ISNUMBER(FIND(\"MEDICARE\",A3066)),\"X\",\"\")","v":""},{"$f":"IF(ISNUMBER(FIND(\"BC/BS\",#REF!)),\"X\",\"\")","v":""}]
["SAMES MOTOR CO INC EBP (90 DEGREE BENEFITS HOUSTON - ENTRUST)",null,{"$f":"IF(ISNUMBER(FIND(\"MEDICAID\",A3067)),\"X\",\"\")","v":""},{"$f":"IF(ISNUMBER(FIND(\"MEDICARE\",A3067)),\"X\",\"\")","v":""},{"$f":"IF(ISNUMBER(FIND(\"BC/BS\",#REF!)),\"X\",\"\")","v":""}]
["SAMUEL S. STRATTON VA MEDICAL CENTER","X",{"$f":"IF(ISNUMBER(FIND(\"MEDICAID\",A3068)),\"X\",\"\")","v":""},{"$f":"IF(ISNUMBER(FIND(\"MEDICARE\",A3068)),\"X\",\"\")","v":""},{"$f":"IF(ISNUMBER(FIND(\"BC/BS\",#REF!)),\"X\",\"\")","v":""}]
["SAN DIEGO VA MEDICAL CENTER",null,{"$f":"IF(ISNUMBER(FIND(\"MEDICAID\",A3069)),\"X\",\"\")","v":""},{"$f":"IF(ISNUMBER(FIND(\"MEDICARE\",A3069)),\"X\",\"\")","v":""},{"$f":"IF(ISNUMBER(FIND(\"BC/BS\",#REF!)),\"X\",\"\")","v":""}]
["SAN FRANCISCO HEALTH PLAN","X",{"$f":"IF(ISNUMBER(FIND(\"MEDICAID\",A3070)),\"X\",\"\")","v":""},{"$f":"IF(ISNUMBER(FIND(\"MEDICARE\",A3070)),\"X\",\"\")","v":""},{"$f":"IF(ISNUMBER(FIND(\"BC/BS\",#REF!)),\"X\",\"\")","v":""}]
["SAN FRANCISCO SYMPHONY (DELTA HEALTH SYSTEM)",null,{"$f":"IF(ISNUMBER(FIND(\"MEDICAID\",A3071)),\"X\",\"\")","v":""},{"$f":"IF(ISNUMBER(FIND(\"MEDICARE\",A3071)),\"X\",\"\")","v":""},{"$f":"IF(ISNUMBER(FIND(\"BC/BS\",#REF!)),\"X\",\"\")","v":""}]
["SAN FRANCISCO VA MEDICAL CENTER","X",{"$f":"IF(ISNUMBER(FIND(\"MEDICAID\",A3072)),\"X\",\"\")","v":""},{"$f":"IF(ISNUMBER(FIND(\"MEDICARE\",A3072)),\"X\",\"\")","v":""},{"$f":"IF(ISNUMBER(FIND(\"BC/BS\",#REF!)),\"X\",\"\")","v":""}]
["SAN JOAQUIN COMMUNITY HOSPITAL (ADVENTIST HEALTH SYSTEM WEST)",null,{"$f":"IF(ISNUMBER(FIND(\"MEDICAID\",A3073)),\"X\",\"\")","v":""},{"$f":"IF(ISNUMBER(FIND(\"MEDICARE\",A3073)),\"X\",\"\")","v":""},{"$f":"IF(ISNUMBER(FIND(\"BC/BS\",#REF!)),\"X\",\"\")","v":""}]
["SAN JOSE UNIFIED SCHOOL DISTRICT (HEALTHCOMP)",null,{"$f":"IF(ISNUMBER(FIND(\"MEDICAID\",A3074)),\"X\",\"\")","v":""},{"$f":"IF(ISNUMBER(FIND(\"MEDICARE\",A3074)),\"X\",\"\")","v":""},{"$f":"IF(ISNUMBER(FIND(\"BC/BS\",#REF!)),\"X\",\"\")","v":""}]
["SAN JUAN REGIONAL MEDICAL CENTER (WEBTPA)",null,{"$f":"IF(ISNUMBER(FIND(\"MEDICAID\",A3075)),\"X\",\"\")","v":""},{"$f":"IF(ISNUMBER(FIND(\"MEDICARE\",A3075)),\"X\",\"\")","v":""},{"$f":"IF(ISNUMBER(FIND(\"BC/BS\",#REF!)),\"X\",\"\")","v":""}]
["SAN JUAN VA MEDICAL CENTER",null,{"$f":"IF(ISNUMBER(FIND(\"MEDICAID\",A3076)),\"X\",\"\")","v":""},{"$f":"IF(ISNUMBER(FIND(\"MEDICARE\",A3076)),\"X\",\"\")","v":""},{"$f":"IF(ISNUMBER(FIND(\"BC/BS\",#REF!)),\"X\",\"\")","v":""}]
["SAN PATRICIO APPRAISAL DISTRICT EBPT (90 DEGREE BENEFITS HOUSTON - ENTRUST)",null,{"$f":"IF(ISNUMBER(FIND(\"MEDICAID\",A3077)),\"X\",\"\")","v":""},{"$f":"IF(ISNUMBER(FIND(\"MEDICARE\",A3077)),\"X\",\"\")","v":""},{"$f":"IF(ISNUMBER(FIND(\"BC/BS\",#REF!)),\"X\",\"\")","v":""}]
["SANA BENEFITS","X",{"$f":"IF(ISNUMBER(FIND(\"MEDICAID\",A3078)),\"X\",\"\")","v":""},{"$f":"IF(ISNUMBER(FIND(\"MEDICARE\",A3078)),\"X\",\"\")","v":""},{"$f":"IF(ISNUMBER(FIND(\"BC/BS\",#REF!)),\"X\",\"\")","v":""}]
["SANFORD HEALTH PLAN","X",{"$f":"IF(ISNUMBER(FIND(\"MEDICAID\",A3079)),\"X\",\"\")","v":""},{"$f":"IF(ISNUMBER(FIND(\"MEDICARE\",A3079)),\"X\",\"\")","v":""},{"$f":"IF(ISNUMBER(FIND(\"BC/BS\",#REF!)),\"X\",\"\")","v":""}]
["SANOFI - CARECONNECTPSS","X",{"$f":"IF(ISNUMBER(FIND(\"MEDICAID\",A3080)),\"X\",\"\")","v":""},{"$f":"IF(ISNUMBER(FIND(\"MEDICARE\",A3080)),\"X\",\"\")","v":""},{"$f":"IF(ISNUMBER(FIND(\"BC/BS\",#REF!)),\"X\",\"\")","v":""}]
["SANOFI - THYROGEN","X",{"$f":"IF(ISNUMBER(FIND(\"MEDICAID\",A3081)),\"X\",\"\")","v":""},{"$f":"IF(ISNUMBER(FIND(\"MEDICARE\",A3081)),\"X\",\"\")","v":""},{"$f":"IF(ISNUMBER(FIND(\"BC/BS\",#REF!)),\"X\",\"\")","v":""}]
["SANTA BARBARA SELECT IPA",null,{"$f":"IF(ISNUMBER(FIND(\"MEDICAID\",A3082)),\"X\",\"\")","v":""},{"$f":"IF(ISNUMBER(FIND(\"MEDICARE\",A3082)),\"X\",\"\")","v":""},{"$f":"IF(ISNUMBER(FIND(\"BC/BS\",#REF!)),\"X\",\"\")","v":""}]
["SANTA CLARA FAMILY HEALTH PLAN","X",{"$f":"IF(ISNUMBER(FIND(\"MEDICAID\",A3083)),\"X\",\"\")","v":""},{"$f":"IF(ISNUMBER(FIND(\"MEDICARE\",A3083)),\"X\",\"\")","v":""},{"$f":"IF(ISNUMBER(FIND(\"BC/BS\",#REF!)),\"X\",\"\")","v":""}]
["SANTA FE COUNTY ASO (PRESBYTERIAN HEALTH PLAN)","X",{"$f":"IF(ISNUMBER(FIND(\"MEDICAID\",A3084)),\"X\",\"\")","v":""},{"$f":"IF(ISNUMBER(FIND(\"MEDICARE\",A3084)),\"X\",\"\")","v":""},{"$f":"IF(ISNUMBER(FIND(\"BC/BS\",#REF!)),\"X\",\"\")","v":""}]
["SANTE HEALTH SYSTEM","X",{"$f":"IF(ISNUMBER(FIND(\"MEDICAID\",A3085)),\"X\",\"\")","v":""},{"$f":"IF(ISNUMBER(FIND(\"MEDICARE\",A3085)),\"X\",\"\")","v":""},{"$f":"IF(ISNUMBER(FIND(\"BC/BS\",#REF!)),\"X\",\"\")","v":""}]
["SAVATREE LLC (FLUME)","X",{"$f":"IF(ISNUMBER(FIND(\"MEDICAID\",A3086)),\"X\",\"\")","v":""},{"$f":"IF(ISNUMBER(FIND(\"MEDICARE\",A3086)),\"X\",\"\")","v":""},{"$f":"IF(ISNUMBER(FIND(\"BC/BS\",#REF!)),\"X\",\"\")","v":""}]
["SAV-RX",null,{"$f":"IF(ISNUMBER(FIND(\"MEDICAID\",A3087)),\"X\",\"\")","v":""},{"$f":"IF(ISNUMBER(FIND(\"MEDICARE\",A3087)),\"X\",\"\")","v":""},{"$f":"IF(ISNUMBER(FIND(\"BC/BS\",#REF!)),\"X\",\"\")","v":""}]
["SBLI USA LIFE INSURANCE COMPANY (IAS ADMIN)","X",{"$f":"IF(ISNUMBER(FIND(\"MEDICAID\",A3088)),\"X\",\"\")","v":""},{"$f":"IF(ISNUMBER(FIND(\"MEDICARE\",A3088)),\"X\",\"\")","v":""},{"$f":"IF(ISNUMBER(FIND(\"BC/BS\",#REF!)),\"X\",\"\")","v":""}]
["SCAN DESERT HEALTH PLAN","X",{"$f":"IF(ISNUMBER(FIND(\"MEDICAID\",A3089)),\"X\",\"\")","v":""},{"$f":"IF(ISNUMBER(FIND(\"MEDICARE\",A3089)),\"X\",\"\")","v":""},{"$f":"IF(ISNUMBER(FIND(\"BC/BS\",#REF!)),\"X\",\"\")","v":""}]
["SCAN HEALTH PLAN","X",{"$f":"IF(ISNUMBER(FIND(\"MEDICAID\",A3090)),\"X\",\"\")","v":""},{"$f":"IF(ISNUMBER(FIND(\"MEDICARE\",A3090)),\"X\",\"\")","v":""},{"$f":"IF(ISNUMBER(FIND(\"BC/BS\",#REF!)),\"X\",\"\")","v":""}]
["SCAN INSTITUTIONAL RISK - PMNI (NAMM CALIFORNIA)","X",{"$f":"IF(ISNUMBER(FIND(\"MEDICAID\",A3091)),\"X\",\"\")","v":""},{"$f":"IF(ISNUMBER(FIND(\"MEDICARE\",A3091)),\"X\",\"\")","v":""},{"$f":"IF(ISNUMBER(FIND(\"BC/BS\",#REF!)),\"X\",\"\")","v":""}]
["SCARSDALE PUBLIC SCHOOLS (AMERIBEN)",null,{"$f":"IF(ISNUMBER(FIND(\"MEDICAID\",A3092)),\"X\",\"\")","v":""},{"$f":"IF(ISNUMBER(FIND(\"MEDICARE\",A3092)),\"X\",\"\")","v":""},{"$f":"IF(ISNUMBER(FIND(\"BC/BS\",#REF!)),\"X\",\"\")","v":""}]
["SCAS MANAGEMENT GROUP LLC","X",{"$f":"IF(ISNUMBER(FIND(\"MEDICAID\",A3093)),\"X\",\"\")","v":""},{"$f":"IF(ISNUMBER(FIND(\"MEDICARE\",A3093)),\"X\",\"\")","v":""},{"$f":"IF(ISNUMBER(FIND(\"BC/BS\",#REF!)),\"X\",\"\")","v":""}]
["SCHENECTADY COUNTY (MVP HEALTH CARE)","X",{"$f":"IF(ISNUMBER(FIND(\"MEDICAID\",A3094)),\"X\",\"\")","v":""},{"$f":"IF(ISNUMBER(FIND(\"MEDICARE\",A3094)),\"X\",\"\")","v":""},{"$f":"IF(ISNUMBER(FIND(\"BC/BS\",#REF!)),\"X\",\"\")","v":""}]
["SCHEURER HOSPITAL (ASR HEALTH BENEFITS)","X",{"$f":"IF(ISNUMBER(FIND(\"MEDICAID\",A3095)),\"X\",\"\")","v":""},{"$f":"IF(ISNUMBER(FIND(\"MEDICARE\",A3095)),\"X\",\"\")","v":""},{"$f":"IF(ISNUMBER(FIND(\"BC/BS\",#REF!)),\"X\",\"\")","v":""}]
["SCHOEDINGER & COMPANY (THE HEALTHHPLAN)","X",{"$f":"IF(ISNUMBER(FIND(\"MEDICAID\",A3096)),\"X\",\"\")","v":""},{"$f":"IF(ISNUMBER(FIND(\"MEDICARE\",A3096)),\"X\",\"\")","v":""},{"$f":"IF(ISNUMBER(FIND(\"BC/BS\",#REF!)),\"X\",\"\")","v":""}]
["SCHS-ALTA-GLOBAL CARE MEDICAL GROUP (MEDPOINT MANAGEMENT)","X",{"$f":"IF(ISNUMBER(FIND(\"MEDICAID\",A3097)),\"X\",\"\")","v":""},{"$f":"IF(ISNUMBER(FIND(\"MEDICARE\",A3097)),\"X\",\"\")","v":""},{"$f":"IF(ISNUMBER(FIND(\"BC/BS\",#REF!)),\"X\",\"\")","v":""}]
["SCHULZE AND BURCH (GROUP & PENSION ADMIN)","X",{"$f":"IF(ISNUMBER(FIND(\"MEDICAID\",A3098)),\"X\",\"\")","v":""},{"$f":"IF(ISNUMBER(FIND(\"MEDICARE\",A3098)),\"X\",\"\")","v":""},{"$f":"IF(ISNUMBER(FIND(\"BC/BS\",#REF!)),\"X\",\"\")","v":""}]
["SCHWOEPPE MACHINE & TOOL (IPMG)","X",{"$f":"IF(ISNUMBER(FIND(\"MEDICAID\",A3099)),\"X\",\"\")","v":""},{"$f":"IF(ISNUMBER(FIND(\"MEDICARE\",A3099)),\"X\",\"\")","v":""},{"$f":"IF(ISNUMBER(FIND(\"BC/BS\",#REF!)),\"X\",\"\")","v":""}]
["SCL GROUP LLC EBPT (90 DEGREE BENEFITS HOUSTON - ENTRUST)",null,{"$f":"IF(ISNUMBER(FIND(\"MEDICAID\",A3100)),\"X\",\"\")","v":""},{"$f":"IF(ISNUMBER(FIND(\"MEDICARE\",A3100)),\"X\",\"\")","v":""},{"$f":"IF(ISNUMBER(FIND(\"BC/BS\",#REF!)),\"X\",\"\")","v":""}]
["SCMG PROFESSIONAL CLAIMS (SHARP COMMUNITY MEDICAL GROUP)","X",{"$f":"IF(ISNUMBER(FIND(\"MEDICAID\",A3101)),\"X\",\"\")","v":""},{"$f":"IF(ISNUMBER(FIND(\"MEDICARE\",A3101)),\"X\",\"\")","v":""},{"$f":"IF(ISNUMBER(FIND(\"BC/BS\",#REF!)),\"X\",\"\")","v":""}]
["SCOPE IMPORTS EBPT (90 DEGREE BENEFITS HOUSTON - ENTRUST)",null,{"$f":"IF(ISNUMBER(FIND(\"MEDICAID\",A3102)),\"X\",\"\")","v":""},{"$f":"IF(ISNUMBER(FIND(\"MEDICARE\",A3102)),\"X\",\"\")","v":""},{"$f":"IF(ISNUMBER(FIND(\"BC/BS\",#REF!)),\"X\",\"\")","v":""}]
["SCOTT & WHITE HEALTH PLAN","X",{"$f":"IF(ISNUMBER(FIND(\"MEDICAID\",A3103)),\"X\",\"\")","v":""},{"$f":"IF(ISNUMBER(FIND(\"MEDICARE\",A3103)),\"X\",\"\")","v":""},{"$f":"IF(ISNUMBER(FIND(\"BC/BS\",#REF!)),\"X\",\"\")","v":""}]
["SCOTT ELECTRIC PAYROLL (GROUP & PENSION ADMIN)",null,{"$f":"IF(ISNUMBER(FIND(\"MEDICAID\",A3104)),\"X\",\"\")","v":""},{"$f":"IF(ISNUMBER(FIND(\"MEDICARE\",A3104)),\"X\",\"\")","v":""},{"$f":"IF(ISNUMBER(FIND(\"BC/BS\",#REF!)),\"X\",\"\")","v":""}]
["SCP HEALTH (AMERIBEN)",null,{"$f":"IF(ISNUMBER(FIND(\"MEDICAID\",A3105)),\"X\",\"\")","v":""},{"$f":"IF(ISNUMBER(FIND(\"MEDICARE\",A3105)),\"X\",\"\")","v":""},{"$f":"IF(ISNUMBER(FIND(\"BC/BS\",#REF!)),\"X\",\"\")","v":""}]
["SCRIPPS MEDICAL PLANS (HEALTHCOMP)",null,{"$f":"IF(ISNUMBER(FIND(\"MEDICAID\",A3106)),\"X\",\"\")","v":""},{"$f":"IF(ISNUMBER(FIND(\"MEDICARE\",A3106)),\"X\",\"\")","v":""},{"$f":"IF(ISNUMBER(FIND(\"BC/BS\",#REF!)),\"X\",\"\")","v":""}]
["SCRIPPS PHYSICIANS MEDICAL GROUP","X",{"$f":"IF(ISNUMBER(FIND(\"MEDICAID\",A3107)),\"X\",\"\")","v":""},{"$f":"IF(ISNUMBER(FIND(\"MEDICARE\",A3107)),\"X\",\"\")","v":""},{"$f":"IF(ISNUMBER(FIND(\"BC/BS\",#REF!)),\"X\",\"\")","v":""}]
["SCRIPT CARE LTD","X",{"$f":"IF(ISNUMBER(FIND(\"MEDICAID\",A3108)),\"X\",\"\")","v":""},{"$f":"IF(ISNUMBER(FIND(\"MEDICARE\",A3108)),\"X\",\"\")","v":""},{"$f":"IF(ISNUMBER(FIND(\"BC/BS\",#REF!)),\"X\",\"\")","v":""}]
["SEA PORT MARINE (SENTARA)","X",{"$f":"IF(ISNUMBER(FIND(\"MEDICAID\",A3109)),\"X\",\"\")","v":""},{"$f":"IF(ISNUMBER(FIND(\"MEDICARE\",A3109)),\"X\",\"\")","v":""},{"$f":"IF(ISNUMBER(FIND(\"BC/BS\",#REF!)),\"X\",\"\")","v":""}]
["SEAFARERS HEALTH AND BENEFITS PLAN","X",{"$f":"IF(ISNUMBER(FIND(\"MEDICAID\",A3110)),\"X\",\"\")","v":""},{"$f":"IF(ISNUMBER(FIND(\"MEDICARE\",A3110)),\"X\",\"\")","v":""},{"$f":"IF(ISNUMBER(FIND(\"BC/BS\",#REF!)),\"X\",\"\")","v":""}]
["SEALING DEVICES INC (INDEPENDENT HEALTH)",null,{"$f":"IF(ISNUMBER(FIND(\"MEDICAID\",A3111)),\"X\",\"\")","v":""},{"$f":"IF(ISNUMBER(FIND(\"MEDICARE\",A3111)),\"X\",\"\")","v":""},{"$f":"IF(ISNUMBER(FIND(\"BC/BS\",#REF!)),\"X\",\"\")","v":""}]
["SEATTLE VA MEDICAL CENTER","X",{"$f":"IF(ISNUMBER(FIND(\"MEDICAID\",A3112)),\"X\",\"\")","v":""},{"$f":"IF(ISNUMBER(FIND(\"MEDICARE\",A3112)),\"X\",\"\")","v":""},{"$f":"IF(ISNUMBER(FIND(\"BC/BS\",#REF!)),\"X\",\"\")","v":""}]
["SEAVIEW IPA","X",{"$f":"IF(ISNUMBER(FIND(\"MEDICAID\",A3113)),\"X\",\"\")","v":""},{"$f":"IF(ISNUMBER(FIND(\"MEDICARE\",A3113)),\"X\",\"\")","v":""},{"$f":"IF(ISNUMBER(FIND(\"BC/BS\",#REF!)),\"X\",\"\")","v":""}]
["SECURITY ADMINISTRATIVE SERVICES LLC - LUMINX","X",{"$f":"IF(ISNUMBER(FIND(\"MEDICAID\",A3114)),\"X\",\"\")","v":""},{"$f":"IF(ISNUMBER(FIND(\"MEDICARE\",A3114)),\"X\",\"\")","v":""},{"$f":"IF(ISNUMBER(FIND(\"BC/BS\",#REF!)),\"X\",\"\")","v":""}]
["SECURITY ADMINISTRATIVE SERVICES LLC - QNXT","X",{"$f":"IF(ISNUMBER(FIND(\"MEDICAID\",A3115)),\"X\",\"\")","v":""},{"$f":"IF(ISNUMBER(FIND(\"MEDICARE\",A3115)),\"X\",\"\")","v":""},{"$f":"IF(ISNUMBER(FIND(\"BC/BS\",#REF!)),\"X\",\"\")","v":""}]
["SECURITY ADMINSTRATIVE SYSTEMS - CONSOCIATE HEALTH",null,{"$f":"IF(ISNUMBER(FIND(\"MEDICAID\",A3116)),\"X\",\"\")","v":""},{"$f":"IF(ISNUMBER(FIND(\"MEDICARE\",A3116)),\"X\",\"\")","v":""},{"$f":"IF(ISNUMBER(FIND(\"BC/BS\",#REF!)),\"X\",\"\")","v":""}]
["SECURITY ALARM (IPMG)","X",{"$f":"IF(ISNUMBER(FIND(\"MEDICAID\",A3117)),\"X\",\"\")","v":""},{"$f":"IF(ISNUMBER(FIND(\"MEDICARE\",A3117)),\"X\",\"\")","v":""},{"$f":"IF(ISNUMBER(FIND(\"BC/BS\",#REF!)),\"X\",\"\")","v":""}]
["SECURITY FIRST EBPT (90 DEGREE BENEFITS HOUSTON - ENTRUST)",null,{"$f":"IF(ISNUMBER(FIND(\"MEDICAID\",A3118)),\"X\",\"\")","v":""},{"$f":"IF(ISNUMBER(FIND(\"MEDICARE\",A3118)),\"X\",\"\")","v":""},{"$f":"IF(ISNUMBER(FIND(\"BC/BS\",#REF!)),\"X\",\"\")","v":""}]
["SECURITY HEALTH PLAN","X",{"$f":"IF(ISNUMBER(FIND(\"MEDICAID\",A3119)),\"X\",\"\")","v":""},{"$f":"IF(ISNUMBER(FIND(\"MEDICARE\",A3119)),\"X\",\"\")","v":""},{"$f":"IF(ISNUMBER(FIND(\"BC/BS\",#REF!)),\"X\",\"\")","v":""}]
["SECURITY HEALTH PLAN - COMMERCIAL","X",{"$f":"IF(ISNUMBER(FIND(\"MEDICAID\",A3120)),\"X\",\"\")","v":""},{"$f":"IF(ISNUMBER(FIND(\"MEDICARE\",A3120)),\"X\",\"\")","v":""},{"$f":"IF(ISNUMBER(FIND(\"BC/BS\",#REF!)),\"X\",\"\")","v":""}]
["SECURITY HEALTH PLAN - COMMERCIAL PREMIER","X",{"$f":"IF(ISNUMBER(FIND(\"MEDICAID\",A3121)),\"X\",\"\")","v":""},{"$f":"IF(ISNUMBER(FIND(\"MEDICARE\",A3121)),\"X\",\"\")","v":""},{"$f":"IF(ISNUMBER(FIND(\"BC/BS\",#REF!)),\"X\",\"\")","v":""}]
["SECURITY HEALTH PLAN - COMMERCIAL QHP","X",{"$f":"IF(ISNUMBER(FIND(\"MEDICAID\",A3122)),\"X\",\"\")","v":""},{"$f":"IF(ISNUMBER(FIND(\"MEDICARE\",A3122)),\"X\",\"\")","v":""},{"$f":"IF(ISNUMBER(FIND(\"BC/BS\",#REF!)),\"X\",\"\")","v":""}]
["SECURITY HEALTH PLAN - COMMERCIAL QHP ENRICH","X",{"$f":"IF(ISNUMBER(FIND(\"MEDICAID\",A3123)),\"X\",\"\")","v":""},{"$f":"IF(ISNUMBER(FIND(\"MEDICARE\",A3123)),\"X\",\"\")","v":""},{"$f":"IF(ISNUMBER(FIND(\"BC/BS\",#REF!)),\"X\",\"\")","v":""}]
["SECURITY HEALTH PLAN - COMMERCIAL QHP SG","X",{"$f":"IF(ISNUMBER(FIND(\"MEDICAID\",A3124)),\"X\",\"\")","v":""},{"$f":"IF(ISNUMBER(FIND(\"MEDICARE\",A3124)),\"X\",\"\")","v":""},{"$f":"IF(ISNUMBER(FIND(\"BC/BS\",#REF!)),\"X\",\"\")","v":""}]
["SECURITY HEALTH PLAN - COMMERCIAL QHP SIMPLYONE","X",{"$f":"IF(ISNUMBER(FIND(\"MEDICAID\",A3125)),\"X\",\"\")","v":""},{"$f":"IF(ISNUMBER(FIND(\"MEDICARE\",A3125)),\"X\",\"\")","v":""},{"$f":"IF(ISNUMBER(FIND(\"BC/BS\",#REF!)),\"X\",\"\")","v":""}]
["SECURITY HEALTH PLAN - MEDICAID","X",null,{"$f":"IF(ISNUMBER(FIND(\"MEDICARE\",A3126)),\"X\",\"\")","v":""},{"$f":"IF(ISNUMBER(FIND(\"BC/BS\",#REF!)),\"X\",\"\")","v":""}]
["SECURITY HEALTH PLAN - MEDICARE ADVANTAGE CORE-SOUTHERN","X",{"$f":"IF(ISNUMBER(FIND(\"MEDICAID\",A3127)),\"X\",\"\")","v":""},null,{"$f":"IF(ISNUMBER(FIND(\"BC/BS\",#REF!)),\"X\",\"\")","v":""}]
["SECURITY HEALTH PLAN - MEDICARE MEDICAL SAVINGS ACCOUNT MSA","X",{"$f":"IF(ISNUMBER(FIND(\"MEDICAID\",A3128)),\"X\",\"\")","v":""},null,{"$f":"IF(ISNUMBER(FIND(\"BC/BS\",#REF!)),\"X\",\"\")","v":""}]
["SECURITY HEALTH PLAN - MEDICARE SUPP WITH RIDERS","X",{"$f":"IF(ISNUMBER(FIND(\"MEDICAID\",A3129)),\"X\",\"\")","v":""},null,{"$f":"IF(ISNUMBER(FIND(\"BC/BS\",#REF!)),\"X\",\"\")","v":""}]
["SECURITY HEALTH PLAN - TPA","X",{"$f":"IF(ISNUMBER(FIND(\"MEDICAID\",A3130)),\"X\",\"\")","v":""},{"$f":"IF(ISNUMBER(FIND(\"MEDICARE\",A3130)),\"X\",\"\")","v":""},{"$f":"IF(ISNUMBER(FIND(\"BC/BS\",#REF!)),\"X\",\"\")","v":""}]
["SELECT ADMINISTRATIVE SERVICES","X",{"$f":"IF(ISNUMBER(FIND(\"MEDICAID\",A3131)),\"X\",\"\")","v":""},{"$f":"IF(ISNUMBER(FIND(\"MEDICARE\",A3131)),\"X\",\"\")","v":""},{"$f":"IF(ISNUMBER(FIND(\"BC/BS\",#REF!)),\"X\",\"\")","v":""}]
["SELECT HEALTH OF SOUTH CAROLINA","X",{"$f":"IF(ISNUMBER(FIND(\"MEDICAID\",A3132)),\"X\",\"\")","v":""},{"$f":"IF(ISNUMBER(FIND(\"MEDICARE\",A3132)),\"X\",\"\")","v":""},{"$f":"IF(ISNUMBER(FIND(\"BC/BS\",#REF!)),\"X\",\"\")","v":""}]
["SELECTCARE HEALTH PLANS INC (WELLCARE)","X",{"$f":"IF(ISNUMBER(FIND(\"MEDICAID\",A3133)),\"X\",\"\")","v":""},{"$f":"IF(ISNUMBER(FIND(\"MEDICARE\",A3133)),\"X\",\"\")","v":""},{"$f":"IF(ISNUMBER(FIND(\"BC/BS\",#REF!)),\"X\",\"\")","v":""}]
["SELECTCARE OF TEXAS INC (WELLCARE)","X",{"$f":"IF(ISNUMBER(FIND(\"MEDICAID\",A3134)),\"X\",\"\")","v":""},{"$f":"IF(ISNUMBER(FIND(\"MEDICARE\",A3134)),\"X\",\"\")","v":""},{"$f":"IF(ISNUMBER(FIND(\"BC/BS\",#REF!)),\"X\",\"\")","v":""}]
["SELECTHEALTH - 1-800 CONTACTS - SELF FUNDED","X",{"$f":"IF(ISNUMBER(FIND(\"MEDICAID\",A3135)),\"X\",\"\")","v":""},{"$f":"IF(ISNUMBER(FIND(\"MEDICARE\",A3135)),\"X\",\"\")","v":""},{"$f":"IF(ISNUMBER(FIND(\"BC/BS\",#REF!)),\"X\",\"\")","v":""}]
["SELECTHEALTH - ALBERTSONS LLC - SELF FUNDED","X",{"$f":"IF(ISNUMBER(FIND(\"MEDICAID\",A3136)),\"X\",\"\")","v":""},{"$f":"IF(ISNUMBER(FIND(\"MEDICARE\",A3136)),\"X\",\"\")","v":""},{"$f":"IF(ISNUMBER(FIND(\"BC/BS\",#REF!)),\"X\",\"\")","v":""}]
["SELECTHEALTH - AMERICA FIRST CU - SELF FUNDED","X",{"$f":"IF(ISNUMBER(FIND(\"MEDICAID\",A3137)),\"X\",\"\")","v":""},{"$f":"IF(ISNUMBER(FIND(\"MEDICARE\",A3137)),\"X\",\"\")","v":""},{"$f":"IF(ISNUMBER(FIND(\"BC/BS\",#REF!)),\"X\",\"\")","v":""}]
["SELECTHEALTH - AMSCO WINDOWS - SELF FUNDED","X",{"$f":"IF(ISNUMBER(FIND(\"MEDICAID\",A3138)),\"X\",\"\")","v":""},{"$f":"IF(ISNUMBER(FIND(\"MEDICARE\",A3138)),\"X\",\"\")","v":""},{"$f":"IF(ISNUMBER(FIND(\"BC/BS\",#REF!)),\"X\",\"\")","v":""}]
["SELECTHEALTH - AUTOLIV - SELF FUNDED","X",{"$f":"IF(ISNUMBER(FIND(\"MEDICAID\",A3139)),\"X\",\"\")","v":""},{"$f":"IF(ISNUMBER(FIND(\"MEDICARE\",A3139)),\"X\",\"\")","v":""},{"$f":"IF(ISNUMBER(FIND(\"BC/BS\",#REF!)),\"X\",\"\")","v":""}]
["SELECTHEALTH - CACHE VALLEY ELECTRIC - SELF FUNDED","X",{"$f":"IF(ISNUMBER(FIND(\"MEDICAID\",A3140)),\"X\",\"\")","v":""},{"$f":"IF(ISNUMBER(FIND(\"MEDICARE\",A3140)),\"X\",\"\")","v":""},{"$f":"IF(ISNUMBER(FIND(\"BC/BS\",#REF!)),\"X\",\"\")","v":""}]
["SELECTHEALTH - DAVIS SCHOOL DISTRICT - SELF FUNDED","X",{"$f":"IF(ISNUMBER(FIND(\"MEDICAID\",A3141)),\"X\",\"\")","v":""},{"$f":"IF(ISNUMBER(FIND(\"MEDICARE\",A3141)),\"X\",\"\")","v":""},{"$f":"IF(ISNUMBER(FIND(\"BC/BS\",#REF!)),\"X\",\"\")","v":""}]
["SELECTHEALTH - DOTERRA","X",{"$f":"IF(ISNUMBER(FIND(\"MEDICAID\",A3142)),\"X\",\"\")","v":""},{"$f":"IF(ISNUMBER(FIND(\"MEDICARE\",A3142)),\"X\",\"\")","v":""},{"$f":"IF(ISNUMBER(FIND(\"BC/BS\",#REF!)),\"X\",\"\")","v":""}]
["SELECTHEALTH - FAMILY HEALTH SERVICES - SELF FUNDED","X",{"$f":"IF(ISNUMBER(FIND(\"MEDICAID\",A3143)),\"X\",\"\")","v":""},{"$f":"IF(ISNUMBER(FIND(\"MEDICARE\",A3143)),\"X\",\"\")","v":""},{"$f":"IF(ISNUMBER(FIND(\"BC/BS\",#REF!)),\"X\",\"\")","v":""}]
["SELECTHEALTH - FEDERAL EMPLOYEES HEALTH BENEFITS","X",{"$f":"IF(ISNUMBER(FIND(\"MEDICAID\",A3144)),\"X\",\"\")","v":""},{"$f":"IF(ISNUMBER(FIND(\"MEDICARE\",A3144)),\"X\",\"\")","v":""},{"$f":"IF(ISNUMBER(FIND(\"BC/BS\",#REF!)),\"X\",\"\")","v":""}]
["SELECTHEALTH - FJ MANAGEMENT - SELF FUNDED","X",{"$f":"IF(ISNUMBER(FIND(\"MEDICAID\",A3145)),\"X\",\"\")","v":""},{"$f":"IF(ISNUMBER(FIND(\"MEDICARE\",A3145)),\"X\",\"\")","v":""},{"$f":"IF(ISNUMBER(FIND(\"BC/BS\",#REF!)),\"X\",\"\")","v":""}]
["SELECTHEALTH - GOLD CROSS SERVICES - SELF FUNDED","X",{"$f":"IF(ISNUMBER(FIND(\"MEDICAID\",A3146)),\"X\",\"\")","v":""},{"$f":"IF(ISNUMBER(FIND(\"MEDICARE\",A3146)),\"X\",\"\")","v":""},{"$f":"IF(ISNUMBER(FIND(\"BC/BS\",#REF!)),\"X\",\"\")","v":""}]
["SELECTHEALTH - GOLDENWEST CREDIT UNION - SELF FUNDED","X",{"$f":"IF(ISNUMBER(FIND(\"MEDICAID\",A3147)),\"X\",\"\")","v":""},{"$f":"IF(ISNUMBER(FIND(\"MEDICARE\",A3147)),\"X\",\"\")","v":""},{"$f":"IF(ISNUMBER(FIND(\"BC/BS\",#REF!)),\"X\",\"\")","v":""}]
["SELECTHEALTH - GRANITE SCHOOL DISTRICT - SELF FUNDED","X",{"$f":"IF(ISNUMBER(FIND(\"MEDICAID\",A3148)),\"X\",\"\")","v":""},{"$f":"IF(ISNUMBER(FIND(\"MEDICARE\",A3148)),\"X\",\"\")","v":""},{"$f":"IF(ISNUMBER(FIND(\"BC/BS\",#REF!)),\"X\",\"\")","v":""}]
["SELECTHEALTH - HARMONS CITY - SELF FUNDED","X",{"$f":"IF(ISNUMBER(FIND(\"MEDICAID\",A3149)),\"X\",\"\")","v":""},{"$f":"IF(ISNUMBER(FIND(\"MEDICARE\",A3149)),\"X\",\"\")","v":""},{"$f":"IF(ISNUMBER(FIND(\"BC/BS\",#REF!)),\"X\",\"\")","v":""}]
["SELECTHEALTH - HEXCEL CORPORATION - SELF FUNDED",null,{"$f":"IF(ISNUMBER(FIND(\"MEDICAID\",A3150)),\"X\",\"\")","v":""},{"$f":"IF(ISNUMBER(FIND(\"MEDICARE\",A3150)),\"X\",\"\")","v":""},{"$f":"IF(ISNUMBER(FIND(\"BC/BS\",#REF!)),\"X\",\"\")","v":""}]
["SELECTHEALTH - INTERMTN EMPLOYEES - SELF FUNDED","X",{"$f":"IF(ISNUMBER(FIND(\"MEDICAID\",A3151)),\"X\",\"\")","v":""},{"$f":"IF(ISNUMBER(FIND(\"MEDICARE\",A3151)),\"X\",\"\")","v":""},{"$f":"IF(ISNUMBER(FIND(\"BC/BS\",#REF!)),\"X\",\"\")","v":""}]
["SELECTHEALTH - INTERMTN HEALTHCARE LTD - SELF FUNDED","X",{"$f":"IF(ISNUMBER(FIND(\"MEDICAID\",A3152)),\"X\",\"\")","v":""},{"$f":"IF(ISNUMBER(FIND(\"MEDICARE\",A3152)),\"X\",\"\")","v":""},{"$f":"IF(ISNUMBER(FIND(\"BC/BS\",#REF!)),\"X\",\"\")","v":""}]
["SELECTHEALTH - INTERMTN RETIREES - SELF FUNDED","X",{"$f":"IF(ISNUMBER(FIND(\"MEDICAID\",A3153)),\"X\",\"\")","v":""},{"$f":"IF(ISNUMBER(FIND(\"MEDICARE\",A3153)),\"X\",\"\")","v":""},{"$f":"IF(ISNUMBER(FIND(\"BC/BS\",#REF!)),\"X\",\"\")","v":""}]
["SELECTHEALTH - IPSC - SELF FUNDED","X",{"$f":"IF(ISNUMBER(FIND(\"MEDICAID\",A3154)),\"X\",\"\")","v":""},{"$f":"IF(ISNUMBER(FIND(\"MEDICARE\",A3154)),\"X\",\"\")","v":""},{"$f":"IF(ISNUMBER(FIND(\"BC/BS\",#REF!)),\"X\",\"\")","v":""}]
["SELECTHEALTH - LAYTON CITY CORPORATION - SELF FUNDED","X",{"$f":"IF(ISNUMBER(FIND(\"MEDICAID\",A3155)),\"X\",\"\")","v":""},{"$f":"IF(ISNUMBER(FIND(\"MEDICARE\",A3155)),\"X\",\"\")","v":""},{"$f":"IF(ISNUMBER(FIND(\"BC/BS\",#REF!)),\"X\",\"\")","v":""}]
["SELECTHEALTH - MARRIOTT VACATIONS WORLDWIDE CORPORATION - SELF FUNDED","X",{"$f":"IF(ISNUMBER(FIND(\"MEDICAID\",A3156)),\"X\",\"\")","v":""},{"$f":"IF(ISNUMBER(FIND(\"MEDICARE\",A3156)),\"X\",\"\")","v":""},{"$f":"IF(ISNUMBER(FIND(\"BC/BS\",#REF!)),\"X\",\"\")","v":""}]
["SELECTHEALTH - MERIT MEDICAL - SELF FUNDED","X",{"$f":"IF(ISNUMBER(FIND(\"MEDICAID\",A3157)),\"X\",\"\")","v":""},{"$f":"IF(ISNUMBER(FIND(\"MEDICARE\",A3157)),\"X\",\"\")","v":""},{"$f":"IF(ISNUMBER(FIND(\"BC/BS\",#REF!)),\"X\",\"\")","v":""}]
["SELECTHEALTH - MORINDA HOLDINGS INC - SELF FUNDED","X",{"$f":"IF(ISNUMBER(FIND(\"MEDICAID\",A3158)),\"X\",\"\")","v":""},{"$f":"IF(ISNUMBER(FIND(\"MEDICARE\",A3158)),\"X\",\"\")","v":""},{"$f":"IF(ISNUMBER(FIND(\"BC/BS\",#REF!)),\"X\",\"\")","v":""}]
["SELECTHEALTH - MOUNTAIN AMERICA CREDIT UNION - SELF FUNDED","X",{"$f":"IF(ISNUMBER(FIND(\"MEDICAID\",A3159)),\"X\",\"\")","v":""},{"$f":"IF(ISNUMBER(FIND(\"MEDICARE\",A3159)),\"X\",\"\")","v":""},{"$f":"IF(ISNUMBER(FIND(\"BC/BS\",#REF!)),\"X\",\"\")","v":""}]
["SELECTHEALTH - MOXTEK - SELF FUNDED",null,{"$f":"IF(ISNUMBER(FIND(\"MEDICAID\",A3160)),\"X\",\"\")","v":""},{"$f":"IF(ISNUMBER(FIND(\"MEDICARE\",A3160)),\"X\",\"\")","v":""},{"$f":"IF(ISNUMBER(FIND(\"BC/BS\",#REF!)),\"X\",\"\")","v":""}]
["SELECTHEALTH - MYRIAD GENETICS - SELF FUNDED","X",{"$f":"IF(ISNUMBER(FIND(\"MEDICAID\",A3161)),\"X\",\"\")","v":""},{"$f":"IF(ISNUMBER(FIND(\"MEDICARE\",A3161)),\"X\",\"\")","v":""},{"$f":"IF(ISNUMBER(FIND(\"BC/BS\",#REF!)),\"X\",\"\")","v":""}]
["SELECTHEALTH - OC TANNER - SELF FUNDED","X",{"$f":"IF(ISNUMBER(FIND(\"MEDICAID\",A3162)),\"X\",\"\")","v":""},{"$f":"IF(ISNUMBER(FIND(\"MEDICARE\",A3162)),\"X\",\"\")","v":""},{"$f":"IF(ISNUMBER(FIND(\"BC/BS\",#REF!)),\"X\",\"\")","v":""}]
["SELECTHEALTH - PROVO CITY CORPORATION - SELF FUNDED","X",{"$f":"IF(ISNUMBER(FIND(\"MEDICAID\",A3163)),\"X\",\"\")","v":""},{"$f":"IF(ISNUMBER(FIND(\"MEDICARE\",A3163)),\"X\",\"\")","v":""},{"$f":"IF(ISNUMBER(FIND(\"BC/BS\",#REF!)),\"X\",\"\")","v":""}]
["SELECTHEALTH - R1 RCM INC - SELF FUNDED","X",{"$f":"IF(ISNUMBER(FIND(\"MEDICAID\",A3164)),\"X\",\"\")","v":""},{"$f":"IF(ISNUMBER(FIND(\"MEDICARE\",A3164)),\"X\",\"\")","v":""},{"$f":"IF(ISNUMBER(FIND(\"BC/BS\",#REF!)),\"X\",\"\")","v":""}]
["SELECTHEALTH - REVERE HEALTH - SELF FUNDED","X",{"$f":"IF(ISNUMBER(FIND(\"MEDICAID\",A3165)),\"X\",\"\")","v":""},{"$f":"IF(ISNUMBER(FIND(\"MEDICARE\",A3165)),\"X\",\"\")","v":""},{"$f":"IF(ISNUMBER(FIND(\"BC/BS\",#REF!)),\"X\",\"\")","v":""}]
["SELECTHEALTH - RIO TINTO AMERICA","X",{"$f":"IF(ISNUMBER(FIND(\"MEDICAID\",A3166)),\"X\",\"\")","v":""},{"$f":"IF(ISNUMBER(FIND(\"MEDICARE\",A3166)),\"X\",\"\")","v":""},{"$f":"IF(ISNUMBER(FIND(\"BC/BS\",#REF!)),\"X\",\"\")","v":""}]
["SELECTHEALTH - SALT LAKE COUNTY - SELF FUNDED","X",{"$f":"IF(ISNUMBER(FIND(\"MEDICAID\",A3167)),\"X\",\"\")","v":""},{"$f":"IF(ISNUMBER(FIND(\"MEDICARE\",A3167)),\"X\",\"\")","v":""},{"$f":"IF(ISNUMBER(FIND(\"BC/BS\",#REF!)),\"X\",\"\")","v":""}]
["SELECTHEALTH - ST LUKE'S HEALTH SYSTEM - SELF FUNDED","X",{"$f":"IF(ISNUMBER(FIND(\"MEDICAID\",A3168)),\"X\",\"\")","v":""},{"$f":"IF(ISNUMBER(FIND(\"MEDICARE\",A3168)),\"X\",\"\")","v":""},{"$f":"IF(ISNUMBER(FIND(\"BC/BS\",#REF!)),\"X\",\"\")","v":""}]
["SELECTHEALTH - SUMMIT COUNTY - SELF FUNDED","X",{"$f":"IF(ISNUMBER(FIND(\"MEDICAID\",A3169)),\"X\",\"\")","v":""},{"$f":"IF(ISNUMBER(FIND(\"MEDICARE\",A3169)),\"X\",\"\")","v":""},{"$f":"IF(ISNUMBER(FIND(\"BC/BS\",#REF!)),\"X\",\"\")","v":""}]
["SELECTHEALTH - ULTRADENT - SELF FUNDED","X",{"$f":"IF(ISNUMBER(FIND(\"MEDICAID\",A3170)),\"X\",\"\")","v":""},{"$f":"IF(ISNUMBER(FIND(\"MEDICARE\",A3170)),\"X\",\"\")","v":""},{"$f":"IF(ISNUMBER(FIND(\"BC/BS\",#REF!)),\"X\",\"\")","v":""}]
["SELECTHEALTH - VALLEY MENTAL HEALTH - SELF FUNDED","X",{"$f":"IF(ISNUMBER(FIND(\"MEDICAID\",A3171)),\"X\",\"\")","v":""},{"$f":"IF(ISNUMBER(FIND(\"MEDICARE\",A3171)),\"X\",\"\")","v":""},{"$f":"IF(ISNUMBER(FIND(\"BC/BS\",#REF!)),\"X\",\"\")","v":""}]
["SELECTHEALTH - WAYFAIR - SELF FUNDED","X",{"$f":"IF(ISNUMBER(FIND(\"MEDICAID\",A3172)),\"X\",\"\")","v":""},{"$f":"IF(ISNUMBER(FIND(\"MEDICARE\",A3172)),\"X\",\"\")","v":""},{"$f":"IF(ISNUMBER(FIND(\"BC/BS\",#REF!)),\"X\",\"\")","v":""}]
["SELECTHEALTH - WELLSITE USA - SELF FUNDED","X",{"$f":"IF(ISNUMBER(FIND(\"MEDICAID\",A3173)),\"X\",\"\")","v":""},{"$f":"IF(ISNUMBER(FIND(\"MEDICARE\",A3173)),\"X\",\"\")","v":""},{"$f":"IF(ISNUMBER(FIND(\"BC/BS\",#REF!)),\"X\",\"\")","v":""}]
["SELECTHEALTH - WEST VALLEY CITY - SELF FUNDED","X",{"$f":"IF(ISNUMBER(FIND(\"MEDICAID\",A3174)),\"X\",\"\")","v":""},{"$f":"IF(ISNUMBER(FIND(\"MEDICARE\",A3174)),\"X\",\"\")","v":""},{"$f":"IF(ISNUMBER(FIND(\"BC/BS\",#REF!)),\"X\",\"\")","v":""}]
["SELECTHEALTH - WOODBURY CORP - SELF FUNDED","X",{"$f":"IF(ISNUMBER(FIND(\"MEDICAID\",A3175)),\"X\",\"\")","v":""},{"$f":"IF(ISNUMBER(FIND(\"MEDICARE\",A3175)),\"X\",\"\")","v":""},{"$f":"IF(ISNUMBER(FIND(\"BC/BS\",#REF!)),\"X\",\"\")","v":""}]
["SELECTHEALTH INC","X",{"$f":"IF(ISNUMBER(FIND(\"MEDICAID\",A3176)),\"X\",\"\")","v":""},{"$f":"IF(ISNUMBER(FIND(\"MEDICARE\",A3176)),\"X\",\"\")","v":""},{"$f":"IF(ISNUMBER(FIND(\"BC/BS\",#REF!)),\"X\",\"\")","v":""}]
["SELECTIVE INSURANCE COMPANY OF AMERICA","X",{"$f":"IF(ISNUMBER(FIND(\"MEDICAID\",A3177)),\"X\",\"\")","v":""},{"$f":"IF(ISNUMBER(FIND(\"MEDICARE\",A3177)),\"X\",\"\")","v":""},{"$f":"IF(ISNUMBER(FIND(\"BC/BS\",#REF!)),\"X\",\"\")","v":""}]
["SELF INSURED PLANS","X",{"$f":"IF(ISNUMBER(FIND(\"MEDICAID\",A3178)),\"X\",\"\")","v":""},{"$f":"IF(ISNUMBER(FIND(\"MEDICARE\",A3178)),\"X\",\"\")","v":""},{"$f":"IF(ISNUMBER(FIND(\"BC/BS\",#REF!)),\"X\",\"\")","v":""}]
["SELF INSURED SERVICES COMPANY (SISCO)","X",{"$f":"IF(ISNUMBER(FIND(\"MEDICAID\",A3179)),\"X\",\"\")","v":""},{"$f":"IF(ISNUMBER(FIND(\"MEDICARE\",A3179)),\"X\",\"\")","v":""},{"$f":"IF(ISNUMBER(FIND(\"BC/BS\",#REF!)),\"X\",\"\")","v":""}]
["SELMAN AND COMPANY","X",{"$f":"IF(ISNUMBER(FIND(\"MEDICAID\",A3180)),\"X\",\"\")","v":""},{"$f":"IF(ISNUMBER(FIND(\"MEDICARE\",A3180)),\"X\",\"\")","v":""},{"$f":"IF(ISNUMBER(FIND(\"BC/BS\",#REF!)),\"X\",\"\")","v":""}]
["SEMCO DISTRIBUTING INC (GROUP & PENSION ADMIN)","X",{"$f":"IF(ISNUMBER(FIND(\"MEDICAID\",A3181)),\"X\",\"\")","v":""},{"$f":"IF(ISNUMBER(FIND(\"MEDICARE\",A3181)),\"X\",\"\")","v":""},{"$f":"IF(ISNUMBER(FIND(\"BC/BS\",#REF!)),\"X\",\"\")","v":""}]
["SEMINOLE TRIBE OF FLORIDA","X",{"$f":"IF(ISNUMBER(FIND(\"MEDICAID\",A3182)),\"X\",\"\")","v":""},{"$f":"IF(ISNUMBER(FIND(\"MEDICARE\",A3182)),\"X\",\"\")","v":""},{"$f":"IF(ISNUMBER(FIND(\"BC/BS\",#REF!)),\"X\",\"\")","v":""}]
["SENDERO IDEALCARE - AFTER 1/1/19",null,{"$f":"IF(ISNUMBER(FIND(\"MEDICAID\",A3183)),\"X\",\"\")","v":""},{"$f":"IF(ISNUMBER(FIND(\"MEDICARE\",A3183)),\"X\",\"\")","v":""},{"$f":"IF(ISNUMBER(FIND(\"BC/BS\",#REF!)),\"X\",\"\")","v":""}]
["SENECA GAMING CORPORATION (INDEPENDENT HEALTH)",null,{"$f":"IF(ISNUMBER(FIND(\"MEDICAID\",A3184)),\"X\",\"\")","v":""},{"$f":"IF(ISNUMBER(FIND(\"MEDICARE\",A3184)),\"X\",\"\")","v":""},{"$f":"IF(ISNUMBER(FIND(\"BC/BS\",#REF!)),\"X\",\"\")","v":""}]
["SENECA NATION OF INDIANS (INDEPENDENT HEALTH)",null,{"$f":"IF(ISNUMBER(FIND(\"MEDICAID\",A3185)),\"X\",\"\")","v":""},{"$f":"IF(ISNUMBER(FIND(\"MEDICARE\",A3185)),\"X\",\"\")","v":""},{"$f":"IF(ISNUMBER(FIND(\"BC/BS\",#REF!)),\"X\",\"\")","v":""}]
["SENIOR CARE PLUS (HOMETOWN HEALTH)","X",{"$f":"IF(ISNUMBER(FIND(\"MEDICAID\",A3186)),\"X\",\"\")","v":""},{"$f":"IF(ISNUMBER(FIND(\"MEDICARE\",A3186)),\"X\",\"\")","v":""},{"$f":"IF(ISNUMBER(FIND(\"BC/BS\",#REF!)),\"X\",\"\")","v":""}]
["SENIOR HEALTH PARTNERS",null,{"$f":"IF(ISNUMBER(FIND(\"MEDICAID\",A3187)),\"X\",\"\")","v":""},{"$f":"IF(ISNUMBER(FIND(\"MEDICARE\",A3187)),\"X\",\"\")","v":""},{"$f":"IF(ISNUMBER(FIND(\"BC/BS\",#REF!)),\"X\",\"\")","v":""}]
["SENIOR WHOLE HEALTH (MAGELLAN HEALTH)","X",{"$f":"IF(ISNUMBER(FIND(\"MEDICAID\",A3188)),\"X\",\"\")","v":""},{"$f":"IF(ISNUMBER(FIND(\"MEDICARE\",A3188)),\"X\",\"\")","v":""},{"$f":"IF(ISNUMBER(FIND(\"BC/BS\",#REF!)),\"X\",\"\")","v":""}]
["SENIOR WHOLE HEALTH OF MASSACHUSETTS (MOLINA HEALTHCARE)","X",{"$f":"IF(ISNUMBER(FIND(\"MEDICAID\",A3189)),\"X\",\"\")","v":""},{"$f":"IF(ISNUMBER(FIND(\"MEDICARE\",A3189)),\"X\",\"\")","v":""},{"$f":"IF(ISNUMBER(FIND(\"BC/BS\",#REF!)),\"X\",\"\")","v":""}]
["SENIOR WHOLE HEALTH OF NEW YORK (MOLINA HEALTHCARE)","X",{"$f":"IF(ISNUMBER(FIND(\"MEDICAID\",A3190)),\"X\",\"\")","v":""},{"$f":"IF(ISNUMBER(FIND(\"MEDICARE\",A3190)),\"X\",\"\")","v":""},{"$f":"IF(ISNUMBER(FIND(\"BC/BS\",#REF!)),\"X\",\"\")","v":""}]
["SENTARA HEALTH PLANS","X",{"$f":"IF(ISNUMBER(FIND(\"MEDICAID\",A3191)),\"X\",\"\")","v":""},{"$f":"IF(ISNUMBER(FIND(\"MEDICARE\",A3191)),\"X\",\"\")","v":""},{"$f":"IF(ISNUMBER(FIND(\"BC/BS\",#REF!)),\"X\",\"\")","v":""}]
["SENTARA HEALTHCARE","X",{"$f":"IF(ISNUMBER(FIND(\"MEDICAID\",A3192)),\"X\",\"\")","v":""},{"$f":"IF(ISNUMBER(FIND(\"MEDICARE\",A3192)),\"X\",\"\")","v":""},{"$f":"IF(ISNUMBER(FIND(\"BC/BS\",#REF!)),\"X\",\"\")","v":""}]
["SENTINEL SECURITY LIFE INSURANCE","X",{"$f":"IF(ISNUMBER(FIND(\"MEDICAID\",A3193)),\"X\",\"\")","v":""},{"$f":"IF(ISNUMBER(FIND(\"MEDICARE\",A3193)),\"X\",\"\")","v":""},{"$f":"IF(ISNUMBER(FIND(\"BC/BS\",#REF!)),\"X\",\"\")","v":""}]
["SER CONSTRUCTION PARTNERS LLC EBP (90 DEGREE BENEFITS HOUSTON - ENTRUST)",null,{"$f":"IF(ISNUMBER(FIND(\"MEDICAID\",A3194)),\"X\",\"\")","v":""},{"$f":"IF(ISNUMBER(FIND(\"MEDICARE\",A3194)),\"X\",\"\")","v":""},{"$f":"IF(ISNUMBER(FIND(\"BC/BS\",#REF!)),\"X\",\"\")","v":""}]
["SERVE YOU CUSTOM PRESCRIPTION MGMT (OPTUMRX)","X",{"$f":"IF(ISNUMBER(FIND(\"MEDICAID\",A3195)),\"X\",\"\")","v":""},{"$f":"IF(ISNUMBER(FIND(\"MEDICARE\",A3195)),\"X\",\"\")","v":""},{"$f":"IF(ISNUMBER(FIND(\"BC/BS\",#REF!)),\"X\",\"\")","v":""}]
["SERVICE 1ST FCU (GEISINGER HEALTH PLAN)","X",{"$f":"IF(ISNUMBER(FIND(\"MEDICAID\",A3196)),\"X\",\"\")","v":""},{"$f":"IF(ISNUMBER(FIND(\"MEDICARE\",A3196)),\"X\",\"\")","v":""},{"$f":"IF(ISNUMBER(FIND(\"BC/BS\",#REF!)),\"X\",\"\")","v":""}]
["SERVICON SYSTEMS INC (HEALTHCOMP)","X",{"$f":"IF(ISNUMBER(FIND(\"MEDICAID\",A3197)),\"X\",\"\")","v":""},{"$f":"IF(ISNUMBER(FIND(\"MEDICARE\",A3197)),\"X\",\"\")","v":""},{"$f":"IF(ISNUMBER(FIND(\"BC/BS\",#REF!)),\"X\",\"\")","v":""}]
["SEWERAGE AND WATER BOARD OF NEW ORLEANS (THE HEALTH PLAN)",null,{"$f":"IF(ISNUMBER(FIND(\"MEDICAID\",A3198)),\"X\",\"\")","v":""},{"$f":"IF(ISNUMBER(FIND(\"MEDICARE\",A3198)),\"X\",\"\")","v":""},{"$f":"IF(ISNUMBER(FIND(\"BC/BS\",#REF!)),\"X\",\"\")","v":""}]
["SFM MUTUAL INSURANCE COMPANY","X",{"$f":"IF(ISNUMBER(FIND(\"MEDICAID\",A3199)),\"X\",\"\")","v":""},{"$f":"IF(ISNUMBER(FIND(\"MEDICARE\",A3199)),\"X\",\"\")","v":""},{"$f":"IF(ISNUMBER(FIND(\"BC/BS\",#REF!)),\"X\",\"\")","v":""},null,"X"]
["SFM SAFE INSURANCE COMPANY","X",{"$f":"IF(ISNUMBER(FIND(\"MEDICAID\",A3200)),\"X\",\"\")","v":""},{"$f":"IF(ISNUMBER(FIND(\"MEDICARE\",A3200)),\"X\",\"\")","v":""},{"$f":"IF(ISNUMBER(FIND(\"BC/BS\",#REF!)),\"X\",\"\")","v":""}]
["SFM SELECT INSURANCE COMPANY","X",{"$f":"IF(ISNUMBER(FIND(\"MEDICAID\",A3201)),\"X\",\"\")","v":""},{"$f":"IF(ISNUMBER(FIND(\"MEDICARE\",A3201)),\"X\",\"\")","v":""},{"$f":"IF(ISNUMBER(FIND(\"BC/BS\",#REF!)),\"X\",\"\")","v":""}]
["SHANNON MEDICAL CENTER HEALTH PLAN (WEBTPA)","X",{"$f":"IF(ISNUMBER(FIND(\"MEDICAID\",A3202)),\"X\",\"\")","v":""},{"$f":"IF(ISNUMBER(FIND(\"MEDICARE\",A3202)),\"X\",\"\")","v":""},{"$f":"IF(ISNUMBER(FIND(\"BC/BS\",#REF!)),\"X\",\"\")","v":""}]
["SHARP COMMUNITY MEDICAL GROUP",null,{"$f":"IF(ISNUMBER(FIND(\"MEDICAID\",A3203)),\"X\",\"\")","v":""},{"$f":"IF(ISNUMBER(FIND(\"MEDICARE\",A3203)),\"X\",\"\")","v":""},{"$f":"IF(ISNUMBER(FIND(\"BC/BS\",#REF!)),\"X\",\"\")","v":""}]
["SHARP HEALTH PLAN","X",{"$f":"IF(ISNUMBER(FIND(\"MEDICAID\",A3204)),\"X\",\"\")","v":""},{"$f":"IF(ISNUMBER(FIND(\"MEDICARE\",A3204)),\"X\",\"\")","v":""},{"$f":"IF(ISNUMBER(FIND(\"BC/BS\",#REF!)),\"X\",\"\")","v":""}]
["SHARP HEALTH PLAN HMO","X",{"$f":"IF(ISNUMBER(FIND(\"MEDICAID\",A3205)),\"X\",\"\")","v":""},{"$f":"IF(ISNUMBER(FIND(\"MEDICARE\",A3205)),\"X\",\"\")","v":""},{"$f":"IF(ISNUMBER(FIND(\"BC/BS\",#REF!)),\"X\",\"\")","v":""}]
["SHARP HEALTHCARE - SCMG HOSP (SHARP COMMUNITY MEDICAL GROUP)",null,{"$f":"IF(ISNUMBER(FIND(\"MEDICAID\",A3206)),\"X\",\"\")","v":""},{"$f":"IF(ISNUMBER(FIND(\"MEDICARE\",A3206)),\"X\",\"\")","v":""},{"$f":"IF(ISNUMBER(FIND(\"BC/BS\",#REF!)),\"X\",\"\")","v":""}]
["SHARP REES-STEALY MEDICAL CENTERS","X",{"$f":"IF(ISNUMBER(FIND(\"MEDICAID\",A3207)),\"X\",\"\")","v":""},{"$f":"IF(ISNUMBER(FIND(\"MEDICARE\",A3207)),\"X\",\"\")","v":""},{"$f":"IF(ISNUMBER(FIND(\"BC/BS\",#REF!)),\"X\",\"\")","v":""}]
["SHASTA ADMINISTRATIVE SERVICES","X",{"$f":"IF(ISNUMBER(FIND(\"MEDICAID\",A3208)),\"X\",\"\")","v":""},{"$f":"IF(ISNUMBER(FIND(\"MEDICARE\",A3208)),\"X\",\"\")","v":""},{"$f":"IF(ISNUMBER(FIND(\"BC/BS\",#REF!)),\"X\",\"\")","v":""}]
["SHASTA COMMUNITY HEALTH CENTER (HEALTHCOMP)","X",{"$f":"IF(ISNUMBER(FIND(\"MEDICAID\",A3209)),\"X\",\"\")","v":""},{"$f":"IF(ISNUMBER(FIND(\"MEDICARE\",A3209)),\"X\",\"\")","v":""},{"$f":"IF(ISNUMBER(FIND(\"BC/BS\",#REF!)),\"X\",\"\")","v":""}]
["SHCN AZ HEALTH PLAN (STEWARD HEALTH CHOICE ARIZONA)","X",{"$f":"IF(ISNUMBER(FIND(\"MEDICAID\",A3210)),\"X\",\"\")","v":""},{"$f":"IF(ISNUMBER(FIND(\"MEDICARE\",A3210)),\"X\",\"\")","v":""},{"$f":"IF(ISNUMBER(FIND(\"BC/BS\",#REF!)),\"X\",\"\")","v":""}]
["SHEAKLEY UNICOMP","X",{"$f":"IF(ISNUMBER(FIND(\"MEDICAID\",A3211)),\"X\",\"\")","v":""},{"$f":"IF(ISNUMBER(FIND(\"MEDICARE\",A3211)),\"X\",\"\")","v":""},{"$f":"IF(ISNUMBER(FIND(\"BC/BS\",#REF!)),\"X\",\"\")","v":""}]
["SHEET METAL WORKERS HEALTH PLAN (SOUTHERN BENEFIT ADMINISTRATORS)","X",{"$f":"IF(ISNUMBER(FIND(\"MEDICAID\",A3212)),\"X\",\"\")","v":""},{"$f":"IF(ISNUMBER(FIND(\"MEDICARE\",A3212)),\"X\",\"\")","v":""},{"$f":"IF(ISNUMBER(FIND(\"BC/BS\",#REF!)),\"X\",\"\")","v":""}]
["SHEET METAL WORKERS LOCAL 36","X",{"$f":"IF(ISNUMBER(FIND(\"MEDICAID\",A3213)),\"X\",\"\")","v":""},{"$f":"IF(ISNUMBER(FIND(\"MEDICARE\",A3213)),\"X\",\"\")","v":""},{"$f":"IF(ISNUMBER(FIND(\"BC/BS\",#REF!)),\"X\",\"\")","v":""}]
["SHELL OIL COMPANY (CIGNA)",null,{"$f":"IF(ISNUMBER(FIND(\"MEDICAID\",A3214)),\"X\",\"\")","v":""},{"$f":"IF(ISNUMBER(FIND(\"MEDICARE\",A3214)),\"X\",\"\")","v":""},{"$f":"IF(ISNUMBER(FIND(\"BC/BS\",#REF!)),\"X\",\"\")","v":""}]
["SHENANDOAH (IAS ADMIN)","X",{"$f":"IF(ISNUMBER(FIND(\"MEDICAID\",A3215)),\"X\",\"\")","v":""},{"$f":"IF(ISNUMBER(FIND(\"MEDICARE\",A3215)),\"X\",\"\")","v":""},{"$f":"IF(ISNUMBER(FIND(\"BC/BS\",#REF!)),\"X\",\"\")","v":""}]
["SHERRILL FURNITURE (THE HEALTH PLAN)",null,{"$f":"IF(ISNUMBER(FIND(\"MEDICAID\",A3216)),\"X\",\"\")","v":""},{"$f":"IF(ISNUMBER(FIND(\"MEDICARE\",A3216)),\"X\",\"\")","v":""},{"$f":"IF(ISNUMBER(FIND(\"BC/BS\",#REF!)),\"X\",\"\")","v":""}]
["SHIELDS ASPHALT PAVING INC (GROUP & PENSION ADMIN)","X",{"$f":"IF(ISNUMBER(FIND(\"MEDICAID\",A3217)),\"X\",\"\")","v":""},{"$f":"IF(ISNUMBER(FIND(\"MEDICARE\",A3217)),\"X\",\"\")","v":""},{"$f":"IF(ISNUMBER(FIND(\"BC/BS\",#REF!)),\"X\",\"\")","v":""}]
["SHIPLEY FRANCHISE EBPT (90 DEGREE BENEFITS HOUSTON - ENTRUST)",null,{"$f":"IF(ISNUMBER(FIND(\"MEDICAID\",A3218)),\"X\",\"\")","v":""},{"$f":"IF(ISNUMBER(FIND(\"MEDICARE\",A3218)),\"X\",\"\")","v":""},{"$f":"IF(ISNUMBER(FIND(\"BC/BS\",#REF!)),\"X\",\"\")","v":""}]
["SHORKEY GROUP MANAGEMENT LLC (GROUP & PENSION ADMIN)","X",{"$f":"IF(ISNUMBER(FIND(\"MEDICAID\",A3219)),\"X\",\"\")","v":""},{"$f":"IF(ISNUMBER(FIND(\"MEDICARE\",A3219)),\"X\",\"\")","v":""},{"$f":"IF(ISNUMBER(FIND(\"BC/BS\",#REF!)),\"X\",\"\")","v":""}]
["SHOWPLACE INC (GROUP & PENSION ADMIN)","X",{"$f":"IF(ISNUMBER(FIND(\"MEDICAID\",A3220)),\"X\",\"\")","v":""},{"$f":"IF(ISNUMBER(FIND(\"MEDICARE\",A3220)),\"X\",\"\")","v":""},{"$f":"IF(ISNUMBER(FIND(\"BC/BS\",#REF!)),\"X\",\"\")","v":""}]
["SHPS HP LOC (SCRIPPS HEALTH)","X",{"$f":"IF(ISNUMBER(FIND(\"MEDICAID\",A3221)),\"X\",\"\")","v":""},{"$f":"IF(ISNUMBER(FIND(\"MEDICARE\",A3221)),\"X\",\"\")","v":""},{"$f":"IF(ISNUMBER(FIND(\"BC/BS\",#REF!)),\"X\",\"\")","v":""}]
["SIDNEY REGIONAL MEDICAL CENTER (UC HEALTH PLAN ADMINISTRATORS)",null,{"$f":"IF(ISNUMBER(FIND(\"MEDICAID\",A3222)),\"X\",\"\")","v":""},{"$f":"IF(ISNUMBER(FIND(\"MEDICARE\",A3222)),\"X\",\"\")","v":""},{"$f":"IF(ISNUMBER(FIND(\"BC/BS\",#REF!)),\"X\",\"\")","v":""}]
["SIEBA LTD","X",{"$f":"IF(ISNUMBER(FIND(\"MEDICAID\",A3223)),\"X\",\"\")","v":""},{"$f":"IF(ISNUMBER(FIND(\"MEDICARE\",A3223)),\"X\",\"\")","v":""},{"$f":"IF(ISNUMBER(FIND(\"BC/BS\",#REF!)),\"X\",\"\")","v":""}]
["SIERRA HEALTH AND LIFE (UHC)","X",{"$f":"IF(ISNUMBER(FIND(\"MEDICAID\",A3224)),\"X\",\"\")","v":""},{"$f":"IF(ISNUMBER(FIND(\"MEDICARE\",A3224)),\"X\",\"\")","v":""},{"$f":"IF(ISNUMBER(FIND(\"BC/BS\",#REF!)),\"X\",\"\")","v":""}]
["SIERRA PATHOLOGY LABORATORY INC (ADVANTEK BENEFIT ADMINISTRATORS)","X",{"$f":"IF(ISNUMBER(FIND(\"MEDICAID\",A3225)),\"X\",\"\")","v":""},{"$f":"IF(ISNUMBER(FIND(\"MEDICARE\",A3225)),\"X\",\"\")","v":""},{"$f":"IF(ISNUMBER(FIND(\"BC/BS\",#REF!)),\"X\",\"\")","v":""}]
["SIGMAPRO ENGINEERING EBP (90 DEGREE BENEFITS HOUSTON - ENTRUST)",null,{"$f":"IF(ISNUMBER(FIND(\"MEDICAID\",A3226)),\"X\",\"\")","v":""},{"$f":"IF(ISNUMBER(FIND(\"MEDICARE\",A3226)),\"X\",\"\")","v":""},{"$f":"IF(ISNUMBER(FIND(\"BC/BS\",#REF!)),\"X\",\"\")","v":""}]
["SIGNATURE BUILDING SYSTEMS (GEISINGER HEALTH PLAN)","X",{"$f":"IF(ISNUMBER(FIND(\"MEDICAID\",A3227)),\"X\",\"\")","v":""},{"$f":"IF(ISNUMBER(FIND(\"MEDICARE\",A3227)),\"X\",\"\")","v":""},{"$f":"IF(ISNUMBER(FIND(\"BC/BS\",#REF!)),\"X\",\"\")","v":""}]
["SIGNIFICA BENEFIT SERVICES","X",{"$f":"IF(ISNUMBER(FIND(\"MEDICAID\",A3228)),\"X\",\"\")","v":""},{"$f":"IF(ISNUMBER(FIND(\"MEDICARE\",A3228)),\"X\",\"\")","v":""},{"$f":"IF(ISNUMBER(FIND(\"BC/BS\",#REF!)),\"X\",\"\")","v":""}]
["SIGNIFICA BENEFIT SERVICES AGENT FOR PAN AMERICAN","X",{"$f":"IF(ISNUMBER(FIND(\"MEDICAID\",A3229)),\"X\",\"\")","v":""},{"$f":"IF(ISNUMBER(FIND(\"MEDICARE\",A3229)),\"X\",\"\")","v":""},{"$f":"IF(ISNUMBER(FIND(\"BC/BS\",#REF!)),\"X\",\"\")","v":""}]
["SIHO - CGS CAS","X",{"$f":"IF(ISNUMBER(FIND(\"MEDICAID\",A3230)),\"X\",\"\")","v":""},{"$f":"IF(ISNUMBER(FIND(\"MEDICARE\",A3230)),\"X\",\"\")","v":""},{"$f":"IF(ISNUMBER(FIND(\"BC/BS\",#REF!)),\"X\",\"\")","v":""}]
["SIHO - CHS CAS","X",{"$f":"IF(ISNUMBER(FIND(\"MEDICAID\",A3231)),\"X\",\"\")","v":""},{"$f":"IF(ISNUMBER(FIND(\"MEDICARE\",A3231)),\"X\",\"\")","v":""},{"$f":"IF(ISNUMBER(FIND(\"BC/BS\",#REF!)),\"X\",\"\")","v":""}]
["SIHO FI","X",{"$f":"IF(ISNUMBER(FIND(\"MEDICAID\",A3232)),\"X\",\"\")","v":""},{"$f":"IF(ISNUMBER(FIND(\"MEDICARE\",A3232)),\"X\",\"\")","v":""},{"$f":"IF(ISNUMBER(FIND(\"BC/BS\",#REF!)),\"X\",\"\")","v":""}]
["SIHO INSURANCE SERVICES","X",{"$f":"IF(ISNUMBER(FIND(\"MEDICAID\",A3233)),\"X\",\"\")","v":""},{"$f":"IF(ISNUMBER(FIND(\"MEDICARE\",A3233)),\"X\",\"\")","v":""},{"$f":"IF(ISNUMBER(FIND(\"BC/BS\",#REF!)),\"X\",\"\")","v":""}]
["SIHO MA","X",{"$f":"IF(ISNUMBER(FIND(\"MEDICAID\",A3234)),\"X\",\"\")","v":""},{"$f":"IF(ISNUMBER(FIND(\"MEDICARE\",A3234)),\"X\",\"\")","v":""},{"$f":"IF(ISNUMBER(FIND(\"BC/BS\",#REF!)),\"X\",\"\")","v":""}]
["SIHO TPA","X",{"$f":"IF(ISNUMBER(FIND(\"MEDICAID\",A3235)),\"X\",\"\")","v":""},{"$f":"IF(ISNUMBER(FIND(\"MEDICARE\",A3235)),\"X\",\"\")","v":""},{"$f":"IF(ISNUMBER(FIND(\"BC/BS\",#REF!)),\"X\",\"\")","v":""}]
["SILVERSUMMIT HEALTHPLAN","X",{"$f":"IF(ISNUMBER(FIND(\"MEDICAID\",A3236)),\"X\",\"\")","v":""},{"$f":"IF(ISNUMBER(FIND(\"MEDICARE\",A3236)),\"X\",\"\")","v":""},{"$f":"IF(ISNUMBER(FIND(\"BC/BS\",#REF!)),\"X\",\"\")","v":""}]
["SIM USA EBPT (90 DEGREE BENEFITS HOUSTON - ENTRUST)",null,{"$f":"IF(ISNUMBER(FIND(\"MEDICAID\",A3237)),\"X\",\"\")","v":""},{"$f":"IF(ISNUMBER(FIND(\"MEDICARE\",A3237)),\"X\",\"\")","v":""},{"$f":"IF(ISNUMBER(FIND(\"BC/BS\",#REF!)),\"X\",\"\")","v":""}]
["SIMCO (MAESTRO HEALTH)","X",{"$f":"IF(ISNUMBER(FIND(\"MEDICAID\",A3238)),\"X\",\"\")","v":""},{"$f":"IF(ISNUMBER(FIND(\"MEDICARE\",A3238)),\"X\",\"\")","v":""},{"$f":"IF(ISNUMBER(FIND(\"BC/BS\",#REF!)),\"X\",\"\")","v":""}]
["SIMI VALLEY HOSPITAL (ADVENTIST HEALTH SYSTEM WEST)",null,{"$f":"IF(ISNUMBER(FIND(\"MEDICAID\",A3239)),\"X\",\"\")","v":""},{"$f":"IF(ISNUMBER(FIND(\"MEDICARE\",A3239)),\"X\",\"\")","v":""},{"$f":"IF(ISNUMBER(FIND(\"BC/BS\",#REF!)),\"X\",\"\")","v":""}]
["SIMPLY HEALTHCARE PLANS","X",{"$f":"IF(ISNUMBER(FIND(\"MEDICAID\",A3240)),\"X\",\"\")","v":""},{"$f":"IF(ISNUMBER(FIND(\"MEDICARE\",A3240)),\"X\",\"\")","v":""},{"$f":"IF(ISNUMBER(FIND(\"BC/BS\",#REF!)),\"X\",\"\")","v":""}]
["SIMPSON UNIVERSITY (HEALTHCOMP)","X",{"$f":"IF(ISNUMBER(FIND(\"MEDICAID\",A3241)),\"X\",\"\")","v":""},{"$f":"IF(ISNUMBER(FIND(\"MEDICARE\",A3241)),\"X\",\"\")","v":""},{"$f":"IF(ISNUMBER(FIND(\"BC/BS\",#REF!)),\"X\",\"\")","v":""}]
["SINAI MEDICAL GROUP (ARCADIA SOLUTIONS)","X",{"$f":"IF(ISNUMBER(FIND(\"MEDICAID\",A3242)),\"X\",\"\")","v":""},{"$f":"IF(ISNUMBER(FIND(\"MEDICARE\",A3242)),\"X\",\"\")","v":""},{"$f":"IF(ISNUMBER(FIND(\"BC/BS\",#REF!)),\"X\",\"\")","v":""}]
["SISC (AMERIBEN)",null,{"$f":"IF(ISNUMBER(FIND(\"MEDICAID\",A3243)),\"X\",\"\")","v":""},{"$f":"IF(ISNUMBER(FIND(\"MEDICARE\",A3243)),\"X\",\"\")","v":""},{"$f":"IF(ISNUMBER(FIND(\"BC/BS\",#REF!)),\"X\",\"\")","v":""}]
["SKC ENTERPRISES DBA RENT ONE (GROUP & PENSION ADMIN)","X",{"$f":"IF(ISNUMBER(FIND(\"MEDICAID\",A3244)),\"X\",\"\")","v":""},{"$f":"IF(ISNUMBER(FIND(\"MEDICARE\",A3244)),\"X\",\"\")","v":""},{"$f":"IF(ISNUMBER(FIND(\"BC/BS\",#REF!)),\"X\",\"\")","v":""}]
["SKIDMORE COLLEGE (MVP HEALTH CARE)","X",{"$f":"IF(ISNUMBER(FIND(\"MEDICAID\",A3245)),\"X\",\"\")","v":""},{"$f":"IF(ISNUMBER(FIND(\"MEDICARE\",A3245)),\"X\",\"\")","v":""},{"$f":"IF(ISNUMBER(FIND(\"BC/BS\",#REF!)),\"X\",\"\")","v":""}]
["SKY AVIATION CORPORATION (MBA BENEFIT ADMINISTRATORS)",null,{"$f":"IF(ISNUMBER(FIND(\"MEDICAID\",A3246)),\"X\",\"\")","v":""},{"$f":"IF(ISNUMBER(FIND(\"MEDICARE\",A3246)),\"X\",\"\")","v":""},{"$f":"IF(ISNUMBER(FIND(\"BC/BS\",#REF!)),\"X\",\"\")","v":""}]
["SLHDA (SCRANTON LACKAWANNA HUMAN DEVELOPMENT AGENCY) (GEISINGER HEALTH PLAN)","X",{"$f":"IF(ISNUMBER(FIND(\"MEDICAID\",A3247)),\"X\",\"\")","v":""},{"$f":"IF(ISNUMBER(FIND(\"MEDICARE\",A3247)),\"X\",\"\")","v":""},{"$f":"IF(ISNUMBER(FIND(\"BC/BS\",#REF!)),\"X\",\"\")","v":""}]
["SMALL GROUP TPA - SPEC AND AGG (GEISINGER HEALTH PLAN)","X",{"$f":"IF(ISNUMBER(FIND(\"MEDICAID\",A3248)),\"X\",\"\")","v":""},{"$f":"IF(ISNUMBER(FIND(\"MEDICARE\",A3248)),\"X\",\"\")","v":""},{"$f":"IF(ISNUMBER(FIND(\"BC/BS\",#REF!)),\"X\",\"\")","v":""}]
["SMC CORPORATION OF AMERICA (GROUP & PENSION ADMIN)","X",{"$f":"IF(ISNUMBER(FIND(\"MEDICAID\",A3249)),\"X\",\"\")","v":""},{"$f":"IF(ISNUMBER(FIND(\"MEDICARE\",A3249)),\"X\",\"\")","v":""},{"$f":"IF(ISNUMBER(FIND(\"BC/BS\",#REF!)),\"X\",\"\")","v":""}]
["SMILE BRANDS INC (AMERIBEN)",null,{"$f":"IF(ISNUMBER(FIND(\"MEDICAID\",A3250)),\"X\",\"\")","v":""},{"$f":"IF(ISNUMBER(FIND(\"MEDICARE\",A3250)),\"X\",\"\")","v":""},{"$f":"IF(ISNUMBER(FIND(\"BC/BS\",#REF!)),\"X\",\"\")","v":""}]
["SMITH & LOVELESS INC (MAA/HEALTHSMART)",null,{"$f":"IF(ISNUMBER(FIND(\"MEDICAID\",A3251)),\"X\",\"\")","v":""},{"$f":"IF(ISNUMBER(FIND(\"MEDICARE\",A3251)),\"X\",\"\")","v":""},{"$f":"IF(ISNUMBER(FIND(\"BC/BS\",#REF!)),\"X\",\"\")","v":""}]
["SMITH AND KEENE ELECTRIC (SENTARA)","X",{"$f":"IF(ISNUMBER(FIND(\"MEDICAID\",A3252)),\"X\",\"\")","v":""},{"$f":"IF(ISNUMBER(FIND(\"MEDICARE\",A3252)),\"X\",\"\")","v":""},{"$f":"IF(ISNUMBER(FIND(\"BC/BS\",#REF!)),\"X\",\"\")","v":""}]
["SMITH PUMP COMPANY EBPT (90 DEGREE BENEFITS HOUSTON - ENTRUST)",null,{"$f":"IF(ISNUMBER(FIND(\"MEDICAID\",A3253)),\"X\",\"\")","v":""},{"$f":"IF(ISNUMBER(FIND(\"MEDICARE\",A3253)),\"X\",\"\")","v":""},{"$f":"IF(ISNUMBER(FIND(\"BC/BS\",#REF!)),\"X\",\"\")","v":""}]
["SMS HOLDINGS CORPORATION (HEALTHSCOPE BENEFITS)",null,{"$f":"IF(ISNUMBER(FIND(\"MEDICAID\",A3254)),\"X\",\"\")","v":""},{"$f":"IF(ISNUMBER(FIND(\"MEDICARE\",A3254)),\"X\",\"\")","v":""},{"$f":"IF(ISNUMBER(FIND(\"BC/BS\",#REF!)),\"X\",\"\")","v":""}]
["SOLIDARITY HEALTHSHARE","X",{"$f":"IF(ISNUMBER(FIND(\"MEDICAID\",A3255)),\"X\",\"\")","v":""},{"$f":"IF(ISNUMBER(FIND(\"MEDICARE\",A3255)),\"X\",\"\")","v":""},{"$f":"IF(ISNUMBER(FIND(\"BC/BS\",#REF!)),\"X\",\"\")","v":""}]
["SOLIS HEALTH PLANS","X",{"$f":"IF(ISNUMBER(FIND(\"MEDICAID\",A3256)),\"X\",\"\")","v":""},{"$f":"IF(ISNUMBER(FIND(\"MEDICARE\",A3256)),\"X\",\"\")","v":""},{"$f":"IF(ISNUMBER(FIND(\"BC/BS\",#REF!)),\"X\",\"\")","v":""}]
["SOLSTICE","X",{"$f":"IF(ISNUMBER(FIND(\"MEDICAID\",A3257)),\"X\",\"\")","v":""},{"$f":"IF(ISNUMBER(FIND(\"MEDICARE\",A3257)),\"X\",\"\")","v":""},{"$f":"IF(ISNUMBER(FIND(\"BC/BS\",#REF!)),\"X\",\"\")","v":""}]
["SOLXSYS","X",{"$f":"IF(ISNUMBER(FIND(\"MEDICAID\",A3258)),\"X\",\"\")","v":""},{"$f":"IF(ISNUMBER(FIND(\"MEDICARE\",A3258)),\"X\",\"\")","v":""},{"$f":"IF(ISNUMBER(FIND(\"BC/BS\",#REF!)),\"X\",\"\")","v":""}]
["SOMOS IPA EMBLEM","X",{"$f":"IF(ISNUMBER(FIND(\"MEDICAID\",A3259)),\"X\",\"\")","v":""},{"$f":"IF(ISNUMBER(FIND(\"MEDICARE\",A3259)),\"X\",\"\")","v":""},{"$f":"IF(ISNUMBER(FIND(\"BC/BS\",#REF!)),\"X\",\"\")","v":""}]
["SOMPO WC (GALLAGHER BASSETT)","X",{"$f":"IF(ISNUMBER(FIND(\"MEDICAID\",A3260)),\"X\",\"\")","v":""},{"$f":"IF(ISNUMBER(FIND(\"MEDICARE\",A3260)),\"X\",\"\")","v":""},{"$f":"IF(ISNUMBER(FIND(\"BC/BS\",#REF!)),\"X\",\"\")","v":""},"X"]
["SONDER HEALTH PLANS INC","X",{"$f":"IF(ISNUMBER(FIND(\"MEDICAID\",A3261)),\"X\",\"\")","v":""},{"$f":"IF(ISNUMBER(FIND(\"MEDICARE\",A3261)),\"X\",\"\")","v":""},{"$f":"IF(ISNUMBER(FIND(\"BC/BS\",#REF!)),\"X\",\"\")","v":""}]
["SONORA REGIONAL MEDICAL CENTER (ADVENTIST HEALTH SYSTEM WEST)",null,{"$f":"IF(ISNUMBER(FIND(\"MEDICAID\",A3262)),\"X\",\"\")","v":""},{"$f":"IF(ISNUMBER(FIND(\"MEDICARE\",A3262)),\"X\",\"\")","v":""},{"$f":"IF(ISNUMBER(FIND(\"BC/BS\",#REF!)),\"X\",\"\")","v":""}]
["SOUTH ATLANTIC MEDICAL GROUP",null,{"$f":"IF(ISNUMBER(FIND(\"MEDICAID\",A3263)),\"X\",\"\")","v":""},{"$f":"IF(ISNUMBER(FIND(\"MEDICARE\",A3263)),\"X\",\"\")","v":""},{"$f":"IF(ISNUMBER(FIND(\"BC/BS\",#REF!)),\"X\",\"\")","v":""}]
["SOUTH COUNTRY HEALTH ALLIANCE (PRIMEWEST HEALTH)","X",{"$f":"IF(ISNUMBER(FIND(\"MEDICAID\",A3264)),\"X\",\"\")","v":""},{"$f":"IF(ISNUMBER(FIND(\"MEDICARE\",A3264)),\"X\",\"\")","v":""},{"$f":"IF(ISNUMBER(FIND(\"BC/BS\",#REF!)),\"X\",\"\")","v":""}]
["SOUTH DAKOTA STATE MEDICAL HOLDING CO INC DBA DAKOTACARE","X",{"$f":"IF(ISNUMBER(FIND(\"MEDICAID\",A3265)),\"X\",\"\")","v":""},{"$f":"IF(ISNUMBER(FIND(\"MEDICARE\",A3265)),\"X\",\"\")","v":""},{"$f":"IF(ISNUMBER(FIND(\"BC/BS\",#REF!)),\"X\",\"\")","v":""}]
["SOUTH GEORGIA BENEFIT ADMINISTRATORS","X",{"$f":"IF(ISNUMBER(FIND(\"MEDICAID\",A3266)),\"X\",\"\")","v":""},{"$f":"IF(ISNUMBER(FIND(\"MEDICARE\",A3266)),\"X\",\"\")","v":""},{"$f":"IF(ISNUMBER(FIND(\"BC/BS\",#REF!)),\"X\",\"\")","v":""}]
["SOUTH JEFFERSON CENTRAL SCHOOL DISTRICT (MVP HEALTH CARE)","X",{"$f":"IF(ISNUMBER(FIND(\"MEDICAID\",A3267)),\"X\",\"\")","v":""},{"$f":"IF(ISNUMBER(FIND(\"MEDICARE\",A3267)),\"X\",\"\")","v":""},{"$f":"IF(ISNUMBER(FIND(\"BC/BS\",#REF!)),\"X\",\"\")","v":""}]
["SOUTH TEXAS OIL FIELD & MAINTENANCE EBPT (90 DEGREE BENEFITS HOUSTON - ENTRUST)",null,{"$f":"IF(ISNUMBER(FIND(\"MEDICAID\",A3268)),\"X\",\"\")","v":""},{"$f":"IF(ISNUMBER(FIND(\"MEDICARE\",A3268)),\"X\",\"\")","v":""},{"$f":"IF(ISNUMBER(FIND(\"BC/BS\",#REF!)),\"X\",\"\")","v":""}]
["SOUTHEAST LOUISIANA VETERANS HEALTH CARE SYSTEM",null,{"$f":"IF(ISNUMBER(FIND(\"MEDICAID\",A3269)),\"X\",\"\")","v":""},{"$f":"IF(ISNUMBER(FIND(\"MEDICARE\",A3269)),\"X\",\"\")","v":""},{"$f":"IF(ISNUMBER(FIND(\"BC/BS\",#REF!)),\"X\",\"\")","v":""}]
["SOUTHEASTERN ILLINOIS COLLEGE (IPMG)","X",{"$f":"IF(ISNUMBER(FIND(\"MEDICAID\",A3270)),\"X\",\"\")","v":""},{"$f":"IF(ISNUMBER(FIND(\"MEDICARE\",A3270)),\"X\",\"\")","v":""},{"$f":"IF(ISNUMBER(FIND(\"BC/BS\",#REF!)),\"X\",\"\")","v":""}]
["SOUTHERN GUARANTY INSURANCE COMPANY (AETNA SSI)","X",{"$f":"IF(ISNUMBER(FIND(\"MEDICAID\",A3271)),\"X\",\"\")","v":""},{"$f":"IF(ISNUMBER(FIND(\"MEDICARE\",A3271)),\"X\",\"\")","v":""},{"$f":"IF(ISNUMBER(FIND(\"BC/BS\",#REF!)),\"X\",\"\")","v":""}]
["SOUTHERN ILLINOIS HEALTH CARE ASSOCIATION (INNOVISTA HEALTH)","X",{"$f":"IF(ISNUMBER(FIND(\"MEDICAID\",A3272)),\"X\",\"\")","v":""},{"$f":"IF(ISNUMBER(FIND(\"MEDICARE\",A3272)),\"X\",\"\")","v":""},{"$f":"IF(ISNUMBER(FIND(\"BC/BS\",#REF!)),\"X\",\"\")","v":""}]
["SOUTHERN MI PIP CLAIMS BRANCH (AUTO-OWNERS INSURANCE COMPANY)","X",{"$f":"IF(ISNUMBER(FIND(\"MEDICAID\",A3273)),\"X\",\"\")","v":""},{"$f":"IF(ISNUMBER(FIND(\"MEDICARE\",A3273)),\"X\",\"\")","v":""},{"$f":"IF(ISNUMBER(FIND(\"BC/BS\",#REF!)),\"X\",\"\")","v":""},null,"X"]
["SOUTHERN OHIO MEDICAL CENTER (CONTIGO HEALTH)",null,{"$f":"IF(ISNUMBER(FIND(\"MEDICAID\",A3274)),\"X\",\"\")","v":""},{"$f":"IF(ISNUMBER(FIND(\"MEDICARE\",A3274)),\"X\",\"\")","v":""},{"$f":"IF(ISNUMBER(FIND(\"BC/BS\",#REF!)),\"X\",\"\")","v":""}]
["SOUTHERN SCRIPTS","X",{"$f":"IF(ISNUMBER(FIND(\"MEDICAID\",A3275)),\"X\",\"\")","v":""},{"$f":"IF(ISNUMBER(FIND(\"MEDICARE\",A3275)),\"X\",\"\")","v":""},{"$f":"IF(ISNUMBER(FIND(\"BC/BS\",#REF!)),\"X\",\"\")","v":""}]
["SOUTHERN TIER ENVIRONMENTS FOR LIVING INC (INDEPENDENT HEALTH)",null,{"$f":"IF(ISNUMBER(FIND(\"MEDICAID\",A3276)),\"X\",\"\")","v":""},{"$f":"IF(ISNUMBER(FIND(\"MEDICARE\",A3276)),\"X\",\"\")","v":""},{"$f":"IF(ISNUMBER(FIND(\"BC/BS\",#REF!)),\"X\",\"\")","v":""}]
["SOUTHTOWN DODGE INC (IPMG)","X",{"$f":"IF(ISNUMBER(FIND(\"MEDICAID\",A3277)),\"X\",\"\")","v":""},{"$f":"IF(ISNUMBER(FIND(\"MEDICARE\",A3277)),\"X\",\"\")","v":""},{"$f":"IF(ISNUMBER(FIND(\"BC/BS\",#REF!)),\"X\",\"\")","v":""}]
["SOUTHWEST SERVICE ADMINISTRATORS","X",{"$f":"IF(ISNUMBER(FIND(\"MEDICAID\",A3278)),\"X\",\"\")","v":""},{"$f":"IF(ISNUMBER(FIND(\"MEDICARE\",A3278)),\"X\",\"\")","v":""},{"$f":"IF(ISNUMBER(FIND(\"BC/BS\",#REF!)),\"X\",\"\")","v":""}]
["SOUTHWESTERN HEALTH RESOURCES","X",{"$f":"IF(ISNUMBER(FIND(\"MEDICAID\",A3279)),\"X\",\"\")","v":""},{"$f":"IF(ISNUMBER(FIND(\"MEDICARE\",A3279)),\"X\",\"\")","v":""},{"$f":"IF(ISNUMBER(FIND(\"BC/BS\",#REF!)),\"X\",\"\")","v":""}]
["SOUTHWESTERN/GREAT AMERICAN INC (GROUP & PENSION ADMIN)","X",{"$f":"IF(ISNUMBER(FIND(\"MEDICAID\",A3280)),\"X\",\"\")","v":""},{"$f":"IF(ISNUMBER(FIND(\"MEDICARE\",A3280)),\"X\",\"\")","v":""},{"$f":"IF(ISNUMBER(FIND(\"BC/BS\",#REF!)),\"X\",\"\")","v":""}]
["SOVEREIGN NATIONS INSURANCE (TALL TREE ADMINISTRATORS)","X",{"$f":"IF(ISNUMBER(FIND(\"MEDICAID\",A3281)),\"X\",\"\")","v":""},{"$f":"IF(ISNUMBER(FIND(\"MEDICARE\",A3281)),\"X\",\"\")","v":""},{"$f":"IF(ISNUMBER(FIND(\"BC/BS\",#REF!)),\"X\",\"\")","v":""}]
["SPACEMAKERS INC (SENTARA)",null,{"$f":"IF(ISNUMBER(FIND(\"MEDICAID\",A3282)),\"X\",\"\")","v":""},{"$f":"IF(ISNUMBER(FIND(\"MEDICARE\",A3282)),\"X\",\"\")","v":""},{"$f":"IF(ISNUMBER(FIND(\"BC/BS\",#REF!)),\"X\",\"\")","v":""}]
["SPARK M. MATSUNAGA VA MEDICAL CENTER",null,{"$f":"IF(ISNUMBER(FIND(\"MEDICAID\",A3283)),\"X\",\"\")","v":""},{"$f":"IF(ISNUMBER(FIND(\"MEDICARE\",A3283)),\"X\",\"\")","v":""},{"$f":"IF(ISNUMBER(FIND(\"BC/BS\",#REF!)),\"X\",\"\")","v":""}]
["SPEED MOTOR EXPRESS OF WESTERN NEW YORK INC (INDEPENDENT HEALTH)",null,{"$f":"IF(ISNUMBER(FIND(\"MEDICAID\",A3284)),\"X\",\"\")","v":""},{"$f":"IF(ISNUMBER(FIND(\"MEDICARE\",A3284)),\"X\",\"\")","v":""},{"$f":"IF(ISNUMBER(FIND(\"BC/BS\",#REF!)),\"X\",\"\")","v":""}]
["SPHN FOREIGN TPA","X",{"$f":"IF(ISNUMBER(FIND(\"MEDICAID\",A3285)),\"X\",\"\")","v":""},{"$f":"IF(ISNUMBER(FIND(\"MEDICARE\",A3285)),\"X\",\"\")","v":""},{"$f":"IF(ISNUMBER(FIND(\"BC/BS\",#REF!)),\"X\",\"\")","v":""}]
["SPNET","X",{"$f":"IF(ISNUMBER(FIND(\"MEDICAID\",A3286)),\"X\",\"\")","v":""},{"$f":"IF(ISNUMBER(FIND(\"MEDICARE\",A3286)),\"X\",\"\")","v":""},{"$f":"IF(ISNUMBER(FIND(\"BC/BS\",#REF!)),\"X\",\"\")","v":""}]
["SPOKANE TRIBE OF INDIANS (HEALTHCOMP)",null,{"$f":"IF(ISNUMBER(FIND(\"MEDICAID\",A3287)),\"X\",\"\")","v":""},{"$f":"IF(ISNUMBER(FIND(\"MEDICARE\",A3287)),\"X\",\"\")","v":""},{"$f":"IF(ISNUMBER(FIND(\"BC/BS\",#REF!)),\"X\",\"\")","v":""}]
["SPORTSMAN'S WAREHOUSE INC (AMERIBEN)",null,{"$f":"IF(ISNUMBER(FIND(\"MEDICAID\",A3288)),\"X\",\"\")","v":""},{"$f":"IF(ISNUMBER(FIND(\"MEDICARE\",A3288)),\"X\",\"\")","v":""},{"$f":"IF(ISNUMBER(FIND(\"BC/BS\",#REF!)),\"X\",\"\")","v":""}]
["SPRINGFIELD INC (GROUP & PENSION ADMIN)","X",{"$f":"IF(ISNUMBER(FIND(\"MEDICAID\",A3289)),\"X\",\"\")","v":""},{"$f":"IF(ISNUMBER(FIND(\"MEDICARE\",A3289)),\"X\",\"\")","v":""},{"$f":"IF(ISNUMBER(FIND(\"BC/BS\",#REF!)),\"X\",\"\")","v":""}]
["SPUNTECH INDUSTRIES INC (90 DEGREE BENEFITS NORTH CAROLINA - CORPORATE BENEFIT SERVICES)",null,{"$f":"IF(ISNUMBER(FIND(\"MEDICAID\",A3290)),\"X\",\"\")","v":""},{"$f":"IF(ISNUMBER(FIND(\"MEDICARE\",A3290)),\"X\",\"\")","v":""},{"$f":"IF(ISNUMBER(FIND(\"BC/BS\",#REF!)),\"X\",\"\")","v":""}]
["SS&C HEALTH","X",{"$f":"IF(ISNUMBER(FIND(\"MEDICAID\",A3291)),\"X\",\"\")","v":""},{"$f":"IF(ISNUMBER(FIND(\"MEDICARE\",A3291)),\"X\",\"\")","v":""},{"$f":"IF(ISNUMBER(FIND(\"BC/BS\",#REF!)),\"X\",\"\")","v":""}]
["ST. CLOUD VA MEDICAL CENTER","X",{"$f":"IF(ISNUMBER(FIND(\"MEDICAID\",A3292)),\"X\",\"\")","v":""},{"$f":"IF(ISNUMBER(FIND(\"MEDICARE\",A3292)),\"X\",\"\")","v":""},{"$f":"IF(ISNUMBER(FIND(\"BC/BS\",#REF!)),\"X\",\"\")","v":""}]
["ST. COLETTA'S OF CALIFORNIA (IAC LIFE)","X",{"$f":"IF(ISNUMBER(FIND(\"MEDICAID\",A3293)),\"X\",\"\")","v":""},{"$f":"IF(ISNUMBER(FIND(\"MEDICARE\",A3293)),\"X\",\"\")","v":""},{"$f":"IF(ISNUMBER(FIND(\"BC/BS\",#REF!)),\"X\",\"\")","v":""}]
["ST. HELENA - CLEARLAKE (ADVENTIST HEALTH SYSTEM WEST)","X",{"$f":"IF(ISNUMBER(FIND(\"MEDICAID\",A3294)),\"X\",\"\")","v":""},{"$f":"IF(ISNUMBER(FIND(\"MEDICARE\",A3294)),\"X\",\"\")","v":""},{"$f":"IF(ISNUMBER(FIND(\"BC/BS\",#REF!)),\"X\",\"\")","v":""}]
["ST. HELENA HOSPITAL (ADVENTIST HEALTH SYSTEM WEST)","X",{"$f":"IF(ISNUMBER(FIND(\"MEDICAID\",A3295)),\"X\",\"\")","v":""},{"$f":"IF(ISNUMBER(FIND(\"MEDICARE\",A3295)),\"X\",\"\")","v":""},{"$f":"IF(ISNUMBER(FIND(\"BC/BS\",#REF!)),\"X\",\"\")","v":""}]
["ST. LOUIS VA MEDICAL CENTER",null,{"$f":"IF(ISNUMBER(FIND(\"MEDICAID\",A3296)),\"X\",\"\")","v":""},{"$f":"IF(ISNUMBER(FIND(\"MEDICARE\",A3296)),\"X\",\"\")","v":""},{"$f":"IF(ISNUMBER(FIND(\"BC/BS\",#REF!)),\"X\",\"\")","v":""}]
["ST. LOUIS VA MEDICAL CENTER-JEFFERSON BARRACKS","X",{"$f":"IF(ISNUMBER(FIND(\"MEDICAID\",A3297)),\"X\",\"\")","v":""},{"$f":"IF(ISNUMBER(FIND(\"MEDICARE\",A3297)),\"X\",\"\")","v":""},{"$f":"IF(ISNUMBER(FIND(\"BC/BS\",#REF!)),\"X\",\"\")","v":""}]
["ST. LUKE'S (GEISINGER HEALTH PLAN)","X",{"$f":"IF(ISNUMBER(FIND(\"MEDICAID\",A3298)),\"X\",\"\")","v":""},{"$f":"IF(ISNUMBER(FIND(\"MEDICARE\",A3298)),\"X\",\"\")","v":""},{"$f":"IF(ISNUMBER(FIND(\"BC/BS\",#REF!)),\"X\",\"\")","v":""}]
["ST. MARYS HOME (SENTARA)","X",{"$f":"IF(ISNUMBER(FIND(\"MEDICAID\",A3299)),\"X\",\"\")","v":""},{"$f":"IF(ISNUMBER(FIND(\"MEDICARE\",A3299)),\"X\",\"\")","v":""},{"$f":"IF(ISNUMBER(FIND(\"BC/BS\",#REF!)),\"X\",\"\")","v":""}]
["ST. PETER'S HEALTH PARTNERS (CDPHP)","X",{"$f":"IF(ISNUMBER(FIND(\"MEDICAID\",A3300)),\"X\",\"\")","v":""},{"$f":"IF(ISNUMBER(FIND(\"MEDICARE\",A3300)),\"X\",\"\")","v":""},{"$f":"IF(ISNUMBER(FIND(\"BC/BS\",#REF!)),\"X\",\"\")","v":""}]
["ST. PETER'S HEALTHCARE (CDPHP)",null,{"$f":"IF(ISNUMBER(FIND(\"MEDICAID\",A3301)),\"X\",\"\")","v":""},{"$f":"IF(ISNUMBER(FIND(\"MEDICARE\",A3301)),\"X\",\"\")","v":""},{"$f":"IF(ISNUMBER(FIND(\"BC/BS\",#REF!)),\"X\",\"\")","v":""}]
["ST. ROSE HOSPITAL (DELTA HEALTH SYSTEMS)",null,{"$f":"IF(ISNUMBER(FIND(\"MEDICAID\",A3302)),\"X\",\"\")","v":""},{"$f":"IF(ISNUMBER(FIND(\"MEDICARE\",A3302)),\"X\",\"\")","v":""},{"$f":"IF(ISNUMBER(FIND(\"BC/BS\",#REF!)),\"X\",\"\")","v":""}]
["ST. VINCENT IPA","X",{"$f":"IF(ISNUMBER(FIND(\"MEDICAID\",A3303)),\"X\",\"\")","v":""},{"$f":"IF(ISNUMBER(FIND(\"MEDICARE\",A3303)),\"X\",\"\")","v":""},{"$f":"IF(ISNUMBER(FIND(\"BC/BS\",#REF!)),\"X\",\"\")","v":""}]
["STAFF BENEFIT MANAGEMENT & ADMINISTRATION","X",{"$f":"IF(ISNUMBER(FIND(\"MEDICAID\",A3304)),\"X\",\"\")","v":""},{"$f":"IF(ISNUMBER(FIND(\"MEDICARE\",A3304)),\"X\",\"\")","v":""},{"$f":"IF(ISNUMBER(FIND(\"BC/BS\",#REF!)),\"X\",\"\")","v":""}]
["STANDARD CALIBRATIONS (SENTARA)",null,{"$f":"IF(ISNUMBER(FIND(\"MEDICAID\",A3305)),\"X\",\"\")","v":""},{"$f":"IF(ISNUMBER(FIND(\"MEDICARE\",A3305)),\"X\",\"\")","v":""},{"$f":"IF(ISNUMBER(FIND(\"BC/BS\",#REF!)),\"X\",\"\")","v":""}]
["STANDARD INSURANCE COMPANY","X",{"$f":"IF(ISNUMBER(FIND(\"MEDICAID\",A3306)),\"X\",\"\")","v":""},{"$f":"IF(ISNUMBER(FIND(\"MEDICARE\",A3306)),\"X\",\"\")","v":""},{"$f":"IF(ISNUMBER(FIND(\"BC/BS\",#REF!)),\"X\",\"\")","v":""}]
["STANDARD LIFE AND ACCIDENT INSURANCE COMPANY","X",{"$f":"IF(ISNUMBER(FIND(\"MEDICAID\",A3307)),\"X\",\"\")","v":""},{"$f":"IF(ISNUMBER(FIND(\"MEDICARE\",A3307)),\"X\",\"\")","v":""},{"$f":"IF(ISNUMBER(FIND(\"BC/BS\",#REF!)),\"X\",\"\")","v":""}]
["STANDARD LIFE AND ACCIDENT INSURANCE COMPANY (ALLIED NATIONAL)","X",{"$f":"IF(ISNUMBER(FIND(\"MEDICAID\",A3308)),\"X\",\"\")","v":""},{"$f":"IF(ISNUMBER(FIND(\"MEDICARE\",A3308)),\"X\",\"\")","v":""},{"$f":"IF(ISNUMBER(FIND(\"BC/BS\",#REF!)),\"X\",\"\")","v":""}]
["STANDARD LIFE AND ACCIDENT INSURANCE COMPANY (AMERICAN NATIONAL INS CO)","X",{"$f":"IF(ISNUMBER(FIND(\"MEDICAID\",A3309)),\"X\",\"\")","v":""},{"$f":"IF(ISNUMBER(FIND(\"MEDICARE\",A3309)),\"X\",\"\")","v":""},{"$f":"IF(ISNUMBER(FIND(\"BC/BS\",#REF!)),\"X\",\"\")","v":""}]
["STANFORD HEALTHCARE ADVANTAGE (ESSENCE HEALTHCARE)","X",{"$f":"IF(ISNUMBER(FIND(\"MEDICAID\",A3310)),\"X\",\"\")","v":""},{"$f":"IF(ISNUMBER(FIND(\"MEDICARE\",A3310)),\"X\",\"\")","v":""},{"$f":"IF(ISNUMBER(FIND(\"BC/BS\",#REF!)),\"X\",\"\")","v":""}]
["STAR LOANS EBPT (90 DEGREE BENEFITS HOUSTON - ENTRUST)",null,{"$f":"IF(ISNUMBER(FIND(\"MEDICAID\",A3311)),\"X\",\"\")","v":""},{"$f":"IF(ISNUMBER(FIND(\"MEDICARE\",A3311)),\"X\",\"\")","v":""},{"$f":"IF(ISNUMBER(FIND(\"BC/BS\",#REF!)),\"X\",\"\")","v":""}]
["STARK HOLDINGS AMERICA INC (INDEPENDENT HEALTH)",null,{"$f":"IF(ISNUMBER(FIND(\"MEDICAID\",A3312)),\"X\",\"\")","v":""},{"$f":"IF(ISNUMBER(FIND(\"MEDICARE\",A3312)),\"X\",\"\")","v":""},{"$f":"IF(ISNUMBER(FIND(\"BC/BS\",#REF!)),\"X\",\"\")","v":""}]
["STAT INC (CORPORATE BENEFIT SERVICES)",null,{"$f":"IF(ISNUMBER(FIND(\"MEDICAID\",A3313)),\"X\",\"\")","v":""},{"$f":"IF(ISNUMBER(FIND(\"MEDICARE\",A3313)),\"X\",\"\")","v":""},{"$f":"IF(ISNUMBER(FIND(\"BC/BS\",#REF!)),\"X\",\"\")","v":""}]
["STATE EMPLOYEES CREDIT UNION ASO (PRESBYTERIAN HEALTH PLAN)","X",{"$f":"IF(ISNUMBER(FIND(\"MEDICAID\",A3314)),\"X\",\"\")","v":""},{"$f":"IF(ISNUMBER(FIND(\"MEDICARE\",A3314)),\"X\",\"\")","v":""},{"$f":"IF(ISNUMBER(FIND(\"BC/BS\",#REF!)),\"X\",\"\")","v":""}]
["STATE FARM MUTUAL (SF MUTUAL)","X",{"$f":"IF(ISNUMBER(FIND(\"MEDICAID\",A3315)),\"X\",\"\")","v":""},{"$f":"IF(ISNUMBER(FIND(\"MEDICARE\",A3315)),\"X\",\"\")","v":""},{"$f":"IF(ISNUMBER(FIND(\"BC/BS\",#REF!)),\"X\",\"\")","v":""},null,"X"]
["STATE HEALTH PLAN (BCBS OF NORTH CAROLINA)",null,{"$f":"IF(ISNUMBER(FIND(\"MEDICAID\",A3316)),\"X\",\"\")","v":""},{"$f":"IF(ISNUMBER(FIND(\"MEDICARE\",A3316)),\"X\",\"\")","v":""},"X"]
["STATE MUTUAL INSURANCE COMPANY (IAS ADMIN)","X",{"$f":"IF(ISNUMBER(FIND(\"MEDICAID\",A3317)),\"X\",\"\")","v":""},{"$f":"IF(ISNUMBER(FIND(\"MEDICARE\",A3317)),\"X\",\"\")","v":""},{"$f":"IF(ISNUMBER(FIND(\"BC/BS\",#REF!)),\"X\",\"\")","v":""}]
["STATE OF FLORIDA DEPARTMENT OF HEALTH (90 DEGREE BENEFITS LOUISIANA - IMA)",null,{"$f":"IF(ISNUMBER(FIND(\"MEDICAID\",A3318)),\"X\",\"\")","v":""},{"$f":"IF(ISNUMBER(FIND(\"MEDICARE\",A3318)),\"X\",\"\")","v":""},{"$f":"IF(ISNUMBER(FIND(\"BC/BS\",#REF!)),\"X\",\"\")","v":""}]
["STATE OF ILLINOIS (AMERIBEN)",null,{"$f":"IF(ISNUMBER(FIND(\"MEDICAID\",A3319)),\"X\",\"\")","v":""},{"$f":"IF(ISNUMBER(FIND(\"MEDICARE\",A3319)),\"X\",\"\")","v":""},{"$f":"IF(ISNUMBER(FIND(\"BC/BS\",#REF!)),\"X\",\"\")","v":""}]
["STATE OF ILLINOIS EMPLOYEES (HEALTHLINK HMO)","X",{"$f":"IF(ISNUMBER(FIND(\"MEDICAID\",A3320)),\"X\",\"\")","v":""},{"$f":"IF(ISNUMBER(FIND(\"MEDICARE\",A3320)),\"X\",\"\")","v":""},{"$f":"IF(ISNUMBER(FIND(\"BC/BS\",#REF!)),\"X\",\"\")","v":""}]
["STATE OF NEW MEXICO ASO (PRESBYTERIAN HEALTH PLAN)","X",{"$f":"IF(ISNUMBER(FIND(\"MEDICAID\",A3321)),\"X\",\"\")","v":""},{"$f":"IF(ISNUMBER(FIND(\"MEDICARE\",A3321)),\"X\",\"\")","v":""},{"$f":"IF(ISNUMBER(FIND(\"BC/BS\",#REF!)),\"X\",\"\")","v":""}]
["STATE OF OKLAHOMA DEPARTMENT OF CORRECTIONS (HEALTHCHOICE OF OKLAHOMA)","X",{"$f":"IF(ISNUMBER(FIND(\"MEDICAID\",A3322)),\"X\",\"\")","v":""},{"$f":"IF(ISNUMBER(FIND(\"MEDICARE\",A3322)),\"X\",\"\")","v":""},{"$f":"IF(ISNUMBER(FIND(\"BC/BS\",#REF!)),\"X\",\"\")","v":""}]
["STATE OF OKLAHOMA DEPARTMENT OF REHABILITATIVE SERVICES (HEALTHCHOICE OF OKLAHOMA)","X",{"$f":"IF(ISNUMBER(FIND(\"MEDICAID\",A3323)),\"X\",\"\")","v":""},{"$f":"IF(ISNUMBER(FIND(\"MEDICARE\",A3323)),\"X\",\"\")","v":""},{"$f":"IF(ISNUMBER(FIND(\"BC/BS\",#REF!)),\"X\",\"\")","v":""}]
["STEELVILLE MANUFACTURING (IPMG)","X",{"$f":"IF(ISNUMBER(FIND(\"MEDICAID\",A3324)),\"X\",\"\")","v":""},{"$f":"IF(ISNUMBER(FIND(\"MEDICARE\",A3324)),\"X\",\"\")","v":""},{"$f":"IF(ISNUMBER(FIND(\"BC/BS\",#REF!)),\"X\",\"\")","v":""}]
["STERLING INVESTORS LIFE INSURANCE COMPANY (ACTUARIAL MANAGEMENT RESOURCES)","X",{"$f":"IF(ISNUMBER(FIND(\"MEDICAID\",A3325)),\"X\",\"\")","v":""},{"$f":"IF(ISNUMBER(FIND(\"MEDICARE\",A3325)),\"X\",\"\")","v":""},{"$f":"IF(ISNUMBER(FIND(\"BC/BS\",#REF!)),\"X\",\"\")","v":""}]
["STEVE SHANNON TIRE (GEISINGER HEALTH PLAN)","X",{"$f":"IF(ISNUMBER(FIND(\"MEDICAID\",A3326)),\"X\",\"\")","v":""},{"$f":"IF(ISNUMBER(FIND(\"MEDICARE\",A3326)),\"X\",\"\")","v":""},{"$f":"IF(ISNUMBER(FIND(\"BC/BS\",#REF!)),\"X\",\"\")","v":""}]
["STEWART'S SHOPS (CDPHP)","X",{"$f":"IF(ISNUMBER(FIND(\"MEDICAID\",A3327)),\"X\",\"\")","v":""},{"$f":"IF(ISNUMBER(FIND(\"MEDICARE\",A3327)),\"X\",\"\")","v":""},{"$f":"IF(ISNUMBER(FIND(\"BC/BS\",#REF!)),\"X\",\"\")","v":""}]
["STIRLING BENEFITS","X",{"$f":"IF(ISNUMBER(FIND(\"MEDICAID\",A3328)),\"X\",\"\")","v":""},{"$f":"IF(ISNUMBER(FIND(\"MEDICARE\",A3328)),\"X\",\"\")","v":""},{"$f":"IF(ISNUMBER(FIND(\"BC/BS\",#REF!)),\"X\",\"\")","v":""}]
["STONE PLASTICS AND MANUFACTURING (ASR CORP)","X",{"$f":"IF(ISNUMBER(FIND(\"MEDICAID\",A3329)),\"X\",\"\")","v":""},{"$f":"IF(ISNUMBER(FIND(\"MEDICARE\",A3329)),\"X\",\"\")","v":""},{"$f":"IF(ISNUMBER(FIND(\"BC/BS\",#REF!)),\"X\",\"\")","v":""}]
["STUDENT RESOURCES (SPC) LTD (UHC)",null,{"$f":"IF(ISNUMBER(FIND(\"MEDICAID\",A3330)),\"X\",\"\")","v":""},{"$f":"IF(ISNUMBER(FIND(\"MEDICARE\",A3330)),\"X\",\"\")","v":""},{"$f":"IF(ISNUMBER(FIND(\"BC/BS\",#REF!)),\"X\",\"\")","v":""}]
["SUBSIDIUM EBPT (90 DEGREE BENEFITS HOUSTON - ENTRUST)",null,{"$f":"IF(ISNUMBER(FIND(\"MEDICAID\",A3331)),\"X\",\"\")","v":""},{"$f":"IF(ISNUMBER(FIND(\"MEDICARE\",A3331)),\"X\",\"\")","v":""},{"$f":"IF(ISNUMBER(FIND(\"BC/BS\",#REF!)),\"X\",\"\")","v":""}]
["SUMMA HEALTH NETWORK (SUMMACARE)","X",{"$f":"IF(ISNUMBER(FIND(\"MEDICAID\",A3332)),\"X\",\"\")","v":""},{"$f":"IF(ISNUMBER(FIND(\"MEDICARE\",A3332)),\"X\",\"\")","v":""},{"$f":"IF(ISNUMBER(FIND(\"BC/BS\",#REF!)),\"X\",\"\")","v":""}]
["SUMMIT ADMINISTRATION SERVICE","X",{"$f":"IF(ISNUMBER(FIND(\"MEDICAID\",A3333)),\"X\",\"\")","v":""},{"$f":"IF(ISNUMBER(FIND(\"MEDICARE\",A3333)),\"X\",\"\")","v":""},{"$f":"IF(ISNUMBER(FIND(\"BC/BS\",#REF!)),\"X\",\"\")","v":""}]
["SUMMIT ADMINISTRATORS INC","X",{"$f":"IF(ISNUMBER(FIND(\"MEDICAID\",A3334)),\"X\",\"\")","v":""},{"$f":"IF(ISNUMBER(FIND(\"MEDICARE\",A3334)),\"X\",\"\")","v":""},{"$f":"IF(ISNUMBER(FIND(\"BC/BS\",#REF!)),\"X\",\"\")","v":""}]
["SUMMIT COMMUNITY CARE","X",{"$f":"IF(ISNUMBER(FIND(\"MEDICAID\",A3335)),\"X\",\"\")","v":""},{"$f":"IF(ISNUMBER(FIND(\"MEDICARE\",A3335)),\"X\",\"\")","v":""},{"$f":"IF(ISNUMBER(FIND(\"BC/BS\",#REF!)),\"X\",\"\")","v":""}]
["SUMMIT HEALTH PLAN (MODA HEALTH)","X",{"$f":"IF(ISNUMBER(FIND(\"MEDICAID\",A3336)),\"X\",\"\")","v":""},{"$f":"IF(ISNUMBER(FIND(\"MEDICARE\",A3336)),\"X\",\"\")","v":""},{"$f":"IF(ISNUMBER(FIND(\"BC/BS\",#REF!)),\"X\",\"\")","v":""}]
["SUMMIT HOLDINGS","X",{"$f":"IF(ISNUMBER(FIND(\"MEDICAID\",A3337)),\"X\",\"\")","v":""},{"$f":"IF(ISNUMBER(FIND(\"MEDICARE\",A3337)),\"X\",\"\")","v":""},{"$f":"IF(ISNUMBER(FIND(\"BC/BS\",#REF!)),\"X\",\"\")","v":""}]
["SUMMIT STEEL EBPT (90 DEGREE BENEFITS HOUSTON - ENTRUST)",null,{"$f":"IF(ISNUMBER(FIND(\"MEDICAID\",A3338)),\"X\",\"\")","v":""},{"$f":"IF(ISNUMBER(FIND(\"MEDICARE\",A3338)),\"X\",\"\")","v":""},{"$f":"IF(ISNUMBER(FIND(\"BC/BS\",#REF!)),\"X\",\"\")","v":""}]
["SUN HOLDINGS EBPT (GROUP & PENSION ADMIN)","X",{"$f":"IF(ISNUMBER(FIND(\"MEDICAID\",A3339)),\"X\",\"\")","v":""},{"$f":"IF(ISNUMBER(FIND(\"MEDICARE\",A3339)),\"X\",\"\")","v":""},{"$f":"IF(ISNUMBER(FIND(\"BC/BS\",#REF!)),\"X\",\"\")","v":""}]
["SUN HOLDINGS INC (GROUP AND PENSION ADMIN)","X",{"$f":"IF(ISNUMBER(FIND(\"MEDICAID\",A3340)),\"X\",\"\")","v":""},{"$f":"IF(ISNUMBER(FIND(\"MEDICARE\",A3340)),\"X\",\"\")","v":""},{"$f":"IF(ISNUMBER(FIND(\"BC/BS\",#REF!)),\"X\",\"\")","v":""}]
["SUN PACIFIC SHIPPERS LP (HEALTHCOMP)",null,{"$f":"IF(ISNUMBER(FIND(\"MEDICAID\",A3341)),\"X\",\"\")","v":""},{"$f":"IF(ISNUMBER(FIND(\"MEDICARE\",A3341)),\"X\",\"\")","v":""},{"$f":"IF(ISNUMBER(FIND(\"BC/BS\",#REF!)),\"X\",\"\")","v":""}]
["SUNFLOWER STATE HEALTH PLAN","X",{"$f":"IF(ISNUMBER(FIND(\"MEDICAID\",A3342)),\"X\",\"\")","v":""},{"$f":"IF(ISNUMBER(FIND(\"MEDICARE\",A3342)),\"X\",\"\")","v":""},{"$f":"IF(ISNUMBER(FIND(\"BC/BS\",#REF!)),\"X\",\"\")","v":""}]
["SUNLIFE DENTAL","X",{"$f":"IF(ISNUMBER(FIND(\"MEDICAID\",A3343)),\"X\",\"\")","v":""},{"$f":"IF(ISNUMBER(FIND(\"MEDICARE\",A3343)),\"X\",\"\")","v":""},{"$f":"IF(ISNUMBER(FIND(\"BC/BS\",#REF!)),\"X\",\"\")","v":""}]
["SUN-MAID GROWERS OF CALIFORNIA (HEALTHCOMP)",null,{"$f":"IF(ISNUMBER(FIND(\"MEDICAID\",A3344)),\"X\",\"\")","v":""},{"$f":"IF(ISNUMBER(FIND(\"MEDICARE\",A3344)),\"X\",\"\")","v":""},{"$f":"IF(ISNUMBER(FIND(\"BC/BS\",#REF!)),\"X\",\"\")","v":""}]
["SUNMARK CREDIT UNION (MVP HEALTH CARE)","X",{"$f":"IF(ISNUMBER(FIND(\"MEDICAID\",A3345)),\"X\",\"\")","v":""},{"$f":"IF(ISNUMBER(FIND(\"MEDICARE\",A3345)),\"X\",\"\")","v":""},{"$f":"IF(ISNUMBER(FIND(\"BC/BS\",#REF!)),\"X\",\"\")","v":""}]
["SUNRISE COMMUNITY (MAESTRO HEALTH)","X",{"$f":"IF(ISNUMBER(FIND(\"MEDICAID\",A3346)),\"X\",\"\")","v":""},{"$f":"IF(ISNUMBER(FIND(\"MEDICARE\",A3346)),\"X\",\"\")","v":""},{"$f":"IF(ISNUMBER(FIND(\"BC/BS\",#REF!)),\"X\",\"\")","v":""}]
["SUNSHINE HEALTH MEDICARE ADVANTAGE","X",{"$f":"IF(ISNUMBER(FIND(\"MEDICAID\",A3347)),\"X\",\"\")","v":""},null,{"$f":"IF(ISNUMBER(FIND(\"BC/BS\",#REF!)),\"X\",\"\")","v":""}]
["SUNSHINE STATE AND TANGO HEALTHPLANS","X",{"$f":"IF(ISNUMBER(FIND(\"MEDICAID\",A3348)),\"X\",\"\")","v":""},{"$f":"IF(ISNUMBER(FIND(\"MEDICARE\",A3348)),\"X\",\"\")","v":""},{"$f":"IF(ISNUMBER(FIND(\"BC/BS\",#REF!)),\"X\",\"\")","v":""}]
["SUNSHINE STATE HEALTH PLAN","X",{"$f":"IF(ISNUMBER(FIND(\"MEDICAID\",A3349)),\"X\",\"\")","v":""},{"$f":"IF(ISNUMBER(FIND(\"MEDICARE\",A3349)),\"X\",\"\")","v":""},{"$f":"IF(ISNUMBER(FIND(\"BC/BS\",#REF!)),\"X\",\"\")","v":""}]
["SUPER STORE INDUSTRIES (HEALTHCOMP)",null,{"$f":"IF(ISNUMBER(FIND(\"MEDICAID\",A3350)),\"X\",\"\")","v":""},{"$f":"IF(ISNUMBER(FIND(\"MEDICARE\",A3350)),\"X\",\"\")","v":""},{"$f":"IF(ISNUMBER(FIND(\"BC/BS\",#REF!)),\"X\",\"\")","v":""}]
["SUPERIOR COURT OF CALIFORNIA - KERN COUNTY (HEALTHCOMP)",null,{"$f":"IF(ISNUMBER(FIND(\"MEDICAID\",A3351)),\"X\",\"\")","v":""},{"$f":"IF(ISNUMBER(FIND(\"MEDICARE\",A3351)),\"X\",\"\")","v":""},{"$f":"IF(ISNUMBER(FIND(\"BC/BS\",#REF!)),\"X\",\"\")","v":""}]
["SUPERIOR FARMS & AFFILIATES (HEALTHCOMP)",null,{"$f":"IF(ISNUMBER(FIND(\"MEDICAID\",A3352)),\"X\",\"\")","v":""},{"$f":"IF(ISNUMBER(FIND(\"MEDICARE\",A3352)),\"X\",\"\")","v":""},{"$f":"IF(ISNUMBER(FIND(\"BC/BS\",#REF!)),\"X\",\"\")","v":""}]
["SUPERIOR HEALTH MEDICARE ADVANTAGE","X",{"$f":"IF(ISNUMBER(FIND(\"MEDICAID\",A3353)),\"X\",\"\")","v":""},null,{"$f":"IF(ISNUMBER(FIND(\"BC/BS\",#REF!)),\"X\",\"\")","v":""}]
["SUPERIOR HEALTHPLAN","X",{"$f":"IF(ISNUMBER(FIND(\"MEDICAID\",A3354)),\"X\",\"\")","v":""},{"$f":"IF(ISNUMBER(FIND(\"MEDICARE\",A3354)),\"X\",\"\")","v":""},{"$f":"IF(ISNUMBER(FIND(\"BC/BS\",#REF!)),\"X\",\"\")","v":""}]
["SUPERIOR READY MIX CONCRETE LP (HEALTHCOMP)",null,{"$f":"IF(ISNUMBER(FIND(\"MEDICAID\",A3355)),\"X\",\"\")","v":""},{"$f":"IF(ISNUMBER(FIND(\"MEDICARE\",A3355)),\"X\",\"\")","v":""},{"$f":"IF(ISNUMBER(FIND(\"BC/BS\",#REF!)),\"X\",\"\")","v":""}]
["SUPERIOR TIRE & RUBBER (THE HEALTH PLAN)",null,{"$f":"IF(ISNUMBER(FIND(\"MEDICAID\",A3356)),\"X\",\"\")","v":""},{"$f":"IF(ISNUMBER(FIND(\"MEDICARE\",A3356)),\"X\",\"\")","v":""},{"$f":"IF(ISNUMBER(FIND(\"BC/BS\",#REF!)),\"X\",\"\")","v":""}]
["SUPERIOR VISION BENEFIT MANAGEMENT","X",{"$f":"IF(ISNUMBER(FIND(\"MEDICAID\",A3357)),\"X\",\"\")","v":""},{"$f":"IF(ISNUMBER(FIND(\"MEDICARE\",A3357)),\"X\",\"\")","v":""},{"$f":"IF(ISNUMBER(FIND(\"BC/BS\",#REF!)),\"X\",\"\")","v":""}]
["SUPERIOR VISION BY METLIFE","X",{"$f":"IF(ISNUMBER(FIND(\"MEDICAID\",A3358)),\"X\",\"\")","v":""},{"$f":"IF(ISNUMBER(FIND(\"MEDICARE\",A3358)),\"X\",\"\")","v":""},{"$f":"IF(ISNUMBER(FIND(\"BC/BS\",#REF!)),\"X\",\"\")","v":""}]
["SUPERIOR VISION INSURANCE INC","X",{"$f":"IF(ISNUMBER(FIND(\"MEDICAID\",A3359)),\"X\",\"\")","v":""},{"$f":"IF(ISNUMBER(FIND(\"MEDICARE\",A3359)),\"X\",\"\")","v":""},{"$f":"IF(ISNUMBER(FIND(\"BC/BS\",#REF!)),\"X\",\"\")","v":""}]
["SUPERIOR VISION SERVICES INC","X",{"$f":"IF(ISNUMBER(FIND(\"MEDICAID\",A3360)),\"X\",\"\")","v":""},{"$f":"IF(ISNUMBER(FIND(\"MEDICARE\",A3360)),\"X\",\"\")","v":""},{"$f":"IF(ISNUMBER(FIND(\"BC/BS\",#REF!)),\"X\",\"\")","v":""}]
["SUSQUEHANNA UNIVERSITY (GEISINGER HEALTH PLAN)","X",{"$f":"IF(ISNUMBER(FIND(\"MEDICAID\",A3361)),\"X\",\"\")","v":""},{"$f":"IF(ISNUMBER(FIND(\"MEDICARE\",A3361)),\"X\",\"\")","v":""},{"$f":"IF(ISNUMBER(FIND(\"BC/BS\",#REF!)),\"X\",\"\")","v":""}]
["SUTTER EAST BAY HOSPITAL (SUTTER EAST BAY MEDICAL FOUNDATION)","X",{"$f":"IF(ISNUMBER(FIND(\"MEDICAID\",A3362)),\"X\",\"\")","v":""},{"$f":"IF(ISNUMBER(FIND(\"MEDICARE\",A3362)),\"X\",\"\")","v":""},{"$f":"IF(ISNUMBER(FIND(\"BC/BS\",#REF!)),\"X\",\"\")","v":""}]
["SUTTER EAST BAY MEDICAL FOUNDATION",null,{"$f":"IF(ISNUMBER(FIND(\"MEDICAID\",A3363)),\"X\",\"\")","v":""},{"$f":"IF(ISNUMBER(FIND(\"MEDICARE\",A3363)),\"X\",\"\")","v":""},{"$f":"IF(ISNUMBER(FIND(\"BC/BS\",#REF!)),\"X\",\"\")","v":""}]
["SUTTER MEDICAL CENTERS OF SACRAMENT (SOLANO REGIONAL MEDICAL GROUP)","X",{"$f":"IF(ISNUMBER(FIND(\"MEDICAID\",A3364)),\"X\",\"\")","v":""},{"$f":"IF(ISNUMBER(FIND(\"MEDICARE\",A3364)),\"X\",\"\")","v":""},{"$f":"IF(ISNUMBER(FIND(\"BC/BS\",#REF!)),\"X\",\"\")","v":""}]
["SUTTER MEDICAL FOUNDATION - YOLO/SO (SOLANO REGIONAL MEDICAL GROUP)",null,{"$f":"IF(ISNUMBER(FIND(\"MEDICAID\",A3365)),\"X\",\"\")","v":""},{"$f":"IF(ISNUMBER(FIND(\"MEDICARE\",A3365)),\"X\",\"\")","v":""},{"$f":"IF(ISNUMBER(FIND(\"BC/BS\",#REF!)),\"X\",\"\")","v":""}]
["SUTTER PACIFIC MEDICAL FOUNDATION (SUTTER MEDICAL GROUP OF THE REDWOODS)",null,{"$f":"IF(ISNUMBER(FIND(\"MEDICAID\",A3366)),\"X\",\"\")","v":""},{"$f":"IF(ISNUMBER(FIND(\"MEDICARE\",A3366)),\"X\",\"\")","v":""},{"$f":"IF(ISNUMBER(FIND(\"BC/BS\",#REF!)),\"X\",\"\")","v":""}]
["SUTTER SANTA ROSA REGIONAL HOSPITAL (SUTTER MEDICAL GROUP OF THE REDWOODS)",null,{"$f":"IF(ISNUMBER(FIND(\"MEDICAID\",A3367)),\"X\",\"\")","v":""},{"$f":"IF(ISNUMBER(FIND(\"MEDICARE\",A3367)),\"X\",\"\")","v":""},{"$f":"IF(ISNUMBER(FIND(\"BC/BS\",#REF!)),\"X\",\"\")","v":""}]
["SYMETRA LIFE INSURANCE CO (BELLEVUE, WA)","X",{"$f":"IF(ISNUMBER(FIND(\"MEDICAID\",A3368)),\"X\",\"\")","v":""},{"$f":"IF(ISNUMBER(FIND(\"MEDICARE\",A3368)),\"X\",\"\")","v":""},{"$f":"IF(ISNUMBER(FIND(\"BC/BS\",#REF!)),\"X\",\"\")","v":""}]
["SYMETRA LIFE INSURANCE CO (GROUP & PENSION ADMIN)","X",{"$f":"IF(ISNUMBER(FIND(\"MEDICAID\",A3369)),\"X\",\"\")","v":""},{"$f":"IF(ISNUMBER(FIND(\"MEDICARE\",A3369)),\"X\",\"\")","v":""},{"$f":"IF(ISNUMBER(FIND(\"BC/BS\",#REF!)),\"X\",\"\")","v":""}]
["SYMETRA SELECT BENEFITS","X",{"$f":"IF(ISNUMBER(FIND(\"MEDICAID\",A3370)),\"X\",\"\")","v":""},{"$f":"IF(ISNUMBER(FIND(\"MEDICARE\",A3370)),\"X\",\"\")","v":""},{"$f":"IF(ISNUMBER(FIND(\"BC/BS\",#REF!)),\"X\",\"\")","v":""}]
["SYRACUSE VA MEDICAL CENTER","X",{"$f":"IF(ISNUMBER(FIND(\"MEDICAID\",A3371)),\"X\",\"\")","v":""},{"$f":"IF(ISNUMBER(FIND(\"MEDICARE\",A3371)),\"X\",\"\")","v":""},{"$f":"IF(ISNUMBER(FIND(\"BC/BS\",#REF!)),\"X\",\"\")","v":""}]
["SYSTEMS DESIGN WEST LLC (BENEFIT PLAN ADMINISTRATORS)",null,{"$f":"IF(ISNUMBER(FIND(\"MEDICAID\",A3372)),\"X\",\"\")","v":""},{"$f":"IF(ISNUMBER(FIND(\"MEDICARE\",A3372)),\"X\",\"\")","v":""},{"$f":"IF(ISNUMBER(FIND(\"BC/BS\",#REF!)),\"X\",\"\")","v":""}]
["TACHI PALACE HOTEL & CASINO (HEALTHCOMP)","X",{"$f":"IF(ISNUMBER(FIND(\"MEDICAID\",A3373)),\"X\",\"\")","v":""},{"$f":"IF(ISNUMBER(FIND(\"MEDICARE\",A3373)),\"X\",\"\")","v":""},{"$f":"IF(ISNUMBER(FIND(\"BC/BS\",#REF!)),\"X\",\"\")","v":""}]
["TAILWIND TECHNOLOGIES INC (THE HEALTH PLAN)",null,{"$f":"IF(ISNUMBER(FIND(\"MEDICAID\",A3374)),\"X\",\"\")","v":""},{"$f":"IF(ISNUMBER(FIND(\"MEDICARE\",A3374)),\"X\",\"\")","v":""},{"$f":"IF(ISNUMBER(FIND(\"BC/BS\",#REF!)),\"X\",\"\")","v":""}]
["TALL TREE ADMINISTRATORS","X",{"$f":"IF(ISNUMBER(FIND(\"MEDICAID\",A3375)),\"X\",\"\")","v":""},{"$f":"IF(ISNUMBER(FIND(\"MEDICARE\",A3375)),\"X\",\"\")","v":""},{"$f":"IF(ISNUMBER(FIND(\"BC/BS\",#REF!)),\"X\",\"\")","v":""}]
["TALLAHASSEE REGION PIP BRANCH (AUTO-OWNERS INSURANCE COMPANY)","X",{"$f":"IF(ISNUMBER(FIND(\"MEDICAID\",A3376)),\"X\",\"\")","v":""},{"$f":"IF(ISNUMBER(FIND(\"MEDICARE\",A3376)),\"X\",\"\")","v":""},{"$f":"IF(ISNUMBER(FIND(\"BC/BS\",#REF!)),\"X\",\"\")","v":""},null,"X"]
["TATA CONSULTANCY SERVICES LIMITED (CIGNA)",null,{"$f":"IF(ISNUMBER(FIND(\"MEDICAID\",A3377)),\"X\",\"\")","v":""},{"$f":"IF(ISNUMBER(FIND(\"MEDICARE\",A3377)),\"X\",\"\")","v":""},{"$f":"IF(ISNUMBER(FIND(\"BC/BS\",#REF!)),\"X\",\"\")","v":""}]
["TATE & LYLE (WEBTPA)","X",{"$f":"IF(ISNUMBER(FIND(\"MEDICAID\",A3378)),\"X\",\"\")","v":""},{"$f":"IF(ISNUMBER(FIND(\"MEDICARE\",A3378)),\"X\",\"\")","v":""},{"$f":"IF(ISNUMBER(FIND(\"BC/BS\",#REF!)),\"X\",\"\")","v":""}]
["TAYLOR BENEFIT RESOURCE","X",{"$f":"IF(ISNUMBER(FIND(\"MEDICAID\",A3379)),\"X\",\"\")","v":""},{"$f":"IF(ISNUMBER(FIND(\"MEDICARE\",A3379)),\"X\",\"\")","v":""},{"$f":"IF(ISNUMBER(FIND(\"BC/BS\",#REF!)),\"X\",\"\")","v":""}]
["TAZEWELL COUNTY (IPMG)","X",{"$f":"IF(ISNUMBER(FIND(\"MEDICAID\",A3380)),\"X\",\"\")","v":""},{"$f":"IF(ISNUMBER(FIND(\"MEDICARE\",A3380)),\"X\",\"\")","v":""},{"$f":"IF(ISNUMBER(FIND(\"BC/BS\",#REF!)),\"X\",\"\")","v":""}]
["TEACHERS RETIREMENT INSURANCE PROGRAM (HEALTHLINK HMO)","X",{"$f":"IF(ISNUMBER(FIND(\"MEDICAID\",A3381)),\"X\",\"\")","v":""},{"$f":"IF(ISNUMBER(FIND(\"MEDICARE\",A3381)),\"X\",\"\")","v":""},{"$f":"IF(ISNUMBER(FIND(\"BC/BS\",#REF!)),\"X\",\"\")","v":""}]
["TEAM RAHAL OF SILVER SPRING INC (GROUP & PENSION ADMIN)","X",{"$f":"IF(ISNUMBER(FIND(\"MEDICAID\",A3382)),\"X\",\"\")","v":""},{"$f":"IF(ISNUMBER(FIND(\"MEDICARE\",A3382)),\"X\",\"\")","v":""},{"$f":"IF(ISNUMBER(FIND(\"BC/BS\",#REF!)),\"X\",\"\")","v":""}]
["TEAMSTER RETIREE TRUST (DELTA HEALTH SYSTEM)",null,{"$f":"IF(ISNUMBER(FIND(\"MEDICAID\",A3383)),\"X\",\"\")","v":""},{"$f":"IF(ISNUMBER(FIND(\"MEDICARE\",A3383)),\"X\",\"\")","v":""},{"$f":"IF(ISNUMBER(FIND(\"BC/BS\",#REF!)),\"X\",\"\")","v":""}]
["TEAMSTERS LOCAL 445 CONSTRUCTION DIVISION WELFARE FUND (MVP HEALTH CARE)","X",{"$f":"IF(ISNUMBER(FIND(\"MEDICAID\",A3384)),\"X\",\"\")","v":""},{"$f":"IF(ISNUMBER(FIND(\"MEDICARE\",A3384)),\"X\",\"\")","v":""},{"$f":"IF(ISNUMBER(FIND(\"BC/BS\",#REF!)),\"X\",\"\")","v":""}]
["TEAMSTERS LOCAL 731","X",{"$f":"IF(ISNUMBER(FIND(\"MEDICAID\",A3385)),\"X\",\"\")","v":""},{"$f":"IF(ISNUMBER(FIND(\"MEDICARE\",A3385)),\"X\",\"\")","v":""},{"$f":"IF(ISNUMBER(FIND(\"BC/BS\",#REF!)),\"X\",\"\")","v":""}]
["TEAMSTERS MEDICARE TRUST FOR RETIRED EMPLOYEES","X",{"$f":"IF(ISNUMBER(FIND(\"MEDICAID\",A3386)),\"X\",\"\")","v":""},null,{"$f":"IF(ISNUMBER(FIND(\"BC/BS\",#REF!)),\"X\",\"\")","v":""}]
["TECHSERVE CONSULTING & TRAINING LTD (GROUP & PENSION ADMIN)","X",{"$f":"IF(ISNUMBER(FIND(\"MEDICAID\",A3387)),\"X\",\"\")","v":""},{"$f":"IF(ISNUMBER(FIND(\"MEDICARE\",A3387)),\"X\",\"\")","v":""},{"$f":"IF(ISNUMBER(FIND(\"BC/BS\",#REF!)),\"X\",\"\")","v":""}]
["TECK AMERICAN INC (AMERIBEN)",null,{"$f":"IF(ISNUMBER(FIND(\"MEDICAID\",A3388)),\"X\",\"\")","v":""},{"$f":"IF(ISNUMBER(FIND(\"MEDICARE\",A3388)),\"X\",\"\")","v":""},{"$f":"IF(ISNUMBER(FIND(\"BC/BS\",#REF!)),\"X\",\"\")","v":""}]
["TECOMET INC (MAESTRO HEALTH)","X",{"$f":"IF(ISNUMBER(FIND(\"MEDICAID\",A3389)),\"X\",\"\")","v":""},{"$f":"IF(ISNUMBER(FIND(\"MEDICARE\",A3389)),\"X\",\"\")","v":""},{"$f":"IF(ISNUMBER(FIND(\"BC/BS\",#REF!)),\"X\",\"\")","v":""}]
["TEJAS INDUSTRIES INC (GROUP & PENSION ADMIN)","X",{"$f":"IF(ISNUMBER(FIND(\"MEDICAID\",A3390)),\"X\",\"\")","v":""},{"$f":"IF(ISNUMBER(FIND(\"MEDICARE\",A3390)),\"X\",\"\")","v":""},{"$f":"IF(ISNUMBER(FIND(\"BC/BS\",#REF!)),\"X\",\"\")","v":""}]
["TEMPLE INC. EBP (90 DEGREE BENEFITS HOUSTON - ENTRUST)",null,{"$f":"IF(ISNUMBER(FIND(\"MEDICAID\",A3391)),\"X\",\"\")","v":""},{"$f":"IF(ISNUMBER(FIND(\"MEDICARE\",A3391)),\"X\",\"\")","v":""},{"$f":"IF(ISNUMBER(FIND(\"BC/BS\",#REF!)),\"X\",\"\")","v":""}]
["TENN CARE (OPTUMRX)",null,{"$f":"IF(ISNUMBER(FIND(\"MEDICAID\",A3392)),\"X\",\"\")","v":""},{"$f":"IF(ISNUMBER(FIND(\"MEDICARE\",A3392)),\"X\",\"\")","v":""},{"$f":"IF(ISNUMBER(FIND(\"BC/BS\",#REF!)),\"X\",\"\")","v":""}]
["TENNESSEE BUN COMPANY LLC (GROUP & PENSION ADMIN)","X",{"$f":"IF(ISNUMBER(FIND(\"MEDICAID\",A3393)),\"X\",\"\")","v":""},{"$f":"IF(ISNUMBER(FIND(\"MEDICARE\",A3393)),\"X\",\"\")","v":""},{"$f":"IF(ISNUMBER(FIND(\"BC/BS\",#REF!)),\"X\",\"\")","v":""}]
["TENNESSEE WC CLAIMS BRANCH (AUTO-OWNERS INSURANCE COMPANY)",null,{"$f":"IF(ISNUMBER(FIND(\"MEDICAID\",A3394)),\"X\",\"\")","v":""},{"$f":"IF(ISNUMBER(FIND(\"MEDICARE\",A3394)),\"X\",\"\")","v":""},{"$f":"IF(ISNUMBER(FIND(\"BC/BS\",#REF!)),\"X\",\"\")","v":""},"X"]
["TERSERA THERAPEUTICS","X",{"$f":"IF(ISNUMBER(FIND(\"MEDICAID\",A3395)),\"X\",\"\")","v":""},{"$f":"IF(ISNUMBER(FIND(\"MEDICARE\",A3395)),\"X\",\"\")","v":""},{"$f":"IF(ISNUMBER(FIND(\"BC/BS\",#REF!)),\"X\",\"\")","v":""}]
["TEXAS BRIDGE CREDIT UNION EBPT (90 DEGREE BENEFITS HOUSTON - ENTRUST)",null,{"$f":"IF(ISNUMBER(FIND(\"MEDICAID\",A3396)),\"X\",\"\")","v":""},{"$f":"IF(ISNUMBER(FIND(\"MEDICARE\",A3396)),\"X\",\"\")","v":""},{"$f":"IF(ISNUMBER(FIND(\"BC/BS\",#REF!)),\"X\",\"\")","v":""}]
["TEXAS CHILDREN'S HEALTH PLAN","X",{"$f":"IF(ISNUMBER(FIND(\"MEDICAID\",A3397)),\"X\",\"\")","v":""},{"$f":"IF(ISNUMBER(FIND(\"MEDICARE\",A3397)),\"X\",\"\")","v":""},{"$f":"IF(ISNUMBER(FIND(\"BC/BS\",#REF!)),\"X\",\"\")","v":""}]
["TEXAS DISPOSAL SYSTEMS INC (GROUP & PENSION ADMIN)","X",{"$f":"IF(ISNUMBER(FIND(\"MEDICAID\",A3398)),\"X\",\"\")","v":""},{"$f":"IF(ISNUMBER(FIND(\"MEDICARE\",A3398)),\"X\",\"\")","v":""},{"$f":"IF(ISNUMBER(FIND(\"BC/BS\",#REF!)),\"X\",\"\")","v":""}]
["TEXAS EXCAVATION SAFETY SYSTEM INC (GROUP & PENSION ADMIN)","X",{"$f":"IF(ISNUMBER(FIND(\"MEDICAID\",A3399)),\"X\",\"\")","v":""},{"$f":"IF(ISNUMBER(FIND(\"MEDICARE\",A3399)),\"X\",\"\")","v":""},{"$f":"IF(ISNUMBER(FIND(\"BC/BS\",#REF!)),\"X\",\"\")","v":""}]
["TEXAS TOOL EBPT (90 DEGREE BENEFITS HOUSTON - ENTRUST)",null,{"$f":"IF(ISNUMBER(FIND(\"MEDICAID\",A3400)),\"X\",\"\")","v":""},{"$f":"IF(ISNUMBER(FIND(\"MEDICARE\",A3400)),\"X\",\"\")","v":""},{"$f":"IF(ISNUMBER(FIND(\"BC/BS\",#REF!)),\"X\",\"\")","v":""}]
["TEX-TRUDE LP (GROUP & PENSION ADMIN)","X",{"$f":"IF(ISNUMBER(FIND(\"MEDICAID\",A3401)),\"X\",\"\")","v":""},{"$f":"IF(ISNUMBER(FIND(\"MEDICARE\",A3401)),\"X\",\"\")","v":""},{"$f":"IF(ISNUMBER(FIND(\"BC/BS\",#REF!)),\"X\",\"\")","v":""}]
["TFT GLOBAL EBP (90 DEGREE BENEFITS HOUSTON - ENTRUST)",null,{"$f":"IF(ISNUMBER(FIND(\"MEDICAID\",A3402)),\"X\",\"\")","v":""},{"$f":"IF(ISNUMBER(FIND(\"MEDICARE\",A3402)),\"X\",\"\")","v":""},{"$f":"IF(ISNUMBER(FIND(\"BC/BS\",#REF!)),\"X\",\"\")","v":""}]
["THE AC MARTIN GROUP (DELTA HEALTH SYSTEM)",null,{"$f":"IF(ISNUMBER(FIND(\"MEDICAID\",A3403)),\"X\",\"\")","v":""},{"$f":"IF(ISNUMBER(FIND(\"MEDICARE\",A3403)),\"X\",\"\")","v":""},{"$f":"IF(ISNUMBER(FIND(\"BC/BS\",#REF!)),\"X\",\"\")","v":""}]
["THE AMERICAN HOME LIFE INSURANCE COMPANY (AETNA SSI)","X",{"$f":"IF(ISNUMBER(FIND(\"MEDICAID\",A3404)),\"X\",\"\")","v":""},{"$f":"IF(ISNUMBER(FIND(\"MEDICARE\",A3404)),\"X\",\"\")","v":""},{"$f":"IF(ISNUMBER(FIND(\"BC/BS\",#REF!)),\"X\",\"\")","v":""}]
["THE ARC MID-HUDSON (MVP HEALTHCARE)","X",{"$f":"IF(ISNUMBER(FIND(\"MEDICAID\",A3405)),\"X\",\"\")","v":""},{"$f":"IF(ISNUMBER(FIND(\"MEDICARE\",A3405)),\"X\",\"\")","v":""},{"$f":"IF(ISNUMBER(FIND(\"BC/BS\",#REF!)),\"X\",\"\")","v":""}]
["THE ARC OF NORTHEASTERN PENNSYLVANIA (GEISINGER HEALTH PLAN)","X",{"$f":"IF(ISNUMBER(FIND(\"MEDICAID\",A3406)),\"X\",\"\")","v":""},{"$f":"IF(ISNUMBER(FIND(\"MEDICARE\",A3406)),\"X\",\"\")","v":""},{"$f":"IF(ISNUMBER(FIND(\"BC/BS\",#REF!)),\"X\",\"\")","v":""}]
["THE ASU GROUP","X",{"$f":"IF(ISNUMBER(FIND(\"MEDICAID\",A3407)),\"X\",\"\")","v":""},{"$f":"IF(ISNUMBER(FIND(\"MEDICARE\",A3407)),\"X\",\"\")","v":""},{"$f":"IF(ISNUMBER(FIND(\"BC/BS\",#REF!)),\"X\",\"\")","v":""}]
["THE BENEFIT GROUP",null,{"$f":"IF(ISNUMBER(FIND(\"MEDICAID\",A3408)),\"X\",\"\")","v":""},{"$f":"IF(ISNUMBER(FIND(\"MEDICARE\",A3408)),\"X\",\"\")","v":""},{"$f":"IF(ISNUMBER(FIND(\"BC/BS\",#REF!)),\"X\",\"\")","v":""}]
["THE CHASE GROUP (GROUP & PENSION ADMIN)","X",{"$f":"IF(ISNUMBER(FIND(\"MEDICAID\",A3409)),\"X\",\"\")","v":""},{"$f":"IF(ISNUMBER(FIND(\"MEDICARE\",A3409)),\"X\",\"\")","v":""},{"$f":"IF(ISNUMBER(FIND(\"BC/BS\",#REF!)),\"X\",\"\")","v":""}]
["THE CHRIST HOSPITAL (CONTIGO HEALTH)",null,{"$f":"IF(ISNUMBER(FIND(\"MEDICAID\",A3410)),\"X\",\"\")","v":""},{"$f":"IF(ISNUMBER(FIND(\"MEDICARE\",A3410)),\"X\",\"\")","v":""},{"$f":"IF(ISNUMBER(FIND(\"BC/BS\",#REF!)),\"X\",\"\")","v":""}]
["THE CHRISTIAN AND MISSIONARY ALLIANCE (HEALTHCOMP)","X",{"$f":"IF(ISNUMBER(FIND(\"MEDICAID\",A3411)),\"X\",\"\")","v":""},{"$f":"IF(ISNUMBER(FIND(\"MEDICARE\",A3411)),\"X\",\"\")","v":""},{"$f":"IF(ISNUMBER(FIND(\"BC/BS\",#REF!)),\"X\",\"\")","v":""}]
["THE CLASSICAL ACADEMY (HEALTHCOMP)",null,{"$f":"IF(ISNUMBER(FIND(\"MEDICAID\",A3412)),\"X\",\"\")","v":""},{"$f":"IF(ISNUMBER(FIND(\"MEDICARE\",A3412)),\"X\",\"\")","v":""},{"$f":"IF(ISNUMBER(FIND(\"BC/BS\",#REF!)),\"X\",\"\")","v":""}]
["THE CONTAINER STORE (GROUP & PENSION ADMIN)","X",{"$f":"IF(ISNUMBER(FIND(\"MEDICAID\",A3413)),\"X\",\"\")","v":""},{"$f":"IF(ISNUMBER(FIND(\"MEDICARE\",A3413)),\"X\",\"\")","v":""},{"$f":"IF(ISNUMBER(FIND(\"BC/BS\",#REF!)),\"X\",\"\")","v":""}]
["THE COUNTY OF SARATOGA (CDPHP)","X",{"$f":"IF(ISNUMBER(FIND(\"MEDICAID\",A3414)),\"X\",\"\")","v":""},{"$f":"IF(ISNUMBER(FIND(\"MEDICARE\",A3414)),\"X\",\"\")","v":""},{"$f":"IF(ISNUMBER(FIND(\"BC/BS\",#REF!)),\"X\",\"\")","v":""}]
["THE DAILY GAZETTE CO (CDPHP)","X",{"$f":"IF(ISNUMBER(FIND(\"MEDICAID\",A3415)),\"X\",\"\")","v":""},{"$f":"IF(ISNUMBER(FIND(\"MEDICARE\",A3415)),\"X\",\"\")","v":""},{"$f":"IF(ISNUMBER(FIND(\"BC/BS\",#REF!)),\"X\",\"\")","v":""}]
["THE FIRST NATIONAL BANK OF TOM BEAN (GROUP & PENSION ADMIN)",null,{"$f":"IF(ISNUMBER(FIND(\"MEDICAID\",A3416)),\"X\",\"\")","v":""},{"$f":"IF(ISNUMBER(FIND(\"MEDICARE\",A3416)),\"X\",\"\")","v":""},{"$f":"IF(ISNUMBER(FIND(\"BC/BS\",#REF!)),\"X\",\"\")","v":""}]
["THE FLIPPEN GROUP LLC (WEBTPA)",null,{"$f":"IF(ISNUMBER(FIND(\"MEDICAID\",A3417)),\"X\",\"\")","v":""},{"$f":"IF(ISNUMBER(FIND(\"MEDICARE\",A3417)),\"X\",\"\")","v":""},{"$f":"IF(ISNUMBER(FIND(\"BC/BS\",#REF!)),\"X\",\"\")","v":""}]
["THE FRIEDKIN GROUP INC (AMERIBEN)",null,{"$f":"IF(ISNUMBER(FIND(\"MEDICAID\",A3418)),\"X\",\"\")","v":""},{"$f":"IF(ISNUMBER(FIND(\"MEDICARE\",A3418)),\"X\",\"\")","v":""},{"$f":"IF(ISNUMBER(FIND(\"BC/BS\",#REF!)),\"X\",\"\")","v":""}]
["THE GREENBRIER HOTEL CORPORATION (THE HEALTH PLAN)",null,{"$f":"IF(ISNUMBER(FIND(\"MEDICAID\",A3419)),\"X\",\"\")","v":""},{"$f":"IF(ISNUMBER(FIND(\"MEDICARE\",A3419)),\"X\",\"\")","v":""},{"$f":"IF(ISNUMBER(FIND(\"BC/BS\",#REF!)),\"X\",\"\")","v":""}]
["THE GUARDIAN LIFE INSURANCE COMPANY OF AMERICA","X",{"$f":"IF(ISNUMBER(FIND(\"MEDICAID\",A3420)),\"X\",\"\")","v":""},{"$f":"IF(ISNUMBER(FIND(\"MEDICARE\",A3420)),\"X\",\"\")","v":""},{"$f":"IF(ISNUMBER(FIND(\"BC/BS\",#REF!)),\"X\",\"\")","v":""}]
["THE HAWTHORN GROUP (GROUP & PENSION ADMIN)","X",{"$f":"IF(ISNUMBER(FIND(\"MEDICAID\",A3421)),\"X\",\"\")","v":""},{"$f":"IF(ISNUMBER(FIND(\"MEDICARE\",A3421)),\"X\",\"\")","v":""},{"$f":"IF(ISNUMBER(FIND(\"BC/BS\",#REF!)),\"X\",\"\")","v":""}]
["THE HEALTH PLAN","X",{"$f":"IF(ISNUMBER(FIND(\"MEDICAID\",A3422)),\"X\",\"\")","v":""},{"$f":"IF(ISNUMBER(FIND(\"MEDICARE\",A3422)),\"X\",\"\")","v":""},{"$f":"IF(ISNUMBER(FIND(\"BC/BS\",#REF!)),\"X\",\"\")","v":""}]
["THE INSURANCE COMPANY OF THE STATE OF PENNSYLVANIA (AIG)","X",{"$f":"IF(ISNUMBER(FIND(\"MEDICAID\",A3423)),\"X\",\"\")","v":""},{"$f":"IF(ISNUMBER(FIND(\"MEDICARE\",A3423)),\"X\",\"\")","v":""},{"$f":"IF(ISNUMBER(FIND(\"BC/BS\",#REF!)),\"X\",\"\")","v":""},"X"]
["THE JAYNES COMPANIES (GROUP & PENSION ADMIN)","X",{"$f":"IF(ISNUMBER(FIND(\"MEDICAID\",A3424)),\"X\",\"\")","v":""},{"$f":"IF(ISNUMBER(FIND(\"MEDICARE\",A3424)),\"X\",\"\")","v":""},{"$f":"IF(ISNUMBER(FIND(\"BC/BS\",#REF!)),\"X\",\"\")","v":""}]
["THE KEMPTON GROUP","X",{"$f":"IF(ISNUMBER(FIND(\"MEDICAID\",A3425)),\"X\",\"\")","v":""},{"$f":"IF(ISNUMBER(FIND(\"MEDICARE\",A3425)),\"X\",\"\")","v":""},{"$f":"IF(ISNUMBER(FIND(\"BC/BS\",#REF!)),\"X\",\"\")","v":""}]
["THE LEWER AGENCY- HI TECH CONTRACT","X",{"$f":"IF(ISNUMBER(FIND(\"MEDICAID\",A3426)),\"X\",\"\")","v":""},{"$f":"IF(ISNUMBER(FIND(\"MEDICARE\",A3426)),\"X\",\"\")","v":""},{"$f":"IF(ISNUMBER(FIND(\"BC/BS\",#REF!)),\"X\",\"\")","v":""}]
["THE LINCOLN NATIONAL LIFE INSURANCE COMPANY","X",{"$f":"IF(ISNUMBER(FIND(\"MEDICAID\",A3427)),\"X\",\"\")","v":""},{"$f":"IF(ISNUMBER(FIND(\"MEDICARE\",A3427)),\"X\",\"\")","v":""},{"$f":"IF(ISNUMBER(FIND(\"BC/BS\",#REF!)),\"X\",\"\")","v":""}]
["THE LOOMIS COMPANY","X",{"$f":"IF(ISNUMBER(FIND(\"MEDICAID\",A3428)),\"X\",\"\")","v":""},{"$f":"IF(ISNUMBER(FIND(\"MEDICARE\",A3428)),\"X\",\"\")","v":""},{"$f":"IF(ISNUMBER(FIND(\"BC/BS\",#REF!)),\"X\",\"\")","v":""}]
["THE MATCO GROUP INC (MVP HEALTH CARE)","X",{"$f":"IF(ISNUMBER(FIND(\"MEDICAID\",A3429)),\"X\",\"\")","v":""},{"$f":"IF(ISNUMBER(FIND(\"MEDICARE\",A3429)),\"X\",\"\")","v":""},{"$f":"IF(ISNUMBER(FIND(\"BC/BS\",#REF!)),\"X\",\"\")","v":""}]
["THE MORNING STAR INSTITUTE (AMERIBEN)",null,{"$f":"IF(ISNUMBER(FIND(\"MEDICAID\",A3430)),\"X\",\"\")","v":""},{"$f":"IF(ISNUMBER(FIND(\"MEDICARE\",A3430)),\"X\",\"\")","v":""},{"$f":"IF(ISNUMBER(FIND(\"BC/BS\",#REF!)),\"X\",\"\")","v":""}]
["THE PEAK GROUP EBP (90 DEGREE BENEFITS HOUSTON - ENTRUST)",null,{"$f":"IF(ISNUMBER(FIND(\"MEDICAID\",A3431)),\"X\",\"\")","v":""},{"$f":"IF(ISNUMBER(FIND(\"MEDICARE\",A3431)),\"X\",\"\")","v":""},{"$f":"IF(ISNUMBER(FIND(\"BC/BS\",#REF!)),\"X\",\"\")","v":""}]
["THE RESOURCE CENTER (INDEPENDENT HEALTH)",null,{"$f":"IF(ISNUMBER(FIND(\"MEDICAID\",A3432)),\"X\",\"\")","v":""},{"$f":"IF(ISNUMBER(FIND(\"MEDICARE\",A3432)),\"X\",\"\")","v":""},{"$f":"IF(ISNUMBER(FIND(\"BC/BS\",#REF!)),\"X\",\"\")","v":""}]
["THE RESOURCE CENTER SOLUTIONS LLC (INDEPENDENT HEALTH)",null,{"$f":"IF(ISNUMBER(FIND(\"MEDICAID\",A3433)),\"X\",\"\")","v":""},{"$f":"IF(ISNUMBER(FIND(\"MEDICARE\",A3433)),\"X\",\"\")","v":""},{"$f":"IF(ISNUMBER(FIND(\"BC/BS\",#REF!)),\"X\",\"\")","v":""}]
["THE SAGE COLLEGES (CDPHP)","X",{"$f":"IF(ISNUMBER(FIND(\"MEDICAID\",A3434)),\"X\",\"\")","v":""},{"$f":"IF(ISNUMBER(FIND(\"MEDICARE\",A3434)),\"X\",\"\")","v":""},{"$f":"IF(ISNUMBER(FIND(\"BC/BS\",#REF!)),\"X\",\"\")","v":""}]
["THE SARATOGA HOSPITAL (CDPHP)","X",{"$f":"IF(ISNUMBER(FIND(\"MEDICAID\",A3435)),\"X\",\"\")","v":""},{"$f":"IF(ISNUMBER(FIND(\"MEDICARE\",A3435)),\"X\",\"\")","v":""},{"$f":"IF(ISNUMBER(FIND(\"BC/BS\",#REF!)),\"X\",\"\")","v":""}]
["THE STEPHENS GROUP LLC (MAA/HEALTHSMART)",null,{"$f":"IF(ISNUMBER(FIND(\"MEDICAID\",A3436)),\"X\",\"\")","v":""},{"$f":"IF(ISNUMBER(FIND(\"MEDICARE\",A3436)),\"X\",\"\")","v":""},{"$f":"IF(ISNUMBER(FIND(\"BC/BS\",#REF!)),\"X\",\"\")","v":""}]
["THE SUDDATH COMPANIES (HEALTHSCOPE BENEFITS)",null,{"$f":"IF(ISNUMBER(FIND(\"MEDICAID\",A3437)),\"X\",\"\")","v":""},{"$f":"IF(ISNUMBER(FIND(\"MEDICARE\",A3437)),\"X\",\"\")","v":""},{"$f":"IF(ISNUMBER(FIND(\"BC/BS\",#REF!)),\"X\",\"\")","v":""}]
["THE TIN BUCKET INC (BENEFIT PLAN ADMINISTRATORS)",null,{"$f":"IF(ISNUMBER(FIND(\"MEDICAID\",A3438)),\"X\",\"\")","v":""},{"$f":"IF(ISNUMBER(FIND(\"MEDICARE\",A3438)),\"X\",\"\")","v":""},{"$f":"IF(ISNUMBER(FIND(\"BC/BS\",#REF!)),\"X\",\"\")","v":""}]
["THE UNIVERSITY OF CHICAGO MEDICAL CENTER (BONCURA HEALTH SOLUTIONS)",null,{"$f":"IF(ISNUMBER(FIND(\"MEDICAID\",A3439)),\"X\",\"\")","v":""},{"$f":"IF(ISNUMBER(FIND(\"MEDICARE\",A3439)),\"X\",\"\")","v":""},{"$f":"IF(ISNUMBER(FIND(\"BC/BS\",#REF!)),\"X\",\"\")","v":""}]
["THE UNIVERSITY OF VERMONT MEDICAL CENTER (MVP HEALTH CARE)","X",{"$f":"IF(ISNUMBER(FIND(\"MEDICAID\",A3440)),\"X\",\"\")","v":""},{"$f":"IF(ISNUMBER(FIND(\"MEDICARE\",A3440)),\"X\",\"\")","v":""},{"$f":"IF(ISNUMBER(FIND(\"BC/BS\",#REF!)),\"X\",\"\")","v":""}]
["THE WONDERFUL COMPANY AG (HEALTHCOMP)","X",{"$f":"IF(ISNUMBER(FIND(\"MEDICAID\",A3441)),\"X\",\"\")","v":""},{"$f":"IF(ISNUMBER(FIND(\"MEDICARE\",A3441)),\"X\",\"\")","v":""},{"$f":"IF(ISNUMBER(FIND(\"BC/BS\",#REF!)),\"X\",\"\")","v":""}]
["THE WONDERFUL COMPANY NATIONAL (HEALTHCOMP)",null,{"$f":"IF(ISNUMBER(FIND(\"MEDICAID\",A3442)),\"X\",\"\")","v":""},{"$f":"IF(ISNUMBER(FIND(\"MEDICARE\",A3442)),\"X\",\"\")","v":""},{"$f":"IF(ISNUMBER(FIND(\"BC/BS\",#REF!)),\"X\",\"\")","v":""}]
["THERMO KING MIDWEST INC (GROUP & PENSION ADMIN)","X",{"$f":"IF(ISNUMBER(FIND(\"MEDICAID\",A3443)),\"X\",\"\")","v":""},{"$f":"IF(ISNUMBER(FIND(\"MEDICARE\",A3443)),\"X\",\"\")","v":""},{"$f":"IF(ISNUMBER(FIND(\"BC/BS\",#REF!)),\"X\",\"\")","v":""}]
["THERMON INC (GROUP & PENSION ADMIN)","X",{"$f":"IF(ISNUMBER(FIND(\"MEDICAID\",A3444)),\"X\",\"\")","v":""},{"$f":"IF(ISNUMBER(FIND(\"MEDICARE\",A3444)),\"X\",\"\")","v":""},{"$f":"IF(ISNUMBER(FIND(\"BC/BS\",#REF!)),\"X\",\"\")","v":""}]
["THOMAS INSTRUMENT EBPT (90 DEGREE BENEFITS HOUSTON - ENTRUST)",null,{"$f":"IF(ISNUMBER(FIND(\"MEDICAID\",A3445)),\"X\",\"\")","v":""},{"$f":"IF(ISNUMBER(FIND(\"MEDICARE\",A3445)),\"X\",\"\")","v":""},{"$f":"IF(ISNUMBER(FIND(\"BC/BS\",#REF!)),\"X\",\"\")","v":""}]
["THOMAS STEEL STRIP CORP (THE HEALTH PLAN)",null,{"$f":"IF(ISNUMBER(FIND(\"MEDICAID\",A3446)),\"X\",\"\")","v":""},{"$f":"IF(ISNUMBER(FIND(\"MEDICARE\",A3446)),\"X\",\"\")","v":""},{"$f":"IF(ISNUMBER(FIND(\"BC/BS\",#REF!)),\"X\",\"\")","v":""}]
["THOREK FAMILY HEALTH NETWORK (ARCADIA SOLUTIONS)","X",{"$f":"IF(ISNUMBER(FIND(\"MEDICAID\",A3447)),\"X\",\"\")","v":""},{"$f":"IF(ISNUMBER(FIND(\"MEDICARE\",A3447)),\"X\",\"\")","v":""},{"$f":"IF(ISNUMBER(FIND(\"BC/BS\",#REF!)),\"X\",\"\")","v":""}]
["THREE RIVERS BENEFIT","X",{"$f":"IF(ISNUMBER(FIND(\"MEDICAID\",A3448)),\"X\",\"\")","v":""},{"$f":"IF(ISNUMBER(FIND(\"MEDICARE\",A3448)),\"X\",\"\")","v":""},{"$f":"IF(ISNUMBER(FIND(\"BC/BS\",#REF!)),\"X\",\"\")","v":""}]
["THRIVENT FINANCIAL FOR LUTHERANS","X",{"$f":"IF(ISNUMBER(FIND(\"MEDICAID\",A3449)),\"X\",\"\")","v":""},{"$f":"IF(ISNUMBER(FIND(\"MEDICARE\",A3449)),\"X\",\"\")","v":""},{"$f":"IF(ISNUMBER(FIND(\"BC/BS\",#REF!)),\"X\",\"\")","v":""}]
["TIBBETTS LUMBER CO LLC (GROUP & PENSION ADMIN)",null,{"$f":"IF(ISNUMBER(FIND(\"MEDICAID\",A3450)),\"X\",\"\")","v":""},{"$f":"IF(ISNUMBER(FIND(\"MEDICARE\",A3450)),\"X\",\"\")","v":""},{"$f":"IF(ISNUMBER(FIND(\"BC/BS\",#REF!)),\"X\",\"\")","v":""}]
["TIDEWATER AREA CENTRAL HO (SENTARA)","X",{"$f":"IF(ISNUMBER(FIND(\"MEDICAID\",A3451)),\"X\",\"\")","v":""},{"$f":"IF(ISNUMBER(FIND(\"MEDICARE\",A3451)),\"X\",\"\")","v":""},{"$f":"IF(ISNUMBER(FIND(\"BC/BS\",#REF!)),\"X\",\"\")","v":""}]
["TIDEWATER COMMERCIAL CEIL (SENTARA)","X",{"$f":"IF(ISNUMBER(FIND(\"MEDICAID\",A3452)),\"X\",\"\")","v":""},{"$f":"IF(ISNUMBER(FIND(\"MEDICARE\",A3452)),\"X\",\"\")","v":""},{"$f":"IF(ISNUMBER(FIND(\"BC/BS\",#REF!)),\"X\",\"\")","v":""}]
["TIDEWATER EMER MED CARE (SENTARA)","X",{"$f":"IF(ISNUMBER(FIND(\"MEDICAID\",A3453)),\"X\",\"\")","v":""},{"$f":"IF(ISNUMBER(FIND(\"MEDICARE\",A3453)),\"X\",\"\")","v":""},{"$f":"IF(ISNUMBER(FIND(\"BC/BS\",#REF!)),\"X\",\"\")","v":""}]
["TIDEWATER FLEET SUPPLY LLC (GROUP & PENSION ADMIN)","X",{"$f":"IF(ISNUMBER(FIND(\"MEDICAID\",A3454)),\"X\",\"\")","v":""},{"$f":"IF(ISNUMBER(FIND(\"MEDICARE\",A3454)),\"X\",\"\")","v":""},{"$f":"IF(ISNUMBER(FIND(\"BC/BS\",#REF!)),\"X\",\"\")","v":""}]
["TIDEWATER PHYSICIANS MULTISPECIALTY GROUP (SENTARA)","X",{"$f":"IF(ISNUMBER(FIND(\"MEDICAID\",A3455)),\"X\",\"\")","v":""},{"$f":"IF(ISNUMBER(FIND(\"MEDICARE\",A3455)),\"X\",\"\")","v":""},{"$f":"IF(ISNUMBER(FIND(\"BC/BS\",#REF!)),\"X\",\"\")","v":""}]
["TILLAMOOK REGIONAL MEDICAL CENTER (ADVENTIST HEALTH SYSTEM WEST)","X",{"$f":"IF(ISNUMBER(FIND(\"MEDICAID\",A3456)),\"X\",\"\")","v":""},{"$f":"IF(ISNUMBER(FIND(\"MEDICARE\",A3456)),\"X\",\"\")","v":""},{"$f":"IF(ISNUMBER(FIND(\"BC/BS\",#REF!)),\"X\",\"\")","v":""}]
["TJS DEEMER DANA LLP (MAESTRO HEALTH)",null,{"$f":"IF(ISNUMBER(FIND(\"MEDICAID\",A3457)),\"X\",\"\")","v":""},{"$f":"IF(ISNUMBER(FIND(\"MEDICARE\",A3457)),\"X\",\"\")","v":""},{"$f":"IF(ISNUMBER(FIND(\"BC/BS\",#REF!)),\"X\",\"\")","v":""}]
["TKO MEDICAL (HEALTHCOMP)",null,{"$f":"IF(ISNUMBER(FIND(\"MEDICAID\",A3458)),\"X\",\"\")","v":""},{"$f":"IF(ISNUMBER(FIND(\"MEDICARE\",A3458)),\"X\",\"\")","v":""},{"$f":"IF(ISNUMBER(FIND(\"BC/BS\",#REF!)),\"X\",\"\")","v":""}]
["TLC BENEFIT SOLUTIONS","X",{"$f":"IF(ISNUMBER(FIND(\"MEDICAID\",A3459)),\"X\",\"\")","v":""},{"$f":"IF(ISNUMBER(FIND(\"MEDICARE\",A3459)),\"X\",\"\")","v":""},{"$f":"IF(ISNUMBER(FIND(\"BC/BS\",#REF!)),\"X\",\"\")","v":""}]
["TLC PLUMBING AND UTILITY (GROUP & PENSION ADMIN)","X",{"$f":"IF(ISNUMBER(FIND(\"MEDICAID\",A3460)),\"X\",\"\")","v":""},{"$f":"IF(ISNUMBER(FIND(\"MEDICARE\",A3460)),\"X\",\"\")","v":""},{"$f":"IF(ISNUMBER(FIND(\"BC/BS\",#REF!)),\"X\",\"\")","v":""}]
["TMESYS",null,{"$f":"IF(ISNUMBER(FIND(\"MEDICAID\",A3461)),\"X\",\"\")","v":""},{"$f":"IF(ISNUMBER(FIND(\"MEDICARE\",A3461)),\"X\",\"\")","v":""},{"$f":"IF(ISNUMBER(FIND(\"BC/BS\",#REF!)),\"X\",\"\")","v":""}]
["TML HEALTH","X",{"$f":"IF(ISNUMBER(FIND(\"MEDICAID\",A3462)),\"X\",\"\")","v":""},{"$f":"IF(ISNUMBER(FIND(\"MEDICARE\",A3462)),\"X\",\"\")","v":""},{"$f":"IF(ISNUMBER(FIND(\"BC/BS\",#REF!)),\"X\",\"\")","v":""}]
["TOKIO MARINE HCC","X",{"$f":"IF(ISNUMBER(FIND(\"MEDICAID\",A3463)),\"X\",\"\")","v":""},{"$f":"IF(ISNUMBER(FIND(\"MEDICARE\",A3463)),\"X\",\"\")","v":""},{"$f":"IF(ISNUMBER(FIND(\"BC/BS\",#REF!)),\"X\",\"\")","v":""}]
["TOMMY GARNER INC (SENTARA)","X",{"$f":"IF(ISNUMBER(FIND(\"MEDICAID\",A3464)),\"X\",\"\")","v":""},{"$f":"IF(ISNUMBER(FIND(\"MEDICARE\",A3464)),\"X\",\"\")","v":""},{"$f":"IF(ISNUMBER(FIND(\"BC/BS\",#REF!)),\"X\",\"\")","v":""}]
["TOOLING AND EQUIPMENT INTERNATIONAL- PROVIDER (APOSTROPHE)","X",{"$f":"IF(ISNUMBER(FIND(\"MEDICAID\",A3465)),\"X\",\"\")","v":""},{"$f":"IF(ISNUMBER(FIND(\"MEDICARE\",A3465)),\"X\",\"\")","v":""},{"$f":"IF(ISNUMBER(FIND(\"BC/BS\",#REF!)),\"X\",\"\")","v":""}]
["TOP COAT EBPT (90 DEGREE BENEFITS HOUSTON - ENTRUST)",null,{"$f":"IF(ISNUMBER(FIND(\"MEDICAID\",A3466)),\"X\",\"\")","v":""},{"$f":"IF(ISNUMBER(FIND(\"MEDICARE\",A3466)),\"X\",\"\")","v":""},{"$f":"IF(ISNUMBER(FIND(\"BC/BS\",#REF!)),\"X\",\"\")","v":""}]
["TOPCON AMERICA CORPORATION (HEALTHCOMP)",null,{"$f":"IF(ISNUMBER(FIND(\"MEDICAID\",A3467)),\"X\",\"\")","v":""},{"$f":"IF(ISNUMBER(FIND(\"MEDICARE\",A3467)),\"X\",\"\")","v":""},{"$f":"IF(ISNUMBER(FIND(\"BC/BS\",#REF!)),\"X\",\"\")","v":""}]
["TOPS MARKETS LLC (INDEPENDENT HEALTH)",null,{"$f":"IF(ISNUMBER(FIND(\"MEDICAID\",A3468)),\"X\",\"\")","v":""},{"$f":"IF(ISNUMBER(FIND(\"MEDICARE\",A3468)),\"X\",\"\")","v":""},{"$f":"IF(ISNUMBER(FIND(\"BC/BS\",#REF!)),\"X\",\"\")","v":""}]
["TOSH INC (MBA ADMINISTRATORS)",null,{"$f":"IF(ISNUMBER(FIND(\"MEDICAID\",A3469)),\"X\",\"\")","v":""},{"$f":"IF(ISNUMBER(FIND(\"MEDICARE\",A3469)),\"X\",\"\")","v":""},{"$f":"IF(ISNUMBER(FIND(\"BC/BS\",#REF!)),\"X\",\"\")","v":""}]
["TOTAL HEALTH CARE","X",{"$f":"IF(ISNUMBER(FIND(\"MEDICAID\",A3470)),\"X\",\"\")","v":""},{"$f":"IF(ISNUMBER(FIND(\"MEDICARE\",A3470)),\"X\",\"\")","v":""},{"$f":"IF(ISNUMBER(FIND(\"BC/BS\",#REF!)),\"X\",\"\")","v":""}]
["TOTAL HEALTH PLAN INC","X",{"$f":"IF(ISNUMBER(FIND(\"MEDICAID\",A3471)),\"X\",\"\")","v":""},{"$f":"IF(ISNUMBER(FIND(\"MEDICARE\",A3471)),\"X\",\"\")","v":""},{"$f":"IF(ISNUMBER(FIND(\"BC/BS\",#REF!)),\"X\",\"\")","v":""}]
["TOTAL PLAN CONCEPTS","X",{"$f":"IF(ISNUMBER(FIND(\"MEDICAID\",A3472)),\"X\",\"\")","v":""},{"$f":"IF(ISNUMBER(FIND(\"MEDICARE\",A3472)),\"X\",\"\")","v":""},{"$f":"IF(ISNUMBER(FIND(\"BC/BS\",#REF!)),\"X\",\"\")","v":""}]
["TOTAL PLAN SERVICES INC","X",{"$f":"IF(ISNUMBER(FIND(\"MEDICAID\",A3473)),\"X\",\"\")","v":""},{"$f":"IF(ISNUMBER(FIND(\"MEDICARE\",A3473)),\"X\",\"\")","v":""},{"$f":"IF(ISNUMBER(FIND(\"BC/BS\",#REF!)),\"X\",\"\")","v":""}]
["TOWER INDUSTRIES INC (THE HEALTH PLAN)",null,{"$f":"IF(ISNUMBER(FIND(\"MEDICAID\",A3474)),\"X\",\"\")","v":""},{"$f":"IF(ISNUMBER(FIND(\"MEDICARE\",A3474)),\"X\",\"\")","v":""},{"$f":"IF(ISNUMBER(FIND(\"BC/BS\",#REF!)),\"X\",\"\")","v":""}]
["TOWN & COUNTRY BANK (IPMG)","X",{"$f":"IF(ISNUMBER(FIND(\"MEDICAID\",A3475)),\"X\",\"\")","v":""},{"$f":"IF(ISNUMBER(FIND(\"MEDICARE\",A3475)),\"X\",\"\")","v":""},{"$f":"IF(ISNUMBER(FIND(\"BC/BS\",#REF!)),\"X\",\"\")","v":""}]
["TOWN OF AMHERST (INDEPENDENT HEALTH)",null,{"$f":"IF(ISNUMBER(FIND(\"MEDICAID\",A3476)),\"X\",\"\")","v":""},{"$f":"IF(ISNUMBER(FIND(\"MEDICARE\",A3476)),\"X\",\"\")","v":""},{"$f":"IF(ISNUMBER(FIND(\"BC/BS\",#REF!)),\"X\",\"\")","v":""}]
["TOWN OF LANCASTER NEW YORK (INDEPENDENT HEALTH)",null,{"$f":"IF(ISNUMBER(FIND(\"MEDICAID\",A3477)),\"X\",\"\")","v":""},{"$f":"IF(ISNUMBER(FIND(\"MEDICARE\",A3477)),\"X\",\"\")","v":""},{"$f":"IF(ISNUMBER(FIND(\"BC/BS\",#REF!)),\"X\",\"\")","v":""}]
["TOWN OF SMITHFIELD (SENTARA)","X",{"$f":"IF(ISNUMBER(FIND(\"MEDICAID\",A3478)),\"X\",\"\")","v":""},{"$f":"IF(ISNUMBER(FIND(\"MEDICARE\",A3478)),\"X\",\"\")","v":""},{"$f":"IF(ISNUMBER(FIND(\"BC/BS\",#REF!)),\"X\",\"\")","v":""}]
["TOWNES TELECOMMUNICATIONS INC (GROUP & PENSION ADMIN)","X",{"$f":"IF(ISNUMBER(FIND(\"MEDICAID\",A3479)),\"X\",\"\")","v":""},{"$f":"IF(ISNUMBER(FIND(\"MEDICARE\",A3479)),\"X\",\"\")","v":""},{"$f":"IF(ISNUMBER(FIND(\"BC/BS\",#REF!)),\"X\",\"\")","v":""}]
["TPSC BENEFITS","X",{"$f":"IF(ISNUMBER(FIND(\"MEDICAID\",A3480)),\"X\",\"\")","v":""},{"$f":"IF(ISNUMBER(FIND(\"MEDICARE\",A3480)),\"X\",\"\")","v":""},{"$f":"IF(ISNUMBER(FIND(\"BC/BS\",#REF!)),\"X\",\"\")","v":""}]
["TRACTOR TRAILER SUPPLY (IPMG)","X",{"$f":"IF(ISNUMBER(FIND(\"MEDICAID\",A3481)),\"X\",\"\")","v":""},{"$f":"IF(ISNUMBER(FIND(\"MEDICARE\",A3481)),\"X\",\"\")","v":""},{"$f":"IF(ISNUMBER(FIND(\"BC/BS\",#REF!)),\"X\",\"\")","v":""}]
["TRADEBE ENVIRONMENTAL SERVICES INC (THE HEALTH PLAN)",null,{"$f":"IF(ISNUMBER(FIND(\"MEDICAID\",A3482)),\"X\",\"\")","v":""},{"$f":"IF(ISNUMBER(FIND(\"MEDICARE\",A3482)),\"X\",\"\")","v":""},{"$f":"IF(ISNUMBER(FIND(\"BC/BS\",#REF!)),\"X\",\"\")","v":""}]
["TRANSAMERICA FINANCIAL LIFE INSURANCE COMPANY","X",{"$f":"IF(ISNUMBER(FIND(\"MEDICAID\",A3483)),\"X\",\"\")","v":""},{"$f":"IF(ISNUMBER(FIND(\"MEDICARE\",A3483)),\"X\",\"\")","v":""},{"$f":"IF(ISNUMBER(FIND(\"BC/BS\",#REF!)),\"X\",\"\")","v":""}]
["TRANSAMERICA LIFE INSURANCE COMPANY","X",{"$f":"IF(ISNUMBER(FIND(\"MEDICAID\",A3484)),\"X\",\"\")","v":""},{"$f":"IF(ISNUMBER(FIND(\"MEDICARE\",A3484)),\"X\",\"\")","v":""},{"$f":"IF(ISNUMBER(FIND(\"BC/BS\",#REF!)),\"X\",\"\")","v":""}]
["TRANSITIONS GROUP LLC (GROUP & PENSION ADMIN)","X",{"$f":"IF(ISNUMBER(FIND(\"MEDICAID\",A3485)),\"X\",\"\")","v":""},{"$f":"IF(ISNUMBER(FIND(\"MEDICARE\",A3485)),\"X\",\"\")","v":""},{"$f":"IF(ISNUMBER(FIND(\"BC/BS\",#REF!)),\"X\",\"\")","v":""}]
["TRANSITIONS HOSPICE LLC (GROUP & PENSION ADMIN)","X",{"$f":"IF(ISNUMBER(FIND(\"MEDICAID\",A3486)),\"X\",\"\")","v":""},{"$f":"IF(ISNUMBER(FIND(\"MEDICARE\",A3486)),\"X\",\"\")","v":""},{"$f":"IF(ISNUMBER(FIND(\"BC/BS\",#REF!)),\"X\",\"\")","v":""}]
["TRAVAINI PUMPS USA INC (SENTARA)","X",{"$f":"IF(ISNUMBER(FIND(\"MEDICAID\",A3487)),\"X\",\"\")","v":""},{"$f":"IF(ISNUMBER(FIND(\"MEDICARE\",A3487)),\"X\",\"\")","v":""},{"$f":"IF(ISNUMBER(FIND(\"BC/BS\",#REF!)),\"X\",\"\")","v":""}]
["TREASURER MIAMI COUNTY (GROUP & PENSION ADMIN)","X",{"$f":"IF(ISNUMBER(FIND(\"MEDICAID\",A3488)),\"X\",\"\")","v":""},{"$f":"IF(ISNUMBER(FIND(\"MEDICARE\",A3488)),\"X\",\"\")","v":""},{"$f":"IF(ISNUMBER(FIND(\"BC/BS\",#REF!)),\"X\",\"\")","v":""}]
["TRICARE EAST","X",{"$f":"IF(ISNUMBER(FIND(\"MEDICAID\",A3489)),\"X\",\"\")","v":""},{"$f":"IF(ISNUMBER(FIND(\"MEDICARE\",A3489)),\"X\",\"\")","v":""},{"$f":"IF(ISNUMBER(FIND(\"BC/BS\",#REF!)),\"X\",\"\")","v":""}]
["TRICARE OVERSEAS","X",{"$f":"IF(ISNUMBER(FIND(\"MEDICAID\",A3490)),\"X\",\"\")","v":""},{"$f":"IF(ISNUMBER(FIND(\"MEDICARE\",A3490)),\"X\",\"\")","v":""},{"$f":"IF(ISNUMBER(FIND(\"BC/BS\",#REF!)),\"X\",\"\")","v":""}]
["TRICARE TDEFIC - TRICARE FOR LIFE","X",{"$f":"IF(ISNUMBER(FIND(\"MEDICAID\",A3491)),\"X\",\"\")","v":""},{"$f":"IF(ISNUMBER(FIND(\"MEDICARE\",A3491)),\"X\",\"\")","v":""},{"$f":"IF(ISNUMBER(FIND(\"BC/BS\",#REF!)),\"X\",\"\")","v":""}]
["TRI-COUNTY SCHOOLS INSURANCE GROUP (DELTA HEALTH SYSTEMS)",null,{"$f":"IF(ISNUMBER(FIND(\"MEDICAID\",A3492)),\"X\",\"\")","v":""},{"$f":"IF(ISNUMBER(FIND(\"MEDICARE\",A3492)),\"X\",\"\")","v":""},{"$f":"IF(ISNUMBER(FIND(\"BC/BS\",#REF!)),\"X\",\"\")","v":""}]
["TRI-COUNTY SCHOOLS INSURANCE GROUP (HEALTHCOMP)","X",{"$f":"IF(ISNUMBER(FIND(\"MEDICAID\",A3493)),\"X\",\"\")","v":""},{"$f":"IF(ISNUMBER(FIND(\"MEDICARE\",A3493)),\"X\",\"\")","v":""},{"$f":"IF(ISNUMBER(FIND(\"BC/BS\",#REF!)),\"X\",\"\")","v":""}]
["TRI-COUNTY WAREHOUSE AND MILL EBPT (90 DEGREE BENEFITS HOUSTON - ENTRUST)",null,{"$f":"IF(ISNUMBER(FIND(\"MEDICAID\",A3494)),\"X\",\"\")","v":""},{"$f":"IF(ISNUMBER(FIND(\"MEDICARE\",A3494)),\"X\",\"\")","v":""},{"$f":"IF(ISNUMBER(FIND(\"BC/BS\",#REF!)),\"X\",\"\")","v":""}]
["TRILLIUM COMMUNITY HEALTH PLAN","X",{"$f":"IF(ISNUMBER(FIND(\"MEDICAID\",A3495)),\"X\",\"\")","v":""},{"$f":"IF(ISNUMBER(FIND(\"MEDICARE\",A3495)),\"X\",\"\")","v":""},{"$f":"IF(ISNUMBER(FIND(\"BC/BS\",#REF!)),\"X\",\"\")","v":""}]
["TRIMACO (MAESTRO HEALTH)",null,{"$f":"IF(ISNUMBER(FIND(\"MEDICAID\",A3496)),\"X\",\"\")","v":""},{"$f":"IF(ISNUMBER(FIND(\"MEDICARE\",A3496)),\"X\",\"\")","v":""},{"$f":"IF(ISNUMBER(FIND(\"BC/BS\",#REF!)),\"X\",\"\")","v":""}]
["TRINCHERO FAMILY ESTATES (HEALTHCOMP)",null,{"$f":"IF(ISNUMBER(FIND(\"MEDICAID\",A3497)),\"X\",\"\")","v":""},{"$f":"IF(ISNUMBER(FIND(\"MEDICARE\",A3497)),\"X\",\"\")","v":""},{"$f":"IF(ISNUMBER(FIND(\"BC/BS\",#REF!)),\"X\",\"\")","v":""}]
["TRINITY CHURCH OF LUBBOCK EBP (90 DEGREE BENEFITS HOUSTON - ENTRUST)",null,{"$f":"IF(ISNUMBER(FIND(\"MEDICAID\",A3498)),\"X\",\"\")","v":""},{"$f":"IF(ISNUMBER(FIND(\"MEDICARE\",A3498)),\"X\",\"\")","v":""},{"$f":"IF(ISNUMBER(FIND(\"BC/BS\",#REF!)),\"X\",\"\")","v":""}]
["TRINITY HEALTH PACE",null,{"$f":"IF(ISNUMBER(FIND(\"MEDICAID\",A3499)),\"X\",\"\")","v":""},{"$f":"IF(ISNUMBER(FIND(\"MEDICARE\",A3499)),\"X\",\"\")","v":""},{"$f":"IF(ISNUMBER(FIND(\"BC/BS\",#REF!)),\"X\",\"\")","v":""}]
["TRINITY PRESBYTERIAN CHURCH (SENTARA)","X",{"$f":"IF(ISNUMBER(FIND(\"MEDICAID\",A3500)),\"X\",\"\")","v":""},{"$f":"IF(ISNUMBER(FIND(\"MEDICARE\",A3500)),\"X\",\"\")","v":""},{"$f":"IF(ISNUMBER(FIND(\"BC/BS\",#REF!)),\"X\",\"\")","v":""}]
["TRIPLE-S SALUD","X",{"$f":"IF(ISNUMBER(FIND(\"MEDICAID\",A3501)),\"X\",\"\")","v":""},{"$f":"IF(ISNUMBER(FIND(\"MEDICARE\",A3501)),\"X\",\"\")","v":""},{"$f":"IF(ISNUMBER(FIND(\"BC/BS\",#REF!)),\"X\",\"\")","v":""}]
["TRISTAR BENEFIT ADMINISTRATORS","X",{"$f":"IF(ISNUMBER(FIND(\"MEDICAID\",A3502)),\"X\",\"\")","v":""},{"$f":"IF(ISNUMBER(FIND(\"MEDICARE\",A3502)),\"X\",\"\")","v":""},{"$f":"IF(ISNUMBER(FIND(\"BC/BS\",#REF!)),\"X\",\"\")","v":""}]
["TRISTAR RISK MANAGEMENT","X",{"$f":"IF(ISNUMBER(FIND(\"MEDICAID\",A3503)),\"X\",\"\")","v":""},{"$f":"IF(ISNUMBER(FIND(\"MEDICARE\",A3503)),\"X\",\"\")","v":""},{"$f":"IF(ISNUMBER(FIND(\"BC/BS\",#REF!)),\"X\",\"\")","v":""}]
["TRI-STATE FOREST PRODUCTS EBP (90 DEGREE BENEFITS HOUSTON - ENTRUST)",null,{"$f":"IF(ISNUMBER(FIND(\"MEDICAID\",A3504)),\"X\",\"\")","v":""},{"$f":"IF(ISNUMBER(FIND(\"MEDICARE\",A3504)),\"X\",\"\")","v":""},{"$f":"IF(ISNUMBER(FIND(\"BC/BS\",#REF!)),\"X\",\"\")","v":""}]
["TRITON HEALTHCARE PARTNERS","X",{"$f":"IF(ISNUMBER(FIND(\"MEDICAID\",A3505)),\"X\",\"\")","v":""},{"$f":"IF(ISNUMBER(FIND(\"MEDICARE\",A3505)),\"X\",\"\")","v":""},{"$f":"IF(ISNUMBER(FIND(\"BC/BS\",#REF!)),\"X\",\"\")","v":""}]
["TRI-VALLEY MEDICAL GROUP (EPIC MANAGEMENT)","X",{"$f":"IF(ISNUMBER(FIND(\"MEDICAID\",A3506)),\"X\",\"\")","v":""},{"$f":"IF(ISNUMBER(FIND(\"MEDICARE\",A3506)),\"X\",\"\")","v":""},{"$f":"IF(ISNUMBER(FIND(\"BC/BS\",#REF!)),\"X\",\"\")","v":""}]
["TRI-W GLOBAL INC (GROUP & PENSION ADMIN)","X",{"$f":"IF(ISNUMBER(FIND(\"MEDICAID\",A3507)),\"X\",\"\")","v":""},{"$f":"IF(ISNUMBER(FIND(\"MEDICARE\",A3507)),\"X\",\"\")","v":""},{"$f":"IF(ISNUMBER(FIND(\"BC/BS\",#REF!)),\"X\",\"\")","v":""}]
["TRIWEST HEALTHCARE ALLIANCE (CCN REGIONS 4 AND 5)","X",{"$f":"IF(ISNUMBER(FIND(\"MEDICAID\",A3508)),\"X\",\"\")","v":""},{"$f":"IF(ISNUMBER(FIND(\"MEDICARE\",A3508)),\"X\",\"\")","v":""},{"$f":"IF(ISNUMBER(FIND(\"BC/BS\",#REF!)),\"X\",\"\")","v":""}]
["TROPICAL TEXAS BEHAVIORAL (GROUP & PENSION ADMIN)","X",{"$f":"IF(ISNUMBER(FIND(\"MEDICAID\",A3509)),\"X\",\"\")","v":""},{"$f":"IF(ISNUMBER(FIND(\"MEDICARE\",A3509)),\"X\",\"\")","v":""},{"$f":"IF(ISNUMBER(FIND(\"BC/BS\",#REF!)),\"X\",\"\")","v":""}]
["TRPN DIRECT PAY",null,{"$f":"IF(ISNUMBER(FIND(\"MEDICAID\",A3510)),\"X\",\"\")","v":""},{"$f":"IF(ISNUMBER(FIND(\"MEDICARE\",A3510)),\"X\",\"\")","v":""},{"$f":"IF(ISNUMBER(FIND(\"BC/BS\",#REF!)),\"X\",\"\")","v":""}]
["TRUDY'S - MASON EBPT (90 DEGREE BENEFITS HOUSTON - ENTRUST)",null,{"$f":"IF(ISNUMBER(FIND(\"MEDICAID\",A3511)),\"X\",\"\")","v":""},{"$f":"IF(ISNUMBER(FIND(\"MEDICARE\",A3511)),\"X\",\"\")","v":""},{"$f":"IF(ISNUMBER(FIND(\"BC/BS\",#REF!)),\"X\",\"\")","v":""}]
["TRUE HEALTH NEW MEXICO","X",{"$f":"IF(ISNUMBER(FIND(\"MEDICAID\",A3512)),\"X\",\"\")","v":""},{"$f":"IF(ISNUMBER(FIND(\"MEDICARE\",A3512)),\"X\",\"\")","v":""},{"$f":"IF(ISNUMBER(FIND(\"BC/BS\",#REF!)),\"X\",\"\")","v":""}]
["TRULUCK'S RESTAURANT GROUP LTD (GROUP & PENSION ADMIN)","X",{"$f":"IF(ISNUMBER(FIND(\"MEDICAID\",A3513)),\"X\",\"\")","v":""},{"$f":"IF(ISNUMBER(FIND(\"MEDICARE\",A3513)),\"X\",\"\")","v":""},{"$f":"IF(ISNUMBER(FIND(\"BC/BS\",#REF!)),\"X\",\"\")","v":""}]
["TRU-SKIN DERMATOLOGY EBPT (90 DEGREE BENEFITS HOUSTON - ENTRUST)",null,{"$f":"IF(ISNUMBER(FIND(\"MEDICAID\",A3514)),\"X\",\"\")","v":""},{"$f":"IF(ISNUMBER(FIND(\"MEDICARE\",A3514)),\"X\",\"\")","v":""},{"$f":"IF(ISNUMBER(FIND(\"BC/BS\",#REF!)),\"X\",\"\")","v":""}]
["TRUSTMARK HEALTH BENEFITS","X",{"$f":"IF(ISNUMBER(FIND(\"MEDICAID\",A3515)),\"X\",\"\")","v":""},{"$f":"IF(ISNUMBER(FIND(\"MEDICARE\",A3515)),\"X\",\"\")","v":""},{"$f":"IF(ISNUMBER(FIND(\"BC/BS\",#REF!)),\"X\",\"\")","v":""}]
["TRUSTMARK INSURANCE COMPANY","X",{"$f":"IF(ISNUMBER(FIND(\"MEDICAID\",A3516)),\"X\",\"\")","v":""},{"$f":"IF(ISNUMBER(FIND(\"MEDICARE\",A3516)),\"X\",\"\")","v":""},{"$f":"IF(ISNUMBER(FIND(\"BC/BS\",#REF!)),\"X\",\"\")","v":""}]
["TRUSTMARK LIFE INSURANCE COMPANY","X",{"$f":"IF(ISNUMBER(FIND(\"MEDICAID\",A3517)),\"X\",\"\")","v":""},{"$f":"IF(ISNUMBER(FIND(\"MEDICARE\",A3517)),\"X\",\"\")","v":""},{"$f":"IF(ISNUMBER(FIND(\"BC/BS\",#REF!)),\"X\",\"\")","v":""}]
["TSE INTERNATIONAL EBPT (90 DEGREE BENEFITS HOUSTON - ENTRUST)",null,{"$f":"IF(ISNUMBER(FIND(\"MEDICAID\",A3518)),\"X\",\"\")","v":""},{"$f":"IF(ISNUMBER(FIND(\"MEDICARE\",A3518)),\"X\",\"\")","v":""},{"$f":"IF(ISNUMBER(FIND(\"BC/BS\",#REF!)),\"X\",\"\")","v":""}]
["TSO IT LLC (SENTARA)","X",{"$f":"IF(ISNUMBER(FIND(\"MEDICAID\",A3519)),\"X\",\"\")","v":""},{"$f":"IF(ISNUMBER(FIND(\"MEDICARE\",A3519)),\"X\",\"\")","v":""},{"$f":"IF(ISNUMBER(FIND(\"BC/BS\",#REF!)),\"X\",\"\")","v":""}]
["TUCKER ADMINISTRATORS INC","X",{"$f":"IF(ISNUMBER(FIND(\"MEDICAID\",A3520)),\"X\",\"\")","v":""},{"$f":"IF(ISNUMBER(FIND(\"MEDICARE\",A3520)),\"X\",\"\")","v":""},{"$f":"IF(ISNUMBER(FIND(\"BC/BS\",#REF!)),\"X\",\"\")","v":""}]
["TUFTS ASSOCIATED HMO (TUFTS HEALTH PLAN)","X",{"$f":"IF(ISNUMBER(FIND(\"MEDICAID\",A3521)),\"X\",\"\")","v":""},{"$f":"IF(ISNUMBER(FIND(\"MEDICARE\",A3521)),\"X\",\"\")","v":""},{"$f":"IF(ISNUMBER(FIND(\"BC/BS\",#REF!)),\"X\",\"\")","v":""}]
["TUFTS BENEFIT ADMINISTRATORS INC (TUFTS HEALTH PLAN)","X",{"$f":"IF(ISNUMBER(FIND(\"MEDICAID\",A3522)),\"X\",\"\")","v":""},{"$f":"IF(ISNUMBER(FIND(\"MEDICARE\",A3522)),\"X\",\"\")","v":""},{"$f":"IF(ISNUMBER(FIND(\"BC/BS\",#REF!)),\"X\",\"\")","v":""}]
["TUFTS HEALTH PLAN","X",{"$f":"IF(ISNUMBER(FIND(\"MEDICAID\",A3523)),\"X\",\"\")","v":""},{"$f":"IF(ISNUMBER(FIND(\"MEDICARE\",A3523)),\"X\",\"\")","v":""},{"$f":"IF(ISNUMBER(FIND(\"BC/BS\",#REF!)),\"X\",\"\")","v":""}]
["TUFTS HEALTH PLAN MEDICARE PREFERRED","X",{"$f":"IF(ISNUMBER(FIND(\"MEDICAID\",A3524)),\"X\",\"\")","v":""},null,{"$f":"IF(ISNUMBER(FIND(\"BC/BS\",#REF!)),\"X\",\"\")","v":""}]
["TUFTS HEALTH PLAN PUBLIC PLANS","X",{"$f":"IF(ISNUMBER(FIND(\"MEDICAID\",A3525)),\"X\",\"\")","v":""},{"$f":"IF(ISNUMBER(FIND(\"MEDICARE\",A3525)),\"X\",\"\")","v":""},{"$f":"IF(ISNUMBER(FIND(\"BC/BS\",#REF!)),\"X\",\"\")","v":""}]
["TULE HOUSING AUTHORITY (HEALTHCOMP)",null,{"$f":"IF(ISNUMBER(FIND(\"MEDICAID\",A3526)),\"X\",\"\")","v":""},{"$f":"IF(ISNUMBER(FIND(\"MEDICARE\",A3526)),\"X\",\"\")","v":""},{"$f":"IF(ISNUMBER(FIND(\"BC/BS\",#REF!)),\"X\",\"\")","v":""}]
["TULE RIVER CASINO (HEALTHCOMP)","X",{"$f":"IF(ISNUMBER(FIND(\"MEDICAID\",A3527)),\"X\",\"\")","v":""},{"$f":"IF(ISNUMBER(FIND(\"MEDICARE\",A3527)),\"X\",\"\")","v":""},{"$f":"IF(ISNUMBER(FIND(\"BC/BS\",#REF!)),\"X\",\"\")","v":""}]
["TULE RIVER TRIBE (HEALTHCOMP)","X",{"$f":"IF(ISNUMBER(FIND(\"MEDICAID\",A3528)),\"X\",\"\")","v":""},{"$f":"IF(ISNUMBER(FIND(\"MEDICARE\",A3528)),\"X\",\"\")","v":""},{"$f":"IF(ISNUMBER(FIND(\"BC/BS\",#REF!)),\"X\",\"\")","v":""}]
["TUOLUMNE BAND OF ME-WUK INDIAN (HEALTHCOMP)","X",{"$f":"IF(ISNUMBER(FIND(\"MEDICAID\",A3529)),\"X\",\"\")","v":""},{"$f":"IF(ISNUMBER(FIND(\"MEDICARE\",A3529)),\"X\",\"\")","v":""},{"$f":"IF(ISNUMBER(FIND(\"BC/BS\",#REF!)),\"X\",\"\")","v":""}]
["TURNING POINT (HEALTHCOMP)",null,{"$f":"IF(ISNUMBER(FIND(\"MEDICAID\",A3530)),\"X\",\"\")","v":""},{"$f":"IF(ISNUMBER(FIND(\"MEDICARE\",A3530)),\"X\",\"\")","v":""},{"$f":"IF(ISNUMBER(FIND(\"BC/BS\",#REF!)),\"X\",\"\")","v":""}]
["TURNKEY NETWORK SOLUTIONS (ASR HEALTH BENEFITS)",null,{"$f":"IF(ISNUMBER(FIND(\"MEDICAID\",A3531)),\"X\",\"\")","v":""},{"$f":"IF(ISNUMBER(FIND(\"MEDICARE\",A3531)),\"X\",\"\")","v":""},{"$f":"IF(ISNUMBER(FIND(\"BC/BS\",#REF!)),\"X\",\"\")","v":""}]
["TUV SUD AMERICA (GROUP & PENSION ADMIN)","X",{"$f":"IF(ISNUMBER(FIND(\"MEDICAID\",A3532)),\"X\",\"\")","v":""},{"$f":"IF(ISNUMBER(FIND(\"MEDICARE\",A3532)),\"X\",\"\")","v":""},{"$f":"IF(ISNUMBER(FIND(\"BC/BS\",#REF!)),\"X\",\"\")","v":""}]
["TYLER (WEBTPA)","X",{"$f":"IF(ISNUMBER(FIND(\"MEDICAID\",A3533)),\"X\",\"\")","v":""},{"$f":"IF(ISNUMBER(FIND(\"MEDICARE\",A3533)),\"X\",\"\")","v":""},{"$f":"IF(ISNUMBER(FIND(\"BC/BS\",#REF!)),\"X\",\"\")","v":""}]
["TYLER ISD (WEBTPA)","X",{"$f":"IF(ISNUMBER(FIND(\"MEDICAID\",A3534)),\"X\",\"\")","v":""},{"$f":"IF(ISNUMBER(FIND(\"MEDICARE\",A3534)),\"X\",\"\")","v":""},{"$f":"IF(ISNUMBER(FIND(\"BC/BS\",#REF!)),\"X\",\"\")","v":""}]
["TYLER TECHNOLOGIES INC (AMERIBEN)",null,{"$f":"IF(ISNUMBER(FIND(\"MEDICAID\",A3535)),\"X\",\"\")","v":""},{"$f":"IF(ISNUMBER(FIND(\"MEDICARE\",A3535)),\"X\",\"\")","v":""},{"$f":"IF(ISNUMBER(FIND(\"BC/BS\",#REF!)),\"X\",\"\")","v":""}]
["U S COTTON LLC (GROUP & PENSION ADMIN)","X",{"$f":"IF(ISNUMBER(FIND(\"MEDICAID\",A3536)),\"X\",\"\")","v":""},{"$f":"IF(ISNUMBER(FIND(\"MEDICARE\",A3536)),\"X\",\"\")","v":""},{"$f":"IF(ISNUMBER(FIND(\"BC/BS\",#REF!)),\"X\",\"\")","v":""}]
["U. S. METALS EBPT (90 DEGREE BENEFITS HOUSTON - ENTRUST)",null,{"$f":"IF(ISNUMBER(FIND(\"MEDICAID\",A3537)),\"X\",\"\")","v":""},{"$f":"IF(ISNUMBER(FIND(\"MEDICARE\",A3537)),\"X\",\"\")","v":""},{"$f":"IF(ISNUMBER(FIND(\"BC/BS\",#REF!)),\"X\",\"\")","v":""}]
["UA LOCAL 7 PLUMBERS AND STEAMFITTERS (CDPHP)","X",{"$f":"IF(ISNUMBER(FIND(\"MEDICAID\",A3538)),\"X\",\"\")","v":""},{"$f":"IF(ISNUMBER(FIND(\"MEDICARE\",A3538)),\"X\",\"\")","v":""},{"$f":"IF(ISNUMBER(FIND(\"BC/BS\",#REF!)),\"X\",\"\")","v":""}]
["UA LOCAL 773 PLUMBERS AND STEAMFITTERS (CDPHP)","X",{"$f":"IF(ISNUMBER(FIND(\"MEDICAID\",A3539)),\"X\",\"\")","v":""},{"$f":"IF(ISNUMBER(FIND(\"MEDICARE\",A3539)),\"X\",\"\")","v":""},{"$f":"IF(ISNUMBER(FIND(\"BC/BS\",#REF!)),\"X\",\"\")","v":""}]
["UA LOCAL UNION NO. 614 HEALTH AND WELFARE FUND (SOUTHERN BENEFIT ADMINISTRATORS)","X",{"$f":"IF(ISNUMBER(FIND(\"MEDICAID\",A3540)),\"X\",\"\")","v":""},{"$f":"IF(ISNUMBER(FIND(\"MEDICARE\",A3540)),\"X\",\"\")","v":""},{"$f":"IF(ISNUMBER(FIND(\"BC/BS\",#REF!)),\"X\",\"\")","v":""}]
["UC BERKELEY (HEALTHCOMP)","X",{"$f":"IF(ISNUMBER(FIND(\"MEDICAID\",A3541)),\"X\",\"\")","v":""},{"$f":"IF(ISNUMBER(FIND(\"MEDICARE\",A3541)),\"X\",\"\")","v":""},{"$f":"IF(ISNUMBER(FIND(\"BC/BS\",#REF!)),\"X\",\"\")","v":""}]
["UC DAVIS HEALTH SYSTEM - MANAGED CARE OPERATIONS",null,{"$f":"IF(ISNUMBER(FIND(\"MEDICAID\",A3542)),\"X\",\"\")","v":""},{"$f":"IF(ISNUMBER(FIND(\"MEDICARE\",A3542)),\"X\",\"\")","v":""},{"$f":"IF(ISNUMBER(FIND(\"BC/BS\",#REF!)),\"X\",\"\")","v":""}]
["UCARE","X",{"$f":"IF(ISNUMBER(FIND(\"MEDICAID\",A3543)),\"X\",\"\")","v":""},{"$f":"IF(ISNUMBER(FIND(\"MEDICARE\",A3543)),\"X\",\"\")","v":""},{"$f":"IF(ISNUMBER(FIND(\"BC/BS\",#REF!)),\"X\",\"\")","v":""}]
["UCARE - CLAIMS - WELLS FARGO (WPS)","X",{"$f":"IF(ISNUMBER(FIND(\"MEDICAID\",A3544)),\"X\",\"\")","v":""},{"$f":"IF(ISNUMBER(FIND(\"MEDICARE\",A3544)),\"X\",\"\")","v":""},{"$f":"IF(ISNUMBER(FIND(\"BC/BS\",#REF!)),\"X\",\"\")","v":""}]
["UCLA MEDICAL GROUP",null,{"$f":"IF(ISNUMBER(FIND(\"MEDICAID\",A3545)),\"X\",\"\")","v":""},{"$f":"IF(ISNUMBER(FIND(\"MEDICARE\",A3545)),\"X\",\"\")","v":""},{"$f":"IF(ISNUMBER(FIND(\"BC/BS\",#REF!)),\"X\",\"\")","v":""}]
["UCSF BENIOFF CHILDREN'S (HEALTHCOMP)","X",{"$f":"IF(ISNUMBER(FIND(\"MEDICAID\",A3546)),\"X\",\"\")","v":""},{"$f":"IF(ISNUMBER(FIND(\"MEDICARE\",A3546)),\"X\",\"\")","v":""},{"$f":"IF(ISNUMBER(FIND(\"BC/BS\",#REF!)),\"X\",\"\")","v":""}]
["UFCW 711 HEALTH & WELFARE RETIREE (SOUTHWEST SERVICE ADMINISTRATORS)",null,{"$f":"IF(ISNUMBER(FIND(\"MEDICAID\",A3547)),\"X\",\"\")","v":""},{"$f":"IF(ISNUMBER(FIND(\"MEDICARE\",A3547)),\"X\",\"\")","v":""},{"$f":"IF(ISNUMBER(FIND(\"BC/BS\",#REF!)),\"X\",\"\")","v":""}]
["UFCW NATIONAL HEALTH & WELFARE FUND","X",{"$f":"IF(ISNUMBER(FIND(\"MEDICAID\",A3548)),\"X\",\"\")","v":""},{"$f":"IF(ISNUMBER(FIND(\"MEDICARE\",A3548)),\"X\",\"\")","v":""},{"$f":"IF(ISNUMBER(FIND(\"BC/BS\",#REF!)),\"X\",\"\")","v":""}]
["UHA UNIVERSITY HEALTH ALLIANCE","X",{"$f":"IF(ISNUMBER(FIND(\"MEDICAID\",A3549)),\"X\",\"\")","v":""},{"$f":"IF(ISNUMBER(FIND(\"MEDICARE\",A3549)),\"X\",\"\")","v":""},{"$f":"IF(ISNUMBER(FIND(\"BC/BS\",#REF!)),\"X\",\"\")","v":""}]
["UHC 500 WISCONSIN MASONS HEALTH FUND","X",{"$f":"IF(ISNUMBER(FIND(\"MEDICAID\",A3550)),\"X\",\"\")","v":""},{"$f":"IF(ISNUMBER(FIND(\"MEDICARE\",A3550)),\"X\",\"\")","v":""},{"$f":"IF(ISNUMBER(FIND(\"BC/BS\",#REF!)),\"X\",\"\")","v":""}]
["UHC ARIZONA COLLEGE OF NURSING LLC",null,{"$f":"IF(ISNUMBER(FIND(\"MEDICAID\",A3551)),\"X\",\"\")","v":""},{"$f":"IF(ISNUMBER(FIND(\"MEDICARE\",A3551)),\"X\",\"\")","v":""},{"$f":"IF(ISNUMBER(FIND(\"BC/BS\",#REF!)),\"X\",\"\")","v":""}]
["UHC ASCENSION HEALTH ALLIANCE DBA ASCENSION",null,{"$f":"IF(ISNUMBER(FIND(\"MEDICAID\",A3552)),\"X\",\"\")","v":""},{"$f":"IF(ISNUMBER(FIND(\"MEDICARE\",A3552)),\"X\",\"\")","v":""},{"$f":"IF(ISNUMBER(FIND(\"BC/BS\",#REF!)),\"X\",\"\")","v":""}]
["UHC AWW LOCAL 19 AND 127 HEALTH FUND","X",{"$f":"IF(ISNUMBER(FIND(\"MEDICAID\",A3553)),\"X\",\"\")","v":""},{"$f":"IF(ISNUMBER(FIND(\"MEDICARE\",A3553)),\"X\",\"\")","v":""},{"$f":"IF(ISNUMBER(FIND(\"BC/BS\",#REF!)),\"X\",\"\")","v":""}]
["UHC AXA ASSISTANCE INC",null,{"$f":"IF(ISNUMBER(FIND(\"MEDICAID\",A3554)),\"X\",\"\")","v":""},{"$f":"IF(ISNUMBER(FIND(\"MEDICARE\",A3554)),\"X\",\"\")","v":""},{"$f":"IF(ISNUMBER(FIND(\"BC/BS\",#REF!)),\"X\",\"\")","v":""}]
["UHC BENEFITS OF TEXAS INC (OPTUMCARE)","X",{"$f":"IF(ISNUMBER(FIND(\"MEDICAID\",A3555)),\"X\",\"\")","v":""},{"$f":"IF(ISNUMBER(FIND(\"MEDICARE\",A3555)),\"X\",\"\")","v":""},{"$f":"IF(ISNUMBER(FIND(\"BC/BS\",#REF!)),\"X\",\"\")","v":""}]
["UHC CERNER CORPORATION",null,{"$f":"IF(ISNUMBER(FIND(\"MEDICAID\",A3556)),\"X\",\"\")","v":""},{"$f":"IF(ISNUMBER(FIND(\"MEDICARE\",A3556)),\"X\",\"\")","v":""},{"$f":"IF(ISNUMBER(FIND(\"BC/BS\",#REF!)),\"X\",\"\")","v":""}]
["UHC CITY YEAR",null,{"$f":"IF(ISNUMBER(FIND(\"MEDICAID\",A3557)),\"X\",\"\")","v":""},{"$f":"IF(ISNUMBER(FIND(\"MEDICARE\",A3557)),\"X\",\"\")","v":""},{"$f":"IF(ISNUMBER(FIND(\"BC/BS\",#REF!)),\"X\",\"\")","v":""}]
["UHC COTTI FOODS CORPORATION",null,{"$f":"IF(ISNUMBER(FIND(\"MEDICAID\",A3558)),\"X\",\"\")","v":""},{"$f":"IF(ISNUMBER(FIND(\"MEDICARE\",A3558)),\"X\",\"\")","v":""},{"$f":"IF(ISNUMBER(FIND(\"BC/BS\",#REF!)),\"X\",\"\")","v":""}]
["UHC CURRAN GROUP INC",null,{"$f":"IF(ISNUMBER(FIND(\"MEDICAID\",A3559)),\"X\",\"\")","v":""},{"$f":"IF(ISNUMBER(FIND(\"MEDICARE\",A3559)),\"X\",\"\")","v":""},{"$f":"IF(ISNUMBER(FIND(\"BC/BS\",#REF!)),\"X\",\"\")","v":""}]
["UHC DESERET MUTUAL BENEFIT ADMINISTRATORS",null,{"$f":"IF(ISNUMBER(FIND(\"MEDICAID\",A3560)),\"X\",\"\")","v":""},{"$f":"IF(ISNUMBER(FIND(\"MEDICARE\",A3560)),\"X\",\"\")","v":""},{"$f":"IF(ISNUMBER(FIND(\"BC/BS\",#REF!)),\"X\",\"\")","v":""}]
["UHC FOX VALLEY SHEET METAL HEALTH FUND","X",{"$f":"IF(ISNUMBER(FIND(\"MEDICAID\",A3561)),\"X\",\"\")","v":""},{"$f":"IF(ISNUMBER(FIND(\"MEDICARE\",A3561)),\"X\",\"\")","v":""},{"$f":"IF(ISNUMBER(FIND(\"BC/BS\",#REF!)),\"X\",\"\")","v":""}]
["UHC FW WISCONSIN PIPE TRADES HEALTH FUND",null,{"$f":"IF(ISNUMBER(FIND(\"MEDICAID\",A3562)),\"X\",\"\")","v":""},{"$f":"IF(ISNUMBER(FIND(\"MEDICARE\",A3562)),\"X\",\"\")","v":""},{"$f":"IF(ISNUMBER(FIND(\"BC/BS\",#REF!)),\"X\",\"\")","v":""}]
["UHC GLOBAL BENEFITS GROUP",null,{"$f":"IF(ISNUMBER(FIND(\"MEDICAID\",A3563)),\"X\",\"\")","v":""},{"$f":"IF(ISNUMBER(FIND(\"MEDICARE\",A3563)),\"X\",\"\")","v":""},{"$f":"IF(ISNUMBER(FIND(\"BC/BS\",#REF!)),\"X\",\"\")","v":""}]
["UHC GM CRUISE LLC",null,{"$f":"IF(ISNUMBER(FIND(\"MEDICAID\",A3564)),\"X\",\"\")","v":""},{"$f":"IF(ISNUMBER(FIND(\"MEDICARE\",A3564)),\"X\",\"\")","v":""},{"$f":"IF(ISNUMBER(FIND(\"BC/BS\",#REF!)),\"X\",\"\")","v":""}]
["UHC GMMI EX PATS",null,{"$f":"IF(ISNUMBER(FIND(\"MEDICAID\",A3565)),\"X\",\"\")","v":""},{"$f":"IF(ISNUMBER(FIND(\"MEDICARE\",A3565)),\"X\",\"\")","v":""},{"$f":"IF(ISNUMBER(FIND(\"BC/BS\",#REF!)),\"X\",\"\")","v":""}]
["UHC GOVERNMENT EMPLOYEES HEALTH ASSOC","X",{"$f":"IF(ISNUMBER(FIND(\"MEDICAID\",A3566)),\"X\",\"\")","v":""},{"$f":"IF(ISNUMBER(FIND(\"MEDICARE\",A3566)),\"X\",\"\")","v":""},{"$f":"IF(ISNUMBER(FIND(\"BC/BS\",#REF!)),\"X\",\"\")","v":""}]
["UHC GOVERNMENT EMPLOYEES HEALTH ASSOC ELEVATE","X",{"$f":"IF(ISNUMBER(FIND(\"MEDICAID\",A3567)),\"X\",\"\")","v":""},{"$f":"IF(ISNUMBER(FIND(\"MEDICARE\",A3567)),\"X\",\"\")","v":""},{"$f":"IF(ISNUMBER(FIND(\"BC/BS\",#REF!)),\"X\",\"\")","v":""}]
["UHC GOVERNMENT EMPLOYEES HEALTH ASSOC FEHBP","X",{"$f":"IF(ISNUMBER(FIND(\"MEDICAID\",A3568)),\"X\",\"\")","v":""},{"$f":"IF(ISNUMBER(FIND(\"MEDICARE\",A3568)),\"X\",\"\")","v":""},{"$f":"IF(ISNUMBER(FIND(\"BC/BS\",#REF!)),\"X\",\"\")","v":""}]
["UHC HARVARD PILGRIM HPHC INSURANCE COMPANY","X",{"$f":"IF(ISNUMBER(FIND(\"MEDICAID\",A3569)),\"X\",\"\")","v":""},{"$f":"IF(ISNUMBER(FIND(\"MEDICARE\",A3569)),\"X\",\"\")","v":""},{"$f":"IF(ISNUMBER(FIND(\"BC/BS\",#REF!)),\"X\",\"\")","v":""}]
["UHC IBEW LOCAL 915 HEALTH WELFARE FUND",null,{"$f":"IF(ISNUMBER(FIND(\"MEDICAID\",A3570)),\"X\",\"\")","v":""},{"$f":"IF(ISNUMBER(FIND(\"MEDICARE\",A3570)),\"X\",\"\")","v":""},{"$f":"IF(ISNUMBER(FIND(\"BC/BS\",#REF!)),\"X\",\"\")","v":""}]
["UHC INTERNATIONAL MEDICAL GROUP INC",null,{"$f":"IF(ISNUMBER(FIND(\"MEDICAID\",A3571)),\"X\",\"\")","v":""},{"$f":"IF(ISNUMBER(FIND(\"MEDICARE\",A3571)),\"X\",\"\")","v":""},{"$f":"IF(ISNUMBER(FIND(\"BC/BS\",#REF!)),\"X\",\"\")","v":""}]
["UHC LOCAL 347 ELECTRICAL WORKERS HEALTH AND WELFARE",null,{"$f":"IF(ISNUMBER(FIND(\"MEDICAID\",A3572)),\"X\",\"\")","v":""},{"$f":"IF(ISNUMBER(FIND(\"MEDICARE\",A3572)),\"X\",\"\")","v":""},{"$f":"IF(ISNUMBER(FIND(\"BC/BS\",#REF!)),\"X\",\"\")","v":""}]
["UHC LOCAL 400 HEALTH FUND","X",{"$f":"IF(ISNUMBER(FIND(\"MEDICAID\",A3573)),\"X\",\"\")","v":""},{"$f":"IF(ISNUMBER(FIND(\"MEDICARE\",A3573)),\"X\",\"\")","v":""},{"$f":"IF(ISNUMBER(FIND(\"BC/BS\",#REF!)),\"X\",\"\")","v":""}]
["UHC MEDTRONIC",null,{"$f":"IF(ISNUMBER(FIND(\"MEDICAID\",A3574)),\"X\",\"\")","v":""},{"$f":"IF(ISNUMBER(FIND(\"MEDICARE\",A3574)),\"X\",\"\")","v":""},{"$f":"IF(ISNUMBER(FIND(\"BC/BS\",#REF!)),\"X\",\"\")","v":""}]
["UHC MERCHANTS AUTOMOTIVE GROUP",null,{"$f":"IF(ISNUMBER(FIND(\"MEDICAID\",A3575)),\"X\",\"\")","v":""},{"$f":"IF(ISNUMBER(FIND(\"MEDICARE\",A3575)),\"X\",\"\")","v":""},{"$f":"IF(ISNUMBER(FIND(\"BC/BS\",#REF!)),\"X\",\"\")","v":""}]
["UHC MIDATLANTIC","X",{"$f":"IF(ISNUMBER(FIND(\"MEDICAID\",A3576)),\"X\",\"\")","v":""},{"$f":"IF(ISNUMBER(FIND(\"MEDICARE\",A3576)),\"X\",\"\")","v":""},{"$f":"IF(ISNUMBER(FIND(\"BC/BS\",#REF!)),\"X\",\"\")","v":""}]
["UHC MILWAUKEE PAINTERS LOCAL UNION 781 HEALTH FUND",null,{"$f":"IF(ISNUMBER(FIND(\"MEDICAID\",A3577)),\"X\",\"\")","v":""},{"$f":"IF(ISNUMBER(FIND(\"MEDICARE\",A3577)),\"X\",\"\")","v":""},{"$f":"IF(ISNUMBER(FIND(\"BC/BS\",#REF!)),\"X\",\"\")","v":""}]
["UHC MSH CHINA",null,{"$f":"IF(ISNUMBER(FIND(\"MEDICAID\",A3578)),\"X\",\"\")","v":""},{"$f":"IF(ISNUMBER(FIND(\"MEDICARE\",A3578)),\"X\",\"\")","v":""},{"$f":"IF(ISNUMBER(FIND(\"BC/BS\",#REF!)),\"X\",\"\")","v":""}]
["UHC MSH INTERNATIONAL",null,{"$f":"IF(ISNUMBER(FIND(\"MEDICAID\",A3579)),\"X\",\"\")","v":""},{"$f":"IF(ISNUMBER(FIND(\"MEDICARE\",A3579)),\"X\",\"\")","v":""},{"$f":"IF(ISNUMBER(FIND(\"BC/BS\",#REF!)),\"X\",\"\")","v":""}]
["UHC NEW FRONTIER GROUP INC",null,{"$f":"IF(ISNUMBER(FIND(\"MEDICAID\",A3580)),\"X\",\"\")","v":""},{"$f":"IF(ISNUMBER(FIND(\"MEDICARE\",A3580)),\"X\",\"\")","v":""},{"$f":"IF(ISNUMBER(FIND(\"BC/BS\",#REF!)),\"X\",\"\")","v":""}]
["UHC NTCA THE RURAL BROADBAND ASSOCIATION GHP",null,{"$f":"IF(ISNUMBER(FIND(\"MEDICAID\",A3581)),\"X\",\"\")","v":""},{"$f":"IF(ISNUMBER(FIND(\"MEDICARE\",A3581)),\"X\",\"\")","v":""},{"$f":"IF(ISNUMBER(FIND(\"BC/BS\",#REF!)),\"X\",\"\")","v":""}]
["UHC OF IL","X",{"$f":"IF(ISNUMBER(FIND(\"MEDICAID\",A3582)),\"X\",\"\")","v":""},{"$f":"IF(ISNUMBER(FIND(\"MEDICARE\",A3582)),\"X\",\"\")","v":""},{"$f":"IF(ISNUMBER(FIND(\"BC/BS\",#REF!)),\"X\",\"\")","v":""}]
["UHC OF WASHINGTON INC (OPTUMCARE)","X",{"$f":"IF(ISNUMBER(FIND(\"MEDICAID\",A3583)),\"X\",\"\")","v":""},{"$f":"IF(ISNUMBER(FIND(\"MEDICARE\",A3583)),\"X\",\"\")","v":""},{"$f":"IF(ISNUMBER(FIND(\"BC/BS\",#REF!)),\"X\",\"\")","v":""}]
["UHC OXFORD HEALTH INSURANCE","X",{"$f":"IF(ISNUMBER(FIND(\"MEDICAID\",A3584)),\"X\",\"\")","v":""},{"$f":"IF(ISNUMBER(FIND(\"MEDICARE\",A3584)),\"X\",\"\")","v":""},{"$f":"IF(ISNUMBER(FIND(\"BC/BS\",#REF!)),\"X\",\"\")","v":""}]
["UHC PENCO CORPORATION",null,{"$f":"IF(ISNUMBER(FIND(\"MEDICAID\",A3585)),\"X\",\"\")","v":""},{"$f":"IF(ISNUMBER(FIND(\"MEDICARE\",A3585)),\"X\",\"\")","v":""},{"$f":"IF(ISNUMBER(FIND(\"BC/BS\",#REF!)),\"X\",\"\")","v":""}]
["UHC RAILROAD MAINTENANCE AND INDUSTRIAL HEALTH AND WELFARE FUND",null,{"$f":"IF(ISNUMBER(FIND(\"MEDICAID\",A3586)),\"X\",\"\")","v":""},{"$f":"IF(ISNUMBER(FIND(\"MEDICARE\",A3586)),\"X\",\"\")","v":""},{"$f":"IF(ISNUMBER(FIND(\"BC/BS\",#REF!)),\"X\",\"\")","v":""}]
["UHC SELECTHEALTH",null,{"$f":"IF(ISNUMBER(FIND(\"MEDICAID\",A3587)),\"X\",\"\")","v":""},{"$f":"IF(ISNUMBER(FIND(\"MEDICARE\",A3587)),\"X\",\"\")","v":""},{"$f":"IF(ISNUMBER(FIND(\"BC/BS\",#REF!)),\"X\",\"\")","v":""}]
["UHC SLUMBERLAND INC",null,{"$f":"IF(ISNUMBER(FIND(\"MEDICAID\",A3588)),\"X\",\"\")","v":""},{"$f":"IF(ISNUMBER(FIND(\"MEDICARE\",A3588)),\"X\",\"\")","v":""},{"$f":"IF(ISNUMBER(FIND(\"BC/BS\",#REF!)),\"X\",\"\")","v":""}]
["UHC TARGET CORPORATION",null,{"$f":"IF(ISNUMBER(FIND(\"MEDICAID\",A3589)),\"X\",\"\")","v":""},{"$f":"IF(ISNUMBER(FIND(\"MEDICARE\",A3589)),\"X\",\"\")","v":""},{"$f":"IF(ISNUMBER(FIND(\"BC/BS\",#REF!)),\"X\",\"\")","v":""}]
["UHC TEAMSTERS EMPLOYERS WELFARE TRUST OF IL",null,{"$f":"IF(ISNUMBER(FIND(\"MEDICAID\",A3590)),\"X\",\"\")","v":""},{"$f":"IF(ISNUMBER(FIND(\"MEDICARE\",A3590)),\"X\",\"\")","v":""},{"$f":"IF(ISNUMBER(FIND(\"BC/BS\",#REF!)),\"X\",\"\")","v":""}]
["UHC TEXTRON INC",null,{"$f":"IF(ISNUMBER(FIND(\"MEDICAID\",A3591)),\"X\",\"\")","v":""},{"$f":"IF(ISNUMBER(FIND(\"MEDICARE\",A3591)),\"X\",\"\")","v":""},{"$f":"IF(ISNUMBER(FIND(\"BC/BS\",#REF!)),\"X\",\"\")","v":""}]
["UHC UNIFIED SCHOOL DISTRICT 259 DBA WICHITA PUBLI",null,{"$f":"IF(ISNUMBER(FIND(\"MEDICAID\",A3592)),\"X\",\"\")","v":""},{"$f":"IF(ISNUMBER(FIND(\"MEDICARE\",A3592)),\"X\",\"\")","v":""},{"$f":"IF(ISNUMBER(FIND(\"BC/BS\",#REF!)),\"X\",\"\")","v":""}]
["UHC UNITEDHEALTH GROUP INC",null,{"$f":"IF(ISNUMBER(FIND(\"MEDICAID\",A3593)),\"X\",\"\")","v":""},{"$f":"IF(ISNUMBER(FIND(\"MEDICARE\",A3593)),\"X\",\"\")","v":""},{"$f":"IF(ISNUMBER(FIND(\"BC/BS\",#REF!)),\"X\",\"\")","v":""}]
["UHC UNIVERSITY HEALTH ALLIANCE",null,{"$f":"IF(ISNUMBER(FIND(\"MEDICAID\",A3594)),\"X\",\"\")","v":""},{"$f":"IF(ISNUMBER(FIND(\"MEDICARE\",A3594)),\"X\",\"\")","v":""},{"$f":"IF(ISNUMBER(FIND(\"BC/BS\",#REF!)),\"X\",\"\")","v":""}]
["UHC UWORLD LLC",null,{"$f":"IF(ISNUMBER(FIND(\"MEDICAID\",A3595)),\"X\",\"\")","v":""},{"$f":"IF(ISNUMBER(FIND(\"MEDICARE\",A3595)),\"X\",\"\")","v":""},{"$f":"IF(ISNUMBER(FIND(\"BC/BS\",#REF!)),\"X\",\"\")","v":""}]
["UHC WORLD TRAVEL PROTECTION CANADA INC",null,{"$f":"IF(ISNUMBER(FIND(\"MEDICAID\",A3596)),\"X\",\"\")","v":""},{"$f":"IF(ISNUMBER(FIND(\"MEDICARE\",A3596)),\"X\",\"\")","v":""},{"$f":"IF(ISNUMBER(FIND(\"BC/BS\",#REF!)),\"X\",\"\")","v":""}]
["UHC WORLDTRIPS",null,{"$f":"IF(ISNUMBER(FIND(\"MEDICAID\",A3597)),\"X\",\"\")","v":""},{"$f":"IF(ISNUMBER(FIND(\"MEDICARE\",A3597)),\"X\",\"\")","v":""},{"$f":"IF(ISNUMBER(FIND(\"BC/BS\",#REF!)),\"X\",\"\")","v":""}]
["UHCLIC",null,{"$f":"IF(ISNUMBER(FIND(\"MEDICAID\",A3598)),\"X\",\"\")","v":""},{"$f":"IF(ISNUMBER(FIND(\"MEDICARE\",A3598)),\"X\",\"\")","v":""},{"$f":"IF(ISNUMBER(FIND(\"BC/BS\",#REF!)),\"X\",\"\")","v":""}]
["UKIAH VALLEY MEDICAL CENTER (ADVENTIST HEALTH SYSTEM WEST)",null,{"$f":"IF(ISNUMBER(FIND(\"MEDICAID\",A3599)),\"X\",\"\")","v":""},{"$f":"IF(ISNUMBER(FIND(\"MEDICARE\",A3599)),\"X\",\"\")","v":""},{"$f":"IF(ISNUMBER(FIND(\"BC/BS\",#REF!)),\"X\",\"\")","v":""}]
["ULTRA BENEFITS","X",{"$f":"IF(ISNUMBER(FIND(\"MEDICAID\",A3600)),\"X\",\"\")","v":""},{"$f":"IF(ISNUMBER(FIND(\"MEDICARE\",A3600)),\"X\",\"\")","v":""},{"$f":"IF(ISNUMBER(FIND(\"BC/BS\",#REF!)),\"X\",\"\")","v":""}]
["UMHB HEALTH FUND (GROUP & PENSION ADMIN)","X",{"$f":"IF(ISNUMBER(FIND(\"MEDICAID\",A3601)),\"X\",\"\")","v":""},{"$f":"IF(ISNUMBER(FIND(\"MEDICARE\",A3601)),\"X\",\"\")","v":""},{"$f":"IF(ISNUMBER(FIND(\"BC/BS\",#REF!)),\"X\",\"\")","v":""}]
["UMPQUA HEALTH ALLIANCE (PERFORMANCE HEALTH TECHNOLOGY)","X",{"$f":"IF(ISNUMBER(FIND(\"MEDICAID\",A3602)),\"X\",\"\")","v":""},{"$f":"IF(ISNUMBER(FIND(\"MEDICARE\",A3602)),\"X\",\"\")","v":""},{"$f":"IF(ISNUMBER(FIND(\"BC/BS\",#REF!)),\"X\",\"\")","v":""}]
["UMR","X",{"$f":"IF(ISNUMBER(FIND(\"MEDICAID\",A3603)),\"X\",\"\")","v":""},{"$f":"IF(ISNUMBER(FIND(\"MEDICARE\",A3603)),\"X\",\"\")","v":""},{"$f":"IF(ISNUMBER(FIND(\"BC/BS\",#REF!)),\"X\",\"\")","v":""}]
["UMR 1 800 CONTACTS INC",null,{"$f":"IF(ISNUMBER(FIND(\"MEDICAID\",A3604)),\"X\",\"\")","v":""},{"$f":"IF(ISNUMBER(FIND(\"MEDICARE\",A3604)),\"X\",\"\")","v":""},{"$f":"IF(ISNUMBER(FIND(\"BC/BS\",#REF!)),\"X\",\"\")","v":""}]
["UMR 1ST SOURCE CORPORATION",null,{"$f":"IF(ISNUMBER(FIND(\"MEDICAID\",A3605)),\"X\",\"\")","v":""},{"$f":"IF(ISNUMBER(FIND(\"MEDICARE\",A3605)),\"X\",\"\")","v":""},{"$f":"IF(ISNUMBER(FIND(\"BC/BS\",#REF!)),\"X\",\"\")","v":""}]
["UMR A BETTERWAY RENT A CAR INC",null,{"$f":"IF(ISNUMBER(FIND(\"MEDICAID\",A3606)),\"X\",\"\")","v":""},{"$f":"IF(ISNUMBER(FIND(\"MEDICARE\",A3606)),\"X\",\"\")","v":""},{"$f":"IF(ISNUMBER(FIND(\"BC/BS\",#REF!)),\"X\",\"\")","v":""}]
["UMR AA TEMPERATURE CONTROLLED LLC",null,{"$f":"IF(ISNUMBER(FIND(\"MEDICAID\",A3607)),\"X\",\"\")","v":""},{"$f":"IF(ISNUMBER(FIND(\"MEDICARE\",A3607)),\"X\",\"\")","v":""},{"$f":"IF(ISNUMBER(FIND(\"BC/BS\",#REF!)),\"X\",\"\")","v":""}]
["UMR ABBOTT",null,{"$f":"IF(ISNUMBER(FIND(\"MEDICAID\",A3608)),\"X\",\"\")","v":""},{"$f":"IF(ISNUMBER(FIND(\"MEDICARE\",A3608)),\"X\",\"\")","v":""},{"$f":"IF(ISNUMBER(FIND(\"BC/BS\",#REF!)),\"X\",\"\")","v":""}]
["UMR ABLELIGHT",null,{"$f":"IF(ISNUMBER(FIND(\"MEDICAID\",A3609)),\"X\",\"\")","v":""},{"$f":"IF(ISNUMBER(FIND(\"MEDICARE\",A3609)),\"X\",\"\")","v":""},{"$f":"IF(ISNUMBER(FIND(\"BC/BS\",#REF!)),\"X\",\"\")","v":""}]
["UMR ACE ELECTRIC INC",null,{"$f":"IF(ISNUMBER(FIND(\"MEDICAID\",A3610)),\"X\",\"\")","v":""},{"$f":"IF(ISNUMBER(FIND(\"MEDICARE\",A3610)),\"X\",\"\")","v":""},{"$f":"IF(ISNUMBER(FIND(\"BC/BS\",#REF!)),\"X\",\"\")","v":""}]
["UMR ADENA CORPORATION",null,{"$f":"IF(ISNUMBER(FIND(\"MEDICAID\",A3611)),\"X\",\"\")","v":""},{"$f":"IF(ISNUMBER(FIND(\"MEDICARE\",A3611)),\"X\",\"\")","v":""},{"$f":"IF(ISNUMBER(FIND(\"BC/BS\",#REF!)),\"X\",\"\")","v":""}]
["UMR ADVANCED CORRECTIONAL HEALTHCARE INC",null,{"$f":"IF(ISNUMBER(FIND(\"MEDICAID\",A3612)),\"X\",\"\")","v":""},{"$f":"IF(ISNUMBER(FIND(\"MEDICARE\",A3612)),\"X\",\"\")","v":""},{"$f":"IF(ISNUMBER(FIND(\"BC/BS\",#REF!)),\"X\",\"\")","v":""}]
["UMR ADVANCED TURF SOLUTIONS INC",null,{"$f":"IF(ISNUMBER(FIND(\"MEDICAID\",A3613)),\"X\",\"\")","v":""},{"$f":"IF(ISNUMBER(FIND(\"MEDICARE\",A3613)),\"X\",\"\")","v":""},{"$f":"IF(ISNUMBER(FIND(\"BC/BS\",#REF!)),\"X\",\"\")","v":""}]
["UMR AEROFLOW INC",null,{"$f":"IF(ISNUMBER(FIND(\"MEDICAID\",A3614)),\"X\",\"\")","v":""},{"$f":"IF(ISNUMBER(FIND(\"MEDICARE\",A3614)),\"X\",\"\")","v":""},{"$f":"IF(ISNUMBER(FIND(\"BC/BS\",#REF!)),\"X\",\"\")","v":""}]
["UMR AIRETECH CORPORATION",null,{"$f":"IF(ISNUMBER(FIND(\"MEDICAID\",A3615)),\"X\",\"\")","v":""},{"$f":"IF(ISNUMBER(FIND(\"MEDICARE\",A3615)),\"X\",\"\")","v":""},{"$f":"IF(ISNUMBER(FIND(\"BC/BS\",#REF!)),\"X\",\"\")","v":""}]
["UMR AKRS EQUIPMENT SOLUTIONS GREEN LINE",null,{"$f":"IF(ISNUMBER(FIND(\"MEDICAID\",A3616)),\"X\",\"\")","v":""},{"$f":"IF(ISNUMBER(FIND(\"MEDICARE\",A3616)),\"X\",\"\")","v":""},{"$f":"IF(ISNUMBER(FIND(\"BC/BS\",#REF!)),\"X\",\"\")","v":""}]
["UMR AKRS EQUIPMENT SOLUTIONS INC",null,{"$f":"IF(ISNUMBER(FIND(\"MEDICAID\",A3617)),\"X\",\"\")","v":""},{"$f":"IF(ISNUMBER(FIND(\"MEDICARE\",A3617)),\"X\",\"\")","v":""},{"$f":"IF(ISNUMBER(FIND(\"BC/BS\",#REF!)),\"X\",\"\")","v":""}]
["UMR ALECTO HEALTHCARE SERVICES LLC",null,{"$f":"IF(ISNUMBER(FIND(\"MEDICAID\",A3618)),\"X\",\"\")","v":""},{"$f":"IF(ISNUMBER(FIND(\"MEDICARE\",A3618)),\"X\",\"\")","v":""},{"$f":"IF(ISNUMBER(FIND(\"BC/BS\",#REF!)),\"X\",\"\")","v":""}]
["UMR ALERA GROUP INC",null,{"$f":"IF(ISNUMBER(FIND(\"MEDICAID\",A3619)),\"X\",\"\")","v":""},{"$f":"IF(ISNUMBER(FIND(\"MEDICARE\",A3619)),\"X\",\"\")","v":""},{"$f":"IF(ISNUMBER(FIND(\"BC/BS\",#REF!)),\"X\",\"\")","v":""}]
["UMR ALFRED NICKLES BAKERY INC",null,{"$f":"IF(ISNUMBER(FIND(\"MEDICAID\",A3620)),\"X\",\"\")","v":""},{"$f":"IF(ISNUMBER(FIND(\"MEDICARE\",A3620)),\"X\",\"\")","v":""},{"$f":"IF(ISNUMBER(FIND(\"BC/BS\",#REF!)),\"X\",\"\")","v":""}]
["UMR ALIXPARTNERS LLP",null,{"$f":"IF(ISNUMBER(FIND(\"MEDICAID\",A3621)),\"X\",\"\")","v":""},{"$f":"IF(ISNUMBER(FIND(\"MEDICARE\",A3621)),\"X\",\"\")","v":""},{"$f":"IF(ISNUMBER(FIND(\"BC/BS\",#REF!)),\"X\",\"\")","v":""}]
["UMR ALL ABOARD AMERICA HOLDINGS INC",null,{"$f":"IF(ISNUMBER(FIND(\"MEDICAID\",A3622)),\"X\",\"\")","v":""},{"$f":"IF(ISNUMBER(FIND(\"MEDICARE\",A3622)),\"X\",\"\")","v":""},{"$f":"IF(ISNUMBER(FIND(\"BC/BS\",#REF!)),\"X\",\"\")","v":""}]
["UMR ALLIANCE MATERIAL HANDLING INC",null,{"$f":"IF(ISNUMBER(FIND(\"MEDICAID\",A3623)),\"X\",\"\")","v":""},{"$f":"IF(ISNUMBER(FIND(\"MEDICARE\",A3623)),\"X\",\"\")","v":""},{"$f":"IF(ISNUMBER(FIND(\"BC/BS\",#REF!)),\"X\",\"\")","v":""}]
["UMR ALPINE INTEL HOLDINGS LLC",null,{"$f":"IF(ISNUMBER(FIND(\"MEDICAID\",A3624)),\"X\",\"\")","v":""},{"$f":"IF(ISNUMBER(FIND(\"MEDICARE\",A3624)),\"X\",\"\")","v":""},{"$f":"IF(ISNUMBER(FIND(\"BC/BS\",#REF!)),\"X\",\"\")","v":""}]
["UMR ALPINE LUMBER COMPANY",null,{"$f":"IF(ISNUMBER(FIND(\"MEDICAID\",A3625)),\"X\",\"\")","v":""},{"$f":"IF(ISNUMBER(FIND(\"MEDICARE\",A3625)),\"X\",\"\")","v":""},{"$f":"IF(ISNUMBER(FIND(\"BC/BS\",#REF!)),\"X\",\"\")","v":""}]
["UMR ALTERNATE SOLUTIONS HEALTH NETWORK LLC",null,{"$f":"IF(ISNUMBER(FIND(\"MEDICAID\",A3626)),\"X\",\"\")","v":""},{"$f":"IF(ISNUMBER(FIND(\"MEDICARE\",A3626)),\"X\",\"\")","v":""},{"$f":"IF(ISNUMBER(FIND(\"BC/BS\",#REF!)),\"X\",\"\")","v":""}]
["UMR ALTO INGREDIENTS INC",null,{"$f":"IF(ISNUMBER(FIND(\"MEDICAID\",A3627)),\"X\",\"\")","v":""},{"$f":"IF(ISNUMBER(FIND(\"MEDICARE\",A3627)),\"X\",\"\")","v":""},{"$f":"IF(ISNUMBER(FIND(\"BC/BS\",#REF!)),\"X\",\"\")","v":""}]
["UMR ALTON STEEL INC",null,{"$f":"IF(ISNUMBER(FIND(\"MEDICAID\",A3628)),\"X\",\"\")","v":""},{"$f":"IF(ISNUMBER(FIND(\"MEDICARE\",A3628)),\"X\",\"\")","v":""},{"$f":"IF(ISNUMBER(FIND(\"BC/BS\",#REF!)),\"X\",\"\")","v":""}]
["UMR AMBIOPHARM INC",null,{"$f":"IF(ISNUMBER(FIND(\"MEDICAID\",A3629)),\"X\",\"\")","v":""},{"$f":"IF(ISNUMBER(FIND(\"MEDICARE\",A3629)),\"X\",\"\")","v":""},{"$f":"IF(ISNUMBER(FIND(\"BC/BS\",#REF!)),\"X\",\"\")","v":""}]
["UMR AMERICAN HEALTHCARE SYSTEMS LLC",null,{"$f":"IF(ISNUMBER(FIND(\"MEDICAID\",A3630)),\"X\",\"\")","v":""},{"$f":"IF(ISNUMBER(FIND(\"MEDICARE\",A3630)),\"X\",\"\")","v":""},{"$f":"IF(ISNUMBER(FIND(\"BC/BS\",#REF!)),\"X\",\"\")","v":""}]
["UMR AMERICAN NATIONAL BANK",null,{"$f":"IF(ISNUMBER(FIND(\"MEDICAID\",A3631)),\"X\",\"\")","v":""},{"$f":"IF(ISNUMBER(FIND(\"MEDICARE\",A3631)),\"X\",\"\")","v":""},{"$f":"IF(ISNUMBER(FIND(\"BC/BS\",#REF!)),\"X\",\"\")","v":""}]
["UMR AMERICAN PULVERIZER",null,{"$f":"IF(ISNUMBER(FIND(\"MEDICAID\",A3632)),\"X\",\"\")","v":""},{"$f":"IF(ISNUMBER(FIND(\"MEDICARE\",A3632)),\"X\",\"\")","v":""},{"$f":"IF(ISNUMBER(FIND(\"BC/BS\",#REF!)),\"X\",\"\")","v":""}]
["UMR AMERICA'S CAR MART INC",null,{"$f":"IF(ISNUMBER(FIND(\"MEDICAID\",A3633)),\"X\",\"\")","v":""},{"$f":"IF(ISNUMBER(FIND(\"MEDICARE\",A3633)),\"X\",\"\")","v":""},{"$f":"IF(ISNUMBER(FIND(\"BC/BS\",#REF!)),\"X\",\"\")","v":""}]
["UMR AMERITAS HOLDING COMPANY",null,{"$f":"IF(ISNUMBER(FIND(\"MEDICAID\",A3634)),\"X\",\"\")","v":""},{"$f":"IF(ISNUMBER(FIND(\"MEDICARE\",A3634)),\"X\",\"\")","v":""},{"$f":"IF(ISNUMBER(FIND(\"BC/BS\",#REF!)),\"X\",\"\")","v":""}]
["UMR AMPAC",null,{"$f":"IF(ISNUMBER(FIND(\"MEDICAID\",A3635)),\"X\",\"\")","v":""},{"$f":"IF(ISNUMBER(FIND(\"MEDICARE\",A3635)),\"X\",\"\")","v":""},{"$f":"IF(ISNUMBER(FIND(\"BC/BS\",#REF!)),\"X\",\"\")","v":""}]
["UMR AMUNEAL MANUFACTURING CORPORATION",null,{"$f":"IF(ISNUMBER(FIND(\"MEDICAID\",A3636)),\"X\",\"\")","v":""},{"$f":"IF(ISNUMBER(FIND(\"MEDICARE\",A3636)),\"X\",\"\")","v":""},{"$f":"IF(ISNUMBER(FIND(\"BC/BS\",#REF!)),\"X\",\"\")","v":""}]
["UMR ANDERS",null,{"$f":"IF(ISNUMBER(FIND(\"MEDICAID\",A3637)),\"X\",\"\")","v":""},{"$f":"IF(ISNUMBER(FIND(\"MEDICARE\",A3637)),\"X\",\"\")","v":""},{"$f":"IF(ISNUMBER(FIND(\"BC/BS\",#REF!)),\"X\",\"\")","v":""}]
["UMR ANDERSON AUTO GROUP",null,{"$f":"IF(ISNUMBER(FIND(\"MEDICAID\",A3638)),\"X\",\"\")","v":""},{"$f":"IF(ISNUMBER(FIND(\"MEDICARE\",A3638)),\"X\",\"\")","v":""},{"$f":"IF(ISNUMBER(FIND(\"BC/BS\",#REF!)),\"X\",\"\")","v":""}]
["UMR ANDERSON LOCK COMPANY",null,{"$f":"IF(ISNUMBER(FIND(\"MEDICAID\",A3639)),\"X\",\"\")","v":""},{"$f":"IF(ISNUMBER(FIND(\"MEDICARE\",A3639)),\"X\",\"\")","v":""},{"$f":"IF(ISNUMBER(FIND(\"BC/BS\",#REF!)),\"X\",\"\")","v":""}]
["UMR ANDERSON PROCESS",null,{"$f":"IF(ISNUMBER(FIND(\"MEDICAID\",A3640)),\"X\",\"\")","v":""},{"$f":"IF(ISNUMBER(FIND(\"MEDICARE\",A3640)),\"X\",\"\")","v":""},{"$f":"IF(ISNUMBER(FIND(\"BC/BS\",#REF!)),\"X\",\"\")","v":""}]
["UMR ANDREW AND SONS LLC",null,{"$f":"IF(ISNUMBER(FIND(\"MEDICAID\",A3641)),\"X\",\"\")","v":""},{"$f":"IF(ISNUMBER(FIND(\"MEDICARE\",A3641)),\"X\",\"\")","v":""},{"$f":"IF(ISNUMBER(FIND(\"BC/BS\",#REF!)),\"X\",\"\")","v":""}]
["UMR ANSIBLE GOVERNMENT SOLUTIONS LLC",null,{"$f":"IF(ISNUMBER(FIND(\"MEDICAID\",A3642)),\"X\",\"\")","v":""},{"$f":"IF(ISNUMBER(FIND(\"MEDICARE\",A3642)),\"X\",\"\")","v":""},{"$f":"IF(ISNUMBER(FIND(\"BC/BS\",#REF!)),\"X\",\"\")","v":""}]
["UMR APEX PHYSICAL THERAPY LLC",null,{"$f":"IF(ISNUMBER(FIND(\"MEDICAID\",A3643)),\"X\",\"\")","v":""},{"$f":"IF(ISNUMBER(FIND(\"MEDICARE\",A3643)),\"X\",\"\")","v":""},{"$f":"IF(ISNUMBER(FIND(\"BC/BS\",#REF!)),\"X\",\"\")","v":""}]
["UMR APEX SERVICE PARTNERS LLC",null,{"$f":"IF(ISNUMBER(FIND(\"MEDICAID\",A3644)),\"X\",\"\")","v":""},{"$f":"IF(ISNUMBER(FIND(\"MEDICARE\",A3644)),\"X\",\"\")","v":""},{"$f":"IF(ISNUMBER(FIND(\"BC/BS\",#REF!)),\"X\",\"\")","v":""}]
["UMR APPLE LEISURE GROUP",null,{"$f":"IF(ISNUMBER(FIND(\"MEDICAID\",A3645)),\"X\",\"\")","v":""},{"$f":"IF(ISNUMBER(FIND(\"MEDICARE\",A3645)),\"X\",\"\")","v":""},{"$f":"IF(ISNUMBER(FIND(\"BC/BS\",#REF!)),\"X\",\"\")","v":""}]
["UMR ARCH RESOURCES INC",null,{"$f":"IF(ISNUMBER(FIND(\"MEDICAID\",A3646)),\"X\",\"\")","v":""},{"$f":"IF(ISNUMBER(FIND(\"MEDICARE\",A3646)),\"X\",\"\")","v":""},{"$f":"IF(ISNUMBER(FIND(\"BC/BS\",#REF!)),\"X\",\"\")","v":""}]
["UMR ARCHDIOCESE OF INDIANAPOLIS",null,{"$f":"IF(ISNUMBER(FIND(\"MEDICAID\",A3647)),\"X\",\"\")","v":""},{"$f":"IF(ISNUMBER(FIND(\"MEDICARE\",A3647)),\"X\",\"\")","v":""},{"$f":"IF(ISNUMBER(FIND(\"BC/BS\",#REF!)),\"X\",\"\")","v":""}]
["UMR ARIEL CORPORATION",null,{"$f":"IF(ISNUMBER(FIND(\"MEDICAID\",A3648)),\"X\",\"\")","v":""},{"$f":"IF(ISNUMBER(FIND(\"MEDICARE\",A3648)),\"X\",\"\")","v":""},{"$f":"IF(ISNUMBER(FIND(\"BC/BS\",#REF!)),\"X\",\"\")","v":""}]
["UMR ARK LA TEX FINANCIAL SERVICES LLC",null,{"$f":"IF(ISNUMBER(FIND(\"MEDICAID\",A3649)),\"X\",\"\")","v":""},{"$f":"IF(ISNUMBER(FIND(\"MEDICARE\",A3649)),\"X\",\"\")","v":""},{"$f":"IF(ISNUMBER(FIND(\"BC/BS\",#REF!)),\"X\",\"\")","v":""}]
["UMR ARKANSAS MILL SUPPLY COMPANY",null,{"$f":"IF(ISNUMBER(FIND(\"MEDICAID\",A3650)),\"X\",\"\")","v":""},{"$f":"IF(ISNUMBER(FIND(\"MEDICARE\",A3650)),\"X\",\"\")","v":""},{"$f":"IF(ISNUMBER(FIND(\"BC/BS\",#REF!)),\"X\",\"\")","v":""}]
["UMR ARKANSAS SURGICAL HOSPITAL",null,{"$f":"IF(ISNUMBER(FIND(\"MEDICAID\",A3651)),\"X\",\"\")","v":""},{"$f":"IF(ISNUMBER(FIND(\"MEDICARE\",A3651)),\"X\",\"\")","v":""},{"$f":"IF(ISNUMBER(FIND(\"BC/BS\",#REF!)),\"X\",\"\")","v":""}]
["UMR ARLINGTON ROE COMPANY INC",null,{"$f":"IF(ISNUMBER(FIND(\"MEDICAID\",A3652)),\"X\",\"\")","v":""},{"$f":"IF(ISNUMBER(FIND(\"MEDICARE\",A3652)),\"X\",\"\")","v":""},{"$f":"IF(ISNUMBER(FIND(\"BC/BS\",#REF!)),\"X\",\"\")","v":""}]
["UMR ARMSTRONG INTERNATIONAL INC",null,{"$f":"IF(ISNUMBER(FIND(\"MEDICAID\",A3653)),\"X\",\"\")","v":""},{"$f":"IF(ISNUMBER(FIND(\"MEDICARE\",A3653)),\"X\",\"\")","v":""},{"$f":"IF(ISNUMBER(FIND(\"BC/BS\",#REF!)),\"X\",\"\")","v":""}]
["UMR ASH BROKERAGE LLC",null,{"$f":"IF(ISNUMBER(FIND(\"MEDICAID\",A3654)),\"X\",\"\")","v":""},{"$f":"IF(ISNUMBER(FIND(\"MEDICARE\",A3654)),\"X\",\"\")","v":""},{"$f":"IF(ISNUMBER(FIND(\"BC/BS\",#REF!)),\"X\",\"\")","v":""}]
["UMR ASSET HEALTH INC",null,{"$f":"IF(ISNUMBER(FIND(\"MEDICAID\",A3655)),\"X\",\"\")","v":""},{"$f":"IF(ISNUMBER(FIND(\"MEDICARE\",A3655)),\"X\",\"\")","v":""},{"$f":"IF(ISNUMBER(FIND(\"BC/BS\",#REF!)),\"X\",\"\")","v":""}]
["UMR ASSOCIATED CREDIT UNION",null,{"$f":"IF(ISNUMBER(FIND(\"MEDICAID\",A3656)),\"X\",\"\")","v":""},{"$f":"IF(ISNUMBER(FIND(\"MEDICARE\",A3656)),\"X\",\"\")","v":""},{"$f":"IF(ISNUMBER(FIND(\"BC/BS\",#REF!)),\"X\",\"\")","v":""}]
["UMR ASSUREDPARTNERS",null,{"$f":"IF(ISNUMBER(FIND(\"MEDICAID\",A3657)),\"X\",\"\")","v":""},{"$f":"IF(ISNUMBER(FIND(\"MEDICARE\",A3657)),\"X\",\"\")","v":""},{"$f":"IF(ISNUMBER(FIND(\"BC/BS\",#REF!)),\"X\",\"\")","v":""}]
["UMR ATHENS COUNTY SCHOOLS CONSORTIUM",null,{"$f":"IF(ISNUMBER(FIND(\"MEDICAID\",A3658)),\"X\",\"\")","v":""},{"$f":"IF(ISNUMBER(FIND(\"MEDICARE\",A3658)),\"X\",\"\")","v":""},{"$f":"IF(ISNUMBER(FIND(\"BC/BS\",#REF!)),\"X\",\"\")","v":""}]
["UMR ATLAS CAPITAL SERVICES INC",null,{"$f":"IF(ISNUMBER(FIND(\"MEDICAID\",A3659)),\"X\",\"\")","v":""},{"$f":"IF(ISNUMBER(FIND(\"MEDICARE\",A3659)),\"X\",\"\")","v":""},{"$f":"IF(ISNUMBER(FIND(\"BC/BS\",#REF!)),\"X\",\"\")","v":""}]
["UMR ATLAS WORLD GROUP INC",null,{"$f":"IF(ISNUMBER(FIND(\"MEDICAID\",A3660)),\"X\",\"\")","v":""},{"$f":"IF(ISNUMBER(FIND(\"MEDICARE\",A3660)),\"X\",\"\")","v":""},{"$f":"IF(ISNUMBER(FIND(\"BC/BS\",#REF!)),\"X\",\"\")","v":""}]
["UMR ATRIUM HOSPITALITY",null,{"$f":"IF(ISNUMBER(FIND(\"MEDICAID\",A3661)),\"X\",\"\")","v":""},{"$f":"IF(ISNUMBER(FIND(\"MEDICARE\",A3661)),\"X\",\"\")","v":""},{"$f":"IF(ISNUMBER(FIND(\"BC/BS\",#REF!)),\"X\",\"\")","v":""}]
["UMR AUDACY OPERATIONS INC",null,{"$f":"IF(ISNUMBER(FIND(\"MEDICAID\",A3662)),\"X\",\"\")","v":""},{"$f":"IF(ISNUMBER(FIND(\"MEDICARE\",A3662)),\"X\",\"\")","v":""},{"$f":"IF(ISNUMBER(FIND(\"BC/BS\",#REF!)),\"X\",\"\")","v":""}]
["UMR AUFFENBERG DEALER GROUP",null,{"$f":"IF(ISNUMBER(FIND(\"MEDICAID\",A3663)),\"X\",\"\")","v":""},{"$f":"IF(ISNUMBER(FIND(\"MEDICARE\",A3663)),\"X\",\"\")","v":""},{"$f":"IF(ISNUMBER(FIND(\"BC/BS\",#REF!)),\"X\",\"\")","v":""}]
["UMR AUGLAIZE COUNTY MEBC",null,{"$f":"IF(ISNUMBER(FIND(\"MEDICAID\",A3664)),\"X\",\"\")","v":""},{"$f":"IF(ISNUMBER(FIND(\"MEDICARE\",A3664)),\"X\",\"\")","v":""},{"$f":"IF(ISNUMBER(FIND(\"BC/BS\",#REF!)),\"X\",\"\")","v":""}]
["UMR AUTISM CENTER OF NEBRASKA INC",null,{"$f":"IF(ISNUMBER(FIND(\"MEDICAID\",A3665)),\"X\",\"\")","v":""},{"$f":"IF(ISNUMBER(FIND(\"MEDICARE\",A3665)),\"X\",\"\")","v":""},{"$f":"IF(ISNUMBER(FIND(\"BC/BS\",#REF!)),\"X\",\"\")","v":""}]
["UMR AVALIGN TECHNOLOGIES INC",null,{"$f":"IF(ISNUMBER(FIND(\"MEDICAID\",A3666)),\"X\",\"\")","v":""},{"$f":"IF(ISNUMBER(FIND(\"MEDICARE\",A3666)),\"X\",\"\")","v":""},{"$f":"IF(ISNUMBER(FIND(\"BC/BS\",#REF!)),\"X\",\"\")","v":""}]
["UMR AVON COMMUNITY SCHOOL CORPORATION",null,{"$f":"IF(ISNUMBER(FIND(\"MEDICAID\",A3667)),\"X\",\"\")","v":""},{"$f":"IF(ISNUMBER(FIND(\"MEDICARE\",A3667)),\"X\",\"\")","v":""},{"$f":"IF(ISNUMBER(FIND(\"BC/BS\",#REF!)),\"X\",\"\")","v":""}]
["UMR BAKER CONSTRUCTION ENTERPRISES INC",null,{"$f":"IF(ISNUMBER(FIND(\"MEDICAID\",A3668)),\"X\",\"\")","v":""},{"$f":"IF(ISNUMBER(FIND(\"MEDICARE\",A3668)),\"X\",\"\")","v":""},{"$f":"IF(ISNUMBER(FIND(\"BC/BS\",#REF!)),\"X\",\"\")","v":""}]
["UMR BALFOUR SENIOR LIVING",null,{"$f":"IF(ISNUMBER(FIND(\"MEDICAID\",A3669)),\"X\",\"\")","v":""},{"$f":"IF(ISNUMBER(FIND(\"MEDICARE\",A3669)),\"X\",\"\")","v":""},{"$f":"IF(ISNUMBER(FIND(\"BC/BS\",#REF!)),\"X\",\"\")","v":""}]
["UMR BALLUFF INC",null,{"$f":"IF(ISNUMBER(FIND(\"MEDICAID\",A3670)),\"X\",\"\")","v":""},{"$f":"IF(ISNUMBER(FIND(\"MEDICARE\",A3670)),\"X\",\"\")","v":""},{"$f":"IF(ISNUMBER(FIND(\"BC/BS\",#REF!)),\"X\",\"\")","v":""}]
["UMR BANE WELKER EQUIPMENT LLC",null,{"$f":"IF(ISNUMBER(FIND(\"MEDICAID\",A3671)),\"X\",\"\")","v":""},{"$f":"IF(ISNUMBER(FIND(\"MEDICARE\",A3671)),\"X\",\"\")","v":""},{"$f":"IF(ISNUMBER(FIND(\"BC/BS\",#REF!)),\"X\",\"\")","v":""}]
["UMR BARRY WEHMILLER COMPANIES INC",null,{"$f":"IF(ISNUMBER(FIND(\"MEDICAID\",A3672)),\"X\",\"\")","v":""},{"$f":"IF(ISNUMBER(FIND(\"MEDICARE\",A3672)),\"X\",\"\")","v":""},{"$f":"IF(ISNUMBER(FIND(\"BC/BS\",#REF!)),\"X\",\"\")","v":""}]
["UMR BCI SOLUTIONS INC",null,{"$f":"IF(ISNUMBER(FIND(\"MEDICAID\",A3673)),\"X\",\"\")","v":""},{"$f":"IF(ISNUMBER(FIND(\"MEDICARE\",A3673)),\"X\",\"\")","v":""},{"$f":"IF(ISNUMBER(FIND(\"BC/BS\",#REF!)),\"X\",\"\")","v":""}]
["UMR BEAUMONT HEALTH",null,{"$f":"IF(ISNUMBER(FIND(\"MEDICAID\",A3674)),\"X\",\"\")","v":""},{"$f":"IF(ISNUMBER(FIND(\"MEDICARE\",A3674)),\"X\",\"\")","v":""},{"$f":"IF(ISNUMBER(FIND(\"BC/BS\",#REF!)),\"X\",\"\")","v":""}]
["UMR BELLETECH CORPORATION",null,{"$f":"IF(ISNUMBER(FIND(\"MEDICAID\",A3675)),\"X\",\"\")","v":""},{"$f":"IF(ISNUMBER(FIND(\"MEDICARE\",A3675)),\"X\",\"\")","v":""},{"$f":"IF(ISNUMBER(FIND(\"BC/BS\",#REF!)),\"X\",\"\")","v":""}]
["UMR BELMARK INC",null,{"$f":"IF(ISNUMBER(FIND(\"MEDICAID\",A3676)),\"X\",\"\")","v":""},{"$f":"IF(ISNUMBER(FIND(\"MEDICARE\",A3676)),\"X\",\"\")","v":""},{"$f":"IF(ISNUMBER(FIND(\"BC/BS\",#REF!)),\"X\",\"\")","v":""}]
["UMR BELTSERVICE CORPORATION",null,{"$f":"IF(ISNUMBER(FIND(\"MEDICAID\",A3677)),\"X\",\"\")","v":""},{"$f":"IF(ISNUMBER(FIND(\"MEDICARE\",A3677)),\"X\",\"\")","v":""},{"$f":"IF(ISNUMBER(FIND(\"BC/BS\",#REF!)),\"X\",\"\")","v":""}]
["UMR BEST POINT",null,{"$f":"IF(ISNUMBER(FIND(\"MEDICAID\",A3678)),\"X\",\"\")","v":""},{"$f":"IF(ISNUMBER(FIND(\"MEDICARE\",A3678)),\"X\",\"\")","v":""},{"$f":"IF(ISNUMBER(FIND(\"BC/BS\",#REF!)),\"X\",\"\")","v":""}]
["UMR BIG D CONSTRUCTION",null,{"$f":"IF(ISNUMBER(FIND(\"MEDICAID\",A3679)),\"X\",\"\")","v":""},{"$f":"IF(ISNUMBER(FIND(\"MEDICARE\",A3679)),\"X\",\"\")","v":""},{"$f":"IF(ISNUMBER(FIND(\"BC/BS\",#REF!)),\"X\",\"\")","v":""}]
["UMR BIG Y FOODS INC",null,{"$f":"IF(ISNUMBER(FIND(\"MEDICAID\",A3680)),\"X\",\"\")","v":""},{"$f":"IF(ISNUMBER(FIND(\"MEDICARE\",A3680)),\"X\",\"\")","v":""},{"$f":"IF(ISNUMBER(FIND(\"BC/BS\",#REF!)),\"X\",\"\")","v":""}]
["UMR BILLINGSLEY PROPERTY SERVICES",null,{"$f":"IF(ISNUMBER(FIND(\"MEDICAID\",A3681)),\"X\",\"\")","v":""},{"$f":"IF(ISNUMBER(FIND(\"MEDICARE\",A3681)),\"X\",\"\")","v":""},{"$f":"IF(ISNUMBER(FIND(\"BC/BS\",#REF!)),\"X\",\"\")","v":""}]
["UMR BIOMERIEUX INC",null,{"$f":"IF(ISNUMBER(FIND(\"MEDICAID\",A3682)),\"X\",\"\")","v":""},{"$f":"IF(ISNUMBER(FIND(\"MEDICARE\",A3682)),\"X\",\"\")","v":""},{"$f":"IF(ISNUMBER(FIND(\"BC/BS\",#REF!)),\"X\",\"\")","v":""}]
["UMR BLACK EQUIPMENT COMPANY",null,{"$f":"IF(ISNUMBER(FIND(\"MEDICAID\",A3683)),\"X\",\"\")","v":""},{"$f":"IF(ISNUMBER(FIND(\"MEDICARE\",A3683)),\"X\",\"\")","v":""},{"$f":"IF(ISNUMBER(FIND(\"BC/BS\",#REF!)),\"X\",\"\")","v":""}]
["UMR BMO FINANCIAL CORP",null,{"$f":"IF(ISNUMBER(FIND(\"MEDICAID\",A3684)),\"X\",\"\")","v":""},{"$f":"IF(ISNUMBER(FIND(\"MEDICARE\",A3684)),\"X\",\"\")","v":""},{"$f":"IF(ISNUMBER(FIND(\"BC/BS\",#REF!)),\"X\",\"\")","v":""}]
["UMR BOB MILLS FURNITURE CO LLC",null,{"$f":"IF(ISNUMBER(FIND(\"MEDICAID\",A3685)),\"X\",\"\")","v":""},{"$f":"IF(ISNUMBER(FIND(\"MEDICARE\",A3685)),\"X\",\"\")","v":""},{"$f":"IF(ISNUMBER(FIND(\"BC/BS\",#REF!)),\"X\",\"\")","v":""}]
["UMR BOBCAT CONTRACTING LLC",null,{"$f":"IF(ISNUMBER(FIND(\"MEDICAID\",A3686)),\"X\",\"\")","v":""},{"$f":"IF(ISNUMBER(FIND(\"MEDICARE\",A3686)),\"X\",\"\")","v":""},{"$f":"IF(ISNUMBER(FIND(\"BC/BS\",#REF!)),\"X\",\"\")","v":""}]
["UMR BOOKSOURCE",null,{"$f":"IF(ISNUMBER(FIND(\"MEDICAID\",A3687)),\"X\",\"\")","v":""},{"$f":"IF(ISNUMBER(FIND(\"MEDICARE\",A3687)),\"X\",\"\")","v":""},{"$f":"IF(ISNUMBER(FIND(\"BC/BS\",#REF!)),\"X\",\"\")","v":""}]
["UMR BORSHEIM JEWELRY CO INC",null,{"$f":"IF(ISNUMBER(FIND(\"MEDICAID\",A3688)),\"X\",\"\")","v":""},{"$f":"IF(ISNUMBER(FIND(\"MEDICARE\",A3688)),\"X\",\"\")","v":""},{"$f":"IF(ISNUMBER(FIND(\"BC/BS\",#REF!)),\"X\",\"\")","v":""}]
["UMR BOSTON SCIENTIFIC CORPORATION",null,{"$f":"IF(ISNUMBER(FIND(\"MEDICAID\",A3689)),\"X\",\"\")","v":""},{"$f":"IF(ISNUMBER(FIND(\"MEDICARE\",A3689)),\"X\",\"\")","v":""},{"$f":"IF(ISNUMBER(FIND(\"BC/BS\",#REF!)),\"X\",\"\")","v":""}]
["UMR BOWEN CENTER",null,{"$f":"IF(ISNUMBER(FIND(\"MEDICAID\",A3690)),\"X\",\"\")","v":""},{"$f":"IF(ISNUMBER(FIND(\"MEDICARE\",A3690)),\"X\",\"\")","v":""},{"$f":"IF(ISNUMBER(FIND(\"BC/BS\",#REF!)),\"X\",\"\")","v":""}]
["UMR BRAVO BRIO RESTAURANTS",null,{"$f":"IF(ISNUMBER(FIND(\"MEDICAID\",A3691)),\"X\",\"\")","v":""},{"$f":"IF(ISNUMBER(FIND(\"MEDICARE\",A3691)),\"X\",\"\")","v":""},{"$f":"IF(ISNUMBER(FIND(\"BC/BS\",#REF!)),\"X\",\"\")","v":""}]
["UMR BREWER SCIENCE INC",null,{"$f":"IF(ISNUMBER(FIND(\"MEDICAID\",A3692)),\"X\",\"\")","v":""},{"$f":"IF(ISNUMBER(FIND(\"MEDICARE\",A3692)),\"X\",\"\")","v":""},{"$f":"IF(ISNUMBER(FIND(\"BC/BS\",#REF!)),\"X\",\"\")","v":""}]
["UMR BRISKHEAT CORPORATION",null,{"$f":"IF(ISNUMBER(FIND(\"MEDICAID\",A3693)),\"X\",\"\")","v":""},{"$f":"IF(ISNUMBER(FIND(\"MEDICARE\",A3693)),\"X\",\"\")","v":""},{"$f":"IF(ISNUMBER(FIND(\"BC/BS\",#REF!)),\"X\",\"\")","v":""}]
["UMR BROOKWOOD SCHOOL INC",null,{"$f":"IF(ISNUMBER(FIND(\"MEDICAID\",A3694)),\"X\",\"\")","v":""},{"$f":"IF(ISNUMBER(FIND(\"MEDICARE\",A3694)),\"X\",\"\")","v":""},{"$f":"IF(ISNUMBER(FIND(\"BC/BS\",#REF!)),\"X\",\"\")","v":""}]
["UMR BUDDEEZ INC",null,{"$f":"IF(ISNUMBER(FIND(\"MEDICAID\",A3695)),\"X\",\"\")","v":""},{"$f":"IF(ISNUMBER(FIND(\"MEDICARE\",A3695)),\"X\",\"\")","v":""},{"$f":"IF(ISNUMBER(FIND(\"BC/BS\",#REF!)),\"X\",\"\")","v":""}]
["UMR BUILDERS SUPPLY CO INC",null,{"$f":"IF(ISNUMBER(FIND(\"MEDICAID\",A3696)),\"X\",\"\")","v":""},{"$f":"IF(ISNUMBER(FIND(\"MEDICARE\",A3696)),\"X\",\"\")","v":""},{"$f":"IF(ISNUMBER(FIND(\"BC/BS\",#REF!)),\"X\",\"\")","v":""}]
["UMR BUTLER SUPPLY INC",null,{"$f":"IF(ISNUMBER(FIND(\"MEDICAID\",A3697)),\"X\",\"\")","v":""},{"$f":"IF(ISNUMBER(FIND(\"MEDICARE\",A3697)),\"X\",\"\")","v":""},{"$f":"IF(ISNUMBER(FIND(\"BC/BS\",#REF!)),\"X\",\"\")","v":""}]
["UMR BUTLER UNIVERSITY",null,{"$f":"IF(ISNUMBER(FIND(\"MEDICAID\",A3698)),\"X\",\"\")","v":""},{"$f":"IF(ISNUMBER(FIND(\"MEDICARE\",A3698)),\"X\",\"\")","v":""},{"$f":"IF(ISNUMBER(FIND(\"BC/BS\",#REF!)),\"X\",\"\")","v":""}]
["UMR C R ENGLAND INC",null,{"$f":"IF(ISNUMBER(FIND(\"MEDICAID\",A3699)),\"X\",\"\")","v":""},{"$f":"IF(ISNUMBER(FIND(\"MEDICARE\",A3699)),\"X\",\"\")","v":""},{"$f":"IF(ISNUMBER(FIND(\"BC/BS\",#REF!)),\"X\",\"\")","v":""}]
["UMR C S MACHINE PRODUCTS INC",null,{"$f":"IF(ISNUMBER(FIND(\"MEDICAID\",A3700)),\"X\",\"\")","v":""},{"$f":"IF(ISNUMBER(FIND(\"MEDICARE\",A3700)),\"X\",\"\")","v":""},{"$f":"IF(ISNUMBER(FIND(\"BC/BS\",#REF!)),\"X\",\"\")","v":""}]
["UMR CABINETRY HOLDINGS CORP",null,{"$f":"IF(ISNUMBER(FIND(\"MEDICAID\",A3701)),\"X\",\"\")","v":""},{"$f":"IF(ISNUMBER(FIND(\"MEDICARE\",A3701)),\"X\",\"\")","v":""},{"$f":"IF(ISNUMBER(FIND(\"BC/BS\",#REF!)),\"X\",\"\")","v":""}]
["UMR CAIDAN MANAGEMENT COMPANY LLC",null,{"$f":"IF(ISNUMBER(FIND(\"MEDICAID\",A3702)),\"X\",\"\")","v":""},{"$f":"IF(ISNUMBER(FIND(\"MEDICARE\",A3702)),\"X\",\"\")","v":""},{"$f":"IF(ISNUMBER(FIND(\"BC/BS\",#REF!)),\"X\",\"\")","v":""}]
["UMR CAL MAINE FOODS INC PREMIUM PAYMENT PLAN",null,{"$f":"IF(ISNUMBER(FIND(\"MEDICAID\",A3703)),\"X\",\"\")","v":""},{"$f":"IF(ISNUMBER(FIND(\"MEDICARE\",A3703)),\"X\",\"\")","v":""},{"$f":"IF(ISNUMBER(FIND(\"BC/BS\",#REF!)),\"X\",\"\")","v":""}]
["UMR CALCASIEU PARISH POLICE JURY",null,{"$f":"IF(ISNUMBER(FIND(\"MEDICAID\",A3704)),\"X\",\"\")","v":""},{"$f":"IF(ISNUMBER(FIND(\"MEDICARE\",A3704)),\"X\",\"\")","v":""},{"$f":"IF(ISNUMBER(FIND(\"BC/BS\",#REF!)),\"X\",\"\")","v":""}]
["UMR CALDWELL ACADEMY",null,{"$f":"IF(ISNUMBER(FIND(\"MEDICAID\",A3705)),\"X\",\"\")","v":""},{"$f":"IF(ISNUMBER(FIND(\"MEDICARE\",A3705)),\"X\",\"\")","v":""},{"$f":"IF(ISNUMBER(FIND(\"BC/BS\",#REF!)),\"X\",\"\")","v":""}]
["UMR CALDWELL TANKS INC",null,{"$f":"IF(ISNUMBER(FIND(\"MEDICAID\",A3706)),\"X\",\"\")","v":""},{"$f":"IF(ISNUMBER(FIND(\"MEDICARE\",A3706)),\"X\",\"\")","v":""},{"$f":"IF(ISNUMBER(FIND(\"BC/BS\",#REF!)),\"X\",\"\")","v":""}]
["UMR CAMCO MANUFACTURING INC",null,{"$f":"IF(ISNUMBER(FIND(\"MEDICAID\",A3707)),\"X\",\"\")","v":""},{"$f":"IF(ISNUMBER(FIND(\"MEDICARE\",A3707)),\"X\",\"\")","v":""},{"$f":"IF(ISNUMBER(FIND(\"BC/BS\",#REF!)),\"X\",\"\")","v":""}]
["UMR CAMELBACK SYSTEMS",null,{"$f":"IF(ISNUMBER(FIND(\"MEDICAID\",A3708)),\"X\",\"\")","v":""},{"$f":"IF(ISNUMBER(FIND(\"MEDICARE\",A3708)),\"X\",\"\")","v":""},{"$f":"IF(ISNUMBER(FIND(\"BC/BS\",#REF!)),\"X\",\"\")","v":""}]
["UMR CAMS",null,{"$f":"IF(ISNUMBER(FIND(\"MEDICAID\",A3709)),\"X\",\"\")","v":""},{"$f":"IF(ISNUMBER(FIND(\"MEDICARE\",A3709)),\"X\",\"\")","v":""},{"$f":"IF(ISNUMBER(FIND(\"BC/BS\",#REF!)),\"X\",\"\")","v":""}]
["UMR CANTERBURY SCHOOL",null,{"$f":"IF(ISNUMBER(FIND(\"MEDICAID\",A3710)),\"X\",\"\")","v":""},{"$f":"IF(ISNUMBER(FIND(\"MEDICARE\",A3710)),\"X\",\"\")","v":""},{"$f":"IF(ISNUMBER(FIND(\"BC/BS\",#REF!)),\"X\",\"\")","v":""}]
["UMR CANTON COUNTRY DAY SCHOOL",null,{"$f":"IF(ISNUMBER(FIND(\"MEDICAID\",A3711)),\"X\",\"\")","v":""},{"$f":"IF(ISNUMBER(FIND(\"MEDICARE\",A3711)),\"X\",\"\")","v":""},{"$f":"IF(ISNUMBER(FIND(\"BC/BS\",#REF!)),\"X\",\"\")","v":""}]
["UMR CAPITAL CREDIT UNION",null,{"$f":"IF(ISNUMBER(FIND(\"MEDICAID\",A3712)),\"X\",\"\")","v":""},{"$f":"IF(ISNUMBER(FIND(\"MEDICARE\",A3712)),\"X\",\"\")","v":""},{"$f":"IF(ISNUMBER(FIND(\"BC/BS\",#REF!)),\"X\",\"\")","v":""}]
["UMR CAPITAL SENIOR LIVING INC",null,{"$f":"IF(ISNUMBER(FIND(\"MEDICAID\",A3713)),\"X\",\"\")","v":""},{"$f":"IF(ISNUMBER(FIND(\"MEDICARE\",A3713)),\"X\",\"\")","v":""},{"$f":"IF(ISNUMBER(FIND(\"BC/BS\",#REF!)),\"X\",\"\")","v":""}]
["UMR CAPTAIN D S LLC",null,{"$f":"IF(ISNUMBER(FIND(\"MEDICAID\",A3714)),\"X\",\"\")","v":""},{"$f":"IF(ISNUMBER(FIND(\"MEDICARE\",A3714)),\"X\",\"\")","v":""},{"$f":"IF(ISNUMBER(FIND(\"BC/BS\",#REF!)),\"X\",\"\")","v":""}]
["UMR CAR PART COM",null,{"$f":"IF(ISNUMBER(FIND(\"MEDICAID\",A3715)),\"X\",\"\")","v":""},{"$f":"IF(ISNUMBER(FIND(\"MEDICARE\",A3715)),\"X\",\"\")","v":""},{"$f":"IF(ISNUMBER(FIND(\"BC/BS\",#REF!)),\"X\",\"\")","v":""}]
["UMR CARCO CAPITAL CORPORATION",null,{"$f":"IF(ISNUMBER(FIND(\"MEDICAID\",A3716)),\"X\",\"\")","v":""},{"$f":"IF(ISNUMBER(FIND(\"MEDICARE\",A3716)),\"X\",\"\")","v":""},{"$f":"IF(ISNUMBER(FIND(\"BC/BS\",#REF!)),\"X\",\"\")","v":""}]
["UMR CARESTAR INC",null,{"$f":"IF(ISNUMBER(FIND(\"MEDICAID\",A3717)),\"X\",\"\")","v":""},{"$f":"IF(ISNUMBER(FIND(\"MEDICARE\",A3717)),\"X\",\"\")","v":""},{"$f":"IF(ISNUMBER(FIND(\"BC/BS\",#REF!)),\"X\",\"\")","v":""}]
["UMR CAROLINA TRACTOR EQUIPMENT COMPANY INC",null,{"$f":"IF(ISNUMBER(FIND(\"MEDICAID\",A3718)),\"X\",\"\")","v":""},{"$f":"IF(ISNUMBER(FIND(\"MEDICARE\",A3718)),\"X\",\"\")","v":""},{"$f":"IF(ISNUMBER(FIND(\"BC/BS\",#REF!)),\"X\",\"\")","v":""}]
["UMR CARTHAGE AREA HOSPITAL",null,{"$f":"IF(ISNUMBER(FIND(\"MEDICAID\",A3719)),\"X\",\"\")","v":""},{"$f":"IF(ISNUMBER(FIND(\"MEDICARE\",A3719)),\"X\",\"\")","v":""},{"$f":"IF(ISNUMBER(FIND(\"BC/BS\",#REF!)),\"X\",\"\")","v":""}]
["UMR CARTI",null,{"$f":"IF(ISNUMBER(FIND(\"MEDICAID\",A3720)),\"X\",\"\")","v":""},{"$f":"IF(ISNUMBER(FIND(\"MEDICARE\",A3720)),\"X\",\"\")","v":""},{"$f":"IF(ISNUMBER(FIND(\"BC/BS\",#REF!)),\"X\",\"\")","v":""}]
["UMR CASE ASSOCIATES PROPERTIES INC",null,{"$f":"IF(ISNUMBER(FIND(\"MEDICAID\",A3721)),\"X\",\"\")","v":""},{"$f":"IF(ISNUMBER(FIND(\"MEDICARE\",A3721)),\"X\",\"\")","v":""},{"$f":"IF(ISNUMBER(FIND(\"BC/BS\",#REF!)),\"X\",\"\")","v":""}]
["UMR CAVENDER EMPLOYEE BENEFIT PLAN",null,{"$f":"IF(ISNUMBER(FIND(\"MEDICAID\",A3722)),\"X\",\"\")","v":""},{"$f":"IF(ISNUMBER(FIND(\"MEDICARE\",A3722)),\"X\",\"\")","v":""},{"$f":"IF(ISNUMBER(FIND(\"BC/BS\",#REF!)),\"X\",\"\")","v":""}]
["UMR CAVENDER STORES LTD",null,{"$f":"IF(ISNUMBER(FIND(\"MEDICAID\",A3723)),\"X\",\"\")","v":""},{"$f":"IF(ISNUMBER(FIND(\"MEDICARE\",A3723)),\"X\",\"\")","v":""},{"$f":"IF(ISNUMBER(FIND(\"BC/BS\",#REF!)),\"X\",\"\")","v":""}]
["UMR CB RICHARD ELLIS RALEIGH LLC",null,{"$f":"IF(ISNUMBER(FIND(\"MEDICAID\",A3724)),\"X\",\"\")","v":""},{"$f":"IF(ISNUMBER(FIND(\"MEDICARE\",A3724)),\"X\",\"\")","v":""},{"$f":"IF(ISNUMBER(FIND(\"BC/BS\",#REF!)),\"X\",\"\")","v":""}]
["UMR CELERION INC",null,{"$f":"IF(ISNUMBER(FIND(\"MEDICAID\",A3725)),\"X\",\"\")","v":""},{"$f":"IF(ISNUMBER(FIND(\"MEDICARE\",A3725)),\"X\",\"\")","v":""},{"$f":"IF(ISNUMBER(FIND(\"BC/BS\",#REF!)),\"X\",\"\")","v":""}]
["UMR CEMENT MASONS LOCAL 527",null,{"$f":"IF(ISNUMBER(FIND(\"MEDICAID\",A3726)),\"X\",\"\")","v":""},{"$f":"IF(ISNUMBER(FIND(\"MEDICARE\",A3726)),\"X\",\"\")","v":""},{"$f":"IF(ISNUMBER(FIND(\"BC/BS\",#REF!)),\"X\",\"\")","v":""}]
["UMR CENTENNIAL PLASTICS INC",null,{"$f":"IF(ISNUMBER(FIND(\"MEDICAID\",A3727)),\"X\",\"\")","v":""},{"$f":"IF(ISNUMBER(FIND(\"MEDICARE\",A3727)),\"X\",\"\")","v":""},{"$f":"IF(ISNUMBER(FIND(\"BC/BS\",#REF!)),\"X\",\"\")","v":""}]
["UMR CENTERSTONE OF AMERICA INC",null,{"$f":"IF(ISNUMBER(FIND(\"MEDICAID\",A3728)),\"X\",\"\")","v":""},{"$f":"IF(ISNUMBER(FIND(\"MEDICARE\",A3728)),\"X\",\"\")","v":""},{"$f":"IF(ISNUMBER(FIND(\"BC/BS\",#REF!)),\"X\",\"\")","v":""}]
["UMR CENTRAL PROCESSING CORP",null,{"$f":"IF(ISNUMBER(FIND(\"MEDICAID\",A3729)),\"X\",\"\")","v":""},{"$f":"IF(ISNUMBER(FIND(\"MEDICARE\",A3729)),\"X\",\"\")","v":""},{"$f":"IF(ISNUMBER(FIND(\"BC/BS\",#REF!)),\"X\",\"\")","v":""}]
["UMR CENTURION INDUSTRIES INC",null,{"$f":"IF(ISNUMBER(FIND(\"MEDICAID\",A3730)),\"X\",\"\")","v":""},{"$f":"IF(ISNUMBER(FIND(\"MEDICARE\",A3730)),\"X\",\"\")","v":""},{"$f":"IF(ISNUMBER(FIND(\"BC/BS\",#REF!)),\"X\",\"\")","v":""}]
["UMR CENTURY COMMUNITIES",null,{"$f":"IF(ISNUMBER(FIND(\"MEDICAID\",A3731)),\"X\",\"\")","v":""},{"$f":"IF(ISNUMBER(FIND(\"MEDICARE\",A3731)),\"X\",\"\")","v":""},{"$f":"IF(ISNUMBER(FIND(\"BC/BS\",#REF!)),\"X\",\"\")","v":""}]
["UMR CESA 6",null,{"$f":"IF(ISNUMBER(FIND(\"MEDICAID\",A3732)),\"X\",\"\")","v":""},{"$f":"IF(ISNUMBER(FIND(\"MEDICARE\",A3732)),\"X\",\"\")","v":""},{"$f":"IF(ISNUMBER(FIND(\"BC/BS\",#REF!)),\"X\",\"\")","v":""}]
["UMR CGH MEDICAL CENTER",null,{"$f":"IF(ISNUMBER(FIND(\"MEDICAID\",A3733)),\"X\",\"\")","v":""},{"$f":"IF(ISNUMBER(FIND(\"MEDICARE\",A3733)),\"X\",\"\")","v":""},{"$f":"IF(ISNUMBER(FIND(\"BC/BS\",#REF!)),\"X\",\"\")","v":""}]
["UMR CGR PRODUCTS INC",null,{"$f":"IF(ISNUMBER(FIND(\"MEDICAID\",A3734)),\"X\",\"\")","v":""},{"$f":"IF(ISNUMBER(FIND(\"MEDICARE\",A3734)),\"X\",\"\")","v":""},{"$f":"IF(ISNUMBER(FIND(\"BC/BS\",#REF!)),\"X\",\"\")","v":""}]
["UMR CHG HEALTHCARE",null,{"$f":"IF(ISNUMBER(FIND(\"MEDICAID\",A3735)),\"X\",\"\")","v":""},{"$f":"IF(ISNUMBER(FIND(\"MEDICARE\",A3735)),\"X\",\"\")","v":""},{"$f":"IF(ISNUMBER(FIND(\"BC/BS\",#REF!)),\"X\",\"\")","v":""}]
["UMR CHRISTIAN APPALACHIAN PROJECT INC",null,{"$f":"IF(ISNUMBER(FIND(\"MEDICAID\",A3736)),\"X\",\"\")","v":""},{"$f":"IF(ISNUMBER(FIND(\"MEDICARE\",A3736)),\"X\",\"\")","v":""},{"$f":"IF(ISNUMBER(FIND(\"BC/BS\",#REF!)),\"X\",\"\")","v":""}]
["UMR CHRISTY INDUSTRIAL HOLDINGS",null,{"$f":"IF(ISNUMBER(FIND(\"MEDICAID\",A3737)),\"X\",\"\")","v":""},{"$f":"IF(ISNUMBER(FIND(\"MEDICARE\",A3737)),\"X\",\"\")","v":""},{"$f":"IF(ISNUMBER(FIND(\"BC/BS\",#REF!)),\"X\",\"\")","v":""}]
["UMR CINCOM SYSTEMS INC",null,{"$f":"IF(ISNUMBER(FIND(\"MEDICAID\",A3738)),\"X\",\"\")","v":""},{"$f":"IF(ISNUMBER(FIND(\"MEDICARE\",A3738)),\"X\",\"\")","v":""},{"$f":"IF(ISNUMBER(FIND(\"BC/BS\",#REF!)),\"X\",\"\")","v":""}]
["UMR CIRCLE OF LIFE HOSPICE",null,{"$f":"IF(ISNUMBER(FIND(\"MEDICAID\",A3739)),\"X\",\"\")","v":""},{"$f":"IF(ISNUMBER(FIND(\"MEDICARE\",A3739)),\"X\",\"\")","v":""},{"$f":"IF(ISNUMBER(FIND(\"BC/BS\",#REF!)),\"X\",\"\")","v":""}]
["UMR CITIZEN POTAWATOMI NATION",null,{"$f":"IF(ISNUMBER(FIND(\"MEDICAID\",A3740)),\"X\",\"\")","v":""},{"$f":"IF(ISNUMBER(FIND(\"MEDICARE\",A3740)),\"X\",\"\")","v":""},{"$f":"IF(ISNUMBER(FIND(\"BC/BS\",#REF!)),\"X\",\"\")","v":""}]
["UMR CITY OF ARNOLD",null,{"$f":"IF(ISNUMBER(FIND(\"MEDICAID\",A3741)),\"X\",\"\")","v":""},{"$f":"IF(ISNUMBER(FIND(\"MEDICARE\",A3741)),\"X\",\"\")","v":""},{"$f":"IF(ISNUMBER(FIND(\"BC/BS\",#REF!)),\"X\",\"\")","v":""}]
["UMR CITY OF BEREA",null,{"$f":"IF(ISNUMBER(FIND(\"MEDICAID\",A3742)),\"X\",\"\")","v":""},{"$f":"IF(ISNUMBER(FIND(\"MEDICARE\",A3742)),\"X\",\"\")","v":""},{"$f":"IF(ISNUMBER(FIND(\"BC/BS\",#REF!)),\"X\",\"\")","v":""}]
["UMR CITY OF COPPELL",null,{"$f":"IF(ISNUMBER(FIND(\"MEDICAID\",A3743)),\"X\",\"\")","v":""},{"$f":"IF(ISNUMBER(FIND(\"MEDICARE\",A3743)),\"X\",\"\")","v":""},{"$f":"IF(ISNUMBER(FIND(\"BC/BS\",#REF!)),\"X\",\"\")","v":""}]
["UMR CITY OF GAHANNA COHCC",null,{"$f":"IF(ISNUMBER(FIND(\"MEDICAID\",A3744)),\"X\",\"\")","v":""},{"$f":"IF(ISNUMBER(FIND(\"MEDICARE\",A3744)),\"X\",\"\")","v":""},{"$f":"IF(ISNUMBER(FIND(\"BC/BS\",#REF!)),\"X\",\"\")","v":""}]
["UMR CITY OF GRAND ISLAND",null,{"$f":"IF(ISNUMBER(FIND(\"MEDICAID\",A3745)),\"X\",\"\")","v":""},{"$f":"IF(ISNUMBER(FIND(\"MEDICARE\",A3745)),\"X\",\"\")","v":""},{"$f":"IF(ISNUMBER(FIND(\"BC/BS\",#REF!)),\"X\",\"\")","v":""}]
["UMR CITY OF JOPLIN MO",null,{"$f":"IF(ISNUMBER(FIND(\"MEDICAID\",A3746)),\"X\",\"\")","v":""},{"$f":"IF(ISNUMBER(FIND(\"MEDICARE\",A3746)),\"X\",\"\")","v":""},{"$f":"IF(ISNUMBER(FIND(\"BC/BS\",#REF!)),\"X\",\"\")","v":""}]
["UMR CITY OF KENOSHA",null,{"$f":"IF(ISNUMBER(FIND(\"MEDICAID\",A3747)),\"X\",\"\")","v":""},{"$f":"IF(ISNUMBER(FIND(\"MEDICARE\",A3747)),\"X\",\"\")","v":""},{"$f":"IF(ISNUMBER(FIND(\"BC/BS\",#REF!)),\"X\",\"\")","v":""}]
["UMR CITY OF LAFAYETTE",null,{"$f":"IF(ISNUMBER(FIND(\"MEDICAID\",A3748)),\"X\",\"\")","v":""},{"$f":"IF(ISNUMBER(FIND(\"MEDICARE\",A3748)),\"X\",\"\")","v":""},{"$f":"IF(ISNUMBER(FIND(\"BC/BS\",#REF!)),\"X\",\"\")","v":""}]
["UMR CITY OF LOVELAND",null,{"$f":"IF(ISNUMBER(FIND(\"MEDICAID\",A3749)),\"X\",\"\")","v":""},{"$f":"IF(ISNUMBER(FIND(\"MEDICARE\",A3749)),\"X\",\"\")","v":""},{"$f":"IF(ISNUMBER(FIND(\"BC/BS\",#REF!)),\"X\",\"\")","v":""}]
["UMR CITY OF MCCOOK",null,{"$f":"IF(ISNUMBER(FIND(\"MEDICAID\",A3750)),\"X\",\"\")","v":""},{"$f":"IF(ISNUMBER(FIND(\"MEDICARE\",A3750)),\"X\",\"\")","v":""},{"$f":"IF(ISNUMBER(FIND(\"BC/BS\",#REF!)),\"X\",\"\")","v":""}]
["UMR CITY OF MISHAWAKA",null,{"$f":"IF(ISNUMBER(FIND(\"MEDICAID\",A3751)),\"X\",\"\")","v":""},{"$f":"IF(ISNUMBER(FIND(\"MEDICARE\",A3751)),\"X\",\"\")","v":""},{"$f":"IF(ISNUMBER(FIND(\"BC/BS\",#REF!)),\"X\",\"\")","v":""}]
["UMR CITY OF PEMBROKE PINES",null,{"$f":"IF(ISNUMBER(FIND(\"MEDICAID\",A3752)),\"X\",\"\")","v":""},{"$f":"IF(ISNUMBER(FIND(\"MEDICARE\",A3752)),\"X\",\"\")","v":""},{"$f":"IF(ISNUMBER(FIND(\"BC/BS\",#REF!)),\"X\",\"\")","v":""}]
["UMR CITY OF PEORIA",null,{"$f":"IF(ISNUMBER(FIND(\"MEDICAID\",A3753)),\"X\",\"\")","v":""},{"$f":"IF(ISNUMBER(FIND(\"MEDICARE\",A3753)),\"X\",\"\")","v":""},{"$f":"IF(ISNUMBER(FIND(\"BC/BS\",#REF!)),\"X\",\"\")","v":""}]
["UMR CITY OF ROLLA MISSOURI",null,{"$f":"IF(ISNUMBER(FIND(\"MEDICAID\",A3754)),\"X\",\"\")","v":""},{"$f":"IF(ISNUMBER(FIND(\"MEDICARE\",A3754)),\"X\",\"\")","v":""},{"$f":"IF(ISNUMBER(FIND(\"BC/BS\",#REF!)),\"X\",\"\")","v":""}]
["UMR CITY OF ST CHARLES",null,{"$f":"IF(ISNUMBER(FIND(\"MEDICAID\",A3755)),\"X\",\"\")","v":""},{"$f":"IF(ISNUMBER(FIND(\"MEDICARE\",A3755)),\"X\",\"\")","v":""},{"$f":"IF(ISNUMBER(FIND(\"BC/BS\",#REF!)),\"X\",\"\")","v":""}]
["UMR CITY OF ST CHARLES SCHOOL DISTRICT",null,{"$f":"IF(ISNUMBER(FIND(\"MEDICAID\",A3756)),\"X\",\"\")","v":""},{"$f":"IF(ISNUMBER(FIND(\"MEDICARE\",A3756)),\"X\",\"\")","v":""},{"$f":"IF(ISNUMBER(FIND(\"BC/BS\",#REF!)),\"X\",\"\")","v":""}]
["UMR CITY OF SYRACUSE",null,{"$f":"IF(ISNUMBER(FIND(\"MEDICAID\",A3757)),\"X\",\"\")","v":""},{"$f":"IF(ISNUMBER(FIND(\"MEDICARE\",A3757)),\"X\",\"\")","v":""},{"$f":"IF(ISNUMBER(FIND(\"BC/BS\",#REF!)),\"X\",\"\")","v":""}]
["UMR CITY OF WENTZVILLE",null,{"$f":"IF(ISNUMBER(FIND(\"MEDICAID\",A3758)),\"X\",\"\")","v":""},{"$f":"IF(ISNUMBER(FIND(\"MEDICARE\",A3758)),\"X\",\"\")","v":""},{"$f":"IF(ISNUMBER(FIND(\"BC/BS\",#REF!)),\"X\",\"\")","v":""}]
["UMR CITY OF WESTFIELD",null,{"$f":"IF(ISNUMBER(FIND(\"MEDICAID\",A3759)),\"X\",\"\")","v":""},{"$f":"IF(ISNUMBER(FIND(\"MEDICARE\",A3759)),\"X\",\"\")","v":""},{"$f":"IF(ISNUMBER(FIND(\"BC/BS\",#REF!)),\"X\",\"\")","v":""}]
["UMR CITY OF WORTHINGTON COHCC",null,{"$f":"IF(ISNUMBER(FIND(\"MEDICAID\",A3760)),\"X\",\"\")","v":""},{"$f":"IF(ISNUMBER(FIND(\"MEDICARE\",A3760)),\"X\",\"\")","v":""},{"$f":"IF(ISNUMBER(FIND(\"BC/BS\",#REF!)),\"X\",\"\")","v":""}]
["UMR CIVIL DESIGN INC",null,{"$f":"IF(ISNUMBER(FIND(\"MEDICAID\",A3761)),\"X\",\"\")","v":""},{"$f":"IF(ISNUMBER(FIND(\"MEDICARE\",A3761)),\"X\",\"\")","v":""},{"$f":"IF(ISNUMBER(FIND(\"BC/BS\",#REF!)),\"X\",\"\")","v":""}]
["UMR CLACK CORPORATION",null,{"$f":"IF(ISNUMBER(FIND(\"MEDICAID\",A3762)),\"X\",\"\")","v":""},{"$f":"IF(ISNUMBER(FIND(\"MEDICARE\",A3762)),\"X\",\"\")","v":""},{"$f":"IF(ISNUMBER(FIND(\"BC/BS\",#REF!)),\"X\",\"\")","v":""}]
["UMR CLARIDGE PRODUCT AND EQUIPMENT",null,{"$f":"IF(ISNUMBER(FIND(\"MEDICAID\",A3763)),\"X\",\"\")","v":""},{"$f":"IF(ISNUMBER(FIND(\"MEDICARE\",A3763)),\"X\",\"\")","v":""},{"$f":"IF(ISNUMBER(FIND(\"BC/BS\",#REF!)),\"X\",\"\")","v":""}]
["UMR CLARK COUNTY","X",{"$f":"IF(ISNUMBER(FIND(\"MEDICAID\",A3764)),\"X\",\"\")","v":""},{"$f":"IF(ISNUMBER(FIND(\"MEDICARE\",A3764)),\"X\",\"\")","v":""},{"$f":"IF(ISNUMBER(FIND(\"BC/BS\",#REF!)),\"X\",\"\")","v":""}]
["UMR CLARK COUNTY FISCAL COURT",null,{"$f":"IF(ISNUMBER(FIND(\"MEDICAID\",A3765)),\"X\",\"\")","v":""},{"$f":"IF(ISNUMBER(FIND(\"MEDICARE\",A3765)),\"X\",\"\")","v":""},{"$f":"IF(ISNUMBER(FIND(\"BC/BS\",#REF!)),\"X\",\"\")","v":""}]
["UMR CLARKSON UNIVERSITY",null,{"$f":"IF(ISNUMBER(FIND(\"MEDICAID\",A3766)),\"X\",\"\")","v":""},{"$f":"IF(ISNUMBER(FIND(\"MEDICARE\",A3766)),\"X\",\"\")","v":""},{"$f":"IF(ISNUMBER(FIND(\"BC/BS\",#REF!)),\"X\",\"\")","v":""}]
["UMR CLARKSTON POTOMAC GROUP INC",null,{"$f":"IF(ISNUMBER(FIND(\"MEDICAID\",A3767)),\"X\",\"\")","v":""},{"$f":"IF(ISNUMBER(FIND(\"MEDICARE\",A3767)),\"X\",\"\")","v":""},{"$f":"IF(ISNUMBER(FIND(\"BC/BS\",#REF!)),\"X\",\"\")","v":""}]
["UMR CLAYCO INC",null,{"$f":"IF(ISNUMBER(FIND(\"MEDICAID\",A3768)),\"X\",\"\")","v":""},{"$f":"IF(ISNUMBER(FIND(\"MEDICARE\",A3768)),\"X\",\"\")","v":""},{"$f":"IF(ISNUMBER(FIND(\"BC/BS\",#REF!)),\"X\",\"\")","v":""}]
["UMR CLEAN UNIFORM COMPANY",null,{"$f":"IF(ISNUMBER(FIND(\"MEDICAID\",A3769)),\"X\",\"\")","v":""},{"$f":"IF(ISNUMBER(FIND(\"MEDICARE\",A3769)),\"X\",\"\")","v":""},{"$f":"IF(ISNUMBER(FIND(\"BC/BS\",#REF!)),\"X\",\"\")","v":""}]
["UMR CLEARY BUILDING CORP",null,{"$f":"IF(ISNUMBER(FIND(\"MEDICAID\",A3770)),\"X\",\"\")","v":""},{"$f":"IF(ISNUMBER(FIND(\"MEDICARE\",A3770)),\"X\",\"\")","v":""},{"$f":"IF(ISNUMBER(FIND(\"BC/BS\",#REF!)),\"X\",\"\")","v":""}]
["UMR CLEMENTINA CLEMCO HOLDINGS INC",null,{"$f":"IF(ISNUMBER(FIND(\"MEDICAID\",A3771)),\"X\",\"\")","v":""},{"$f":"IF(ISNUMBER(FIND(\"MEDICARE\",A3771)),\"X\",\"\")","v":""},{"$f":"IF(ISNUMBER(FIND(\"BC/BS\",#REF!)),\"X\",\"\")","v":""}]
["UMR CLEVELAND CLINIC FLORIDA",null,{"$f":"IF(ISNUMBER(FIND(\"MEDICAID\",A3772)),\"X\",\"\")","v":""},{"$f":"IF(ISNUMBER(FIND(\"MEDICARE\",A3772)),\"X\",\"\")","v":""},{"$f":"IF(ISNUMBER(FIND(\"BC/BS\",#REF!)),\"X\",\"\")","v":""}]
["UMR COAD",null,{"$f":"IF(ISNUMBER(FIND(\"MEDICAID\",A3773)),\"X\",\"\")","v":""},{"$f":"IF(ISNUMBER(FIND(\"MEDICARE\",A3773)),\"X\",\"\")","v":""},{"$f":"IF(ISNUMBER(FIND(\"BC/BS\",#REF!)),\"X\",\"\")","v":""}]
["UMR COFC MORRAL",null,{"$f":"IF(ISNUMBER(FIND(\"MEDICAID\",A3774)),\"X\",\"\")","v":""},{"$f":"IF(ISNUMBER(FIND(\"MEDICARE\",A3774)),\"X\",\"\")","v":""},{"$f":"IF(ISNUMBER(FIND(\"BC/BS\",#REF!)),\"X\",\"\")","v":""}]
["UMR COLE COUNTY COMMISSION",null,{"$f":"IF(ISNUMBER(FIND(\"MEDICAID\",A3775)),\"X\",\"\")","v":""},{"$f":"IF(ISNUMBER(FIND(\"MEDICARE\",A3775)),\"X\",\"\")","v":""},{"$f":"IF(ISNUMBER(FIND(\"BC/BS\",#REF!)),\"X\",\"\")","v":""}]
["UMR COLUMBIA ACADEMY INC",null,{"$f":"IF(ISNUMBER(FIND(\"MEDICAID\",A3776)),\"X\",\"\")","v":""},{"$f":"IF(ISNUMBER(FIND(\"MEDICARE\",A3776)),\"X\",\"\")","v":""},{"$f":"IF(ISNUMBER(FIND(\"BC/BS\",#REF!)),\"X\",\"\")","v":""}]
["UMR COLUMBUS HYDRAULICS COMPANY LLC",null,{"$f":"IF(ISNUMBER(FIND(\"MEDICAID\",A3777)),\"X\",\"\")","v":""},{"$f":"IF(ISNUMBER(FIND(\"MEDICARE\",A3777)),\"X\",\"\")","v":""},{"$f":"IF(ISNUMBER(FIND(\"BC/BS\",#REF!)),\"X\",\"\")","v":""}]
["UMR COMCAST NBCUNIVERSAL COMCAST SPECTACOR",null,{"$f":"IF(ISNUMBER(FIND(\"MEDICAID\",A3778)),\"X\",\"\")","v":""},{"$f":"IF(ISNUMBER(FIND(\"MEDICARE\",A3778)),\"X\",\"\")","v":""},{"$f":"IF(ISNUMBER(FIND(\"BC/BS\",#REF!)),\"X\",\"\")","v":""}]
["UMR COMMUNITY HOSPITAL CORPORATION",null,{"$f":"IF(ISNUMBER(FIND(\"MEDICAID\",A3779)),\"X\",\"\")","v":""},{"$f":"IF(ISNUMBER(FIND(\"MEDICARE\",A3779)),\"X\",\"\")","v":""},{"$f":"IF(ISNUMBER(FIND(\"BC/BS\",#REF!)),\"X\",\"\")","v":""}]
["UMR COMMUNITY LEGAL SERVICES",null,{"$f":"IF(ISNUMBER(FIND(\"MEDICAID\",A3780)),\"X\",\"\")","v":""},{"$f":"IF(ISNUMBER(FIND(\"MEDICARE\",A3780)),\"X\",\"\")","v":""},{"$f":"IF(ISNUMBER(FIND(\"BC/BS\",#REF!)),\"X\",\"\")","v":""}]
["UMR COMMUNITY MENTAL HEALTH CENTER",null,{"$f":"IF(ISNUMBER(FIND(\"MEDICAID\",A3781)),\"X\",\"\")","v":""},{"$f":"IF(ISNUMBER(FIND(\"MEDICARE\",A3781)),\"X\",\"\")","v":""},{"$f":"IF(ISNUMBER(FIND(\"BC/BS\",#REF!)),\"X\",\"\")","v":""}]
["UMR COMMUNITY WHOLESALE TIRE",null,{"$f":"IF(ISNUMBER(FIND(\"MEDICAID\",A3782)),\"X\",\"\")","v":""},{"$f":"IF(ISNUMBER(FIND(\"MEDICARE\",A3782)),\"X\",\"\")","v":""},{"$f":"IF(ISNUMBER(FIND(\"BC/BS\",#REF!)),\"X\",\"\")","v":""}]
["UMR COMPASS ROSE BENEFITS GROUP","X",{"$f":"IF(ISNUMBER(FIND(\"MEDICAID\",A3783)),\"X\",\"\")","v":""},{"$f":"IF(ISNUMBER(FIND(\"MEDICARE\",A3783)),\"X\",\"\")","v":""},{"$f":"IF(ISNUMBER(FIND(\"BC/BS\",#REF!)),\"X\",\"\")","v":""}]
["UMR COMPASS ROSE HEALTH PLAN",null,{"$f":"IF(ISNUMBER(FIND(\"MEDICAID\",A3784)),\"X\",\"\")","v":""},{"$f":"IF(ISNUMBER(FIND(\"MEDICARE\",A3784)),\"X\",\"\")","v":""},{"$f":"IF(ISNUMBER(FIND(\"BC/BS\",#REF!)),\"X\",\"\")","v":""}]
["UMR COMPUNET CLINICAL LABORATORIES LLC",null,{"$f":"IF(ISNUMBER(FIND(\"MEDICAID\",A3785)),\"X\",\"\")","v":""},{"$f":"IF(ISNUMBER(FIND(\"MEDICARE\",A3785)),\"X\",\"\")","v":""},{"$f":"IF(ISNUMBER(FIND(\"BC/BS\",#REF!)),\"X\",\"\")","v":""}]
["UMR CONCORDIA PLAN SERVICES",null,{"$f":"IF(ISNUMBER(FIND(\"MEDICAID\",A3786)),\"X\",\"\")","v":""},{"$f":"IF(ISNUMBER(FIND(\"MEDICARE\",A3786)),\"X\",\"\")","v":""},{"$f":"IF(ISNUMBER(FIND(\"BC/BS\",#REF!)),\"X\",\"\")","v":""}]
["UMR CONDUCTIX INC",null,{"$f":"IF(ISNUMBER(FIND(\"MEDICAID\",A3787)),\"X\",\"\")","v":""},{"$f":"IF(ISNUMBER(FIND(\"MEDICARE\",A3787)),\"X\",\"\")","v":""},{"$f":"IF(ISNUMBER(FIND(\"BC/BS\",#REF!)),\"X\",\"\")","v":""}]
["UMR CONE HEALTH",null,{"$f":"IF(ISNUMBER(FIND(\"MEDICAID\",A3788)),\"X\",\"\")","v":""},{"$f":"IF(ISNUMBER(FIND(\"MEDICARE\",A3788)),\"X\",\"\")","v":""},{"$f":"IF(ISNUMBER(FIND(\"BC/BS\",#REF!)),\"X\",\"\")","v":""}]
["UMR CONGOLEUM ACQUISITION LLC",null,{"$f":"IF(ISNUMBER(FIND(\"MEDICAID\",A3789)),\"X\",\"\")","v":""},{"$f":"IF(ISNUMBER(FIND(\"MEDICARE\",A3789)),\"X\",\"\")","v":""},{"$f":"IF(ISNUMBER(FIND(\"BC/BS\",#REF!)),\"X\",\"\")","v":""}]
["UMR CONNER INDUSTRIES INC",null,{"$f":"IF(ISNUMBER(FIND(\"MEDICAID\",A3790)),\"X\",\"\")","v":""},{"$f":"IF(ISNUMBER(FIND(\"MEDICARE\",A3790)),\"X\",\"\")","v":""},{"$f":"IF(ISNUMBER(FIND(\"BC/BS\",#REF!)),\"X\",\"\")","v":""}]
["UMR CONSOL ENERGY INC",null,{"$f":"IF(ISNUMBER(FIND(\"MEDICAID\",A3791)),\"X\",\"\")","v":""},{"$f":"IF(ISNUMBER(FIND(\"MEDICARE\",A3791)),\"X\",\"\")","v":""},{"$f":"IF(ISNUMBER(FIND(\"BC/BS\",#REF!)),\"X\",\"\")","v":""}]
["UMR CONSTRUCTION RESOURCES MANAGEMENT INC",null,{"$f":"IF(ISNUMBER(FIND(\"MEDICAID\",A3792)),\"X\",\"\")","v":""},{"$f":"IF(ISNUMBER(FIND(\"MEDICARE\",A3792)),\"X\",\"\")","v":""},{"$f":"IF(ISNUMBER(FIND(\"BC/BS\",#REF!)),\"X\",\"\")","v":""}]
["UMR CONSTRUCTION SYSTEMS INC",null,{"$f":"IF(ISNUMBER(FIND(\"MEDICAID\",A3793)),\"X\",\"\")","v":""},{"$f":"IF(ISNUMBER(FIND(\"MEDICARE\",A3793)),\"X\",\"\")","v":""},{"$f":"IF(ISNUMBER(FIND(\"BC/BS\",#REF!)),\"X\",\"\")","v":""}]
["UMR CONTINENTAL DATALABEL INC",null,{"$f":"IF(ISNUMBER(FIND(\"MEDICAID\",A3794)),\"X\",\"\")","v":""},{"$f":"IF(ISNUMBER(FIND(\"MEDICARE\",A3794)),\"X\",\"\")","v":""},{"$f":"IF(ISNUMBER(FIND(\"BC/BS\",#REF!)),\"X\",\"\")","v":""}]
["UMR CORNERSTONE CHEMICAL COMPANY",null,{"$f":"IF(ISNUMBER(FIND(\"MEDICAID\",A3795)),\"X\",\"\")","v":""},{"$f":"IF(ISNUMBER(FIND(\"MEDICARE\",A3795)),\"X\",\"\")","v":""},{"$f":"IF(ISNUMBER(FIND(\"BC/BS\",#REF!)),\"X\",\"\")","v":""}]
["UMR COUNTRYMARK COOPERATIVE HOLDING CORPORATION",null,{"$f":"IF(ISNUMBER(FIND(\"MEDICAID\",A3796)),\"X\",\"\")","v":""},{"$f":"IF(ISNUMBER(FIND(\"MEDICARE\",A3796)),\"X\",\"\")","v":""},{"$f":"IF(ISNUMBER(FIND(\"BC/BS\",#REF!)),\"X\",\"\")","v":""}]
["UMR COUNTY OF STANISLAUS",null,{"$f":"IF(ISNUMBER(FIND(\"MEDICAID\",A3797)),\"X\",\"\")","v":""},{"$f":"IF(ISNUMBER(FIND(\"MEDICARE\",A3797)),\"X\",\"\")","v":""},{"$f":"IF(ISNUMBER(FIND(\"BC/BS\",#REF!)),\"X\",\"\")","v":""}]
["UMR COUNTY OF WARREN",null,{"$f":"IF(ISNUMBER(FIND(\"MEDICAID\",A3798)),\"X\",\"\")","v":""},{"$f":"IF(ISNUMBER(FIND(\"MEDICARE\",A3798)),\"X\",\"\")","v":""},{"$f":"IF(ISNUMBER(FIND(\"BC/BS\",#REF!)),\"X\",\"\")","v":""}]
["UMR COVANTAGE CREDIT UNION",null,{"$f":"IF(ISNUMBER(FIND(\"MEDICAID\",A3799)),\"X\",\"\")","v":""},{"$f":"IF(ISNUMBER(FIND(\"MEDICARE\",A3799)),\"X\",\"\")","v":""},{"$f":"IF(ISNUMBER(FIND(\"BC/BS\",#REF!)),\"X\",\"\")","v":""}]
["UMR CPC LOGISTICS INC HEALTH WELFARE PLAN",null,{"$f":"IF(ISNUMBER(FIND(\"MEDICAID\",A3800)),\"X\",\"\")","v":""},{"$f":"IF(ISNUMBER(FIND(\"MEDICARE\",A3800)),\"X\",\"\")","v":""},{"$f":"IF(ISNUMBER(FIND(\"BC/BS\",#REF!)),\"X\",\"\")","v":""}]
["UMR CRAIG SCOTT INC",null,{"$f":"IF(ISNUMBER(FIND(\"MEDICAID\",A3801)),\"X\",\"\")","v":""},{"$f":"IF(ISNUMBER(FIND(\"MEDICARE\",A3801)),\"X\",\"\")","v":""},{"$f":"IF(ISNUMBER(FIND(\"BC/BS\",#REF!)),\"X\",\"\")","v":""}]
["UMR CRAWFORD MURPHY TILLY INC",null,{"$f":"IF(ISNUMBER(FIND(\"MEDICAID\",A3802)),\"X\",\"\")","v":""},{"$f":"IF(ISNUMBER(FIND(\"MEDICARE\",A3802)),\"X\",\"\")","v":""},{"$f":"IF(ISNUMBER(FIND(\"BC/BS\",#REF!)),\"X\",\"\")","v":""}]
["UMR CRESCENT INDUSTRIES INC",null,{"$f":"IF(ISNUMBER(FIND(\"MEDICAID\",A3803)),\"X\",\"\")","v":""},{"$f":"IF(ISNUMBER(FIND(\"MEDICARE\",A3803)),\"X\",\"\")","v":""},{"$f":"IF(ISNUMBER(FIND(\"BC/BS\",#REF!)),\"X\",\"\")","v":""}]
["UMR CRESCENT PARTS EQUIPMENT COMPANY INC",null,{"$f":"IF(ISNUMBER(FIND(\"MEDICAID\",A3804)),\"X\",\"\")","v":""},{"$f":"IF(ISNUMBER(FIND(\"MEDICARE\",A3804)),\"X\",\"\")","v":""},{"$f":"IF(ISNUMBER(FIND(\"BC/BS\",#REF!)),\"X\",\"\")","v":""}]
["UMR CROSSROADS",null,{"$f":"IF(ISNUMBER(FIND(\"MEDICAID\",A3805)),\"X\",\"\")","v":""},{"$f":"IF(ISNUMBER(FIND(\"MEDICARE\",A3805)),\"X\",\"\")","v":""},{"$f":"IF(ISNUMBER(FIND(\"BC/BS\",#REF!)),\"X\",\"\")","v":""}]
["UMR CROWN POINT COMMUNITY SCHOOL CORPORATION",null,{"$f":"IF(ISNUMBER(FIND(\"MEDICAID\",A3806)),\"X\",\"\")","v":""},{"$f":"IF(ISNUMBER(FIND(\"MEDICARE\",A3806)),\"X\",\"\")","v":""},{"$f":"IF(ISNUMBER(FIND(\"BC/BS\",#REF!)),\"X\",\"\")","v":""}]
["UMR CS CONSTRUCTION INC",null,{"$f":"IF(ISNUMBER(FIND(\"MEDICAID\",A3807)),\"X\",\"\")","v":""},{"$f":"IF(ISNUMBER(FIND(\"MEDICARE\",A3807)),\"X\",\"\")","v":""},{"$f":"IF(ISNUMBER(FIND(\"BC/BS\",#REF!)),\"X\",\"\")","v":""}]
["UMR CSH GROUP INC",null,{"$f":"IF(ISNUMBER(FIND(\"MEDICAID\",A3808)),\"X\",\"\")","v":""},{"$f":"IF(ISNUMBER(FIND(\"MEDICARE\",A3808)),\"X\",\"\")","v":""},{"$f":"IF(ISNUMBER(FIND(\"BC/BS\",#REF!)),\"X\",\"\")","v":""}]
["UMR CSL BEHRING LLC",null,{"$f":"IF(ISNUMBER(FIND(\"MEDICAID\",A3809)),\"X\",\"\")","v":""},{"$f":"IF(ISNUMBER(FIND(\"MEDICARE\",A3809)),\"X\",\"\")","v":""},{"$f":"IF(ISNUMBER(FIND(\"BC/BS\",#REF!)),\"X\",\"\")","v":""}]
["UMR CURO MANAGEMENT LLC",null,{"$f":"IF(ISNUMBER(FIND(\"MEDICAID\",A3810)),\"X\",\"\")","v":""},{"$f":"IF(ISNUMBER(FIND(\"MEDICARE\",A3810)),\"X\",\"\")","v":""},{"$f":"IF(ISNUMBER(FIND(\"BC/BS\",#REF!)),\"X\",\"\")","v":""}]
["UMR CURTIS MARUYASU AMERICA INC",null,{"$f":"IF(ISNUMBER(FIND(\"MEDICAID\",A3811)),\"X\",\"\")","v":""},{"$f":"IF(ISNUMBER(FIND(\"MEDICARE\",A3811)),\"X\",\"\")","v":""},{"$f":"IF(ISNUMBER(FIND(\"BC/BS\",#REF!)),\"X\",\"\")","v":""}]
["UMR CUSTOMER VALUE PARTNERS INC",null,{"$f":"IF(ISNUMBER(FIND(\"MEDICAID\",A3812)),\"X\",\"\")","v":""},{"$f":"IF(ISNUMBER(FIND(\"MEDICARE\",A3812)),\"X\",\"\")","v":""},{"$f":"IF(ISNUMBER(FIND(\"BC/BS\",#REF!)),\"X\",\"\")","v":""}]
["UMR CWI LOGOSTICS INC",null,{"$f":"IF(ISNUMBER(FIND(\"MEDICAID\",A3813)),\"X\",\"\")","v":""},{"$f":"IF(ISNUMBER(FIND(\"MEDICARE\",A3813)),\"X\",\"\")","v":""},{"$f":"IF(ISNUMBER(FIND(\"BC/BS\",#REF!)),\"X\",\"\")","v":""}]
["UMR DALLAS COUNTY HOSPITAL DBA PARKLAND HEALTH",null,{"$f":"IF(ISNUMBER(FIND(\"MEDICAID\",A3814)),\"X\",\"\")","v":""},{"$f":"IF(ISNUMBER(FIND(\"MEDICARE\",A3814)),\"X\",\"\")","v":""},{"$f":"IF(ISNUMBER(FIND(\"BC/BS\",#REF!)),\"X\",\"\")","v":""}]
["UMR DALLAS COWBOYS FOOTBALL CLUB",null,{"$f":"IF(ISNUMBER(FIND(\"MEDICAID\",A3815)),\"X\",\"\")","v":""},{"$f":"IF(ISNUMBER(FIND(\"MEDICARE\",A3815)),\"X\",\"\")","v":""},{"$f":"IF(ISNUMBER(FIND(\"BC/BS\",#REF!)),\"X\",\"\")","v":""}]
["UMR DANIELS SHARPSMART INC",null,{"$f":"IF(ISNUMBER(FIND(\"MEDICAID\",A3816)),\"X\",\"\")","v":""},{"$f":"IF(ISNUMBER(FIND(\"MEDICARE\",A3816)),\"X\",\"\")","v":""},{"$f":"IF(ISNUMBER(FIND(\"BC/BS\",#REF!)),\"X\",\"\")","v":""}]
["UMR DAWSON RESOURCES",null,{"$f":"IF(ISNUMBER(FIND(\"MEDICAID\",A3817)),\"X\",\"\")","v":""},{"$f":"IF(ISNUMBER(FIND(\"MEDICARE\",A3817)),\"X\",\"\")","v":""},{"$f":"IF(ISNUMBER(FIND(\"BC/BS\",#REF!)),\"X\",\"\")","v":""}]
["UMR DEAN FOODS COMPANY",null,{"$f":"IF(ISNUMBER(FIND(\"MEDICAID\",A3818)),\"X\",\"\")","v":""},{"$f":"IF(ISNUMBER(FIND(\"MEDICARE\",A3818)),\"X\",\"\")","v":""},{"$f":"IF(ISNUMBER(FIND(\"BC/BS\",#REF!)),\"X\",\"\")","v":""}]
["UMR DEBOER TRANSPORATION INC",null,{"$f":"IF(ISNUMBER(FIND(\"MEDICAID\",A3819)),\"X\",\"\")","v":""},{"$f":"IF(ISNUMBER(FIND(\"MEDICARE\",A3819)),\"X\",\"\")","v":""},{"$f":"IF(ISNUMBER(FIND(\"BC/BS\",#REF!)),\"X\",\"\")","v":""}]
["UMR DELTA ELECTRONICS USA INC",null,{"$f":"IF(ISNUMBER(FIND(\"MEDICAID\",A3820)),\"X\",\"\")","v":""},{"$f":"IF(ISNUMBER(FIND(\"MEDICARE\",A3820)),\"X\",\"\")","v":""},{"$f":"IF(ISNUMBER(FIND(\"BC/BS\",#REF!)),\"X\",\"\")","v":""}]
["UMR DENIER ELECTRIC CO INC",null,{"$f":"IF(ISNUMBER(FIND(\"MEDICAID\",A3821)),\"X\",\"\")","v":""},{"$f":"IF(ISNUMBER(FIND(\"MEDICARE\",A3821)),\"X\",\"\")","v":""},{"$f":"IF(ISNUMBER(FIND(\"BC/BS\",#REF!)),\"X\",\"\")","v":""}]
["UMR DEPAUW UNIVERSITY",null,{"$f":"IF(ISNUMBER(FIND(\"MEDICAID\",A3822)),\"X\",\"\")","v":""},{"$f":"IF(ISNUMBER(FIND(\"MEDICARE\",A3822)),\"X\",\"\")","v":""},{"$f":"IF(ISNUMBER(FIND(\"BC/BS\",#REF!)),\"X\",\"\")","v":""}]
["UMR DEUTSCHE WINDTECHNIK INC",null,{"$f":"IF(ISNUMBER(FIND(\"MEDICAID\",A3823)),\"X\",\"\")","v":""},{"$f":"IF(ISNUMBER(FIND(\"MEDICARE\",A3823)),\"X\",\"\")","v":""},{"$f":"IF(ISNUMBER(FIND(\"BC/BS\",#REF!)),\"X\",\"\")","v":""}]
["UMR DFT INC",null,{"$f":"IF(ISNUMBER(FIND(\"MEDICAID\",A3824)),\"X\",\"\")","v":""},{"$f":"IF(ISNUMBER(FIND(\"MEDICARE\",A3824)),\"X\",\"\")","v":""},{"$f":"IF(ISNUMBER(FIND(\"BC/BS\",#REF!)),\"X\",\"\")","v":""}]
["UMR DIGNITY HEALTH NATIONAL PLAN",null,{"$f":"IF(ISNUMBER(FIND(\"MEDICAID\",A3825)),\"X\",\"\")","v":""},{"$f":"IF(ISNUMBER(FIND(\"MEDICARE\",A3825)),\"X\",\"\")","v":""},{"$f":"IF(ISNUMBER(FIND(\"BC/BS\",#REF!)),\"X\",\"\")","v":""}]
["UMR DIOCESE OF LAFAYETTE",null,{"$f":"IF(ISNUMBER(FIND(\"MEDICAID\",A3826)),\"X\",\"\")","v":""},{"$f":"IF(ISNUMBER(FIND(\"MEDICARE\",A3826)),\"X\",\"\")","v":""},{"$f":"IF(ISNUMBER(FIND(\"BC/BS\",#REF!)),\"X\",\"\")","v":""}]
["UMR DIRECT TRAVEL INC",null,{"$f":"IF(ISNUMBER(FIND(\"MEDICAID\",A3827)),\"X\",\"\")","v":""},{"$f":"IF(ISNUMBER(FIND(\"MEDICARE\",A3827)),\"X\",\"\")","v":""},{"$f":"IF(ISNUMBER(FIND(\"BC/BS\",#REF!)),\"X\",\"\")","v":""}]
["UMR DISTRIBUTION MANAGEMENT INC",null,{"$f":"IF(ISNUMBER(FIND(\"MEDICAID\",A3828)),\"X\",\"\")","v":""},{"$f":"IF(ISNUMBER(FIND(\"MEDICARE\",A3828)),\"X\",\"\")","v":""},{"$f":"IF(ISNUMBER(FIND(\"BC/BS\",#REF!)),\"X\",\"\")","v":""}]
["UMR DLZ CORPORATION",null,{"$f":"IF(ISNUMBER(FIND(\"MEDICAID\",A3829)),\"X\",\"\")","v":""},{"$f":"IF(ISNUMBER(FIND(\"MEDICARE\",A3829)),\"X\",\"\")","v":""},{"$f":"IF(ISNUMBER(FIND(\"BC/BS\",#REF!)),\"X\",\"\")","v":""}]
["UMR DOBBS TIRE AUTO CENTERS INC",null,{"$f":"IF(ISNUMBER(FIND(\"MEDICAID\",A3830)),\"X\",\"\")","v":""},{"$f":"IF(ISNUMBER(FIND(\"MEDICARE\",A3830)),\"X\",\"\")","v":""},{"$f":"IF(ISNUMBER(FIND(\"BC/BS\",#REF!)),\"X\",\"\")","v":""}]
["UMR DOMETIC CORPORATION",null,{"$f":"IF(ISNUMBER(FIND(\"MEDICAID\",A3831)),\"X\",\"\")","v":""},{"$f":"IF(ISNUMBER(FIND(\"MEDICARE\",A3831)),\"X\",\"\")","v":""},{"$f":"IF(ISNUMBER(FIND(\"BC/BS\",#REF!)),\"X\",\"\")","v":""}]
["UMR DOUGLAS DYNAMICS LLC",null,{"$f":"IF(ISNUMBER(FIND(\"MEDICAID\",A3832)),\"X\",\"\")","v":""},{"$f":"IF(ISNUMBER(FIND(\"MEDICARE\",A3832)),\"X\",\"\")","v":""},{"$f":"IF(ISNUMBER(FIND(\"BC/BS\",#REF!)),\"X\",\"\")","v":""}]
["UMR DOWNSTREAM CASINO RESORT",null,{"$f":"IF(ISNUMBER(FIND(\"MEDICAID\",A3833)),\"X\",\"\")","v":""},{"$f":"IF(ISNUMBER(FIND(\"MEDICARE\",A3833)),\"X\",\"\")","v":""},{"$f":"IF(ISNUMBER(FIND(\"BC/BS\",#REF!)),\"X\",\"\")","v":""}]
["UMR DREXEL BUILDING SUPPLY INC",null,{"$f":"IF(ISNUMBER(FIND(\"MEDICAID\",A3834)),\"X\",\"\")","v":""},{"$f":"IF(ISNUMBER(FIND(\"MEDICARE\",A3834)),\"X\",\"\")","v":""},{"$f":"IF(ISNUMBER(FIND(\"BC/BS\",#REF!)),\"X\",\"\")","v":""}]
["UMR DUBOIS CHEMICALS INC",null,{"$f":"IF(ISNUMBER(FIND(\"MEDICAID\",A3835)),\"X\",\"\")","v":""},{"$f":"IF(ISNUMBER(FIND(\"MEDICARE\",A3835)),\"X\",\"\")","v":""},{"$f":"IF(ISNUMBER(FIND(\"BC/BS\",#REF!)),\"X\",\"\")","v":""}]
["UMR DUCHARME MCMILLEN ASSOCIATES INC",null,{"$f":"IF(ISNUMBER(FIND(\"MEDICAID\",A3836)),\"X\",\"\")","v":""},{"$f":"IF(ISNUMBER(FIND(\"MEDICARE\",A3836)),\"X\",\"\")","v":""},{"$f":"IF(ISNUMBER(FIND(\"BC/BS\",#REF!)),\"X\",\"\")","v":""}]
["UMR DULY HEALTH AND CARE",null,{"$f":"IF(ISNUMBER(FIND(\"MEDICAID\",A3837)),\"X\",\"\")","v":""},{"$f":"IF(ISNUMBER(FIND(\"MEDICARE\",A3837)),\"X\",\"\")","v":""},{"$f":"IF(ISNUMBER(FIND(\"BC/BS\",#REF!)),\"X\",\"\")","v":""}]
["UMR DWYER INSTRUMENTS INC",null,{"$f":"IF(ISNUMBER(FIND(\"MEDICAID\",A3838)),\"X\",\"\")","v":""},{"$f":"IF(ISNUMBER(FIND(\"MEDICARE\",A3838)),\"X\",\"\")","v":""},{"$f":"IF(ISNUMBER(FIND(\"BC/BS\",#REF!)),\"X\",\"\")","v":""}]
["UMR DYNAMIC CONSTRUCTION",null,{"$f":"IF(ISNUMBER(FIND(\"MEDICAID\",A3839)),\"X\",\"\")","v":""},{"$f":"IF(ISNUMBER(FIND(\"MEDICARE\",A3839)),\"X\",\"\")","v":""},{"$f":"IF(ISNUMBER(FIND(\"BC/BS\",#REF!)),\"X\",\"\")","v":""}]
["UMR E R WAGNER",null,{"$f":"IF(ISNUMBER(FIND(\"MEDICAID\",A3840)),\"X\",\"\")","v":""},{"$f":"IF(ISNUMBER(FIND(\"MEDICARE\",A3840)),\"X\",\"\")","v":""},{"$f":"IF(ISNUMBER(FIND(\"BC/BS\",#REF!)),\"X\",\"\")","v":""}]
["UMR EAGLE FIRE INC",null,{"$f":"IF(ISNUMBER(FIND(\"MEDICAID\",A3841)),\"X\",\"\")","v":""},{"$f":"IF(ISNUMBER(FIND(\"MEDICARE\",A3841)),\"X\",\"\")","v":""},{"$f":"IF(ISNUMBER(FIND(\"BC/BS\",#REF!)),\"X\",\"\")","v":""}]
["UMR EAGLE PICHER TECHNOLOGIES LLC",null,{"$f":"IF(ISNUMBER(FIND(\"MEDICAID\",A3842)),\"X\",\"\")","v":""},{"$f":"IF(ISNUMBER(FIND(\"MEDICARE\",A3842)),\"X\",\"\")","v":""},{"$f":"IF(ISNUMBER(FIND(\"BC/BS\",#REF!)),\"X\",\"\")","v":""}]
["UMR EARTH NETWORKS INC",null,{"$f":"IF(ISNUMBER(FIND(\"MEDICAID\",A3843)),\"X\",\"\")","v":""},{"$f":"IF(ISNUMBER(FIND(\"MEDICARE\",A3843)),\"X\",\"\")","v":""},{"$f":"IF(ISNUMBER(FIND(\"BC/BS\",#REF!)),\"X\",\"\")","v":""}]
["UMR ECI SOFTWARE SOLUTIONS INC",null,{"$f":"IF(ISNUMBER(FIND(\"MEDICAID\",A3844)),\"X\",\"\")","v":""},{"$f":"IF(ISNUMBER(FIND(\"MEDICARE\",A3844)),\"X\",\"\")","v":""},{"$f":"IF(ISNUMBER(FIND(\"BC/BS\",#REF!)),\"X\",\"\")","v":""}]
["UMR ECKERD CONNECTS",null,{"$f":"IF(ISNUMBER(FIND(\"MEDICAID\",A3845)),\"X\",\"\")","v":""},{"$f":"IF(ISNUMBER(FIND(\"MEDICARE\",A3845)),\"X\",\"\")","v":""},{"$f":"IF(ISNUMBER(FIND(\"BC/BS\",#REF!)),\"X\",\"\")","v":""}]
["UMR ECONTROLS LLC",null,{"$f":"IF(ISNUMBER(FIND(\"MEDICAID\",A3846)),\"X\",\"\")","v":""},{"$f":"IF(ISNUMBER(FIND(\"MEDICARE\",A3846)),\"X\",\"\")","v":""},{"$f":"IF(ISNUMBER(FIND(\"BC/BS\",#REF!)),\"X\",\"\")","v":""}]
["UMR EDGEWOOD MANAGEMENT GROUP LLC",null,{"$f":"IF(ISNUMBER(FIND(\"MEDICAID\",A3847)),\"X\",\"\")","v":""},{"$f":"IF(ISNUMBER(FIND(\"MEDICARE\",A3847)),\"X\",\"\")","v":""},{"$f":"IF(ISNUMBER(FIND(\"BC/BS\",#REF!)),\"X\",\"\")","v":""}]
["UMR EDWARDS AUTO GROUP",null,{"$f":"IF(ISNUMBER(FIND(\"MEDICAID\",A3848)),\"X\",\"\")","v":""},{"$f":"IF(ISNUMBER(FIND(\"MEDICARE\",A3848)),\"X\",\"\")","v":""},{"$f":"IF(ISNUMBER(FIND(\"BC/BS\",#REF!)),\"X\",\"\")","v":""}]
["UMR EIGHT ELEVEN GROUP LLC",null,{"$f":"IF(ISNUMBER(FIND(\"MEDICAID\",A3849)),\"X\",\"\")","v":""},{"$f":"IF(ISNUMBER(FIND(\"MEDICARE\",A3849)),\"X\",\"\")","v":""},{"$f":"IF(ISNUMBER(FIND(\"BC/BS\",#REF!)),\"X\",\"\")","v":""}]
["UMR EL ACADEMIES",null,{"$f":"IF(ISNUMBER(FIND(\"MEDICAID\",A3850)),\"X\",\"\")","v":""},{"$f":"IF(ISNUMBER(FIND(\"MEDICARE\",A3850)),\"X\",\"\")","v":""},{"$f":"IF(ISNUMBER(FIND(\"BC/BS\",#REF!)),\"X\",\"\")","v":""}]
["UMR ELECTRONIC THEATRE CONTROLS INC",null,{"$f":"IF(ISNUMBER(FIND(\"MEDICAID\",A3851)),\"X\",\"\")","v":""},{"$f":"IF(ISNUMBER(FIND(\"MEDICARE\",A3851)),\"X\",\"\")","v":""},{"$f":"IF(ISNUMBER(FIND(\"BC/BS\",#REF!)),\"X\",\"\")","v":""}]
["UMR ELEMENTS FINANCIAL FEDERAL CREDIT UNION",null,{"$f":"IF(ISNUMBER(FIND(\"MEDICAID\",A3852)),\"X\",\"\")","v":""},{"$f":"IF(ISNUMBER(FIND(\"MEDICARE\",A3852)),\"X\",\"\")","v":""},{"$f":"IF(ISNUMBER(FIND(\"BC/BS\",#REF!)),\"X\",\"\")","v":""}]
["UMR ELLSWORTH CORPORATION",null,{"$f":"IF(ISNUMBER(FIND(\"MEDICAID\",A3853)),\"X\",\"\")","v":""},{"$f":"IF(ISNUMBER(FIND(\"MEDICARE\",A3853)),\"X\",\"\")","v":""},{"$f":"IF(ISNUMBER(FIND(\"BC/BS\",#REF!)),\"X\",\"\")","v":""}]
["UMR ELMWOOD CENTERS INC",null,{"$f":"IF(ISNUMBER(FIND(\"MEDICAID\",A3854)),\"X\",\"\")","v":""},{"$f":"IF(ISNUMBER(FIND(\"MEDICARE\",A3854)),\"X\",\"\")","v":""},{"$f":"IF(ISNUMBER(FIND(\"BC/BS\",#REF!)),\"X\",\"\")","v":""}]
["UMR ELWOOD STAFFING SERVICES INC",null,{"$f":"IF(ISNUMBER(FIND(\"MEDICAID\",A3855)),\"X\",\"\")","v":""},{"$f":"IF(ISNUMBER(FIND(\"MEDICARE\",A3855)),\"X\",\"\")","v":""},{"$f":"IF(ISNUMBER(FIND(\"BC/BS\",#REF!)),\"X\",\"\")","v":""}]
["UMR EMBASSY HEALTHCARE MANAGEMENT INC",null,{"$f":"IF(ISNUMBER(FIND(\"MEDICAID\",A3856)),\"X\",\"\")","v":""},{"$f":"IF(ISNUMBER(FIND(\"MEDICARE\",A3856)),\"X\",\"\")","v":""},{"$f":"IF(ISNUMBER(FIND(\"BC/BS\",#REF!)),\"X\",\"\")","v":""}]
["UMR EMERALD HOSPITALITY ASSOCIATION INC",null,{"$f":"IF(ISNUMBER(FIND(\"MEDICAID\",A3857)),\"X\",\"\")","v":""},{"$f":"IF(ISNUMBER(FIND(\"MEDICARE\",A3857)),\"X\",\"\")","v":""},{"$f":"IF(ISNUMBER(FIND(\"BC/BS\",#REF!)),\"X\",\"\")","v":""}]
["UMR EMERUS HOLDINGS INC",null,{"$f":"IF(ISNUMBER(FIND(\"MEDICAID\",A3858)),\"X\",\"\")","v":""},{"$f":"IF(ISNUMBER(FIND(\"MEDICARE\",A3858)),\"X\",\"\")","v":""},{"$f":"IF(ISNUMBER(FIND(\"BC/BS\",#REF!)),\"X\",\"\")","v":""}]
["UMR EMINENCE SPEAKER LLC",null,{"$f":"IF(ISNUMBER(FIND(\"MEDICAID\",A3859)),\"X\",\"\")","v":""},{"$f":"IF(ISNUMBER(FIND(\"MEDICARE\",A3859)),\"X\",\"\")","v":""},{"$f":"IF(ISNUMBER(FIND(\"BC/BS\",#REF!)),\"X\",\"\")","v":""}]
["UMR EMM LOANS LLC",null,{"$f":"IF(ISNUMBER(FIND(\"MEDICAID\",A3860)),\"X\",\"\")","v":""},{"$f":"IF(ISNUMBER(FIND(\"MEDICARE\",A3860)),\"X\",\"\")","v":""},{"$f":"IF(ISNUMBER(FIND(\"BC/BS\",#REF!)),\"X\",\"\")","v":""}]
["UMR EMPIRE MARKETING STRATEGIES INC",null,{"$f":"IF(ISNUMBER(FIND(\"MEDICAID\",A3861)),\"X\",\"\")","v":""},{"$f":"IF(ISNUMBER(FIND(\"MEDICARE\",A3861)),\"X\",\"\")","v":""},{"$f":"IF(ISNUMBER(FIND(\"BC/BS\",#REF!)),\"X\",\"\")","v":""}]
["UMR ENERGY SYSTEMS SOUTHEAST LLC",null,{"$f":"IF(ISNUMBER(FIND(\"MEDICAID\",A3862)),\"X\",\"\")","v":""},{"$f":"IF(ISNUMBER(FIND(\"MEDICARE\",A3862)),\"X\",\"\")","v":""},{"$f":"IF(ISNUMBER(FIND(\"BC/BS\",#REF!)),\"X\",\"\")","v":""}]
["UMR ENGINEERED PROFILES LLC",null,{"$f":"IF(ISNUMBER(FIND(\"MEDICAID\",A3863)),\"X\",\"\")","v":""},{"$f":"IF(ISNUMBER(FIND(\"MEDICARE\",A3863)),\"X\",\"\")","v":""},{"$f":"IF(ISNUMBER(FIND(\"BC/BS\",#REF!)),\"X\",\"\")","v":""}]
["UMR ENGINEERED TRANSPORTATION INTERNATIONAL",null,{"$f":"IF(ISNUMBER(FIND(\"MEDICAID\",A3864)),\"X\",\"\")","v":""},{"$f":"IF(ISNUMBER(FIND(\"MEDICARE\",A3864)),\"X\",\"\")","v":""},{"$f":"IF(ISNUMBER(FIND(\"BC/BS\",#REF!)),\"X\",\"\")","v":""}]
["UMR ENGLEFIELD INC",null,{"$f":"IF(ISNUMBER(FIND(\"MEDICAID\",A3865)),\"X\",\"\")","v":""},{"$f":"IF(ISNUMBER(FIND(\"MEDICARE\",A3865)),\"X\",\"\")","v":""},{"$f":"IF(ISNUMBER(FIND(\"BC/BS\",#REF!)),\"X\",\"\")","v":""}]
["UMR ENGLEWOOD HOSPITAL",null,{"$f":"IF(ISNUMBER(FIND(\"MEDICAID\",A3866)),\"X\",\"\")","v":""},{"$f":"IF(ISNUMBER(FIND(\"MEDICARE\",A3866)),\"X\",\"\")","v":""},{"$f":"IF(ISNUMBER(FIND(\"BC/BS\",#REF!)),\"X\",\"\")","v":""}]
["UMR ENOVATION CONTROLS LLC",null,{"$f":"IF(ISNUMBER(FIND(\"MEDICAID\",A3867)),\"X\",\"\")","v":""},{"$f":"IF(ISNUMBER(FIND(\"MEDICARE\",A3867)),\"X\",\"\")","v":""},{"$f":"IF(ISNUMBER(FIND(\"BC/BS\",#REF!)),\"X\",\"\")","v":""}]
["UMR ENVIRONMENTAL AIR SYSTEMS LLC",null,{"$f":"IF(ISNUMBER(FIND(\"MEDICAID\",A3868)),\"X\",\"\")","v":""},{"$f":"IF(ISNUMBER(FIND(\"MEDICARE\",A3868)),\"X\",\"\")","v":""},{"$f":"IF(ISNUMBER(FIND(\"BC/BS\",#REF!)),\"X\",\"\")","v":""}]
["UMR ENVIRONMENTAL SYSTEMS DESIGN INC",null,{"$f":"IF(ISNUMBER(FIND(\"MEDICAID\",A3869)),\"X\",\"\")","v":""},{"$f":"IF(ISNUMBER(FIND(\"MEDICARE\",A3869)),\"X\",\"\")","v":""},{"$f":"IF(ISNUMBER(FIND(\"BC/BS\",#REF!)),\"X\",\"\")","v":""}]
["UMR EPCON COMMUNITIES SERVICES LLC",null,{"$f":"IF(ISNUMBER(FIND(\"MEDICAID\",A3870)),\"X\",\"\")","v":""},{"$f":"IF(ISNUMBER(FIND(\"MEDICARE\",A3870)),\"X\",\"\")","v":""},{"$f":"IF(ISNUMBER(FIND(\"BC/BS\",#REF!)),\"X\",\"\")","v":""}]
["UMR EVENFLO COMPANY INC",null,{"$f":"IF(ISNUMBER(FIND(\"MEDICAID\",A3871)),\"X\",\"\")","v":""},{"$f":"IF(ISNUMBER(FIND(\"MEDICARE\",A3871)),\"X\",\"\")","v":""},{"$f":"IF(ISNUMBER(FIND(\"BC/BS\",#REF!)),\"X\",\"\")","v":""}]
["UMR EVERI PAYMENTS INC",null,{"$f":"IF(ISNUMBER(FIND(\"MEDICAID\",A3872)),\"X\",\"\")","v":""},{"$f":"IF(ISNUMBER(FIND(\"MEDICARE\",A3872)),\"X\",\"\")","v":""},{"$f":"IF(ISNUMBER(FIND(\"BC/BS\",#REF!)),\"X\",\"\")","v":""}]
["UMR EVERSIDE HEALTH",null,{"$f":"IF(ISNUMBER(FIND(\"MEDICAID\",A3873)),\"X\",\"\")","v":""},{"$f":"IF(ISNUMBER(FIND(\"MEDICARE\",A3873)),\"X\",\"\")","v":""},{"$f":"IF(ISNUMBER(FIND(\"BC/BS\",#REF!)),\"X\",\"\")","v":""}]
["UMR EXELCO LEASING INC",null,{"$f":"IF(ISNUMBER(FIND(\"MEDICAID\",A3874)),\"X\",\"\")","v":""},{"$f":"IF(ISNUMBER(FIND(\"MEDICARE\",A3874)),\"X\",\"\")","v":""},{"$f":"IF(ISNUMBER(FIND(\"BC/BS\",#REF!)),\"X\",\"\")","v":""}]
["UMR EXLINE INC",null,{"$f":"IF(ISNUMBER(FIND(\"MEDICAID\",A3875)),\"X\",\"\")","v":""},{"$f":"IF(ISNUMBER(FIND(\"MEDICARE\",A3875)),\"X\",\"\")","v":""},{"$f":"IF(ISNUMBER(FIND(\"BC/BS\",#REF!)),\"X\",\"\")","v":""}]
["UMR EXTRA SPACE MANAGEMENT INC",null,{"$f":"IF(ISNUMBER(FIND(\"MEDICAID\",A3876)),\"X\",\"\")","v":""},{"$f":"IF(ISNUMBER(FIND(\"MEDICARE\",A3876)),\"X\",\"\")","v":""},{"$f":"IF(ISNUMBER(FIND(\"BC/BS\",#REF!)),\"X\",\"\")","v":""}]
["UMR FACILITIES MANAGEMENT SERVICES",null,{"$f":"IF(ISNUMBER(FIND(\"MEDICAID\",A3877)),\"X\",\"\")","v":""},{"$f":"IF(ISNUMBER(FIND(\"MEDICARE\",A3877)),\"X\",\"\")","v":""},{"$f":"IF(ISNUMBER(FIND(\"BC/BS\",#REF!)),\"X\",\"\")","v":""}]
["UMR FAIRFIELD MEDICAL CENTER",null,{"$f":"IF(ISNUMBER(FIND(\"MEDICAID\",A3878)),\"X\",\"\")","v":""},{"$f":"IF(ISNUMBER(FIND(\"MEDICARE\",A3878)),\"X\",\"\")","v":""},{"$f":"IF(ISNUMBER(FIND(\"BC/BS\",#REF!)),\"X\",\"\")","v":""}]
["UMR FAITH REGIONAL HEALTH SERVICES",null,{"$f":"IF(ISNUMBER(FIND(\"MEDICAID\",A3879)),\"X\",\"\")","v":""},{"$f":"IF(ISNUMBER(FIND(\"MEDICARE\",A3879)),\"X\",\"\")","v":""},{"$f":"IF(ISNUMBER(FIND(\"BC/BS\",#REF!)),\"X\",\"\")","v":""}]
["UMR FAITH TECHNOLOGIES INCORPORATED FTI",null,{"$f":"IF(ISNUMBER(FIND(\"MEDICAID\",A3880)),\"X\",\"\")","v":""},{"$f":"IF(ISNUMBER(FIND(\"MEDICARE\",A3880)),\"X\",\"\")","v":""},{"$f":"IF(ISNUMBER(FIND(\"BC/BS\",#REF!)),\"X\",\"\")","v":""}]
["UMR FAMILY CHILDREN SERVICES",null,{"$f":"IF(ISNUMBER(FIND(\"MEDICAID\",A3881)),\"X\",\"\")","v":""},{"$f":"IF(ISNUMBER(FIND(\"MEDICARE\",A3881)),\"X\",\"\")","v":""},{"$f":"IF(ISNUMBER(FIND(\"BC/BS\",#REF!)),\"X\",\"\")","v":""}]
["UMR FARMERS MUTUAL HAIL INSURANCE COMPANY OF IOWA",null,{"$f":"IF(ISNUMBER(FIND(\"MEDICAID\",A3882)),\"X\",\"\")","v":""},{"$f":"IF(ISNUMBER(FIND(\"MEDICARE\",A3882)),\"X\",\"\")","v":""},{"$f":"IF(ISNUMBER(FIND(\"BC/BS\",#REF!)),\"X\",\"\")","v":""}]
["UMR FC INDUSTRIES INC",null,{"$f":"IF(ISNUMBER(FIND(\"MEDICAID\",A3883)),\"X\",\"\")","v":""},{"$f":"IF(ISNUMBER(FIND(\"MEDICARE\",A3883)),\"X\",\"\")","v":""},{"$f":"IF(ISNUMBER(FIND(\"BC/BS\",#REF!)),\"X\",\"\")","v":""}]
["UMR FEINTOOL U S OPERATIONS",null,{"$f":"IF(ISNUMBER(FIND(\"MEDICAID\",A3884)),\"X\",\"\")","v":""},{"$f":"IF(ISNUMBER(FIND(\"MEDICARE\",A3884)),\"X\",\"\")","v":""},{"$f":"IF(ISNUMBER(FIND(\"BC/BS\",#REF!)),\"X\",\"\")","v":""}]
["UMR FERGUSON CONSTRUCTION COMPANY",null,{"$f":"IF(ISNUMBER(FIND(\"MEDICAID\",A3885)),\"X\",\"\")","v":""},{"$f":"IF(ISNUMBER(FIND(\"MEDICARE\",A3885)),\"X\",\"\")","v":""},{"$f":"IF(ISNUMBER(FIND(\"BC/BS\",#REF!)),\"X\",\"\")","v":""}]
["UMR FIDELITY INVESTMENTS",null,{"$f":"IF(ISNUMBER(FIND(\"MEDICAID\",A3886)),\"X\",\"\")","v":""},{"$f":"IF(ISNUMBER(FIND(\"MEDICARE\",A3886)),\"X\",\"\")","v":""},{"$f":"IF(ISNUMBER(FIND(\"BC/BS\",#REF!)),\"X\",\"\")","v":""}]
["UMR FINCANTIERI MARINE GROUP LLC",null,{"$f":"IF(ISNUMBER(FIND(\"MEDICAID\",A3887)),\"X\",\"\")","v":""},{"$f":"IF(ISNUMBER(FIND(\"MEDICARE\",A3887)),\"X\",\"\")","v":""},{"$f":"IF(ISNUMBER(FIND(\"BC/BS\",#REF!)),\"X\",\"\")","v":""}]
["UMR FINDLAY CITY SCHOOLS",null,{"$f":"IF(ISNUMBER(FIND(\"MEDICAID\",A3888)),\"X\",\"\")","v":""},{"$f":"IF(ISNUMBER(FIND(\"MEDICARE\",A3888)),\"X\",\"\")","v":""},{"$f":"IF(ISNUMBER(FIND(\"BC/BS\",#REF!)),\"X\",\"\")","v":""}]
["UMR FIRST FINANCIAL CORPORATION",null,{"$f":"IF(ISNUMBER(FIND(\"MEDICAID\",A3889)),\"X\",\"\")","v":""},{"$f":"IF(ISNUMBER(FIND(\"MEDICARE\",A3889)),\"X\",\"\")","v":""},{"$f":"IF(ISNUMBER(FIND(\"BC/BS\",#REF!)),\"X\",\"\")","v":""}]
["UMR FIRSTPOINT INC",null,{"$f":"IF(ISNUMBER(FIND(\"MEDICAID\",A3890)),\"X\",\"\")","v":""},{"$f":"IF(ISNUMBER(FIND(\"MEDICARE\",A3890)),\"X\",\"\")","v":""},{"$f":"IF(ISNUMBER(FIND(\"BC/BS\",#REF!)),\"X\",\"\")","v":""}]
["UMR FISKARS BRANDS INC",null,{"$f":"IF(ISNUMBER(FIND(\"MEDICAID\",A3891)),\"X\",\"\")","v":""},{"$f":"IF(ISNUMBER(FIND(\"MEDICARE\",A3891)),\"X\",\"\")","v":""},{"$f":"IF(ISNUMBER(FIND(\"BC/BS\",#REF!)),\"X\",\"\")","v":""}]
["UMR FLOW CONTROL GROUP",null,{"$f":"IF(ISNUMBER(FIND(\"MEDICAID\",A3892)),\"X\",\"\")","v":""},{"$f":"IF(ISNUMBER(FIND(\"MEDICARE\",A3892)),\"X\",\"\")","v":""},{"$f":"IF(ISNUMBER(FIND(\"BC/BS\",#REF!)),\"X\",\"\")","v":""}]
["UMR FMOL HEALTH SYSTEM INC",null,{"$f":"IF(ISNUMBER(FIND(\"MEDICAID\",A3893)),\"X\",\"\")","v":""},{"$f":"IF(ISNUMBER(FIND(\"MEDICARE\",A3893)),\"X\",\"\")","v":""},{"$f":"IF(ISNUMBER(FIND(\"BC/BS\",#REF!)),\"X\",\"\")","v":""}]
["UMR FOAM SUPPLIES INC",null,{"$f":"IF(ISNUMBER(FIND(\"MEDICAID\",A3894)),\"X\",\"\")","v":""},{"$f":"IF(ISNUMBER(FIND(\"MEDICARE\",A3894)),\"X\",\"\")","v":""},{"$f":"IF(ISNUMBER(FIND(\"BC/BS\",#REF!)),\"X\",\"\")","v":""}]
["UMR FOLEY LARDNER LLP",null,{"$f":"IF(ISNUMBER(FIND(\"MEDICAID\",A3895)),\"X\",\"\")","v":""},{"$f":"IF(ISNUMBER(FIND(\"MEDICARE\",A3895)),\"X\",\"\")","v":""},{"$f":"IF(ISNUMBER(FIND(\"BC/BS\",#REF!)),\"X\",\"\")","v":""}]
["UMR FOND DU LAC COUNTY",null,{"$f":"IF(ISNUMBER(FIND(\"MEDICAID\",A3896)),\"X\",\"\")","v":""},{"$f":"IF(ISNUMBER(FIND(\"MEDICARE\",A3896)),\"X\",\"\")","v":""},{"$f":"IF(ISNUMBER(FIND(\"BC/BS\",#REF!)),\"X\",\"\")","v":""}]
["UMR FONTBONNE UNIVERSITY",null,{"$f":"IF(ISNUMBER(FIND(\"MEDICAID\",A3897)),\"X\",\"\")","v":""},{"$f":"IF(ISNUMBER(FIND(\"MEDICARE\",A3897)),\"X\",\"\")","v":""},{"$f":"IF(ISNUMBER(FIND(\"BC/BS\",#REF!)),\"X\",\"\")","v":""}]
["UMR FORMICA CORPORATION",null,{"$f":"IF(ISNUMBER(FIND(\"MEDICAID\",A3898)),\"X\",\"\")","v":""},{"$f":"IF(ISNUMBER(FIND(\"MEDICARE\",A3898)),\"X\",\"\")","v":""},{"$f":"IF(ISNUMBER(FIND(\"BC/BS\",#REF!)),\"X\",\"\")","v":""}]
["UMR FORT RECOVERY INDUSTRIES INC",null,{"$f":"IF(ISNUMBER(FIND(\"MEDICAID\",A3899)),\"X\",\"\")","v":""},{"$f":"IF(ISNUMBER(FIND(\"MEDICARE\",A3899)),\"X\",\"\")","v":""},{"$f":"IF(ISNUMBER(FIND(\"BC/BS\",#REF!)),\"X\",\"\")","v":""}]
["UMR FOX VALLEY TECHNICAL COLLEGE",null,{"$f":"IF(ISNUMBER(FIND(\"MEDICAID\",A3900)),\"X\",\"\")","v":""},{"$f":"IF(ISNUMBER(FIND(\"MEDICARE\",A3900)),\"X\",\"\")","v":""},{"$f":"IF(ISNUMBER(FIND(\"BC/BS\",#REF!)),\"X\",\"\")","v":""}]
["UMR FOX WORLD TRAVEL INC",null,{"$f":"IF(ISNUMBER(FIND(\"MEDICAID\",A3901)),\"X\",\"\")","v":""},{"$f":"IF(ISNUMBER(FIND(\"MEDICARE\",A3901)),\"X\",\"\")","v":""},{"$f":"IF(ISNUMBER(FIND(\"BC/BS\",#REF!)),\"X\",\"\")","v":""}]
["UMR FRANCIS HOWELL SCHOOL DISTRICT",null,{"$f":"IF(ISNUMBER(FIND(\"MEDICAID\",A3902)),\"X\",\"\")","v":""},{"$f":"IF(ISNUMBER(FIND(\"MEDICARE\",A3902)),\"X\",\"\")","v":""},{"$f":"IF(ISNUMBER(FIND(\"BC/BS\",#REF!)),\"X\",\"\")","v":""}]
["UMR FRANKLIN PUBLIC SCHOOL DISTRICT",null,{"$f":"IF(ISNUMBER(FIND(\"MEDICAID\",A3903)),\"X\",\"\")","v":""},{"$f":"IF(ISNUMBER(FIND(\"MEDICARE\",A3903)),\"X\",\"\")","v":""},{"$f":"IF(ISNUMBER(FIND(\"BC/BS\",#REF!)),\"X\",\"\")","v":""}]
["UMR FREDMAN BROTHERS FURNITURE COMPANY INC",null,{"$f":"IF(ISNUMBER(FIND(\"MEDICAID\",A3904)),\"X\",\"\")","v":""},{"$f":"IF(ISNUMBER(FIND(\"MEDICARE\",A3904)),\"X\",\"\")","v":""},{"$f":"IF(ISNUMBER(FIND(\"BC/BS\",#REF!)),\"X\",\"\")","v":""}]
["UMR FREEDOM MORTGAGE CORPORATION",null,{"$f":"IF(ISNUMBER(FIND(\"MEDICAID\",A3905)),\"X\",\"\")","v":""},{"$f":"IF(ISNUMBER(FIND(\"MEDICARE\",A3905)),\"X\",\"\")","v":""},{"$f":"IF(ISNUMBER(FIND(\"BC/BS\",#REF!)),\"X\",\"\")","v":""}]
["UMR FREIGHT LIME AND SAND HAULING INC",null,{"$f":"IF(ISNUMBER(FIND(\"MEDICAID\",A3906)),\"X\",\"\")","v":""},{"$f":"IF(ISNUMBER(FIND(\"MEDICARE\",A3906)),\"X\",\"\")","v":""},{"$f":"IF(ISNUMBER(FIND(\"BC/BS\",#REF!)),\"X\",\"\")","v":""}]
["UMR FREMONT CONTRACT CARRIERS INC",null,{"$f":"IF(ISNUMBER(FIND(\"MEDICAID\",A3907)),\"X\",\"\")","v":""},{"$f":"IF(ISNUMBER(FIND(\"MEDICARE\",A3907)),\"X\",\"\")","v":""},{"$f":"IF(ISNUMBER(FIND(\"BC/BS\",#REF!)),\"X\",\"\")","v":""}]
["UMR FRICK'S QUALITY MEATS INC",null,{"$f":"IF(ISNUMBER(FIND(\"MEDICAID\",A3908)),\"X\",\"\")","v":""},{"$f":"IF(ISNUMBER(FIND(\"MEDICARE\",A3908)),\"X\",\"\")","v":""},{"$f":"IF(ISNUMBER(FIND(\"BC/BS\",#REF!)),\"X\",\"\")","v":""}]
["UMR FRISCH'S RESTAURANTS INC",null,{"$f":"IF(ISNUMBER(FIND(\"MEDICAID\",A3909)),\"X\",\"\")","v":""},{"$f":"IF(ISNUMBER(FIND(\"MEDICARE\",A3909)),\"X\",\"\")","v":""},{"$f":"IF(ISNUMBER(FIND(\"BC/BS\",#REF!)),\"X\",\"\")","v":""}]
["UMR FRONTROOM FURNISHINGS LLC",null,{"$f":"IF(ISNUMBER(FIND(\"MEDICAID\",A3910)),\"X\",\"\")","v":""},{"$f":"IF(ISNUMBER(FIND(\"MEDICARE\",A3910)),\"X\",\"\")","v":""},{"$f":"IF(ISNUMBER(FIND(\"BC/BS\",#REF!)),\"X\",\"\")","v":""}]
["UMR FSEBT FLORIDA SHERIFFS HEALTH PLAN",null,{"$f":"IF(ISNUMBER(FIND(\"MEDICAID\",A3911)),\"X\",\"\")","v":""},{"$f":"IF(ISNUMBER(FIND(\"MEDICARE\",A3911)),\"X\",\"\")","v":""},{"$f":"IF(ISNUMBER(FIND(\"BC/BS\",#REF!)),\"X\",\"\")","v":""}]
["UMR FULTON CITY SCHOOL DISTRICT",null,{"$f":"IF(ISNUMBER(FIND(\"MEDICAID\",A3912)),\"X\",\"\")","v":""},{"$f":"IF(ISNUMBER(FIND(\"MEDICARE\",A3912)),\"X\",\"\")","v":""},{"$f":"IF(ISNUMBER(FIND(\"BC/BS\",#REF!)),\"X\",\"\")","v":""}]
["UMR FURST MCNESS COMPANY",null,{"$f":"IF(ISNUMBER(FIND(\"MEDICAID\",A3913)),\"X\",\"\")","v":""},{"$f":"IF(ISNUMBER(FIND(\"MEDICARE\",A3913)),\"X\",\"\")","v":""},{"$f":"IF(ISNUMBER(FIND(\"BC/BS\",#REF!)),\"X\",\"\")","v":""}]
["UMR G E FOODLAND INC",null,{"$f":"IF(ISNUMBER(FIND(\"MEDICAID\",A3914)),\"X\",\"\")","v":""},{"$f":"IF(ISNUMBER(FIND(\"MEDICARE\",A3914)),\"X\",\"\")","v":""},{"$f":"IF(ISNUMBER(FIND(\"BC/BS\",#REF!)),\"X\",\"\")","v":""}]
["UMR G K ENTERPRISES INC",null,{"$f":"IF(ISNUMBER(FIND(\"MEDICAID\",A3915)),\"X\",\"\")","v":""},{"$f":"IF(ISNUMBER(FIND(\"MEDICARE\",A3915)),\"X\",\"\")","v":""},{"$f":"IF(ISNUMBER(FIND(\"BC/BS\",#REF!)),\"X\",\"\")","v":""}]
["UMR GALESBURG CUSD 205",null,{"$f":"IF(ISNUMBER(FIND(\"MEDICAID\",A3916)),\"X\",\"\")","v":""},{"$f":"IF(ISNUMBER(FIND(\"MEDICARE\",A3916)),\"X\",\"\")","v":""},{"$f":"IF(ISNUMBER(FIND(\"BC/BS\",#REF!)),\"X\",\"\")","v":""}]
["UMR GARDNER BUSINESS MEDIA",null,{"$f":"IF(ISNUMBER(FIND(\"MEDICAID\",A3917)),\"X\",\"\")","v":""},{"$f":"IF(ISNUMBER(FIND(\"MEDICARE\",A3917)),\"X\",\"\")","v":""},{"$f":"IF(ISNUMBER(FIND(\"BC/BS\",#REF!)),\"X\",\"\")","v":""}]
["UMR GARY MERLINO CONSTRUCTION CO INC",null,{"$f":"IF(ISNUMBER(FIND(\"MEDICAID\",A3918)),\"X\",\"\")","v":""},{"$f":"IF(ISNUMBER(FIND(\"MEDICARE\",A3918)),\"X\",\"\")","v":""},{"$f":"IF(ISNUMBER(FIND(\"BC/BS\",#REF!)),\"X\",\"\")","v":""}]
["UMR GATES AUTOMOTIVE GROUP",null,{"$f":"IF(ISNUMBER(FIND(\"MEDICAID\",A3919)),\"X\",\"\")","v":""},{"$f":"IF(ISNUMBER(FIND(\"MEDICARE\",A3919)),\"X\",\"\")","v":""},{"$f":"IF(ISNUMBER(FIND(\"BC/BS\",#REF!)),\"X\",\"\")","v":""}]
["UMR GBBN ARCHITECTS INC",null,{"$f":"IF(ISNUMBER(FIND(\"MEDICAID\",A3920)),\"X\",\"\")","v":""},{"$f":"IF(ISNUMBER(FIND(\"MEDICARE\",A3920)),\"X\",\"\")","v":""},{"$f":"IF(ISNUMBER(FIND(\"BC/BS\",#REF!)),\"X\",\"\")","v":""}]
["UMR GECOM CORPORATION",null,{"$f":"IF(ISNUMBER(FIND(\"MEDICAID\",A3921)),\"X\",\"\")","v":""},{"$f":"IF(ISNUMBER(FIND(\"MEDICARE\",A3921)),\"X\",\"\")","v":""},{"$f":"IF(ISNUMBER(FIND(\"BC/BS\",#REF!)),\"X\",\"\")","v":""}]
["UMR GENESYS CLOUD SERVICES INC",null,{"$f":"IF(ISNUMBER(FIND(\"MEDICAID\",A3922)),\"X\",\"\")","v":""},{"$f":"IF(ISNUMBER(FIND(\"MEDICARE\",A3922)),\"X\",\"\")","v":""},{"$f":"IF(ISNUMBER(FIND(\"BC/BS\",#REF!)),\"X\",\"\")","v":""}]
["UMR GEORGIA PACIFIC LLC",null,{"$f":"IF(ISNUMBER(FIND(\"MEDICAID\",A3923)),\"X\",\"\")","v":""},{"$f":"IF(ISNUMBER(FIND(\"MEDICARE\",A3923)),\"X\",\"\")","v":""},{"$f":"IF(ISNUMBER(FIND(\"BC/BS\",#REF!)),\"X\",\"\")","v":""}]
["UMR GIBSON INSURANCE AGENCY INC",null,{"$f":"IF(ISNUMBER(FIND(\"MEDICAID\",A3924)),\"X\",\"\")","v":""},{"$f":"IF(ISNUMBER(FIND(\"MEDICARE\",A3924)),\"X\",\"\")","v":""},{"$f":"IF(ISNUMBER(FIND(\"BC/BS\",#REF!)),\"X\",\"\")","v":""}]
["UMR GILSTER MARY LEE CORPORATION",null,{"$f":"IF(ISNUMBER(FIND(\"MEDICAID\",A3925)),\"X\",\"\")","v":""},{"$f":"IF(ISNUMBER(FIND(\"MEDICARE\",A3925)),\"X\",\"\")","v":""},{"$f":"IF(ISNUMBER(FIND(\"BC/BS\",#REF!)),\"X\",\"\")","v":""}]
["UMR GLANTZ HOLDINGS INC",null,{"$f":"IF(ISNUMBER(FIND(\"MEDICAID\",A3926)),\"X\",\"\")","v":""},{"$f":"IF(ISNUMBER(FIND(\"MEDICARE\",A3926)),\"X\",\"\")","v":""},{"$f":"IF(ISNUMBER(FIND(\"BC/BS\",#REF!)),\"X\",\"\")","v":""}]
["UMR GLEANERS FOOD BANK OF INDIANA INC",null,{"$f":"IF(ISNUMBER(FIND(\"MEDICAID\",A3927)),\"X\",\"\")","v":""},{"$f":"IF(ISNUMBER(FIND(\"MEDICARE\",A3927)),\"X\",\"\")","v":""},{"$f":"IF(ISNUMBER(FIND(\"BC/BS\",#REF!)),\"X\",\"\")","v":""}]
["UMR GMFS LLC",null,{"$f":"IF(ISNUMBER(FIND(\"MEDICAID\",A3928)),\"X\",\"\")","v":""},{"$f":"IF(ISNUMBER(FIND(\"MEDICARE\",A3928)),\"X\",\"\")","v":""},{"$f":"IF(ISNUMBER(FIND(\"BC/BS\",#REF!)),\"X\",\"\")","v":""}]
["UMR GNCO",null,{"$f":"IF(ISNUMBER(FIND(\"MEDICAID\",A3929)),\"X\",\"\")","v":""},{"$f":"IF(ISNUMBER(FIND(\"MEDICARE\",A3929)),\"X\",\"\")","v":""},{"$f":"IF(ISNUMBER(FIND(\"BC/BS\",#REF!)),\"X\",\"\")","v":""}]
["UMR GOLD MEDAL PRODUCTS COMPANY",null,{"$f":"IF(ISNUMBER(FIND(\"MEDICAID\",A3930)),\"X\",\"\")","v":""},{"$f":"IF(ISNUMBER(FIND(\"MEDICARE\",A3930)),\"X\",\"\")","v":""},{"$f":"IF(ISNUMBER(FIND(\"BC/BS\",#REF!)),\"X\",\"\")","v":""}]
["UMR GOLDEN ALUMINUM INC",null,{"$f":"IF(ISNUMBER(FIND(\"MEDICAID\",A3931)),\"X\",\"\")","v":""},{"$f":"IF(ISNUMBER(FIND(\"MEDICARE\",A3931)),\"X\",\"\")","v":""},{"$f":"IF(ISNUMBER(FIND(\"BC/BS\",#REF!)),\"X\",\"\")","v":""}]
["UMR GOLDEN BANK N A",null,{"$f":"IF(ISNUMBER(FIND(\"MEDICAID\",A3932)),\"X\",\"\")","v":""},{"$f":"IF(ISNUMBER(FIND(\"MEDICARE\",A3932)),\"X\",\"\")","v":""},{"$f":"IF(ISNUMBER(FIND(\"BC/BS\",#REF!)),\"X\",\"\")","v":""}]
["UMR GOLDEN NUGGET",null,{"$f":"IF(ISNUMBER(FIND(\"MEDICAID\",A3933)),\"X\",\"\")","v":""},{"$f":"IF(ISNUMBER(FIND(\"MEDICARE\",A3933)),\"X\",\"\")","v":""},{"$f":"IF(ISNUMBER(FIND(\"BC/BS\",#REF!)),\"X\",\"\")","v":""}]
["UMR GOMACO CORPORATION",null,{"$f":"IF(ISNUMBER(FIND(\"MEDICAID\",A3934)),\"X\",\"\")","v":""},{"$f":"IF(ISNUMBER(FIND(\"MEDICARE\",A3934)),\"X\",\"\")","v":""},{"$f":"IF(ISNUMBER(FIND(\"BC/BS\",#REF!)),\"X\",\"\")","v":""}]
["UMR GOOD EARTH TOOLS INC",null,{"$f":"IF(ISNUMBER(FIND(\"MEDICAID\",A3935)),\"X\",\"\")","v":""},{"$f":"IF(ISNUMBER(FIND(\"MEDICARE\",A3935)),\"X\",\"\")","v":""},{"$f":"IF(ISNUMBER(FIND(\"BC/BS\",#REF!)),\"X\",\"\")","v":""}]
["UMR GOOD TIMES RESTAURANTS INC",null,{"$f":"IF(ISNUMBER(FIND(\"MEDICAID\",A3936)),\"X\",\"\")","v":""},{"$f":"IF(ISNUMBER(FIND(\"MEDICARE\",A3936)),\"X\",\"\")","v":""},{"$f":"IF(ISNUMBER(FIND(\"BC/BS\",#REF!)),\"X\",\"\")","v":""}]
["UMR GOPHER RESOURCE LLC",null,{"$f":"IF(ISNUMBER(FIND(\"MEDICAID\",A3937)),\"X\",\"\")","v":""},{"$f":"IF(ISNUMBER(FIND(\"MEDICARE\",A3937)),\"X\",\"\")","v":""},{"$f":"IF(ISNUMBER(FIND(\"BC/BS\",#REF!)),\"X\",\"\")","v":""}]
["UMR GORDON FLESCH COMPANY INC",null,{"$f":"IF(ISNUMBER(FIND(\"MEDICAID\",A3938)),\"X\",\"\")","v":""},{"$f":"IF(ISNUMBER(FIND(\"MEDICARE\",A3938)),\"X\",\"\")","v":""},{"$f":"IF(ISNUMBER(FIND(\"BC/BS\",#REF!)),\"X\",\"\")","v":""}]
["UMR GRAEF USA INC DBA GRAEF",null,{"$f":"IF(ISNUMBER(FIND(\"MEDICAID\",A3939)),\"X\",\"\")","v":""},{"$f":"IF(ISNUMBER(FIND(\"MEDICARE\",A3939)),\"X\",\"\")","v":""},{"$f":"IF(ISNUMBER(FIND(\"BC/BS\",#REF!)),\"X\",\"\")","v":""}]
["UMR GRAND ROUNDS FLORIDA PA",null,{"$f":"IF(ISNUMBER(FIND(\"MEDICAID\",A3940)),\"X\",\"\")","v":""},{"$f":"IF(ISNUMBER(FIND(\"MEDICARE\",A3940)),\"X\",\"\")","v":""},{"$f":"IF(ISNUMBER(FIND(\"BC/BS\",#REF!)),\"X\",\"\")","v":""}]
["UMR GRANT BLACKFORD MENTAL HEALTH INC",null,{"$f":"IF(ISNUMBER(FIND(\"MEDICAID\",A3941)),\"X\",\"\")","v":""},{"$f":"IF(ISNUMBER(FIND(\"MEDICARE\",A3941)),\"X\",\"\")","v":""},{"$f":"IF(ISNUMBER(FIND(\"BC/BS\",#REF!)),\"X\",\"\")","v":""}]
["UMR GRANT COUNTY GOVERNMENT",null,{"$f":"IF(ISNUMBER(FIND(\"MEDICAID\",A3942)),\"X\",\"\")","v":""},{"$f":"IF(ISNUMBER(FIND(\"MEDICARE\",A3942)),\"X\",\"\")","v":""},{"$f":"IF(ISNUMBER(FIND(\"BC/BS\",#REF!)),\"X\",\"\")","v":""}]
["UMR GREAT LAKES VENEER INC",null,{"$f":"IF(ISNUMBER(FIND(\"MEDICAID\",A3943)),\"X\",\"\")","v":""},{"$f":"IF(ISNUMBER(FIND(\"MEDICARE\",A3943)),\"X\",\"\")","v":""},{"$f":"IF(ISNUMBER(FIND(\"BC/BS\",#REF!)),\"X\",\"\")","v":""}]
["UMR GREAT PLAINS HEALTH CARE PLAN",null,{"$f":"IF(ISNUMBER(FIND(\"MEDICAID\",A3944)),\"X\",\"\")","v":""},{"$f":"IF(ISNUMBER(FIND(\"MEDICARE\",A3944)),\"X\",\"\")","v":""},{"$f":"IF(ISNUMBER(FIND(\"BC/BS\",#REF!)),\"X\",\"\")","v":""}]
["UMR GREENWOOD LEFLORE HOSPITAL",null,{"$f":"IF(ISNUMBER(FIND(\"MEDICAID\",A3945)),\"X\",\"\")","v":""},{"$f":"IF(ISNUMBER(FIND(\"MEDICARE\",A3945)),\"X\",\"\")","v":""},{"$f":"IF(ISNUMBER(FIND(\"BC/BS\",#REF!)),\"X\",\"\")","v":""}]
["UMR GREINER ELECTRIC",null,{"$f":"IF(ISNUMBER(FIND(\"MEDICAID\",A3946)),\"X\",\"\")","v":""},{"$f":"IF(ISNUMBER(FIND(\"MEDICARE\",A3946)),\"X\",\"\")","v":""},{"$f":"IF(ISNUMBER(FIND(\"BC/BS\",#REF!)),\"X\",\"\")","v":""}]
["UMR GROTE INDUSTRIES INC",null,{"$f":"IF(ISNUMBER(FIND(\"MEDICAID\",A3947)),\"X\",\"\")","v":""},{"$f":"IF(ISNUMBER(FIND(\"MEDICARE\",A3947)),\"X\",\"\")","v":""},{"$f":"IF(ISNUMBER(FIND(\"BC/BS\",#REF!)),\"X\",\"\")","v":""}]
["UMR GROUNDWORKS",null,{"$f":"IF(ISNUMBER(FIND(\"MEDICAID\",A3948)),\"X\",\"\")","v":""},{"$f":"IF(ISNUMBER(FIND(\"MEDICARE\",A3948)),\"X\",\"\")","v":""},{"$f":"IF(ISNUMBER(FIND(\"BC/BS\",#REF!)),\"X\",\"\")","v":""}]
["UMR GRUMA CORPORATION",null,{"$f":"IF(ISNUMBER(FIND(\"MEDICAID\",A3949)),\"X\",\"\")","v":""},{"$f":"IF(ISNUMBER(FIND(\"MEDICARE\",A3949)),\"X\",\"\")","v":""},{"$f":"IF(ISNUMBER(FIND(\"BC/BS\",#REF!)),\"X\",\"\")","v":""}]
["UMR GULF RELAY",null,{"$f":"IF(ISNUMBER(FIND(\"MEDICAID\",A3950)),\"X\",\"\")","v":""},{"$f":"IF(ISNUMBER(FIND(\"MEDICARE\",A3950)),\"X\",\"\")","v":""},{"$f":"IF(ISNUMBER(FIND(\"BC/BS\",#REF!)),\"X\",\"\")","v":""}]
["UMR GULLY TRANSPORTATION INC",null,{"$f":"IF(ISNUMBER(FIND(\"MEDICAID\",A3951)),\"X\",\"\")","v":""},{"$f":"IF(ISNUMBER(FIND(\"MEDICARE\",A3951)),\"X\",\"\")","v":""},{"$f":"IF(ISNUMBER(FIND(\"BC/BS\",#REF!)),\"X\",\"\")","v":""}]
["UMR H D FOWLER COMPANY",null,{"$f":"IF(ISNUMBER(FIND(\"MEDICAID\",A3952)),\"X\",\"\")","v":""},{"$f":"IF(ISNUMBER(FIND(\"MEDICARE\",A3952)),\"X\",\"\")","v":""},{"$f":"IF(ISNUMBER(FIND(\"BC/BS\",#REF!)),\"X\",\"\")","v":""}]
["UMR H M TRUCKING INC",null,{"$f":"IF(ISNUMBER(FIND(\"MEDICAID\",A3953)),\"X\",\"\")","v":""},{"$f":"IF(ISNUMBER(FIND(\"MEDICARE\",A3953)),\"X\",\"\")","v":""},{"$f":"IF(ISNUMBER(FIND(\"BC/BS\",#REF!)),\"X\",\"\")","v":""}]
["UMR HAAG STREIT USA INC",null,{"$f":"IF(ISNUMBER(FIND(\"MEDICAID\",A3954)),\"X\",\"\")","v":""},{"$f":"IF(ISNUMBER(FIND(\"MEDICARE\",A3954)),\"X\",\"\")","v":""},{"$f":"IF(ISNUMBER(FIND(\"BC/BS\",#REF!)),\"X\",\"\")","v":""}]
["UMR HALMA HOLDINGS INC",null,{"$f":"IF(ISNUMBER(FIND(\"MEDICAID\",A3955)),\"X\",\"\")","v":""},{"$f":"IF(ISNUMBER(FIND(\"MEDICARE\",A3955)),\"X\",\"\")","v":""},{"$f":"IF(ISNUMBER(FIND(\"BC/BS\",#REF!)),\"X\",\"\")","v":""}]
["UMR HAMILTON COMPANY",null,{"$f":"IF(ISNUMBER(FIND(\"MEDICAID\",A3956)),\"X\",\"\")","v":""},{"$f":"IF(ISNUMBER(FIND(\"MEDICARE\",A3956)),\"X\",\"\")","v":""},{"$f":"IF(ISNUMBER(FIND(\"BC/BS\",#REF!)),\"X\",\"\")","v":""}]
["UMR HANCOCK COUNTY MEBC",null,{"$f":"IF(ISNUMBER(FIND(\"MEDICAID\",A3957)),\"X\",\"\")","v":""},{"$f":"IF(ISNUMBER(FIND(\"MEDICARE\",A3957)),\"X\",\"\")","v":""},{"$f":"IF(ISNUMBER(FIND(\"BC/BS\",#REF!)),\"X\",\"\")","v":""}]
["UMR HANCOCK WHITNEY CORPORATION",null,{"$f":"IF(ISNUMBER(FIND(\"MEDICAID\",A3958)),\"X\",\"\")","v":""},{"$f":"IF(ISNUMBER(FIND(\"MEDICARE\",A3958)),\"X\",\"\")","v":""},{"$f":"IF(ISNUMBER(FIND(\"BC/BS\",#REF!)),\"X\",\"\")","v":""}]
["UMR HANDICARE USA INC",null,{"$f":"IF(ISNUMBER(FIND(\"MEDICAID\",A3959)),\"X\",\"\")","v":""},{"$f":"IF(ISNUMBER(FIND(\"MEDICARE\",A3959)),\"X\",\"\")","v":""},{"$f":"IF(ISNUMBER(FIND(\"BC/BS\",#REF!)),\"X\",\"\")","v":""}]
["UMR HANFORD PHARMACEUTICALS",null,{"$f":"IF(ISNUMBER(FIND(\"MEDICAID\",A3960)),\"X\",\"\")","v":""},{"$f":"IF(ISNUMBER(FIND(\"MEDICARE\",A3960)),\"X\",\"\")","v":""},{"$f":"IF(ISNUMBER(FIND(\"BC/BS\",#REF!)),\"X\",\"\")","v":""}]
["UMR HARBIN CLINIC LLC",null,{"$f":"IF(ISNUMBER(FIND(\"MEDICAID\",A3961)),\"X\",\"\")","v":""},{"$f":"IF(ISNUMBER(FIND(\"MEDICARE\",A3961)),\"X\",\"\")","v":""},{"$f":"IF(ISNUMBER(FIND(\"BC/BS\",#REF!)),\"X\",\"\")","v":""}]
["UMR HARRIS STEEL INC",null,{"$f":"IF(ISNUMBER(FIND(\"MEDICAID\",A3962)),\"X\",\"\")","v":""},{"$f":"IF(ISNUMBER(FIND(\"MEDICARE\",A3962)),\"X\",\"\")","v":""},{"$f":"IF(ISNUMBER(FIND(\"BC/BS\",#REF!)),\"X\",\"\")","v":""}]
["UMR HASCO BENEFIT PLAN",null,{"$f":"IF(ISNUMBER(FIND(\"MEDICAID\",A3963)),\"X\",\"\")","v":""},{"$f":"IF(ISNUMBER(FIND(\"MEDICARE\",A3963)),\"X\",\"\")","v":""},{"$f":"IF(ISNUMBER(FIND(\"BC/BS\",#REF!)),\"X\",\"\")","v":""}]
["UMR HAWKEN SCHOOL",null,{"$f":"IF(ISNUMBER(FIND(\"MEDICAID\",A3964)),\"X\",\"\")","v":""},{"$f":"IF(ISNUMBER(FIND(\"MEDICARE\",A3964)),\"X\",\"\")","v":""},{"$f":"IF(ISNUMBER(FIND(\"BC/BS\",#REF!)),\"X\",\"\")","v":""}]
["UMR HAWTHORN SENIOR LIVING LLC",null,{"$f":"IF(ISNUMBER(FIND(\"MEDICAID\",A3965)),\"X\",\"\")","v":""},{"$f":"IF(ISNUMBER(FIND(\"MEDICARE\",A3965)),\"X\",\"\")","v":""},{"$f":"IF(ISNUMBER(FIND(\"BC/BS\",#REF!)),\"X\",\"\")","v":""}]
["UMR HAYASHI TELEMPU NORTH AMERICA",null,{"$f":"IF(ISNUMBER(FIND(\"MEDICAID\",A3966)),\"X\",\"\")","v":""},{"$f":"IF(ISNUMBER(FIND(\"MEDICARE\",A3966)),\"X\",\"\")","v":""},{"$f":"IF(ISNUMBER(FIND(\"BC/BS\",#REF!)),\"X\",\"\")","v":""}]
["UMR HAYDON HOLDINGS LLC",null,{"$f":"IF(ISNUMBER(FIND(\"MEDICAID\",A3967)),\"X\",\"\")","v":""},{"$f":"IF(ISNUMBER(FIND(\"MEDICARE\",A3967)),\"X\",\"\")","v":""},{"$f":"IF(ISNUMBER(FIND(\"BC/BS\",#REF!)),\"X\",\"\")","v":""}]
["UMR HEALTH HOSPITAL CORPORATION",null,{"$f":"IF(ISNUMBER(FIND(\"MEDICAID\",A3968)),\"X\",\"\")","v":""},{"$f":"IF(ISNUMBER(FIND(\"MEDICARE\",A3968)),\"X\",\"\")","v":""},{"$f":"IF(ISNUMBER(FIND(\"BC/BS\",#REF!)),\"X\",\"\")","v":""}]
["UMR HEALTHLINC INC",null,{"$f":"IF(ISNUMBER(FIND(\"MEDICAID\",A3969)),\"X\",\"\")","v":""},{"$f":"IF(ISNUMBER(FIND(\"MEDICARE\",A3969)),\"X\",\"\")","v":""},{"$f":"IF(ISNUMBER(FIND(\"BC/BS\",#REF!)),\"X\",\"\")","v":""}]
["UMR HEAPY",null,{"$f":"IF(ISNUMBER(FIND(\"MEDICAID\",A3970)),\"X\",\"\")","v":""},{"$f":"IF(ISNUMBER(FIND(\"MEDICARE\",A3970)),\"X\",\"\")","v":""},{"$f":"IF(ISNUMBER(FIND(\"BC/BS\",#REF!)),\"X\",\"\")","v":""}]
["UMR HEARTLAND AUTOMOTIVE LLC",null,{"$f":"IF(ISNUMBER(FIND(\"MEDICAID\",A3971)),\"X\",\"\")","v":""},{"$f":"IF(ISNUMBER(FIND(\"MEDICARE\",A3971)),\"X\",\"\")","v":""},{"$f":"IF(ISNUMBER(FIND(\"BC/BS\",#REF!)),\"X\",\"\")","v":""}]
["UMR HEARTLAND EXPRESS INC",null,{"$f":"IF(ISNUMBER(FIND(\"MEDICAID\",A3972)),\"X\",\"\")","v":""},{"$f":"IF(ISNUMBER(FIND(\"MEDICARE\",A3972)),\"X\",\"\")","v":""},{"$f":"IF(ISNUMBER(FIND(\"BC/BS\",#REF!)),\"X\",\"\")","v":""}]
["UMR HEARTLAND LLC",null,{"$f":"IF(ISNUMBER(FIND(\"MEDICAID\",A3973)),\"X\",\"\")","v":""},{"$f":"IF(ISNUMBER(FIND(\"MEDICARE\",A3973)),\"X\",\"\")","v":""},{"$f":"IF(ISNUMBER(FIND(\"BC/BS\",#REF!)),\"X\",\"\")","v":""}]
["UMR HENNY PENNY CORPORATION",null,{"$f":"IF(ISNUMBER(FIND(\"MEDICAID\",A3974)),\"X\",\"\")","v":""},{"$f":"IF(ISNUMBER(FIND(\"MEDICARE\",A3974)),\"X\",\"\")","v":""},{"$f":"IF(ISNUMBER(FIND(\"BC/BS\",#REF!)),\"X\",\"\")","v":""}]
["UMR HENRY COUNTY",null,{"$f":"IF(ISNUMBER(FIND(\"MEDICAID\",A3975)),\"X\",\"\")","v":""},{"$f":"IF(ISNUMBER(FIND(\"MEDICARE\",A3975)),\"X\",\"\")","v":""},{"$f":"IF(ISNUMBER(FIND(\"BC/BS\",#REF!)),\"X\",\"\")","v":""}]
["UMR HENTZEN COATINGS INC",null,{"$f":"IF(ISNUMBER(FIND(\"MEDICAID\",A3976)),\"X\",\"\")","v":""},{"$f":"IF(ISNUMBER(FIND(\"MEDICARE\",A3976)),\"X\",\"\")","v":""},{"$f":"IF(ISNUMBER(FIND(\"BC/BS\",#REF!)),\"X\",\"\")","v":""}]
["UMR HERITAGE HOME GROUP LLC",null,{"$f":"IF(ISNUMBER(FIND(\"MEDICAID\",A3977)),\"X\",\"\")","v":""},{"$f":"IF(ISNUMBER(FIND(\"MEDICARE\",A3977)),\"X\",\"\")","v":""},{"$f":"IF(ISNUMBER(FIND(\"BC/BS\",#REF!)),\"X\",\"\")","v":""}]
["UMR HERZOG CONTRACTING CORP",null,{"$f":"IF(ISNUMBER(FIND(\"MEDICAID\",A3978)),\"X\",\"\")","v":""},{"$f":"IF(ISNUMBER(FIND(\"MEDICARE\",A3978)),\"X\",\"\")","v":""},{"$f":"IF(ISNUMBER(FIND(\"BC/BS\",#REF!)),\"X\",\"\")","v":""}]
["UMR HEXION INC",null,{"$f":"IF(ISNUMBER(FIND(\"MEDICAID\",A3979)),\"X\",\"\")","v":""},{"$f":"IF(ISNUMBER(FIND(\"MEDICARE\",A3979)),\"X\",\"\")","v":""},{"$f":"IF(ISNUMBER(FIND(\"BC/BS\",#REF!)),\"X\",\"\")","v":""}]
["UMR HG OHIO EMPLOYEE HOLDING CORP",null,{"$f":"IF(ISNUMBER(FIND(\"MEDICAID\",A3980)),\"X\",\"\")","v":""},{"$f":"IF(ISNUMBER(FIND(\"MEDICARE\",A3980)),\"X\",\"\")","v":""},{"$f":"IF(ISNUMBER(FIND(\"BC/BS\",#REF!)),\"X\",\"\")","v":""}]
["UMR HHS LLC",null,{"$f":"IF(ISNUMBER(FIND(\"MEDICAID\",A3981)),\"X\",\"\")","v":""},{"$f":"IF(ISNUMBER(FIND(\"MEDICARE\",A3981)),\"X\",\"\")","v":""},{"$f":"IF(ISNUMBER(FIND(\"BC/BS\",#REF!)),\"X\",\"\")","v":""}]
["UMR HIGHLANDS RESIDENTIAL MORTGAGE LTD",null,{"$f":"IF(ISNUMBER(FIND(\"MEDICAID\",A3982)),\"X\",\"\")","v":""},{"$f":"IF(ISNUMBER(FIND(\"MEDICARE\",A3982)),\"X\",\"\")","v":""},{"$f":"IF(ISNUMBER(FIND(\"BC/BS\",#REF!)),\"X\",\"\")","v":""}]
["UMR HIGHWATER MARINE LLC",null,{"$f":"IF(ISNUMBER(FIND(\"MEDICAID\",A3983)),\"X\",\"\")","v":""},{"$f":"IF(ISNUMBER(FIND(\"MEDICARE\",A3983)),\"X\",\"\")","v":""},{"$f":"IF(ISNUMBER(FIND(\"BC/BS\",#REF!)),\"X\",\"\")","v":""}]
["UMR HINES PRECISION INC",null,{"$f":"IF(ISNUMBER(FIND(\"MEDICAID\",A3984)),\"X\",\"\")","v":""},{"$f":"IF(ISNUMBER(FIND(\"MEDICARE\",A3984)),\"X\",\"\")","v":""},{"$f":"IF(ISNUMBER(FIND(\"BC/BS\",#REF!)),\"X\",\"\")","v":""}]
["UMR HIRATA CORPORATION OF AMERICA",null,{"$f":"IF(ISNUMBER(FIND(\"MEDICAID\",A3985)),\"X\",\"\")","v":""},{"$f":"IF(ISNUMBER(FIND(\"MEDICARE\",A3985)),\"X\",\"\")","v":""},{"$f":"IF(ISNUMBER(FIND(\"BC/BS\",#REF!)),\"X\",\"\")","v":""}]
["UMR HMS HOLDINGS",null,{"$f":"IF(ISNUMBER(FIND(\"MEDICAID\",A3986)),\"X\",\"\")","v":""},{"$f":"IF(ISNUMBER(FIND(\"MEDICARE\",A3986)),\"X\",\"\")","v":""},{"$f":"IF(ISNUMBER(FIND(\"BC/BS\",#REF!)),\"X\",\"\")","v":""}]
["UMR HOFFMAN TRANSPORTATION",null,{"$f":"IF(ISNUMBER(FIND(\"MEDICAID\",A3987)),\"X\",\"\")","v":""},{"$f":"IF(ISNUMBER(FIND(\"MEDICARE\",A3987)),\"X\",\"\")","v":""},{"$f":"IF(ISNUMBER(FIND(\"BC/BS\",#REF!)),\"X\",\"\")","v":""}]
["UMR HOG SLAT INC",null,{"$f":"IF(ISNUMBER(FIND(\"MEDICAID\",A3988)),\"X\",\"\")","v":""},{"$f":"IF(ISNUMBER(FIND(\"MEDICARE\",A3988)),\"X\",\"\")","v":""},{"$f":"IF(ISNUMBER(FIND(\"BC/BS\",#REF!)),\"X\",\"\")","v":""}]
["UMR HOHMAN PLATING LLC",null,{"$f":"IF(ISNUMBER(FIND(\"MEDICAID\",A3989)),\"X\",\"\")","v":""},{"$f":"IF(ISNUMBER(FIND(\"MEDICARE\",A3989)),\"X\",\"\")","v":""},{"$f":"IF(ISNUMBER(FIND(\"BC/BS\",#REF!)),\"X\",\"\")","v":""}]
["UMR HOLLAND MANAGEMENT INC",null,{"$f":"IF(ISNUMBER(FIND(\"MEDICAID\",A3990)),\"X\",\"\")","v":""},{"$f":"IF(ISNUMBER(FIND(\"MEDICARE\",A3990)),\"X\",\"\")","v":""},{"$f":"IF(ISNUMBER(FIND(\"BC/BS\",#REF!)),\"X\",\"\")","v":""}]
["UMR HOLSTON GASES INC",null,{"$f":"IF(ISNUMBER(FIND(\"MEDICAID\",A3991)),\"X\",\"\")","v":""},{"$f":"IF(ISNUMBER(FIND(\"MEDICARE\",A3991)),\"X\",\"\")","v":""},{"$f":"IF(ISNUMBER(FIND(\"BC/BS\",#REF!)),\"X\",\"\")","v":""}]
["UMR HOME CAREGIVERS PARTNERSHIP  LLC",null,{"$f":"IF(ISNUMBER(FIND(\"MEDICAID\",A3992)),\"X\",\"\")","v":""},{"$f":"IF(ISNUMBER(FIND(\"MEDICARE\",A3992)),\"X\",\"\")","v":""},{"$f":"IF(ISNUMBER(FIND(\"BC/BS\",#REF!)),\"X\",\"\")","v":""}]
["UMR HOMESPIRE MORTGAGE CORPORATION",null,{"$f":"IF(ISNUMBER(FIND(\"MEDICAID\",A3993)),\"X\",\"\")","v":""},{"$f":"IF(ISNUMBER(FIND(\"MEDICARE\",A3993)),\"X\",\"\")","v":""},{"$f":"IF(ISNUMBER(FIND(\"BC/BS\",#REF!)),\"X\",\"\")","v":""}]
["UMR HOMESTEAD FINANCIAL MORTGAGE",null,{"$f":"IF(ISNUMBER(FIND(\"MEDICAID\",A3994)),\"X\",\"\")","v":""},{"$f":"IF(ISNUMBER(FIND(\"MEDICARE\",A3994)),\"X\",\"\")","v":""},{"$f":"IF(ISNUMBER(FIND(\"BC/BS\",#REF!)),\"X\",\"\")","v":""}]
["UMR HONDA",null,{"$f":"IF(ISNUMBER(FIND(\"MEDICAID\",A3995)),\"X\",\"\")","v":""},{"$f":"IF(ISNUMBER(FIND(\"MEDICARE\",A3995)),\"X\",\"\")","v":""},{"$f":"IF(ISNUMBER(FIND(\"BC/BS\",#REF!)),\"X\",\"\")","v":""}]
["UMR HONDA LOGISTICS NORTH AMERICA  INC",null,{"$f":"IF(ISNUMBER(FIND(\"MEDICAID\",A3996)),\"X\",\"\")","v":""},{"$f":"IF(ISNUMBER(FIND(\"MEDICARE\",A3996)),\"X\",\"\")","v":""},{"$f":"IF(ISNUMBER(FIND(\"BC/BS\",#REF!)),\"X\",\"\")","v":""}]
["UMR HOOSIER ENERGY RURAL ELECTRIC COOPERATIVE INC",null,{"$f":"IF(ISNUMBER(FIND(\"MEDICAID\",A3997)),\"X\",\"\")","v":""},{"$f":"IF(ISNUMBER(FIND(\"MEDICARE\",A3997)),\"X\",\"\")","v":""},{"$f":"IF(ISNUMBER(FIND(\"BC/BS\",#REF!)),\"X\",\"\")","v":""}]
["UMR HOPEWELL HEALTH CENTERS INC",null,{"$f":"IF(ISNUMBER(FIND(\"MEDICAID\",A3998)),\"X\",\"\")","v":""},{"$f":"IF(ISNUMBER(FIND(\"MEDICARE\",A3998)),\"X\",\"\")","v":""},{"$f":"IF(ISNUMBER(FIND(\"BC/BS\",#REF!)),\"X\",\"\")","v":""}]
["UMR HORIZON RETAIL CONSTRUCTION INC",null,{"$f":"IF(ISNUMBER(FIND(\"MEDICAID\",A3999)),\"X\",\"\")","v":""},{"$f":"IF(ISNUMBER(FIND(\"MEDICARE\",A3999)),\"X\",\"\")","v":""},{"$f":"IF(ISNUMBER(FIND(\"BC/BS\",#REF!)),\"X\",\"\")","v":""}]
["UMR HORROCKS ENGINEERS INC",null,{"$f":"IF(ISNUMBER(FIND(\"MEDICAID\",A4000)),\"X\",\"\")","v":""},{"$f":"IF(ISNUMBER(FIND(\"MEDICARE\",A4000)),\"X\",\"\")","v":""},{"$f":"IF(ISNUMBER(FIND(\"BC/BS\",#REF!)),\"X\",\"\")","v":""}]
["UMR HOUSTON METHODIST",null,{"$f":"IF(ISNUMBER(FIND(\"MEDICAID\",A4001)),\"X\",\"\")","v":""},{"$f":"IF(ISNUMBER(FIND(\"MEDICARE\",A4001)),\"X\",\"\")","v":""},{"$f":"IF(ISNUMBER(FIND(\"BC/BS\",#REF!)),\"X\",\"\")","v":""}]
["UMR HOWARD COUNTY MEDICAL CENTER",null,{"$f":"IF(ISNUMBER(FIND(\"MEDICAID\",A4002)),\"X\",\"\")","v":""},{"$f":"IF(ISNUMBER(FIND(\"MEDICARE\",A4002)),\"X\",\"\")","v":""},{"$f":"IF(ISNUMBER(FIND(\"BC/BS\",#REF!)),\"X\",\"\")","v":""}]
["UMR HR OUTSOURCING HOLDINGS INC",null,{"$f":"IF(ISNUMBER(FIND(\"MEDICAID\",A4003)),\"X\",\"\")","v":""},{"$f":"IF(ISNUMBER(FIND(\"MEDICARE\",A4003)),\"X\",\"\")","v":""},{"$f":"IF(ISNUMBER(FIND(\"BC/BS\",#REF!)),\"X\",\"\")","v":""}]
["UMR HTH COMPANIES INC",null,{"$f":"IF(ISNUMBER(FIND(\"MEDICAID\",A4004)),\"X\",\"\")","v":""},{"$f":"IF(ISNUMBER(FIND(\"MEDICARE\",A4004)),\"X\",\"\")","v":""},{"$f":"IF(ISNUMBER(FIND(\"BC/BS\",#REF!)),\"X\",\"\")","v":""}]
["UMR HUGG HALL EQUIPMENT CO",null,{"$f":"IF(ISNUMBER(FIND(\"MEDICAID\",A4005)),\"X\",\"\")","v":""},{"$f":"IF(ISNUMBER(FIND(\"MEDICARE\",A4005)),\"X\",\"\")","v":""},{"$f":"IF(ISNUMBER(FIND(\"BC/BS\",#REF!)),\"X\",\"\")","v":""}]
["UMR HUGHES FURNITURE INDUSTRIES INC",null,{"$f":"IF(ISNUMBER(FIND(\"MEDICAID\",A4006)),\"X\",\"\")","v":""},{"$f":"IF(ISNUMBER(FIND(\"MEDICARE\",A4006)),\"X\",\"\")","v":""},{"$f":"IF(ISNUMBER(FIND(\"BC/BS\",#REF!)),\"X\",\"\")","v":""}]
["UMR HUGHES PETERS",null,{"$f":"IF(ISNUMBER(FIND(\"MEDICAID\",A4007)),\"X\",\"\")","v":""},{"$f":"IF(ISNUMBER(FIND(\"MEDICARE\",A4007)),\"X\",\"\")","v":""},{"$f":"IF(ISNUMBER(FIND(\"BC/BS\",#REF!)),\"X\",\"\")","v":""}]
["UMR HULCHER SERVICES INC",null,{"$f":"IF(ISNUMBER(FIND(\"MEDICAID\",A4008)),\"X\",\"\")","v":""},{"$f":"IF(ISNUMBER(FIND(\"MEDICARE\",A4008)),\"X\",\"\")","v":""},{"$f":"IF(ISNUMBER(FIND(\"BC/BS\",#REF!)),\"X\",\"\")","v":""}]
["UMR HYLANT",null,{"$f":"IF(ISNUMBER(FIND(\"MEDICAID\",A4009)),\"X\",\"\")","v":""},{"$f":"IF(ISNUMBER(FIND(\"MEDICARE\",A4009)),\"X\",\"\")","v":""},{"$f":"IF(ISNUMBER(FIND(\"BC/BS\",#REF!)),\"X\",\"\")","v":""}]
["UMR HYPERION MATERIALS TECHNOLOGIES INC",null,{"$f":"IF(ISNUMBER(FIND(\"MEDICAID\",A4010)),\"X\",\"\")","v":""},{"$f":"IF(ISNUMBER(FIND(\"MEDICARE\",A4010)),\"X\",\"\")","v":""},{"$f":"IF(ISNUMBER(FIND(\"BC/BS\",#REF!)),\"X\",\"\")","v":""}]
["UMR IBEW LOCAL 1249 INSURANCE FUND",null,{"$f":"IF(ISNUMBER(FIND(\"MEDICAID\",A4011)),\"X\",\"\")","v":""},{"$f":"IF(ISNUMBER(FIND(\"MEDICARE\",A4011)),\"X\",\"\")","v":""},{"$f":"IF(ISNUMBER(FIND(\"BC/BS\",#REF!)),\"X\",\"\")","v":""}]
["UMR IBT INC",null,{"$f":"IF(ISNUMBER(FIND(\"MEDICAID\",A4012)),\"X\",\"\")","v":""},{"$f":"IF(ISNUMBER(FIND(\"MEDICARE\",A4012)),\"X\",\"\")","v":""},{"$f":"IF(ISNUMBER(FIND(\"BC/BS\",#REF!)),\"X\",\"\")","v":""}]
["UMR ICE MILLER LLP",null,{"$f":"IF(ISNUMBER(FIND(\"MEDICAID\",A4013)),\"X\",\"\")","v":""},{"$f":"IF(ISNUMBER(FIND(\"MEDICARE\",A4013)),\"X\",\"\")","v":""},{"$f":"IF(ISNUMBER(FIND(\"BC/BS\",#REF!)),\"X\",\"\")","v":""}]
["UMR ICIBC",null,{"$f":"IF(ISNUMBER(FIND(\"MEDICAID\",A4014)),\"X\",\"\")","v":""},{"$f":"IF(ISNUMBER(FIND(\"MEDICARE\",A4014)),\"X\",\"\")","v":""},{"$f":"IF(ISNUMBER(FIND(\"BC/BS\",#REF!)),\"X\",\"\")","v":""}]
["UMR IDEAL INDUSTRIES INC",null,{"$f":"IF(ISNUMBER(FIND(\"MEDICAID\",A4015)),\"X\",\"\")","v":""},{"$f":"IF(ISNUMBER(FIND(\"MEDICARE\",A4015)),\"X\",\"\")","v":""},{"$f":"IF(ISNUMBER(FIND(\"BC/BS\",#REF!)),\"X\",\"\")","v":""}]
["UMR IGPS LOGISTICS LLC",null,{"$f":"IF(ISNUMBER(FIND(\"MEDICAID\",A4016)),\"X\",\"\")","v":""},{"$f":"IF(ISNUMBER(FIND(\"MEDICARE\",A4016)),\"X\",\"\")","v":""},{"$f":"IF(ISNUMBER(FIND(\"BC/BS\",#REF!)),\"X\",\"\")","v":""}]
["UMR IGT AND AFFILIATES",null,{"$f":"IF(ISNUMBER(FIND(\"MEDICAID\",A4017)),\"X\",\"\")","v":""},{"$f":"IF(ISNUMBER(FIND(\"MEDICARE\",A4017)),\"X\",\"\")","v":""},{"$f":"IF(ISNUMBER(FIND(\"BC/BS\",#REF!)),\"X\",\"\")","v":""}]
["UMR ILLINOIS GREAT RIVERS",null,{"$f":"IF(ISNUMBER(FIND(\"MEDICAID\",A4018)),\"X\",\"\")","v":""},{"$f":"IF(ISNUMBER(FIND(\"MEDICARE\",A4018)),\"X\",\"\")","v":""},{"$f":"IF(ISNUMBER(FIND(\"BC/BS\",#REF!)),\"X\",\"\")","v":""}]
["UMR ILPEA INDUSTRIES",null,{"$f":"IF(ISNUMBER(FIND(\"MEDICAID\",A4019)),\"X\",\"\")","v":""},{"$f":"IF(ISNUMBER(FIND(\"MEDICARE\",A4019)),\"X\",\"\")","v":""},{"$f":"IF(ISNUMBER(FIND(\"BC/BS\",#REF!)),\"X\",\"\")","v":""}]
["UMR IMA FINANCIAL GROUP INC",null,{"$f":"IF(ISNUMBER(FIND(\"MEDICAID\",A4020)),\"X\",\"\")","v":""},{"$f":"IF(ISNUMBER(FIND(\"MEDICARE\",A4020)),\"X\",\"\")","v":""},{"$f":"IF(ISNUMBER(FIND(\"BC/BS\",#REF!)),\"X\",\"\")","v":""}]
["UMR IMPACT GROUP LLC",null,{"$f":"IF(ISNUMBER(FIND(\"MEDICAID\",A4021)),\"X\",\"\")","v":""},{"$f":"IF(ISNUMBER(FIND(\"MEDICARE\",A4021)),\"X\",\"\")","v":""},{"$f":"IF(ISNUMBER(FIND(\"BC/BS\",#REF!)),\"X\",\"\")","v":""}]
["UMR IND FOR THE BLIND AND VISUALLY IMPAIRED INC",null,{"$f":"IF(ISNUMBER(FIND(\"MEDICAID\",A4022)),\"X\",\"\")","v":""},{"$f":"IF(ISNUMBER(FIND(\"MEDICARE\",A4022)),\"X\",\"\")","v":""},{"$f":"IF(ISNUMBER(FIND(\"BC/BS\",#REF!)),\"X\",\"\")","v":""}]
["UMR INDEPENDENCE INC",null,{"$f":"IF(ISNUMBER(FIND(\"MEDICAID\",A4023)),\"X\",\"\")","v":""},{"$f":"IF(ISNUMBER(FIND(\"MEDICARE\",A4023)),\"X\",\"\")","v":""},{"$f":"IF(ISNUMBER(FIND(\"BC/BS\",#REF!)),\"X\",\"\")","v":""}]
["UMR INDEPENDENT FURNITURE SUPPLY",null,{"$f":"IF(ISNUMBER(FIND(\"MEDICAID\",A4024)),\"X\",\"\")","v":""},{"$f":"IF(ISNUMBER(FIND(\"MEDICARE\",A4024)),\"X\",\"\")","v":""},{"$f":"IF(ISNUMBER(FIND(\"BC/BS\",#REF!)),\"X\",\"\")","v":""}]
["UMR INDIANA OXYGEN COMPANY INC",null,{"$f":"IF(ISNUMBER(FIND(\"MEDICAID\",A4025)),\"X\",\"\")","v":""},{"$f":"IF(ISNUMBER(FIND(\"MEDICARE\",A4025)),\"X\",\"\")","v":""},{"$f":"IF(ISNUMBER(FIND(\"BC/BS\",#REF!)),\"X\",\"\")","v":""}]
["UMR INDIANA STATE COUNCIL OF PLASTERERS H W",null,{"$f":"IF(ISNUMBER(FIND(\"MEDICAID\",A4026)),\"X\",\"\")","v":""},{"$f":"IF(ISNUMBER(FIND(\"MEDICARE\",A4026)),\"X\",\"\")","v":""},{"$f":"IF(ISNUMBER(FIND(\"BC/BS\",#REF!)),\"X\",\"\")","v":""}]
["UMR INNOMARK COMMUNICATIONS",null,{"$f":"IF(ISNUMBER(FIND(\"MEDICAID\",A4027)),\"X\",\"\")","v":""},{"$f":"IF(ISNUMBER(FIND(\"MEDICARE\",A4027)),\"X\",\"\")","v":""},{"$f":"IF(ISNUMBER(FIND(\"BC/BS\",#REF!)),\"X\",\"\")","v":""}]
["UMR INNOVATIVE CHEMICAL PRODUCTS INC",null,{"$f":"IF(ISNUMBER(FIND(\"MEDICAID\",A4028)),\"X\",\"\")","v":""},{"$f":"IF(ISNUMBER(FIND(\"MEDICARE\",A4028)),\"X\",\"\")","v":""},{"$f":"IF(ISNUMBER(FIND(\"BC/BS\",#REF!)),\"X\",\"\")","v":""}]
["UMR INSPRO A MARSH MCLENNAN AGENCY",null,{"$f":"IF(ISNUMBER(FIND(\"MEDICAID\",A4029)),\"X\",\"\")","v":""},{"$f":"IF(ISNUMBER(FIND(\"MEDICARE\",A4029)),\"X\",\"\")","v":""},{"$f":"IF(ISNUMBER(FIND(\"BC/BS\",#REF!)),\"X\",\"\")","v":""}]
["UMR INTEGRA CONNECT NEWCO LLC",null,{"$f":"IF(ISNUMBER(FIND(\"MEDICAID\",A4030)),\"X\",\"\")","v":""},{"$f":"IF(ISNUMBER(FIND(\"MEDICARE\",A4030)),\"X\",\"\")","v":""},{"$f":"IF(ISNUMBER(FIND(\"BC/BS\",#REF!)),\"X\",\"\")","v":""}]
["UMR INTER RAIL TRANSPORT INC",null,{"$f":"IF(ISNUMBER(FIND(\"MEDICAID\",A4031)),\"X\",\"\")","v":""},{"$f":"IF(ISNUMBER(FIND(\"MEDICARE\",A4031)),\"X\",\"\")","v":""},{"$f":"IF(ISNUMBER(FIND(\"BC/BS\",#REF!)),\"X\",\"\")","v":""}]
["UMR INTERFLEX PAYMENTS LLC DBA AMERIFLEX",null,{"$f":"IF(ISNUMBER(FIND(\"MEDICAID\",A4032)),\"X\",\"\")","v":""},{"$f":"IF(ISNUMBER(FIND(\"MEDICARE\",A4032)),\"X\",\"\")","v":""},{"$f":"IF(ISNUMBER(FIND(\"BC/BS\",#REF!)),\"X\",\"\")","v":""}]
["UMR INTERMOUNTAIN ELECTRONICS INC",null,{"$f":"IF(ISNUMBER(FIND(\"MEDICAID\",A4033)),\"X\",\"\")","v":""},{"$f":"IF(ISNUMBER(FIND(\"MEDICARE\",A4033)),\"X\",\"\")","v":""},{"$f":"IF(ISNUMBER(FIND(\"BC/BS\",#REF!)),\"X\",\"\")","v":""}]
["UMR INTERNATIONAL MATEX TANK TERMINALS",null,{"$f":"IF(ISNUMBER(FIND(\"MEDICAID\",A4034)),\"X\",\"\")","v":""},{"$f":"IF(ISNUMBER(FIND(\"MEDICARE\",A4034)),\"X\",\"\")","v":""},{"$f":"IF(ISNUMBER(FIND(\"BC/BS\",#REF!)),\"X\",\"\")","v":""}]
["UMR INTERSTAFF INC",null,{"$f":"IF(ISNUMBER(FIND(\"MEDICAID\",A4035)),\"X\",\"\")","v":""},{"$f":"IF(ISNUMBER(FIND(\"MEDICARE\",A4035)),\"X\",\"\")","v":""},{"$f":"IF(ISNUMBER(FIND(\"BC/BS\",#REF!)),\"X\",\"\")","v":""}]
["UMR IOA GROUP LLC",null,{"$f":"IF(ISNUMBER(FIND(\"MEDICAID\",A4036)),\"X\",\"\")","v":""},{"$f":"IF(ISNUMBER(FIND(\"MEDICARE\",A4036)),\"X\",\"\")","v":""},{"$f":"IF(ISNUMBER(FIND(\"BC/BS\",#REF!)),\"X\",\"\")","v":""}]
["UMR IOWA CITY COMMUNITY SCHOOL DISTRICT",null,{"$f":"IF(ISNUMBER(FIND(\"MEDICAID\",A4037)),\"X\",\"\")","v":""},{"$f":"IF(ISNUMBER(FIND(\"MEDICARE\",A4037)),\"X\",\"\")","v":""},{"$f":"IF(ISNUMBER(FIND(\"BC/BS\",#REF!)),\"X\",\"\")","v":""}]
["UMR IRONROAD INC",null,{"$f":"IF(ISNUMBER(FIND(\"MEDICAID\",A4038)),\"X\",\"\")","v":""},{"$f":"IF(ISNUMBER(FIND(\"MEDICARE\",A4038)),\"X\",\"\")","v":""},{"$f":"IF(ISNUMBER(FIND(\"BC/BS\",#REF!)),\"X\",\"\")","v":""}]
["UMR ISCO INDUSTRIES INC",null,{"$f":"IF(ISNUMBER(FIND(\"MEDICAID\",A4039)),\"X\",\"\")","v":""},{"$f":"IF(ISNUMBER(FIND(\"MEDICARE\",A4039)),\"X\",\"\")","v":""},{"$f":"IF(ISNUMBER(FIND(\"BC/BS\",#REF!)),\"X\",\"\")","v":""}]
["UMR ISUZU NORTH AMERICA CORP AND ITS US SUB",null,{"$f":"IF(ISNUMBER(FIND(\"MEDICAID\",A4040)),\"X\",\"\")","v":""},{"$f":"IF(ISNUMBER(FIND(\"MEDICARE\",A4040)),\"X\",\"\")","v":""},{"$f":"IF(ISNUMBER(FIND(\"BC/BS\",#REF!)),\"X\",\"\")","v":""}]
["UMR ITC MANUFACTURING",null,{"$f":"IF(ISNUMBER(FIND(\"MEDICAID\",A4041)),\"X\",\"\")","v":""},{"$f":"IF(ISNUMBER(FIND(\"MEDICARE\",A4041)),\"X\",\"\")","v":""},{"$f":"IF(ISNUMBER(FIND(\"BC/BS\",#REF!)),\"X\",\"\")","v":""}]
["UMR IVAN WARE SONS INC",null,{"$f":"IF(ISNUMBER(FIND(\"MEDICAID\",A4042)),\"X\",\"\")","v":""},{"$f":"IF(ISNUMBER(FIND(\"MEDICARE\",A4042)),\"X\",\"\")","v":""},{"$f":"IF(ISNUMBER(FIND(\"BC/BS\",#REF!)),\"X\",\"\")","v":""}]
["UMR IVIE ASSOCIATES INC",null,{"$f":"IF(ISNUMBER(FIND(\"MEDICAID\",A4043)),\"X\",\"\")","v":""},{"$f":"IF(ISNUMBER(FIND(\"MEDICARE\",A4043)),\"X\",\"\")","v":""},{"$f":"IF(ISNUMBER(FIND(\"BC/BS\",#REF!)),\"X\",\"\")","v":""}]
["UMR J D TUBE BENDERS INC",null,{"$f":"IF(ISNUMBER(FIND(\"MEDICAID\",A4044)),\"X\",\"\")","v":""},{"$f":"IF(ISNUMBER(FIND(\"MEDICARE\",A4044)),\"X\",\"\")","v":""},{"$f":"IF(ISNUMBER(FIND(\"BC/BS\",#REF!)),\"X\",\"\")","v":""}]
["UMR JACK HENRY ASSOCIATES INC",null,{"$f":"IF(ISNUMBER(FIND(\"MEDICAID\",A4045)),\"X\",\"\")","v":""},{"$f":"IF(ISNUMBER(FIND(\"MEDICARE\",A4045)),\"X\",\"\")","v":""},{"$f":"IF(ISNUMBER(FIND(\"BC/BS\",#REF!)),\"X\",\"\")","v":""}]
["UMR JADCORE LLC",null,{"$f":"IF(ISNUMBER(FIND(\"MEDICAID\",A4046)),\"X\",\"\")","v":""},{"$f":"IF(ISNUMBER(FIND(\"MEDICARE\",A4046)),\"X\",\"\")","v":""},{"$f":"IF(ISNUMBER(FIND(\"BC/BS\",#REF!)),\"X\",\"\")","v":""}]
["UMR JAY HENGES ENTERPRISES INC",null,{"$f":"IF(ISNUMBER(FIND(\"MEDICAID\",A4047)),\"X\",\"\")","v":""},{"$f":"IF(ISNUMBER(FIND(\"MEDICARE\",A4047)),\"X\",\"\")","v":""},{"$f":"IF(ISNUMBER(FIND(\"BC/BS\",#REF!)),\"X\",\"\")","v":""}]
["UMR JEFFERSON COLLEGE",null,{"$f":"IF(ISNUMBER(FIND(\"MEDICAID\",A4048)),\"X\",\"\")","v":""},{"$f":"IF(ISNUMBER(FIND(\"MEDICARE\",A4048)),\"X\",\"\")","v":""},{"$f":"IF(ISNUMBER(FIND(\"BC/BS\",#REF!)),\"X\",\"\")","v":""}]
["UMR JEFFERSON COUNTY MISSOURI",null,{"$f":"IF(ISNUMBER(FIND(\"MEDICAID\",A4049)),\"X\",\"\")","v":""},{"$f":"IF(ISNUMBER(FIND(\"MEDICARE\",A4049)),\"X\",\"\")","v":""},{"$f":"IF(ISNUMBER(FIND(\"BC/BS\",#REF!)),\"X\",\"\")","v":""}]
["UMR JENSEN TIRE AUTO",null,{"$f":"IF(ISNUMBER(FIND(\"MEDICAID\",A4050)),\"X\",\"\")","v":""},{"$f":"IF(ISNUMBER(FIND(\"MEDICARE\",A4050)),\"X\",\"\")","v":""},{"$f":"IF(ISNUMBER(FIND(\"BC/BS\",#REF!)),\"X\",\"\")","v":""}]
["UMR JEWEL CRAFT INC",null,{"$f":"IF(ISNUMBER(FIND(\"MEDICAID\",A4051)),\"X\",\"\")","v":""},{"$f":"IF(ISNUMBER(FIND(\"MEDICARE\",A4051)),\"X\",\"\")","v":""},{"$f":"IF(ISNUMBER(FIND(\"BC/BS\",#REF!)),\"X\",\"\")","v":""}]
["UMR JHI GROUP INC",null,{"$f":"IF(ISNUMBER(FIND(\"MEDICAID\",A4052)),\"X\",\"\")","v":""},{"$f":"IF(ISNUMBER(FIND(\"MEDICARE\",A4052)),\"X\",\"\")","v":""},{"$f":"IF(ISNUMBER(FIND(\"BC/BS\",#REF!)),\"X\",\"\")","v":""}]
["UMR JITTERBIT INC",null,{"$f":"IF(ISNUMBER(FIND(\"MEDICAID\",A4053)),\"X\",\"\")","v":""},{"$f":"IF(ISNUMBER(FIND(\"MEDICARE\",A4053)),\"X\",\"\")","v":""},{"$f":"IF(ISNUMBER(FIND(\"BC/BS\",#REF!)),\"X\",\"\")","v":""}]
["UMR JOHN H CARTER COMPANY INC",null,{"$f":"IF(ISNUMBER(FIND(\"MEDICAID\",A4054)),\"X\",\"\")","v":""},{"$f":"IF(ISNUMBER(FIND(\"MEDICARE\",A4054)),\"X\",\"\")","v":""},{"$f":"IF(ISNUMBER(FIND(\"BC/BS\",#REF!)),\"X\",\"\")","v":""}]
["UMR JOHN HENRY FOSTER",null,{"$f":"IF(ISNUMBER(FIND(\"MEDICAID\",A4055)),\"X\",\"\")","v":""},{"$f":"IF(ISNUMBER(FIND(\"MEDICARE\",A4055)),\"X\",\"\")","v":""},{"$f":"IF(ISNUMBER(FIND(\"BC/BS\",#REF!)),\"X\",\"\")","v":""}]
["UMR JONES PLASTIC AND ENGINEERING CO",null,{"$f":"IF(ISNUMBER(FIND(\"MEDICAID\",A4056)),\"X\",\"\")","v":""},{"$f":"IF(ISNUMBER(FIND(\"MEDICARE\",A4056)),\"X\",\"\")","v":""},{"$f":"IF(ISNUMBER(FIND(\"BC/BS\",#REF!)),\"X\",\"\")","v":""}]
["UMR JOPLIN SCHOOLS",null,{"$f":"IF(ISNUMBER(FIND(\"MEDICAID\",A4057)),\"X\",\"\")","v":""},{"$f":"IF(ISNUMBER(FIND(\"MEDICARE\",A4057)),\"X\",\"\")","v":""},{"$f":"IF(ISNUMBER(FIND(\"BC/BS\",#REF!)),\"X\",\"\")","v":""}]
["UMR JOST CHEMICAL COMPANY INC",null,{"$f":"IF(ISNUMBER(FIND(\"MEDICAID\",A4058)),\"X\",\"\")","v":""},{"$f":"IF(ISNUMBER(FIND(\"MEDICARE\",A4058)),\"X\",\"\")","v":""},{"$f":"IF(ISNUMBER(FIND(\"BC/BS\",#REF!)),\"X\",\"\")","v":""}]
["UMR JOWAT CORPORATION",null,{"$f":"IF(ISNUMBER(FIND(\"MEDICAID\",A4059)),\"X\",\"\")","v":""},{"$f":"IF(ISNUMBER(FIND(\"MEDICARE\",A4059)),\"X\",\"\")","v":""},{"$f":"IF(ISNUMBER(FIND(\"BC/BS\",#REF!)),\"X\",\"\")","v":""}]
["UMR JX ENTERPRISES INC",null,{"$f":"IF(ISNUMBER(FIND(\"MEDICAID\",A4060)),\"X\",\"\")","v":""},{"$f":"IF(ISNUMBER(FIND(\"MEDICARE\",A4060)),\"X\",\"\")","v":""},{"$f":"IF(ISNUMBER(FIND(\"BC/BS\",#REF!)),\"X\",\"\")","v":""}]
["UMR K WEST GROUP LLC",null,{"$f":"IF(ISNUMBER(FIND(\"MEDICAID\",A4061)),\"X\",\"\")","v":""},{"$f":"IF(ISNUMBER(FIND(\"MEDICARE\",A4061)),\"X\",\"\")","v":""},{"$f":"IF(ISNUMBER(FIND(\"BC/BS\",#REF!)),\"X\",\"\")","v":""}]
["UMR KALAHARI RESORTS",null,{"$f":"IF(ISNUMBER(FIND(\"MEDICAID\",A4062)),\"X\",\"\")","v":""},{"$f":"IF(ISNUMBER(FIND(\"MEDICARE\",A4062)),\"X\",\"\")","v":""},{"$f":"IF(ISNUMBER(FIND(\"BC/BS\",#REF!)),\"X\",\"\")","v":""}]
["UMR KBP INVESTMENTS INC",null,{"$f":"IF(ISNUMBER(FIND(\"MEDICAID\",A4063)),\"X\",\"\")","v":""},{"$f":"IF(ISNUMBER(FIND(\"MEDICARE\",A4063)),\"X\",\"\")","v":""},{"$f":"IF(ISNUMBER(FIND(\"BC/BS\",#REF!)),\"X\",\"\")","v":""}]
["UMR KEELEY CONSTRUCTION GROUP INC",null,{"$f":"IF(ISNUMBER(FIND(\"MEDICAID\",A4064)),\"X\",\"\")","v":""},{"$f":"IF(ISNUMBER(FIND(\"MEDICARE\",A4064)),\"X\",\"\")","v":""},{"$f":"IF(ISNUMBER(FIND(\"BC/BS\",#REF!)),\"X\",\"\")","v":""}]
["UMR KEISTER MILLER INVESTMENTS LLC",null,{"$f":"IF(ISNUMBER(FIND(\"MEDICAID\",A4065)),\"X\",\"\")","v":""},{"$f":"IF(ISNUMBER(FIND(\"MEDICARE\",A4065)),\"X\",\"\")","v":""},{"$f":"IF(ISNUMBER(FIND(\"BC/BS\",#REF!)),\"X\",\"\")","v":""}]
["UMR KELLY HART HALLMAN LLP",null,{"$f":"IF(ISNUMBER(FIND(\"MEDICAID\",A4066)),\"X\",\"\")","v":""},{"$f":"IF(ISNUMBER(FIND(\"MEDICARE\",A4066)),\"X\",\"\")","v":""},{"$f":"IF(ISNUMBER(FIND(\"BC/BS\",#REF!)),\"X\",\"\")","v":""}]
["UMR KENDALL PACKAGING CORPORATION",null,{"$f":"IF(ISNUMBER(FIND(\"MEDICAID\",A4067)),\"X\",\"\")","v":""},{"$f":"IF(ISNUMBER(FIND(\"MEDICARE\",A4067)),\"X\",\"\")","v":""},{"$f":"IF(ISNUMBER(FIND(\"BC/BS\",#REF!)),\"X\",\"\")","v":""}]
["UMR KENTUCKY EMPLOYERS MUTUAL INSURANCE",null,{"$f":"IF(ISNUMBER(FIND(\"MEDICAID\",A4068)),\"X\",\"\")","v":""},{"$f":"IF(ISNUMBER(FIND(\"MEDICARE\",A4068)),\"X\",\"\")","v":""},{"$f":"IF(ISNUMBER(FIND(\"BC/BS\",#REF!)),\"X\",\"\")","v":""}]
["UMR KETTERING HEALTH",null,{"$f":"IF(ISNUMBER(FIND(\"MEDICAID\",A4069)),\"X\",\"\")","v":""},{"$f":"IF(ISNUMBER(FIND(\"MEDICARE\",A4069)),\"X\",\"\")","v":""},{"$f":"IF(ISNUMBER(FIND(\"BC/BS\",#REF!)),\"X\",\"\")","v":""}]
["UMR KEYSTONE CONSOLIDATED INDUSTRIES INC",null,{"$f":"IF(ISNUMBER(FIND(\"MEDICAID\",A4070)),\"X\",\"\")","v":""},{"$f":"IF(ISNUMBER(FIND(\"MEDICARE\",A4070)),\"X\",\"\")","v":""},{"$f":"IF(ISNUMBER(FIND(\"BC/BS\",#REF!)),\"X\",\"\")","v":""}]
["UMR KIA AMERICA INC",null,{"$f":"IF(ISNUMBER(FIND(\"MEDICAID\",A4071)),\"X\",\"\")","v":""},{"$f":"IF(ISNUMBER(FIND(\"MEDICARE\",A4071)),\"X\",\"\")","v":""},{"$f":"IF(ISNUMBER(FIND(\"BC/BS\",#REF!)),\"X\",\"\")","v":""}]
["UMR KIMBALL MIDWEST",null,{"$f":"IF(ISNUMBER(FIND(\"MEDICAID\",A4072)),\"X\",\"\")","v":""},{"$f":"IF(ISNUMBER(FIND(\"MEDICARE\",A4072)),\"X\",\"\")","v":""},{"$f":"IF(ISNUMBER(FIND(\"BC/BS\",#REF!)),\"X\",\"\")","v":""}]
["UMR KINDRED HEALTHCARE",null,{"$f":"IF(ISNUMBER(FIND(\"MEDICAID\",A4073)),\"X\",\"\")","v":""},{"$f":"IF(ISNUMBER(FIND(\"MEDICARE\",A4073)),\"X\",\"\")","v":""},{"$f":"IF(ISNUMBER(FIND(\"BC/BS\",#REF!)),\"X\",\"\")","v":""}]
["UMR KINETIC ADVANTAGE",null,{"$f":"IF(ISNUMBER(FIND(\"MEDICAID\",A4074)),\"X\",\"\")","v":""},{"$f":"IF(ISNUMBER(FIND(\"MEDICARE\",A4074)),\"X\",\"\")","v":""},{"$f":"IF(ISNUMBER(FIND(\"BC/BS\",#REF!)),\"X\",\"\")","v":""}]
["UMR KINGSDOWN INC",null,{"$f":"IF(ISNUMBER(FIND(\"MEDICAID\",A4075)),\"X\",\"\")","v":""},{"$f":"IF(ISNUMBER(FIND(\"MEDICARE\",A4075)),\"X\",\"\")","v":""},{"$f":"IF(ISNUMBER(FIND(\"BC/BS\",#REF!)),\"X\",\"\")","v":""}]
["UMR KINSETH HOTEL CORPORATION",null,{"$f":"IF(ISNUMBER(FIND(\"MEDICAID\",A4076)),\"X\",\"\")","v":""},{"$f":"IF(ISNUMBER(FIND(\"MEDICARE\",A4076)),\"X\",\"\")","v":""},{"$f":"IF(ISNUMBER(FIND(\"BC/BS\",#REF!)),\"X\",\"\")","v":""}]
["UMR KINZLER CONSTRUCTION SERVICES INC",null,{"$f":"IF(ISNUMBER(FIND(\"MEDICAID\",A4077)),\"X\",\"\")","v":""},{"$f":"IF(ISNUMBER(FIND(\"MEDICARE\",A4077)),\"X\",\"\")","v":""},{"$f":"IF(ISNUMBER(FIND(\"BC/BS\",#REF!)),\"X\",\"\")","v":""}]
["UMR KIRBY RISK CORPORATION",null,{"$f":"IF(ISNUMBER(FIND(\"MEDICAID\",A4078)),\"X\",\"\")","v":""},{"$f":"IF(ISNUMBER(FIND(\"MEDICARE\",A4078)),\"X\",\"\")","v":""},{"$f":"IF(ISNUMBER(FIND(\"BC/BS\",#REF!)),\"X\",\"\")","v":""}]
["UMR KIVI BROTHERS TRUCKING INC",null,{"$f":"IF(ISNUMBER(FIND(\"MEDICAID\",A4079)),\"X\",\"\")","v":""},{"$f":"IF(ISNUMBER(FIND(\"MEDICARE\",A4079)),\"X\",\"\")","v":""},{"$f":"IF(ISNUMBER(FIND(\"BC/BS\",#REF!)),\"X\",\"\")","v":""}]
["UMR KLOSTERMAN BAKING COMPANY",null,{"$f":"IF(ISNUMBER(FIND(\"MEDICAID\",A4080)),\"X\",\"\")","v":""},{"$f":"IF(ISNUMBER(FIND(\"MEDICARE\",A4080)),\"X\",\"\")","v":""},{"$f":"IF(ISNUMBER(FIND(\"BC/BS\",#REF!)),\"X\",\"\")","v":""}]
["UMR KNIGHTS OF COLUMBUS AGENTS PLAN",null,{"$f":"IF(ISNUMBER(FIND(\"MEDICAID\",A4081)),\"X\",\"\")","v":""},{"$f":"IF(ISNUMBER(FIND(\"MEDICARE\",A4081)),\"X\",\"\")","v":""},{"$f":"IF(ISNUMBER(FIND(\"BC/BS\",#REF!)),\"X\",\"\")","v":""}]
["UMR KOKOMO GRAIN COMPANY INC",null,{"$f":"IF(ISNUMBER(FIND(\"MEDICAID\",A4082)),\"X\",\"\")","v":""},{"$f":"IF(ISNUMBER(FIND(\"MEDICARE\",A4082)),\"X\",\"\")","v":""},{"$f":"IF(ISNUMBER(FIND(\"BC/BS\",#REF!)),\"X\",\"\")","v":""}]
["UMR KOMATSU MINING CORP",null,{"$f":"IF(ISNUMBER(FIND(\"MEDICAID\",A4083)),\"X\",\"\")","v":""},{"$f":"IF(ISNUMBER(FIND(\"MEDICARE\",A4083)),\"X\",\"\")","v":""},{"$f":"IF(ISNUMBER(FIND(\"BC/BS\",#REF!)),\"X\",\"\")","v":""}]
["UMR KOSCIUSKO COUNTY",null,{"$f":"IF(ISNUMBER(FIND(\"MEDICAID\",A4084)),\"X\",\"\")","v":""},{"$f":"IF(ISNUMBER(FIND(\"MEDICARE\",A4084)),\"X\",\"\")","v":""},{"$f":"IF(ISNUMBER(FIND(\"BC/BS\",#REF!)),\"X\",\"\")","v":""}]
["UMR KOURY CORPORATION",null,{"$f":"IF(ISNUMBER(FIND(\"MEDICAID\",A4085)),\"X\",\"\")","v":""},{"$f":"IF(ISNUMBER(FIND(\"MEDICARE\",A4085)),\"X\",\"\")","v":""},{"$f":"IF(ISNUMBER(FIND(\"BC/BS\",#REF!)),\"X\",\"\")","v":""}]
["UMR KRESS CORPORATION",null,{"$f":"IF(ISNUMBER(FIND(\"MEDICAID\",A4086)),\"X\",\"\")","v":""},{"$f":"IF(ISNUMBER(FIND(\"MEDICARE\",A4086)),\"X\",\"\")","v":""},{"$f":"IF(ISNUMBER(FIND(\"BC/BS\",#REF!)),\"X\",\"\")","v":""}]
["UMR KRONE NA",null,{"$f":"IF(ISNUMBER(FIND(\"MEDICAID\",A4087)),\"X\",\"\")","v":""},{"$f":"IF(ISNUMBER(FIND(\"MEDICARE\",A4087)),\"X\",\"\")","v":""},{"$f":"IF(ISNUMBER(FIND(\"BC/BS\",#REF!)),\"X\",\"\")","v":""}]
["UMR KRONOS FOODS CORP",null,{"$f":"IF(ISNUMBER(FIND(\"MEDICAID\",A4088)),\"X\",\"\")","v":""},{"$f":"IF(ISNUMBER(FIND(\"MEDICARE\",A4088)),\"X\",\"\")","v":""},{"$f":"IF(ISNUMBER(FIND(\"BC/BS\",#REF!)),\"X\",\"\")","v":""}]
["UMR KSPT",null,{"$f":"IF(ISNUMBER(FIND(\"MEDICAID\",A4089)),\"X\",\"\")","v":""},{"$f":"IF(ISNUMBER(FIND(\"MEDICARE\",A4089)),\"X\",\"\")","v":""},{"$f":"IF(ISNUMBER(FIND(\"BC/BS\",#REF!)),\"X\",\"\")","v":""}]
["UMR KTH PARTS INDUSTRIES INC",null,{"$f":"IF(ISNUMBER(FIND(\"MEDICAID\",A4090)),\"X\",\"\")","v":""},{"$f":"IF(ISNUMBER(FIND(\"MEDICARE\",A4090)),\"X\",\"\")","v":""},{"$f":"IF(ISNUMBER(FIND(\"BC/BS\",#REF!)),\"X\",\"\")","v":""}]
["UMR KUNA FOODSERVICE",null,{"$f":"IF(ISNUMBER(FIND(\"MEDICAID\",A4091)),\"X\",\"\")","v":""},{"$f":"IF(ISNUMBER(FIND(\"MEDICARE\",A4091)),\"X\",\"\")","v":""},{"$f":"IF(ISNUMBER(FIND(\"BC/BS\",#REF!)),\"X\",\"\")","v":""}]
["UMR L E JOHNSON PRODUCTS INC",null,{"$f":"IF(ISNUMBER(FIND(\"MEDICAID\",A4092)),\"X\",\"\")","v":""},{"$f":"IF(ISNUMBER(FIND(\"MEDICARE\",A4092)),\"X\",\"\")","v":""},{"$f":"IF(ISNUMBER(FIND(\"BC/BS\",#REF!)),\"X\",\"\")","v":""}]
["UMR LA PORTE COUNTY GOVERNMENT",null,{"$f":"IF(ISNUMBER(FIND(\"MEDICAID\",A4093)),\"X\",\"\")","v":""},{"$f":"IF(ISNUMBER(FIND(\"MEDICARE\",A4093)),\"X\",\"\")","v":""},{"$f":"IF(ISNUMBER(FIND(\"BC/BS\",#REF!)),\"X\",\"\")","v":""}]
["UMR LAIRD PLASTICS DBA NORTH AMERICAN PLASTIC",null,{"$f":"IF(ISNUMBER(FIND(\"MEDICAID\",A4094)),\"X\",\"\")","v":""},{"$f":"IF(ISNUMBER(FIND(\"MEDICARE\",A4094)),\"X\",\"\")","v":""},{"$f":"IF(ISNUMBER(FIND(\"BC/BS\",#REF!)),\"X\",\"\")","v":""}]
["UMR LANDMARK STRUCTURES I LP",null,{"$f":"IF(ISNUMBER(FIND(\"MEDICAID\",A4095)),\"X\",\"\")","v":""},{"$f":"IF(ISNUMBER(FIND(\"MEDICARE\",A4095)),\"X\",\"\")","v":""},{"$f":"IF(ISNUMBER(FIND(\"BC/BS\",#REF!)),\"X\",\"\")","v":""}]
["UMR LARIMER COUNTY EMPLOYEE BENEFIT PLAN",null,{"$f":"IF(ISNUMBER(FIND(\"MEDICAID\",A4096)),\"X\",\"\")","v":""},{"$f":"IF(ISNUMBER(FIND(\"MEDICARE\",A4096)),\"X\",\"\")","v":""},{"$f":"IF(ISNUMBER(FIND(\"BC/BS\",#REF!)),\"X\",\"\")","v":""}]
["UMR LASALLE MANAGEMENT COMPANY LLC",null,{"$f":"IF(ISNUMBER(FIND(\"MEDICAID\",A4097)),\"X\",\"\")","v":""},{"$f":"IF(ISNUMBER(FIND(\"MEDICARE\",A4097)),\"X\",\"\")","v":""},{"$f":"IF(ISNUMBER(FIND(\"BC/BS\",#REF!)),\"X\",\"\")","v":""}]
["UMR LASTING CHANGE INC",null,{"$f":"IF(ISNUMBER(FIND(\"MEDICAID\",A4098)),\"X\",\"\")","v":""},{"$f":"IF(ISNUMBER(FIND(\"MEDICARE\",A4098)),\"X\",\"\")","v":""},{"$f":"IF(ISNUMBER(FIND(\"BC/BS\",#REF!)),\"X\",\"\")","v":""}]
["UMR LAYTON CONSTRUCTION COMPANY LLC",null,{"$f":"IF(ISNUMBER(FIND(\"MEDICAID\",A4099)),\"X\",\"\")","v":""},{"$f":"IF(ISNUMBER(FIND(\"MEDICARE\",A4099)),\"X\",\"\")","v":""},{"$f":"IF(ISNUMBER(FIND(\"BC/BS\",#REF!)),\"X\",\"\")","v":""}]
["UMR LEE SUPPLY CORP",null,{"$f":"IF(ISNUMBER(FIND(\"MEDICAID\",A4100)),\"X\",\"\")","v":""},{"$f":"IF(ISNUMBER(FIND(\"MEDICARE\",A4100)),\"X\",\"\")","v":""},{"$f":"IF(ISNUMBER(FIND(\"BC/BS\",#REF!)),\"X\",\"\")","v":""}]
["UMR LENNOX INTERNATIONAL INC",null,{"$f":"IF(ISNUMBER(FIND(\"MEDICAID\",A4101)),\"X\",\"\")","v":""},{"$f":"IF(ISNUMBER(FIND(\"MEDICARE\",A4101)),\"X\",\"\")","v":""},{"$f":"IF(ISNUMBER(FIND(\"BC/BS\",#REF!)),\"X\",\"\")","v":""}]
["UMR LIFE ENRICHING COMMUNITIES",null,{"$f":"IF(ISNUMBER(FIND(\"MEDICAID\",A4102)),\"X\",\"\")","v":""},{"$f":"IF(ISNUMBER(FIND(\"MEDICARE\",A4102)),\"X\",\"\")","v":""},{"$f":"IF(ISNUMBER(FIND(\"BC/BS\",#REF!)),\"X\",\"\")","v":""}]
["UMR LIGHTHOUSE YOUTH SERVICES INC",null,{"$f":"IF(ISNUMBER(FIND(\"MEDICAID\",A4103)),\"X\",\"\")","v":""},{"$f":"IF(ISNUMBER(FIND(\"MEDICARE\",A4103)),\"X\",\"\")","v":""},{"$f":"IF(ISNUMBER(FIND(\"BC/BS\",#REF!)),\"X\",\"\")","v":""}]
["UMR LILE INTERNATIONAL COMPANIES",null,{"$f":"IF(ISNUMBER(FIND(\"MEDICAID\",A4104)),\"X\",\"\")","v":""},{"$f":"IF(ISNUMBER(FIND(\"MEDICARE\",A4104)),\"X\",\"\")","v":""},{"$f":"IF(ISNUMBER(FIND(\"BC/BS\",#REF!)),\"X\",\"\")","v":""}]
["UMR LINCOLN INDUSTRIES INC",null,{"$f":"IF(ISNUMBER(FIND(\"MEDICAID\",A4105)),\"X\",\"\")","v":""},{"$f":"IF(ISNUMBER(FIND(\"MEDICARE\",A4105)),\"X\",\"\")","v":""},{"$f":"IF(ISNUMBER(FIND(\"BC/BS\",#REF!)),\"X\",\"\")","v":""}]
["UMR LINDENWOOD UNIVERSITY",null,{"$f":"IF(ISNUMBER(FIND(\"MEDICAID\",A4106)),\"X\",\"\")","v":""},{"$f":"IF(ISNUMBER(FIND(\"MEDICARE\",A4106)),\"X\",\"\")","v":""},{"$f":"IF(ISNUMBER(FIND(\"BC/BS\",#REF!)),\"X\",\"\")","v":""}]
["UMR LIPARI FOODS OPERATING COMPANY LLC",null,{"$f":"IF(ISNUMBER(FIND(\"MEDICAID\",A4107)),\"X\",\"\")","v":""},{"$f":"IF(ISNUMBER(FIND(\"MEDICARE\",A4107)),\"X\",\"\")","v":""},{"$f":"IF(ISNUMBER(FIND(\"BC/BS\",#REF!)),\"X\",\"\")","v":""}]
["UMR LITTLE ROCK WATER RECLAMATION AUTHORITY",null,{"$f":"IF(ISNUMBER(FIND(\"MEDICAID\",A4108)),\"X\",\"\")","v":""},{"$f":"IF(ISNUMBER(FIND(\"MEDICARE\",A4108)),\"X\",\"\")","v":""},{"$f":"IF(ISNUMBER(FIND(\"BC/BS\",#REF!)),\"X\",\"\")","v":""}]
["UMR LITTLE SUNSHINE'S ENTERPRISES INC",null,{"$f":"IF(ISNUMBER(FIND(\"MEDICAID\",A4109)),\"X\",\"\")","v":""},{"$f":"IF(ISNUMBER(FIND(\"MEDICARE\",A4109)),\"X\",\"\")","v":""},{"$f":"IF(ISNUMBER(FIND(\"BC/BS\",#REF!)),\"X\",\"\")","v":""}]
["UMR LOFTON",null,{"$f":"IF(ISNUMBER(FIND(\"MEDICAID\",A4110)),\"X\",\"\")","v":""},{"$f":"IF(ISNUMBER(FIND(\"MEDICARE\",A4110)),\"X\",\"\")","v":""},{"$f":"IF(ISNUMBER(FIND(\"BC/BS\",#REF!)),\"X\",\"\")","v":""}]
["UMR LOGAN COMMUNITY RESOURCES INC",null,{"$f":"IF(ISNUMBER(FIND(\"MEDICAID\",A4111)),\"X\",\"\")","v":""},{"$f":"IF(ISNUMBER(FIND(\"MEDICARE\",A4111)),\"X\",\"\")","v":""},{"$f":"IF(ISNUMBER(FIND(\"BC/BS\",#REF!)),\"X\",\"\")","v":""}]
["UMR LOHMANN CORPORATION AND SUBSIDIARIES",null,{"$f":"IF(ISNUMBER(FIND(\"MEDICAID\",A4112)),\"X\",\"\")","v":""},{"$f":"IF(ISNUMBER(FIND(\"MEDICARE\",A4112)),\"X\",\"\")","v":""},{"$f":"IF(ISNUMBER(FIND(\"BC/BS\",#REF!)),\"X\",\"\")","v":""}]
["UMR LONE STAR CORRUGATED CONTAINER CORPORATION",null,{"$f":"IF(ISNUMBER(FIND(\"MEDICAID\",A4113)),\"X\",\"\")","v":""},{"$f":"IF(ISNUMBER(FIND(\"MEDICARE\",A4113)),\"X\",\"\")","v":""},{"$f":"IF(ISNUMBER(FIND(\"BC/BS\",#REF!)),\"X\",\"\")","v":""}]
["UMR LOWES COMPANIES INC",null,{"$f":"IF(ISNUMBER(FIND(\"MEDICAID\",A4114)),\"X\",\"\")","v":""},{"$f":"IF(ISNUMBER(FIND(\"MEDICARE\",A4114)),\"X\",\"\")","v":""},{"$f":"IF(ISNUMBER(FIND(\"BC/BS\",#REF!)),\"X\",\"\")","v":""}]
["UMR LRM OF ALAMANCE COUNTY NC",null,{"$f":"IF(ISNUMBER(FIND(\"MEDICAID\",A4115)),\"X\",\"\")","v":""},{"$f":"IF(ISNUMBER(FIND(\"MEDICARE\",A4115)),\"X\",\"\")","v":""},{"$f":"IF(ISNUMBER(FIND(\"BC/BS\",#REF!)),\"X\",\"\")","v":""}]
["UMR LRS HEALTHCARE",null,{"$f":"IF(ISNUMBER(FIND(\"MEDICAID\",A4116)),\"X\",\"\")","v":""},{"$f":"IF(ISNUMBER(FIND(\"MEDICARE\",A4116)),\"X\",\"\")","v":""},{"$f":"IF(ISNUMBER(FIND(\"BC/BS\",#REF!)),\"X\",\"\")","v":""}]
["UMR LSP OPERATIONS LLC",null,{"$f":"IF(ISNUMBER(FIND(\"MEDICAID\",A4117)),\"X\",\"\")","v":""},{"$f":"IF(ISNUMBER(FIND(\"MEDICARE\",A4117)),\"X\",\"\")","v":""},{"$f":"IF(ISNUMBER(FIND(\"BC/BS\",#REF!)),\"X\",\"\")","v":""}]
["UMR LUHR CROSBY LLC",null,{"$f":"IF(ISNUMBER(FIND(\"MEDICAID\",A4118)),\"X\",\"\")","v":""},{"$f":"IF(ISNUMBER(FIND(\"MEDICARE\",A4118)),\"X\",\"\")","v":""},{"$f":"IF(ISNUMBER(FIND(\"BC/BS\",#REF!)),\"X\",\"\")","v":""}]
["UMR LUVATA OHIO INC",null,{"$f":"IF(ISNUMBER(FIND(\"MEDICAID\",A4119)),\"X\",\"\")","v":""},{"$f":"IF(ISNUMBER(FIND(\"MEDICARE\",A4119)),\"X\",\"\")","v":""},{"$f":"IF(ISNUMBER(FIND(\"BC/BS\",#REF!)),\"X\",\"\")","v":""}]
["UMR LUXCO INC",null,{"$f":"IF(ISNUMBER(FIND(\"MEDICAID\",A4120)),\"X\",\"\")","v":""},{"$f":"IF(ISNUMBER(FIND(\"MEDICARE\",A4120)),\"X\",\"\")","v":""},{"$f":"IF(ISNUMBER(FIND(\"BC/BS\",#REF!)),\"X\",\"\")","v":""}]
["UMR M M CARTAGE CO INC",null,{"$f":"IF(ISNUMBER(FIND(\"MEDICAID\",A4121)),\"X\",\"\")","v":""},{"$f":"IF(ISNUMBER(FIND(\"MEDICARE\",A4121)),\"X\",\"\")","v":""},{"$f":"IF(ISNUMBER(FIND(\"BC/BS\",#REF!)),\"X\",\"\")","v":""}]
["UMR MADISON HEALTH",null,{"$f":"IF(ISNUMBER(FIND(\"MEDICAID\",A4122)),\"X\",\"\")","v":""},{"$f":"IF(ISNUMBER(FIND(\"MEDICARE\",A4122)),\"X\",\"\")","v":""},{"$f":"IF(ISNUMBER(FIND(\"BC/BS\",#REF!)),\"X\",\"\")","v":""}]
["UMR MADISON TOWNSHIP COHCC",null,{"$f":"IF(ISNUMBER(FIND(\"MEDICAID\",A4123)),\"X\",\"\")","v":""},{"$f":"IF(ISNUMBER(FIND(\"MEDICARE\",A4123)),\"X\",\"\")","v":""},{"$f":"IF(ISNUMBER(FIND(\"BC/BS\",#REF!)),\"X\",\"\")","v":""}]
["UMR MAGELLAN HEALTH INC",null,{"$f":"IF(ISNUMBER(FIND(\"MEDICAID\",A4124)),\"X\",\"\")","v":""},{"$f":"IF(ISNUMBER(FIND(\"MEDICARE\",A4124)),\"X\",\"\")","v":""},{"$f":"IF(ISNUMBER(FIND(\"BC/BS\",#REF!)),\"X\",\"\")","v":""}]
["UMR MAGNOLIA STEEL COMPANY INC",null,{"$f":"IF(ISNUMBER(FIND(\"MEDICAID\",A4125)),\"X\",\"\")","v":""},{"$f":"IF(ISNUMBER(FIND(\"MEDICARE\",A4125)),\"X\",\"\")","v":""},{"$f":"IF(ISNUMBER(FIND(\"BC/BS\",#REF!)),\"X\",\"\")","v":""}]
["UMR MAHLE BEHR MT STERLING INC",null,{"$f":"IF(ISNUMBER(FIND(\"MEDICAID\",A4126)),\"X\",\"\")","v":""},{"$f":"IF(ISNUMBER(FIND(\"MEDICARE\",A4126)),\"X\",\"\")","v":""},{"$f":"IF(ISNUMBER(FIND(\"BC/BS\",#REF!)),\"X\",\"\")","v":""}]
["UMR MAINLINE INFORMATION SYSTEMS INC",null,{"$f":"IF(ISNUMBER(FIND(\"MEDICAID\",A4127)),\"X\",\"\")","v":""},{"$f":"IF(ISNUMBER(FIND(\"MEDICARE\",A4127)),\"X\",\"\")","v":""},{"$f":"IF(ISNUMBER(FIND(\"BC/BS\",#REF!)),\"X\",\"\")","v":""}]
["UMR MAJOR DRILLING AMERICA INC",null,{"$f":"IF(ISNUMBER(FIND(\"MEDICAID\",A4128)),\"X\",\"\")","v":""},{"$f":"IF(ISNUMBER(FIND(\"MEDICARE\",A4128)),\"X\",\"\")","v":""},{"$f":"IF(ISNUMBER(FIND(\"BC/BS\",#REF!)),\"X\",\"\")","v":""}]
["UMR MAMMOTH TECH INC",null,{"$f":"IF(ISNUMBER(FIND(\"MEDICAID\",A4129)),\"X\",\"\")","v":""},{"$f":"IF(ISNUMBER(FIND(\"MEDICARE\",A4129)),\"X\",\"\")","v":""},{"$f":"IF(ISNUMBER(FIND(\"BC/BS\",#REF!)),\"X\",\"\")","v":""}]
["UMR MANSUETO VENTURES LLC",null,{"$f":"IF(ISNUMBER(FIND(\"MEDICAID\",A4130)),\"X\",\"\")","v":""},{"$f":"IF(ISNUMBER(FIND(\"MEDICARE\",A4130)),\"X\",\"\")","v":""},{"$f":"IF(ISNUMBER(FIND(\"BC/BS\",#REF!)),\"X\",\"\")","v":""}]
["UMR MARCUM LLP",null,{"$f":"IF(ISNUMBER(FIND(\"MEDICAID\",A4131)),\"X\",\"\")","v":""},{"$f":"IF(ISNUMBER(FIND(\"MEDICARE\",A4131)),\"X\",\"\")","v":""},{"$f":"IF(ISNUMBER(FIND(\"BC/BS\",#REF!)),\"X\",\"\")","v":""}]
["UMR MARINE SPILL RESPONSE CORPORATION",null,{"$f":"IF(ISNUMBER(FIND(\"MEDICAID\",A4132)),\"X\",\"\")","v":""},{"$f":"IF(ISNUMBER(FIND(\"MEDICARE\",A4132)),\"X\",\"\")","v":""},{"$f":"IF(ISNUMBER(FIND(\"BC/BS\",#REF!)),\"X\",\"\")","v":""}]
["UMR MARKETING MANAGEMENT INC",null,{"$f":"IF(ISNUMBER(FIND(\"MEDICAID\",A4133)),\"X\",\"\")","v":""},{"$f":"IF(ISNUMBER(FIND(\"MEDICARE\",A4133)),\"X\",\"\")","v":""},{"$f":"IF(ISNUMBER(FIND(\"BC/BS\",#REF!)),\"X\",\"\")","v":""}]
["UMR MARKING SERVICES INCORPORATED",null,{"$f":"IF(ISNUMBER(FIND(\"MEDICAID\",A4134)),\"X\",\"\")","v":""},{"$f":"IF(ISNUMBER(FIND(\"MEDICARE\",A4134)),\"X\",\"\")","v":""},{"$f":"IF(ISNUMBER(FIND(\"BC/BS\",#REF!)),\"X\",\"\")","v":""}]
["UMR MARTEN TRANSPORT LTD",null,{"$f":"IF(ISNUMBER(FIND(\"MEDICAID\",A4135)),\"X\",\"\")","v":""},{"$f":"IF(ISNUMBER(FIND(\"MEDICARE\",A4135)),\"X\",\"\")","v":""},{"$f":"IF(ISNUMBER(FIND(\"BC/BS\",#REF!)),\"X\",\"\")","v":""}]
["UMR MARTIN",null,{"$f":"IF(ISNUMBER(FIND(\"MEDICAID\",A4136)),\"X\",\"\")","v":""},{"$f":"IF(ISNUMBER(FIND(\"MEDICARE\",A4136)),\"X\",\"\")","v":""},{"$f":"IF(ISNUMBER(FIND(\"BC/BS\",#REF!)),\"X\",\"\")","v":""}]
["UMR MARTIN BAYLEY INC",null,{"$f":"IF(ISNUMBER(FIND(\"MEDICAID\",A4137)),\"X\",\"\")","v":""},{"$f":"IF(ISNUMBER(FIND(\"MEDICARE\",A4137)),\"X\",\"\")","v":""},{"$f":"IF(ISNUMBER(FIND(\"BC/BS\",#REF!)),\"X\",\"\")","v":""}]
["UMR MARTIN EQUIPMENT OF ILLINOIS INC",null,{"$f":"IF(ISNUMBER(FIND(\"MEDICAID\",A4138)),\"X\",\"\")","v":""},{"$f":"IF(ISNUMBER(FIND(\"MEDICARE\",A4138)),\"X\",\"\")","v":""},{"$f":"IF(ISNUMBER(FIND(\"BC/BS\",#REF!)),\"X\",\"\")","v":""}]
["UMR MATERION SERVICES INC",null,{"$f":"IF(ISNUMBER(FIND(\"MEDICAID\",A4139)),\"X\",\"\")","v":""},{"$f":"IF(ISNUMBER(FIND(\"MEDICARE\",A4139)),\"X\",\"\")","v":""},{"$f":"IF(ISNUMBER(FIND(\"BC/BS\",#REF!)),\"X\",\"\")","v":""}]
["UMR MAVERICK CAPITAL LTD",null,{"$f":"IF(ISNUMBER(FIND(\"MEDICAID\",A4140)),\"X\",\"\")","v":""},{"$f":"IF(ISNUMBER(FIND(\"MEDICARE\",A4140)),\"X\",\"\")","v":""},{"$f":"IF(ISNUMBER(FIND(\"BC/BS\",#REF!)),\"X\",\"\")","v":""}]
["UMR MCCLELLAND CONSULTING ENGINEERS INC",null,{"$f":"IF(ISNUMBER(FIND(\"MEDICAID\",A4141)),\"X\",\"\")","v":""},{"$f":"IF(ISNUMBER(FIND(\"MEDICARE\",A4141)),\"X\",\"\")","v":""},{"$f":"IF(ISNUMBER(FIND(\"BC/BS\",#REF!)),\"X\",\"\")","v":""}]
["UMR MCCRAY LUMBER COMPANY",null,{"$f":"IF(ISNUMBER(FIND(\"MEDICAID\",A4142)),\"X\",\"\")","v":""},{"$f":"IF(ISNUMBER(FIND(\"MEDICARE\",A4142)),\"X\",\"\")","v":""},{"$f":"IF(ISNUMBER(FIND(\"BC/BS\",#REF!)),\"X\",\"\")","v":""}]
["UMR MCGOHAN BRABENDER INC",null,{"$f":"IF(ISNUMBER(FIND(\"MEDICAID\",A4143)),\"X\",\"\")","v":""},{"$f":"IF(ISNUMBER(FIND(\"MEDICARE\",A4143)),\"X\",\"\")","v":""},{"$f":"IF(ISNUMBER(FIND(\"BC/BS\",#REF!)),\"X\",\"\")","v":""}]
["UMR MCKIBBON HOTEL MANAGEMENT CO",null,{"$f":"IF(ISNUMBER(FIND(\"MEDICAID\",A4144)),\"X\",\"\")","v":""},{"$f":"IF(ISNUMBER(FIND(\"MEDICARE\",A4144)),\"X\",\"\")","v":""},{"$f":"IF(ISNUMBER(FIND(\"BC/BS\",#REF!)),\"X\",\"\")","v":""}]
["UMR MDC",null,{"$f":"IF(ISNUMBER(FIND(\"MEDICAID\",A4145)),\"X\",\"\")","v":""},{"$f":"IF(ISNUMBER(FIND(\"MEDICARE\",A4145)),\"X\",\"\")","v":""},{"$f":"IF(ISNUMBER(FIND(\"BC/BS\",#REF!)),\"X\",\"\")","v":""}]
["UMR MEAD AND HUNT INC",null,{"$f":"IF(ISNUMBER(FIND(\"MEDICAID\",A4146)),\"X\",\"\")","v":""},{"$f":"IF(ISNUMBER(FIND(\"MEDICARE\",A4146)),\"X\",\"\")","v":""},{"$f":"IF(ISNUMBER(FIND(\"BC/BS\",#REF!)),\"X\",\"\")","v":""}]
["UMR MEDICAL COLLEGE OF WISCONSIN INC",null,{"$f":"IF(ISNUMBER(FIND(\"MEDICAID\",A4147)),\"X\",\"\")","v":""},{"$f":"IF(ISNUMBER(FIND(\"MEDICARE\",A4147)),\"X\",\"\")","v":""},{"$f":"IF(ISNUMBER(FIND(\"BC/BS\",#REF!)),\"X\",\"\")","v":""}]
["UMR MEDICAL TRANSPORTATION MANAGEMENT INC",null,{"$f":"IF(ISNUMBER(FIND(\"MEDICAID\",A4148)),\"X\",\"\")","v":""},{"$f":"IF(ISNUMBER(FIND(\"MEDICARE\",A4148)),\"X\",\"\")","v":""},{"$f":"IF(ISNUMBER(FIND(\"BC/BS\",#REF!)),\"X\",\"\")","v":""}]
["UMR MEDIX STAFFING SOLUTIONS INC",null,{"$f":"IF(ISNUMBER(FIND(\"MEDICAID\",A4149)),\"X\",\"\")","v":""},{"$f":"IF(ISNUMBER(FIND(\"MEDICARE\",A4149)),\"X\",\"\")","v":""},{"$f":"IF(ISNUMBER(FIND(\"BC/BS\",#REF!)),\"X\",\"\")","v":""}]
["UMR MEGGER EMPLOYEE HEALTH PLAN",null,{"$f":"IF(ISNUMBER(FIND(\"MEDICAID\",A4150)),\"X\",\"\")","v":""},{"$f":"IF(ISNUMBER(FIND(\"MEDICARE\",A4150)),\"X\",\"\")","v":""},{"$f":"IF(ISNUMBER(FIND(\"BC/BS\",#REF!)),\"X\",\"\")","v":""}]
["UMR MERCER COUNTY MEBC",null,{"$f":"IF(ISNUMBER(FIND(\"MEDICAID\",A4151)),\"X\",\"\")","v":""},{"$f":"IF(ISNUMBER(FIND(\"MEDICARE\",A4151)),\"X\",\"\")","v":""},{"$f":"IF(ISNUMBER(FIND(\"BC/BS\",#REF!)),\"X\",\"\")","v":""}]
["UMR MERIDIAN TITLE CORPORATION",null,{"$f":"IF(ISNUMBER(FIND(\"MEDICAID\",A4152)),\"X\",\"\")","v":""},{"$f":"IF(ISNUMBER(FIND(\"MEDICARE\",A4152)),\"X\",\"\")","v":""},{"$f":"IF(ISNUMBER(FIND(\"BC/BS\",#REF!)),\"X\",\"\")","v":""}]
["UMR MESSER CONSTRUCTION CO",null,{"$f":"IF(ISNUMBER(FIND(\"MEDICAID\",A4153)),\"X\",\"\")","v":""},{"$f":"IF(ISNUMBER(FIND(\"MEDICARE\",A4153)),\"X\",\"\")","v":""},{"$f":"IF(ISNUMBER(FIND(\"BC/BS\",#REF!)),\"X\",\"\")","v":""}]
["UMR META SOLUTIONS",null,{"$f":"IF(ISNUMBER(FIND(\"MEDICAID\",A4154)),\"X\",\"\")","v":""},{"$f":"IF(ISNUMBER(FIND(\"MEDICARE\",A4154)),\"X\",\"\")","v":""},{"$f":"IF(ISNUMBER(FIND(\"BC/BS\",#REF!)),\"X\",\"\")","v":""}]
["UMR METAL CULVERTS INC",null,{"$f":"IF(ISNUMBER(FIND(\"MEDICAID\",A4155)),\"X\",\"\")","v":""},{"$f":"IF(ISNUMBER(FIND(\"MEDICARE\",A4155)),\"X\",\"\")","v":""},{"$f":"IF(ISNUMBER(FIND(\"BC/BS\",#REF!)),\"X\",\"\")","v":""}]
["UMR METALCRAFT OF MAYVILLE INC",null,{"$f":"IF(ISNUMBER(FIND(\"MEDICAID\",A4156)),\"X\",\"\")","v":""},{"$f":"IF(ISNUMBER(FIND(\"MEDICARE\",A4156)),\"X\",\"\")","v":""},{"$f":"IF(ISNUMBER(FIND(\"BC/BS\",#REF!)),\"X\",\"\")","v":""}]
["UMR METASOURCE LLC",null,{"$f":"IF(ISNUMBER(FIND(\"MEDICAID\",A4157)),\"X\",\"\")","v":""},{"$f":"IF(ISNUMBER(FIND(\"MEDICARE\",A4157)),\"X\",\"\")","v":""},{"$f":"IF(ISNUMBER(FIND(\"BC/BS\",#REF!)),\"X\",\"\")","v":""}]
["UMR METHODIST HEALTH SYSTEM",null,{"$f":"IF(ISNUMBER(FIND(\"MEDICAID\",A4158)),\"X\",\"\")","v":""},{"$f":"IF(ISNUMBER(FIND(\"MEDICARE\",A4158)),\"X\",\"\")","v":""},{"$f":"IF(ISNUMBER(FIND(\"BC/BS\",#REF!)),\"X\",\"\")","v":""}]
["UMR METRO BUILDERS SUPPLY INC",null,{"$f":"IF(ISNUMBER(FIND(\"MEDICAID\",A4159)),\"X\",\"\")","v":""},{"$f":"IF(ISNUMBER(FIND(\"MEDICARE\",A4159)),\"X\",\"\")","v":""},{"$f":"IF(ISNUMBER(FIND(\"BC/BS\",#REF!)),\"X\",\"\")","v":""}]
["UMR MEYER CONTRACTING INC",null,{"$f":"IF(ISNUMBER(FIND(\"MEDICAID\",A4160)),\"X\",\"\")","v":""},{"$f":"IF(ISNUMBER(FIND(\"MEDICARE\",A4160)),\"X\",\"\")","v":""},{"$f":"IF(ISNUMBER(FIND(\"BC/BS\",#REF!)),\"X\",\"\")","v":""}]
["UMR MGP INGREDIENTS INC",null,{"$f":"IF(ISNUMBER(FIND(\"MEDICAID\",A4161)),\"X\",\"\")","v":""},{"$f":"IF(ISNUMBER(FIND(\"MEDICARE\",A4161)),\"X\",\"\")","v":""},{"$f":"IF(ISNUMBER(FIND(\"BC/BS\",#REF!)),\"X\",\"\")","v":""}]
["UMR MHI SHARED SERVICES AMERICAS INC",null,{"$f":"IF(ISNUMBER(FIND(\"MEDICAID\",A4162)),\"X\",\"\")","v":""},{"$f":"IF(ISNUMBER(FIND(\"MEDICARE\",A4162)),\"X\",\"\")","v":""},{"$f":"IF(ISNUMBER(FIND(\"BC/BS\",#REF!)),\"X\",\"\")","v":""}]
["UMR MIAMI UNIVERSITY",null,{"$f":"IF(ISNUMBER(FIND(\"MEDICAID\",A4163)),\"X\",\"\")","v":""},{"$f":"IF(ISNUMBER(FIND(\"MEDICARE\",A4163)),\"X\",\"\")","v":""},{"$f":"IF(ISNUMBER(FIND(\"BC/BS\",#REF!)),\"X\",\"\")","v":""}]
["UMR MIBA BEARINGS US LLC",null,{"$f":"IF(ISNUMBER(FIND(\"MEDICAID\",A4164)),\"X\",\"\")","v":""},{"$f":"IF(ISNUMBER(FIND(\"MEDICARE\",A4164)),\"X\",\"\")","v":""},{"$f":"IF(ISNUMBER(FIND(\"BC/BS\",#REF!)),\"X\",\"\")","v":""}]
["UMR MID AMERICA HEALTH INC",null,{"$f":"IF(ISNUMBER(FIND(\"MEDICAID\",A4165)),\"X\",\"\")","v":""},{"$f":"IF(ISNUMBER(FIND(\"MEDICARE\",A4165)),\"X\",\"\")","v":""},{"$f":"IF(ISNUMBER(FIND(\"BC/BS\",#REF!)),\"X\",\"\")","v":""}]
["UMR MID AMERICAN GROWERS INC",null,{"$f":"IF(ISNUMBER(FIND(\"MEDICAID\",A4166)),\"X\",\"\")","v":""},{"$f":"IF(ISNUMBER(FIND(\"MEDICARE\",A4166)),\"X\",\"\")","v":""},{"$f":"IF(ISNUMBER(FIND(\"BC/BS\",#REF!)),\"X\",\"\")","v":""}]
["UMR MID CON CARRIERS CORP",null,{"$f":"IF(ISNUMBER(FIND(\"MEDICAID\",A4167)),\"X\",\"\")","v":""},{"$f":"IF(ISNUMBER(FIND(\"MEDICARE\",A4167)),\"X\",\"\")","v":""},{"$f":"IF(ISNUMBER(FIND(\"BC/BS\",#REF!)),\"X\",\"\")","v":""}]
["UMR MID DAKOTA CLINIC",null,{"$f":"IF(ISNUMBER(FIND(\"MEDICAID\",A4168)),\"X\",\"\")","v":""},{"$f":"IF(ISNUMBER(FIND(\"MEDICARE\",A4168)),\"X\",\"\")","v":""},{"$f":"IF(ISNUMBER(FIND(\"BC/BS\",#REF!)),\"X\",\"\")","v":""}]
["UMR MID WEST SPRING AND STAMPING",null,{"$f":"IF(ISNUMBER(FIND(\"MEDICAID\",A4169)),\"X\",\"\")","v":""},{"$f":"IF(ISNUMBER(FIND(\"MEDICARE\",A4169)),\"X\",\"\")","v":""},{"$f":"IF(ISNUMBER(FIND(\"BC/BS\",#REF!)),\"X\",\"\")","v":""}]
["UMR MIDLANDS CARRIER TRANSICOLD",null,{"$f":"IF(ISNUMBER(FIND(\"MEDICAID\",A4170)),\"X\",\"\")","v":""},{"$f":"IF(ISNUMBER(FIND(\"MEDICARE\",A4170)),\"X\",\"\")","v":""},{"$f":"IF(ISNUMBER(FIND(\"BC/BS\",#REF!)),\"X\",\"\")","v":""}]
["UMR MIDWEST COMMUNICATIONS INC",null,{"$f":"IF(ISNUMBER(FIND(\"MEDICAID\",A4171)),\"X\",\"\")","v":""},{"$f":"IF(ISNUMBER(FIND(\"MEDICARE\",A4171)),\"X\",\"\")","v":""},{"$f":"IF(ISNUMBER(FIND(\"BC/BS\",#REF!)),\"X\",\"\")","v":""}]
["UMR MIDWEST LABORATORIES INC",null,{"$f":"IF(ISNUMBER(FIND(\"MEDICAID\",A4172)),\"X\",\"\")","v":""},{"$f":"IF(ISNUMBER(FIND(\"MEDICARE\",A4172)),\"X\",\"\")","v":""},{"$f":"IF(ISNUMBER(FIND(\"BC/BS\",#REF!)),\"X\",\"\")","v":""}]
["UMR MIDWESTERN PET FOODS INC",null,{"$f":"IF(ISNUMBER(FIND(\"MEDICAID\",A4173)),\"X\",\"\")","v":""},{"$f":"IF(ISNUMBER(FIND(\"MEDICARE\",A4173)),\"X\",\"\")","v":""},{"$f":"IF(ISNUMBER(FIND(\"BC/BS\",#REF!)),\"X\",\"\")","v":""}]
["UMR MILLIS TRANSFER LLC",null,{"$f":"IF(ISNUMBER(FIND(\"MEDICAID\",A4174)),\"X\",\"\")","v":""},{"$f":"IF(ISNUMBER(FIND(\"MEDICARE\",A4174)),\"X\",\"\")","v":""},{"$f":"IF(ISNUMBER(FIND(\"BC/BS\",#REF!)),\"X\",\"\")","v":""}]
["UMR MILWAUKEE AREA TECHNICAL COLLEGE",null,{"$f":"IF(ISNUMBER(FIND(\"MEDICAID\",A4175)),\"X\",\"\")","v":""},{"$f":"IF(ISNUMBER(FIND(\"MEDICARE\",A4175)),\"X\",\"\")","v":""},{"$f":"IF(ISNUMBER(FIND(\"BC/BS\",#REF!)),\"X\",\"\")","v":""}]
["UMR MINCO TOOL MOLD INC",null,{"$f":"IF(ISNUMBER(FIND(\"MEDICAID\",A4176)),\"X\",\"\")","v":""},{"$f":"IF(ISNUMBER(FIND(\"MEDICARE\",A4176)),\"X\",\"\")","v":""},{"$f":"IF(ISNUMBER(FIND(\"BC/BS\",#REF!)),\"X\",\"\")","v":""}]
["UMR MINNESOTA LIFE INSURANCE COMPANY",null,{"$f":"IF(ISNUMBER(FIND(\"MEDICAID\",A4177)),\"X\",\"\")","v":""},{"$f":"IF(ISNUMBER(FIND(\"MEDICARE\",A4177)),\"X\",\"\")","v":""},{"$f":"IF(ISNUMBER(FIND(\"BC/BS\",#REF!)),\"X\",\"\")","v":""}]
["UMR MIRIAM FOUNDATION",null,{"$f":"IF(ISNUMBER(FIND(\"MEDICAID\",A4178)),\"X\",\"\")","v":""},{"$f":"IF(ISNUMBER(FIND(\"MEDICARE\",A4178)),\"X\",\"\")","v":""},{"$f":"IF(ISNUMBER(FIND(\"BC/BS\",#REF!)),\"X\",\"\")","v":""}]
["UMR MISSION BBQ MANAGEMENT LLC",null,{"$f":"IF(ISNUMBER(FIND(\"MEDICAID\",A4179)),\"X\",\"\")","v":""},{"$f":"IF(ISNUMBER(FIND(\"MEDICARE\",A4179)),\"X\",\"\")","v":""},{"$f":"IF(ISNUMBER(FIND(\"BC/BS\",#REF!)),\"X\",\"\")","v":""}]
["UMR MISSOURI CONSOLIDATED HEALTH CARE PLAN",null,{"$f":"IF(ISNUMBER(FIND(\"MEDICAID\",A4180)),\"X\",\"\")","v":""},{"$f":"IF(ISNUMBER(FIND(\"MEDICARE\",A4180)),\"X\",\"\")","v":""},{"$f":"IF(ISNUMBER(FIND(\"BC/BS\",#REF!)),\"X\",\"\")","v":""}]
["UMR MISTER CAR WASH",null,{"$f":"IF(ISNUMBER(FIND(\"MEDICAID\",A4181)),\"X\",\"\")","v":""},{"$f":"IF(ISNUMBER(FIND(\"MEDICARE\",A4181)),\"X\",\"\")","v":""},{"$f":"IF(ISNUMBER(FIND(\"BC/BS\",#REF!)),\"X\",\"\")","v":""}]
["UMR MLD MORTGAGE INC DBA THE MONEY STORE",null,{"$f":"IF(ISNUMBER(FIND(\"MEDICAID\",A4182)),\"X\",\"\")","v":""},{"$f":"IF(ISNUMBER(FIND(\"MEDICARE\",A4182)),\"X\",\"\")","v":""},{"$f":"IF(ISNUMBER(FIND(\"BC/BS\",#REF!)),\"X\",\"\")","v":""}]
["UMR MOBILE PAINT MANUFACTURING COMPANY INC",null,{"$f":"IF(ISNUMBER(FIND(\"MEDICAID\",A4183)),\"X\",\"\")","v":""},{"$f":"IF(ISNUMBER(FIND(\"MEDICARE\",A4183)),\"X\",\"\")","v":""},{"$f":"IF(ISNUMBER(FIND(\"BC/BS\",#REF!)),\"X\",\"\")","v":""}]
["UMR MODERN DISTRIBUTORS EMPLOYEE BENEFIT PLAN",null,{"$f":"IF(ISNUMBER(FIND(\"MEDICAID\",A4184)),\"X\",\"\")","v":""},{"$f":"IF(ISNUMBER(FIND(\"MEDICARE\",A4184)),\"X\",\"\")","v":""},{"$f":"IF(ISNUMBER(FIND(\"BC/BS\",#REF!)),\"X\",\"\")","v":""}]
["UMR MODINE MANUFACTURING CO",null,{"$f":"IF(ISNUMBER(FIND(\"MEDICAID\",A4185)),\"X\",\"\")","v":""},{"$f":"IF(ISNUMBER(FIND(\"MEDICARE\",A4185)),\"X\",\"\")","v":""},{"$f":"IF(ISNUMBER(FIND(\"BC/BS\",#REF!)),\"X\",\"\")","v":""}]
["UMR MOFFAT COUNTY SCHOOL DISTRICT RE 1",null,{"$f":"IF(ISNUMBER(FIND(\"MEDICAID\",A4186)),\"X\",\"\")","v":""},{"$f":"IF(ISNUMBER(FIND(\"MEDICARE\",A4186)),\"X\",\"\")","v":""},{"$f":"IF(ISNUMBER(FIND(\"BC/BS\",#REF!)),\"X\",\"\")","v":""}]
["UMR MONMOUTH COLLEGE",null,{"$f":"IF(ISNUMBER(FIND(\"MEDICAID\",A4187)),\"X\",\"\")","v":""},{"$f":"IF(ISNUMBER(FIND(\"MEDICARE\",A4187)),\"X\",\"\")","v":""},{"$f":"IF(ISNUMBER(FIND(\"BC/BS\",#REF!)),\"X\",\"\")","v":""}]
["UMR MONTGOMERY AUTOMOTIVE GROUP",null,{"$f":"IF(ISNUMBER(FIND(\"MEDICAID\",A4188)),\"X\",\"\")","v":""},{"$f":"IF(ISNUMBER(FIND(\"MEDICARE\",A4188)),\"X\",\"\")","v":""},{"$f":"IF(ISNUMBER(FIND(\"BC/BS\",#REF!)),\"X\",\"\")","v":""}]
["UMR MORALES INTERNAL STAFF LLC",null,{"$f":"IF(ISNUMBER(FIND(\"MEDICAID\",A4189)),\"X\",\"\")","v":""},{"$f":"IF(ISNUMBER(FIND(\"MEDICARE\",A4189)),\"X\",\"\")","v":""},{"$f":"IF(ISNUMBER(FIND(\"BC/BS\",#REF!)),\"X\",\"\")","v":""}]
["UMR MORGAN COUNTY GOVERNMENT",null,{"$f":"IF(ISNUMBER(FIND(\"MEDICAID\",A4190)),\"X\",\"\")","v":""},{"$f":"IF(ISNUMBER(FIND(\"MEDICARE\",A4190)),\"X\",\"\")","v":""},{"$f":"IF(ISNUMBER(FIND(\"BC/BS\",#REF!)),\"X\",\"\")","v":""}]
["UMR MORGAN FOODS INC",null,{"$f":"IF(ISNUMBER(FIND(\"MEDICAID\",A4191)),\"X\",\"\")","v":""},{"$f":"IF(ISNUMBER(FIND(\"MEDICARE\",A4191)),\"X\",\"\")","v":""},{"$f":"IF(ISNUMBER(FIND(\"BC/BS\",#REF!)),\"X\",\"\")","v":""}]
["UMR MORRYDE INTERNATIONAL INC",null,{"$f":"IF(ISNUMBER(FIND(\"MEDICAID\",A4192)),\"X\",\"\")","v":""},{"$f":"IF(ISNUMBER(FIND(\"MEDICARE\",A4192)),\"X\",\"\")","v":""},{"$f":"IF(ISNUMBER(FIND(\"BC/BS\",#REF!)),\"X\",\"\")","v":""}]
["UMR MORTON INDUSTRIES LLC",null,{"$f":"IF(ISNUMBER(FIND(\"MEDICAID\",A4193)),\"X\",\"\")","v":""},{"$f":"IF(ISNUMBER(FIND(\"MEDICARE\",A4193)),\"X\",\"\")","v":""},{"$f":"IF(ISNUMBER(FIND(\"BC/BS\",#REF!)),\"X\",\"\")","v":""}]
["UMR MOTOMART",null,{"$f":"IF(ISNUMBER(FIND(\"MEDICAID\",A4194)),\"X\",\"\")","v":""},{"$f":"IF(ISNUMBER(FIND(\"MEDICARE\",A4194)),\"X\",\"\")","v":""},{"$f":"IF(ISNUMBER(FIND(\"BC/BS\",#REF!)),\"X\",\"\")","v":""}]
["UMR MOUND WELFARE BENEFIT TRUST",null,{"$f":"IF(ISNUMBER(FIND(\"MEDICAID\",A4195)),\"X\",\"\")","v":""},{"$f":"IF(ISNUMBER(FIND(\"MEDICARE\",A4195)),\"X\",\"\")","v":""},{"$f":"IF(ISNUMBER(FIND(\"BC/BS\",#REF!)),\"X\",\"\")","v":""}]
["UMR MRS BPO LLC",null,{"$f":"IF(ISNUMBER(FIND(\"MEDICAID\",A4196)),\"X\",\"\")","v":""},{"$f":"IF(ISNUMBER(FIND(\"MEDICARE\",A4196)),\"X\",\"\")","v":""},{"$f":"IF(ISNUMBER(FIND(\"BC/BS\",#REF!)),\"X\",\"\")","v":""}]
["UMR MSI EXPRESS INC",null,{"$f":"IF(ISNUMBER(FIND(\"MEDICAID\",A4197)),\"X\",\"\")","v":""},{"$f":"IF(ISNUMBER(FIND(\"MEDICARE\",A4197)),\"X\",\"\")","v":""},{"$f":"IF(ISNUMBER(FIND(\"BC/BS\",#REF!)),\"X\",\"\")","v":""}]
["UMR MUBEA INC",null,{"$f":"IF(ISNUMBER(FIND(\"MEDICAID\",A4198)),\"X\",\"\")","v":""},{"$f":"IF(ISNUMBER(FIND(\"MEDICARE\",A4198)),\"X\",\"\")","v":""},{"$f":"IF(ISNUMBER(FIND(\"BC/BS\",#REF!)),\"X\",\"\")","v":""}]
["UMR MUETZEL PLUMBING HEATING",null,{"$f":"IF(ISNUMBER(FIND(\"MEDICAID\",A4199)),\"X\",\"\")","v":""},{"$f":"IF(ISNUMBER(FIND(\"MEDICARE\",A4199)),\"X\",\"\")","v":""},{"$f":"IF(ISNUMBER(FIND(\"BC/BS\",#REF!)),\"X\",\"\")","v":""}]
["UMR MURATA ELECTRONICS N A INC",null,{"$f":"IF(ISNUMBER(FIND(\"MEDICAID\",A4200)),\"X\",\"\")","v":""},{"$f":"IF(ISNUMBER(FIND(\"MEDICARE\",A4200)),\"X\",\"\")","v":""},{"$f":"IF(ISNUMBER(FIND(\"BC/BS\",#REF!)),\"X\",\"\")","v":""}]
["UMR NAGAKURA ENGINEERING",null,{"$f":"IF(ISNUMBER(FIND(\"MEDICAID\",A4201)),\"X\",\"\")","v":""},{"$f":"IF(ISNUMBER(FIND(\"MEDICARE\",A4201)),\"X\",\"\")","v":""},{"$f":"IF(ISNUMBER(FIND(\"BC/BS\",#REF!)),\"X\",\"\")","v":""}]
["UMR NAPLETON DEALERSHIP GROUP",null,{"$f":"IF(ISNUMBER(FIND(\"MEDICAID\",A4202)),\"X\",\"\")","v":""},{"$f":"IF(ISNUMBER(FIND(\"MEDICARE\",A4202)),\"X\",\"\")","v":""},{"$f":"IF(ISNUMBER(FIND(\"BC/BS\",#REF!)),\"X\",\"\")","v":""}]
["UMR NATIONAL CART COMPANY LLC",null,{"$f":"IF(ISNUMBER(FIND(\"MEDICAID\",A4203)),\"X\",\"\")","v":""},{"$f":"IF(ISNUMBER(FIND(\"MEDICARE\",A4203)),\"X\",\"\")","v":""},{"$f":"IF(ISNUMBER(FIND(\"BC/BS\",#REF!)),\"X\",\"\")","v":""}]
["UMR NATIONAL CHURCH RESIDENCES",null,{"$f":"IF(ISNUMBER(FIND(\"MEDICAID\",A4204)),\"X\",\"\")","v":""},{"$f":"IF(ISNUMBER(FIND(\"MEDICARE\",A4204)),\"X\",\"\")","v":""},{"$f":"IF(ISNUMBER(FIND(\"BC/BS\",#REF!)),\"X\",\"\")","v":""}]
["UMR NATIONAL HOT ROD ASSOCIATION",null,{"$f":"IF(ISNUMBER(FIND(\"MEDICAID\",A4205)),\"X\",\"\")","v":""},{"$f":"IF(ISNUMBER(FIND(\"MEDICARE\",A4205)),\"X\",\"\")","v":""},{"$f":"IF(ISNUMBER(FIND(\"BC/BS\",#REF!)),\"X\",\"\")","v":""}]
["UMR NATIONAL RURAL ELECTRIC CO OP ASSOC",null,{"$f":"IF(ISNUMBER(FIND(\"MEDICAID\",A4206)),\"X\",\"\")","v":""},{"$f":"IF(ISNUMBER(FIND(\"MEDICARE\",A4206)),\"X\",\"\")","v":""},{"$f":"IF(ISNUMBER(FIND(\"BC/BS\",#REF!)),\"X\",\"\")","v":""}]
["UMR NATIONAL SEATING MOBILITY INC",null,{"$f":"IF(ISNUMBER(FIND(\"MEDICAID\",A4207)),\"X\",\"\")","v":""},{"$f":"IF(ISNUMBER(FIND(\"MEDICARE\",A4207)),\"X\",\"\")","v":""},{"$f":"IF(ISNUMBER(FIND(\"BC/BS\",#REF!)),\"X\",\"\")","v":""}]
["UMR NATURE'S VARIETY INC",null,{"$f":"IF(ISNUMBER(FIND(\"MEDICAID\",A4208)),\"X\",\"\")","v":""},{"$f":"IF(ISNUMBER(FIND(\"MEDICARE\",A4208)),\"X\",\"\")","v":""},{"$f":"IF(ISNUMBER(FIND(\"BC/BS\",#REF!)),\"X\",\"\")","v":""}]
["UMR NEEL SCHAFFER INC",null,{"$f":"IF(ISNUMBER(FIND(\"MEDICAID\",A4209)),\"X\",\"\")","v":""},{"$f":"IF(ISNUMBER(FIND(\"MEDICARE\",A4209)),\"X\",\"\")","v":""},{"$f":"IF(ISNUMBER(FIND(\"BC/BS\",#REF!)),\"X\",\"\")","v":""}]
["UMR NEFF GROUP DISTRIBUTORS INC",null,{"$f":"IF(ISNUMBER(FIND(\"MEDICAID\",A4210)),\"X\",\"\")","v":""},{"$f":"IF(ISNUMBER(FIND(\"MEDICARE\",A4210)),\"X\",\"\")","v":""},{"$f":"IF(ISNUMBER(FIND(\"BC/BS\",#REF!)),\"X\",\"\")","v":""}]
["UMR NELBUD SERVICES LLC",null,{"$f":"IF(ISNUMBER(FIND(\"MEDICAID\",A4211)),\"X\",\"\")","v":""},{"$f":"IF(ISNUMBER(FIND(\"MEDICARE\",A4211)),\"X\",\"\")","v":""},{"$f":"IF(ISNUMBER(FIND(\"BC/BS\",#REF!)),\"X\",\"\")","v":""}]
["UMR NELSON LEASING INC",null,{"$f":"IF(ISNUMBER(FIND(\"MEDICAID\",A4212)),\"X\",\"\")","v":""},{"$f":"IF(ISNUMBER(FIND(\"MEDICARE\",A4212)),\"X\",\"\")","v":""},{"$f":"IF(ISNUMBER(FIND(\"BC/BS\",#REF!)),\"X\",\"\")","v":""}]
["UMR NELSON TREE SERVICE",null,{"$f":"IF(ISNUMBER(FIND(\"MEDICAID\",A4213)),\"X\",\"\")","v":""},{"$f":"IF(ISNUMBER(FIND(\"MEDICARE\",A4213)),\"X\",\"\")","v":""},{"$f":"IF(ISNUMBER(FIND(\"BC/BS\",#REF!)),\"X\",\"\")","v":""}]
["UMR NEP BROADCASTING LLC",null,{"$f":"IF(ISNUMBER(FIND(\"MEDICAID\",A4214)),\"X\",\"\")","v":""},{"$f":"IF(ISNUMBER(FIND(\"MEDICARE\",A4214)),\"X\",\"\")","v":""},{"$f":"IF(ISNUMBER(FIND(\"BC/BS\",#REF!)),\"X\",\"\")","v":""}]
["UMR NETJETS INC",null,{"$f":"IF(ISNUMBER(FIND(\"MEDICAID\",A4215)),\"X\",\"\")","v":""},{"$f":"IF(ISNUMBER(FIND(\"MEDICARE\",A4215)),\"X\",\"\")","v":""},{"$f":"IF(ISNUMBER(FIND(\"BC/BS\",#REF!)),\"X\",\"\")","v":""}]
["UMR NEW AGE INDUSTRIAL CORP INC",null,{"$f":"IF(ISNUMBER(FIND(\"MEDICAID\",A4216)),\"X\",\"\")","v":""},{"$f":"IF(ISNUMBER(FIND(\"MEDICARE\",A4216)),\"X\",\"\")","v":""},{"$f":"IF(ISNUMBER(FIND(\"BC/BS\",#REF!)),\"X\",\"\")","v":""}]
["UMR NEW CITY SCHOOL",null,{"$f":"IF(ISNUMBER(FIND(\"MEDICAID\",A4217)),\"X\",\"\")","v":""},{"$f":"IF(ISNUMBER(FIND(\"MEDICARE\",A4217)),\"X\",\"\")","v":""},{"$f":"IF(ISNUMBER(FIND(\"BC/BS\",#REF!)),\"X\",\"\")","v":""}]
["UMR NEW DAY HEALTHCARE LLC",null,{"$f":"IF(ISNUMBER(FIND(\"MEDICAID\",A4218)),\"X\",\"\")","v":""},{"$f":"IF(ISNUMBER(FIND(\"MEDICARE\",A4218)),\"X\",\"\")","v":""},{"$f":"IF(ISNUMBER(FIND(\"BC/BS\",#REF!)),\"X\",\"\")","v":""}]
["UMR NEW HORIZONS BAKING COMPANY",null,{"$f":"IF(ISNUMBER(FIND(\"MEDICAID\",A4219)),\"X\",\"\")","v":""},{"$f":"IF(ISNUMBER(FIND(\"MEDICARE\",A4219)),\"X\",\"\")","v":""},{"$f":"IF(ISNUMBER(FIND(\"BC/BS\",#REF!)),\"X\",\"\")","v":""}]
["UMR NEW LEXINGTON CLINIC PSC",null,{"$f":"IF(ISNUMBER(FIND(\"MEDICAID\",A4220)),\"X\",\"\")","v":""},{"$f":"IF(ISNUMBER(FIND(\"MEDICARE\",A4220)),\"X\",\"\")","v":""},{"$f":"IF(ISNUMBER(FIND(\"BC/BS\",#REF!)),\"X\",\"\")","v":""}]
["UMR NEWPORT GROUP INC",null,{"$f":"IF(ISNUMBER(FIND(\"MEDICAID\",A4221)),\"X\",\"\")","v":""},{"$f":"IF(ISNUMBER(FIND(\"MEDICARE\",A4221)),\"X\",\"\")","v":""},{"$f":"IF(ISNUMBER(FIND(\"BC/BS\",#REF!)),\"X\",\"\")","v":""}]
["UMR NEXT ELECTRIC INC",null,{"$f":"IF(ISNUMBER(FIND(\"MEDICAID\",A4222)),\"X\",\"\")","v":""},{"$f":"IF(ISNUMBER(FIND(\"MEDICARE\",A4222)),\"X\",\"\")","v":""},{"$f":"IF(ISNUMBER(FIND(\"BC/BS\",#REF!)),\"X\",\"\")","v":""}]
["UMR NEXT PHASE ENTERPRISES LLC",null,{"$f":"IF(ISNUMBER(FIND(\"MEDICAID\",A4223)),\"X\",\"\")","v":""},{"$f":"IF(ISNUMBER(FIND(\"MEDICARE\",A4223)),\"X\",\"\")","v":""},{"$f":"IF(ISNUMBER(FIND(\"BC/BS\",#REF!)),\"X\",\"\")","v":""}]
["UMR NGK SPARK PLUGS USA INC",null,{"$f":"IF(ISNUMBER(FIND(\"MEDICAID\",A4224)),\"X\",\"\")","v":""},{"$f":"IF(ISNUMBER(FIND(\"MEDICARE\",A4224)),\"X\",\"\")","v":""},{"$f":"IF(ISNUMBER(FIND(\"BC/BS\",#REF!)),\"X\",\"\")","v":""}]
["UMR NICKOLAS SAVKO AND SONS INC",null,{"$f":"IF(ISNUMBER(FIND(\"MEDICAID\",A4225)),\"X\",\"\")","v":""},{"$f":"IF(ISNUMBER(FIND(\"MEDICARE\",A4225)),\"X\",\"\")","v":""},{"$f":"IF(ISNUMBER(FIND(\"BC/BS\",#REF!)),\"X\",\"\")","v":""}]
["UMR NICOLET NATIONAL BANK",null,{"$f":"IF(ISNUMBER(FIND(\"MEDICAID\",A4226)),\"X\",\"\")","v":""},{"$f":"IF(ISNUMBER(FIND(\"MEDICARE\",A4226)),\"X\",\"\")","v":""},{"$f":"IF(ISNUMBER(FIND(\"BC/BS\",#REF!)),\"X\",\"\")","v":""}]
["UMR NICOR GAS",null,{"$f":"IF(ISNUMBER(FIND(\"MEDICAID\",A4227)),\"X\",\"\")","v":""},{"$f":"IF(ISNUMBER(FIND(\"MEDICARE\",A4227)),\"X\",\"\")","v":""},{"$f":"IF(ISNUMBER(FIND(\"BC/BS\",#REF!)),\"X\",\"\")","v":""}]
["UMR NIKKEI MC ALUMINUM",null,{"$f":"IF(ISNUMBER(FIND(\"MEDICAID\",A4228)),\"X\",\"\")","v":""},{"$f":"IF(ISNUMBER(FIND(\"MEDICARE\",A4228)),\"X\",\"\")","v":""},{"$f":"IF(ISNUMBER(FIND(\"BC/BS\",#REF!)),\"X\",\"\")","v":""}]
["UMR NLB CORP",null,{"$f":"IF(ISNUMBER(FIND(\"MEDICAID\",A4229)),\"X\",\"\")","v":""},{"$f":"IF(ISNUMBER(FIND(\"MEDICARE\",A4229)),\"X\",\"\")","v":""},{"$f":"IF(ISNUMBER(FIND(\"BC/BS\",#REF!)),\"X\",\"\")","v":""}]
["UMR NOBLE ACADEMY",null,{"$f":"IF(ISNUMBER(FIND(\"MEDICAID\",A4230)),\"X\",\"\")","v":""},{"$f":"IF(ISNUMBER(FIND(\"MEDICARE\",A4230)),\"X\",\"\")","v":""},{"$f":"IF(ISNUMBER(FIND(\"BC/BS\",#REF!)),\"X\",\"\")","v":""}]
["UMR NORTHERN BUCKEYE HEALTH PLAN",null,{"$f":"IF(ISNUMBER(FIND(\"MEDICAID\",A4231)),\"X\",\"\")","v":""},{"$f":"IF(ISNUMBER(FIND(\"MEDICARE\",A4231)),\"X\",\"\")","v":""},{"$f":"IF(ISNUMBER(FIND(\"BC/BS\",#REF!)),\"X\",\"\")","v":""}]
["UMR NORTHWEST TITLE FAMILY OF COMPANIES INC",null,{"$f":"IF(ISNUMBER(FIND(\"MEDICAID\",A4232)),\"X\",\"\")","v":""},{"$f":"IF(ISNUMBER(FIND(\"MEDICARE\",A4232)),\"X\",\"\")","v":""},{"$f":"IF(ISNUMBER(FIND(\"BC/BS\",#REF!)),\"X\",\"\")","v":""}]
["UMR NOTRE DAME FEDERAL CREDIT UNION",null,{"$f":"IF(ISNUMBER(FIND(\"MEDICAID\",A4233)),\"X\",\"\")","v":""},{"$f":"IF(ISNUMBER(FIND(\"MEDICARE\",A4233)),\"X\",\"\")","v":""},{"$f":"IF(ISNUMBER(FIND(\"BC/BS\",#REF!)),\"X\",\"\")","v":""}]
["UMR NOTS LOGISTICS LLC",null,{"$f":"IF(ISNUMBER(FIND(\"MEDICAID\",A4234)),\"X\",\"\")","v":""},{"$f":"IF(ISNUMBER(FIND(\"MEDICARE\",A4234)),\"X\",\"\")","v":""},{"$f":"IF(ISNUMBER(FIND(\"BC/BS\",#REF!)),\"X\",\"\")","v":""}]
["UMR NOURISON INDUSTRIES INC",null,{"$f":"IF(ISNUMBER(FIND(\"MEDICAID\",A4235)),\"X\",\"\")","v":""},{"$f":"IF(ISNUMBER(FIND(\"MEDICARE\",A4235)),\"X\",\"\")","v":""},{"$f":"IF(ISNUMBER(FIND(\"BC/BS\",#REF!)),\"X\",\"\")","v":""}]
["UMR NOURYON CHEMICALS LLC",null,{"$f":"IF(ISNUMBER(FIND(\"MEDICAID\",A4236)),\"X\",\"\")","v":""},{"$f":"IF(ISNUMBER(FIND(\"MEDICARE\",A4236)),\"X\",\"\")","v":""},{"$f":"IF(ISNUMBER(FIND(\"BC/BS\",#REF!)),\"X\",\"\")","v":""}]
["UMR NOVASPECT INC",null,{"$f":"IF(ISNUMBER(FIND(\"MEDICAID\",A4237)),\"X\",\"\")","v":""},{"$f":"IF(ISNUMBER(FIND(\"MEDICARE\",A4237)),\"X\",\"\")","v":""},{"$f":"IF(ISNUMBER(FIND(\"BC/BS\",#REF!)),\"X\",\"\")","v":""}]
["UMR NP DODGE COMPANY",null,{"$f":"IF(ISNUMBER(FIND(\"MEDICAID\",A4238)),\"X\",\"\")","v":""},{"$f":"IF(ISNUMBER(FIND(\"MEDICARE\",A4238)),\"X\",\"\")","v":""},{"$f":"IF(ISNUMBER(FIND(\"BC/BS\",#REF!)),\"X\",\"\")","v":""}]
["UMR NRECA","X",{"$f":"IF(ISNUMBER(FIND(\"MEDICAID\",A4239)),\"X\",\"\")","v":""},{"$f":"IF(ISNUMBER(FIND(\"MEDICARE\",A4239)),\"X\",\"\")","v":""},{"$f":"IF(ISNUMBER(FIND(\"BC/BS\",#REF!)),\"X\",\"\")","v":""}]
["UMR NSIGHT AKA NORTHEAST COMMUNICATIONS OF WI",null,{"$f":"IF(ISNUMBER(FIND(\"MEDICAID\",A4240)),\"X\",\"\")","v":""},{"$f":"IF(ISNUMBER(FIND(\"MEDICARE\",A4240)),\"X\",\"\")","v":""},{"$f":"IF(ISNUMBER(FIND(\"BC/BS\",#REF!)),\"X\",\"\")","v":""}]
["UMR NTT DATA BUSINESS SOLUTIONS INC",null,{"$f":"IF(ISNUMBER(FIND(\"MEDICAID\",A4241)),\"X\",\"\")","v":""},{"$f":"IF(ISNUMBER(FIND(\"MEDICARE\",A4241)),\"X\",\"\")","v":""},{"$f":"IF(ISNUMBER(FIND(\"BC/BS\",#REF!)),\"X\",\"\")","v":""}]
["UMR NU WAY CONCRETE FORMS INC",null,{"$f":"IF(ISNUMBER(FIND(\"MEDICAID\",A4242)),\"X\",\"\")","v":""},{"$f":"IF(ISNUMBER(FIND(\"MEDICARE\",A4242)),\"X\",\"\")","v":""},{"$f":"IF(ISNUMBER(FIND(\"BC/BS\",#REF!)),\"X\",\"\")","v":""}]
["UMR NUDAK VENTURES LLC",null,{"$f":"IF(ISNUMBER(FIND(\"MEDICAID\",A4243)),\"X\",\"\")","v":""},{"$f":"IF(ISNUMBER(FIND(\"MEDICARE\",A4243)),\"X\",\"\")","v":""},{"$f":"IF(ISNUMBER(FIND(\"BC/BS\",#REF!)),\"X\",\"\")","v":""}]
["UMR NUTRISYSTEM INC",null,{"$f":"IF(ISNUMBER(FIND(\"MEDICAID\",A4244)),\"X\",\"\")","v":""},{"$f":"IF(ISNUMBER(FIND(\"MEDICARE\",A4244)),\"X\",\"\")","v":""},{"$f":"IF(ISNUMBER(FIND(\"BC/BS\",#REF!)),\"X\",\"\")","v":""}]
["UMR NWL INC",null,{"$f":"IF(ISNUMBER(FIND(\"MEDICAID\",A4245)),\"X\",\"\")","v":""},{"$f":"IF(ISNUMBER(FIND(\"MEDICARE\",A4245)),\"X\",\"\")","v":""},{"$f":"IF(ISNUMBER(FIND(\"BC/BS\",#REF!)),\"X\",\"\")","v":""}]
["UMR OCEAN HEALTHCARE MANAGEMENT",null,{"$f":"IF(ISNUMBER(FIND(\"MEDICAID\",A4246)),\"X\",\"\")","v":""},{"$f":"IF(ISNUMBER(FIND(\"MEDICARE\",A4246)),\"X\",\"\")","v":""},{"$f":"IF(ISNUMBER(FIND(\"BC/BS\",#REF!)),\"X\",\"\")","v":""}]
["UMR OCHSNER LSU HEALTH",null,{"$f":"IF(ISNUMBER(FIND(\"MEDICAID\",A4247)),\"X\",\"\")","v":""},{"$f":"IF(ISNUMBER(FIND(\"MEDICARE\",A4247)),\"X\",\"\")","v":""},{"$f":"IF(ISNUMBER(FIND(\"BC/BS\",#REF!)),\"X\",\"\")","v":""}]
["UMR ODW LOGISTICS INC",null,{"$f":"IF(ISNUMBER(FIND(\"MEDICAID\",A4248)),\"X\",\"\")","v":""},{"$f":"IF(ISNUMBER(FIND(\"MEDICARE\",A4248)),\"X\",\"\")","v":""},{"$f":"IF(ISNUMBER(FIND(\"BC/BS\",#REF!)),\"X\",\"\")","v":""}]
["UMR OFD FOODS LLC",null,{"$f":"IF(ISNUMBER(FIND(\"MEDICAID\",A4249)),\"X\",\"\")","v":""},{"$f":"IF(ISNUMBER(FIND(\"MEDICARE\",A4249)),\"X\",\"\")","v":""},{"$f":"IF(ISNUMBER(FIND(\"BC/BS\",#REF!)),\"X\",\"\")","v":""}]
["UMR OFFSHORE ENERGY SERVICES LLC",null,{"$f":"IF(ISNUMBER(FIND(\"MEDICAID\",A4250)),\"X\",\"\")","v":""},{"$f":"IF(ISNUMBER(FIND(\"MEDICARE\",A4250)),\"X\",\"\")","v":""},{"$f":"IF(ISNUMBER(FIND(\"BC/BS\",#REF!)),\"X\",\"\")","v":""}]
["UMR OHIO NORTHERN UNIVERSITY",null,{"$f":"IF(ISNUMBER(FIND(\"MEDICAID\",A4251)),\"X\",\"\")","v":""},{"$f":"IF(ISNUMBER(FIND(\"MEDICARE\",A4251)),\"X\",\"\")","v":""},{"$f":"IF(ISNUMBER(FIND(\"BC/BS\",#REF!)),\"X\",\"\")","v":""}]
["UMR OHIO VALLEY ELECTRICAL SERVICES INC",null,{"$f":"IF(ISNUMBER(FIND(\"MEDICAID\",A4252)),\"X\",\"\")","v":""},{"$f":"IF(ISNUMBER(FIND(\"MEDICARE\",A4252)),\"X\",\"\")","v":""},{"$f":"IF(ISNUMBER(FIND(\"BC/BS\",#REF!)),\"X\",\"\")","v":""}]
["UMR OHIO VALLEY MEDICAL CENTER",null,{"$f":"IF(ISNUMBER(FIND(\"MEDICAID\",A4253)),\"X\",\"\")","v":""},{"$f":"IF(ISNUMBER(FIND(\"MEDICARE\",A4253)),\"X\",\"\")","v":""},{"$f":"IF(ISNUMBER(FIND(\"BC/BS\",#REF!)),\"X\",\"\")","v":""}]
["UMR OHIOHEALTH O'BLENESS HOSPITAL",null,{"$f":"IF(ISNUMBER(FIND(\"MEDICAID\",A4254)),\"X\",\"\")","v":""},{"$f":"IF(ISNUMBER(FIND(\"MEDICARE\",A4254)),\"X\",\"\")","v":""},{"$f":"IF(ISNUMBER(FIND(\"BC/BS\",#REF!)),\"X\",\"\")","v":""}]
["UMR OLAM AMERICAS INC",null,{"$f":"IF(ISNUMBER(FIND(\"MEDICAID\",A4255)),\"X\",\"\")","v":""},{"$f":"IF(ISNUMBER(FIND(\"MEDICARE\",A4255)),\"X\",\"\")","v":""},{"$f":"IF(ISNUMBER(FIND(\"BC/BS\",#REF!)),\"X\",\"\")","v":""}]
["UMR OLD NATIONAL BANCORP",null,{"$f":"IF(ISNUMBER(FIND(\"MEDICAID\",A4256)),\"X\",\"\")","v":""},{"$f":"IF(ISNUMBER(FIND(\"MEDICARE\",A4256)),\"X\",\"\")","v":""},{"$f":"IF(ISNUMBER(FIND(\"BC/BS\",#REF!)),\"X\",\"\")","v":""}]
["UMR OLIVER FIRE PROTECTION SECURITY",null,{"$f":"IF(ISNUMBER(FIND(\"MEDICAID\",A4257)),\"X\",\"\")","v":""},{"$f":"IF(ISNUMBER(FIND(\"MEDICARE\",A4257)),\"X\",\"\")","v":""},{"$f":"IF(ISNUMBER(FIND(\"BC/BS\",#REF!)),\"X\",\"\")","v":""}]
["UMR OMAHA PUBLIC POWER DISTRICT",null,{"$f":"IF(ISNUMBER(FIND(\"MEDICAID\",A4258)),\"X\",\"\")","v":""},{"$f":"IF(ISNUMBER(FIND(\"MEDICARE\",A4258)),\"X\",\"\")","v":""},{"$f":"IF(ISNUMBER(FIND(\"BC/BS\",#REF!)),\"X\",\"\")","v":""}]
["UMR OMH HEALTHEDGE HOLDINGS INC",null,{"$f":"IF(ISNUMBER(FIND(\"MEDICAID\",A4259)),\"X\",\"\")","v":""},{"$f":"IF(ISNUMBER(FIND(\"MEDICARE\",A4259)),\"X\",\"\")","v":""},{"$f":"IF(ISNUMBER(FIND(\"BC/BS\",#REF!)),\"X\",\"\")","v":""}]
["UMR OMNI MANUFACTURING INC",null,{"$f":"IF(ISNUMBER(FIND(\"MEDICAID\",A4260)),\"X\",\"\")","v":""},{"$f":"IF(ISNUMBER(FIND(\"MEDICARE\",A4260)),\"X\",\"\")","v":""},{"$f":"IF(ISNUMBER(FIND(\"BC/BS\",#REF!)),\"X\",\"\")","v":""}]
["UMR ONEONCOLOGY",null,{"$f":"IF(ISNUMBER(FIND(\"MEDICAID\",A4261)),\"X\",\"\")","v":""},{"$f":"IF(ISNUMBER(FIND(\"MEDICARE\",A4261)),\"X\",\"\")","v":""},{"$f":"IF(ISNUMBER(FIND(\"BC/BS\",#REF!)),\"X\",\"\")","v":""}]
["UMR ONESTAFF MEDICAL LIMITED LIABILITY CO",null,{"$f":"IF(ISNUMBER(FIND(\"MEDICAID\",A4262)),\"X\",\"\")","v":""},{"$f":"IF(ISNUMBER(FIND(\"MEDICARE\",A4262)),\"X\",\"\")","v":""},{"$f":"IF(ISNUMBER(FIND(\"BC/BS\",#REF!)),\"X\",\"\")","v":""}]
["UMR ONETOUCHPOINT HOLDINGS LLC",null,{"$f":"IF(ISNUMBER(FIND(\"MEDICAID\",A4263)),\"X\",\"\")","v":""},{"$f":"IF(ISNUMBER(FIND(\"MEDICARE\",A4263)),\"X\",\"\")","v":""},{"$f":"IF(ISNUMBER(FIND(\"BC/BS\",#REF!)),\"X\",\"\")","v":""}]
["UMR ONLINE TRANSPORT",null,{"$f":"IF(ISNUMBER(FIND(\"MEDICAID\",A4264)),\"X\",\"\")","v":""},{"$f":"IF(ISNUMBER(FIND(\"MEDICARE\",A4264)),\"X\",\"\")","v":""},{"$f":"IF(ISNUMBER(FIND(\"BC/BS\",#REF!)),\"X\",\"\")","v":""}]
["UMR ONTARIO SYSTEMS LLC",null,{"$f":"IF(ISNUMBER(FIND(\"MEDICAID\",A4265)),\"X\",\"\")","v":""},{"$f":"IF(ISNUMBER(FIND(\"MEDICARE\",A4265)),\"X\",\"\")","v":""},{"$f":"IF(ISNUMBER(FIND(\"BC/BS\",#REF!)),\"X\",\"\")","v":""}]
["UMR OPPORTUNITIES UNLIMITED",null,{"$f":"IF(ISNUMBER(FIND(\"MEDICAID\",A4266)),\"X\",\"\")","v":""},{"$f":"IF(ISNUMBER(FIND(\"MEDICARE\",A4266)),\"X\",\"\")","v":""},{"$f":"IF(ISNUMBER(FIND(\"BC/BS\",#REF!)),\"X\",\"\")","v":""}]
["UMR ORION ADVISOR SOLUTIONS INC",null,{"$f":"IF(ISNUMBER(FIND(\"MEDICAID\",A4267)),\"X\",\"\")","v":""},{"$f":"IF(ISNUMBER(FIND(\"MEDICARE\",A4267)),\"X\",\"\")","v":""},{"$f":"IF(ISNUMBER(FIND(\"BC/BS\",#REF!)),\"X\",\"\")","v":""}]
["UMR ORTHMAN MANUFACTURING INC",null,{"$f":"IF(ISNUMBER(FIND(\"MEDICAID\",A4268)),\"X\",\"\")","v":""},{"$f":"IF(ISNUMBER(FIND(\"MEDICARE\",A4268)),\"X\",\"\")","v":""},{"$f":"IF(ISNUMBER(FIND(\"BC/BS\",#REF!)),\"X\",\"\")","v":""}]
["UMR ORTHO MOLECULAR PRODUCTS INC",null,{"$f":"IF(ISNUMBER(FIND(\"MEDICAID\",A4269)),\"X\",\"\")","v":""},{"$f":"IF(ISNUMBER(FIND(\"MEDICARE\",A4269)),\"X\",\"\")","v":""},{"$f":"IF(ISNUMBER(FIND(\"BC/BS\",#REF!)),\"X\",\"\")","v":""}]
["UMR ORTHOPAEDIC SPINE CENTER OF THE ROCKIES",null,{"$f":"IF(ISNUMBER(FIND(\"MEDICAID\",A4270)),\"X\",\"\")","v":""},{"$f":"IF(ISNUMBER(FIND(\"MEDICARE\",A4270)),\"X\",\"\")","v":""},{"$f":"IF(ISNUMBER(FIND(\"BC/BS\",#REF!)),\"X\",\"\")","v":""}]
["UMR ORTHOPEDIC ONE INC",null,{"$f":"IF(ISNUMBER(FIND(\"MEDICAID\",A4271)),\"X\",\"\")","v":""},{"$f":"IF(ISNUMBER(FIND(\"MEDICARE\",A4271)),\"X\",\"\")","v":""},{"$f":"IF(ISNUMBER(FIND(\"BC/BS\",#REF!)),\"X\",\"\")","v":""}]
["UMR OSWEGO COUNTY",null,{"$f":"IF(ISNUMBER(FIND(\"MEDICAID\",A4272)),\"X\",\"\")","v":""},{"$f":"IF(ISNUMBER(FIND(\"MEDICARE\",A4272)),\"X\",\"\")","v":""},{"$f":"IF(ISNUMBER(FIND(\"BC/BS\",#REF!)),\"X\",\"\")","v":""}]
["UMR OSWEGO COUNTY BOCES",null,{"$f":"IF(ISNUMBER(FIND(\"MEDICAID\",A4273)),\"X\",\"\")","v":""},{"$f":"IF(ISNUMBER(FIND(\"MEDICARE\",A4273)),\"X\",\"\")","v":""},{"$f":"IF(ISNUMBER(FIND(\"BC/BS\",#REF!)),\"X\",\"\")","v":""}]
["UMR OUACHITA BAPTIST UNIVERSITY EMPLOYEE BENEFIT",null,{"$f":"IF(ISNUMBER(FIND(\"MEDICAID\",A4274)),\"X\",\"\")","v":""},{"$f":"IF(ISNUMBER(FIND(\"MEDICARE\",A4274)),\"X\",\"\")","v":""},{"$f":"IF(ISNUMBER(FIND(\"BC/BS\",#REF!)),\"X\",\"\")","v":""}]
["UMR OWEN INDUSTRIES INC",null,{"$f":"IF(ISNUMBER(FIND(\"MEDICAID\",A4275)),\"X\",\"\")","v":""},{"$f":"IF(ISNUMBER(FIND(\"MEDICARE\",A4275)),\"X\",\"\")","v":""},{"$f":"IF(ISNUMBER(FIND(\"BC/BS\",#REF!)),\"X\",\"\")","v":""}]
["UMR OWENSBORO HEALTH INC GROUP MEDICAL PLAN",null,{"$f":"IF(ISNUMBER(FIND(\"MEDICAID\",A4276)),\"X\",\"\")","v":""},{"$f":"IF(ISNUMBER(FIND(\"MEDICARE\",A4276)),\"X\",\"\")","v":""},{"$f":"IF(ISNUMBER(FIND(\"BC/BS\",#REF!)),\"X\",\"\")","v":""}]
["UMR OXMOOR AUTO GROUP",null,{"$f":"IF(ISNUMBER(FIND(\"MEDICAID\",A4277)),\"X\",\"\")","v":""},{"$f":"IF(ISNUMBER(FIND(\"MEDICARE\",A4277)),\"X\",\"\")","v":""},{"$f":"IF(ISNUMBER(FIND(\"BC/BS\",#REF!)),\"X\",\"\")","v":""}]
["UMR OZINGA BROS INC",null,{"$f":"IF(ISNUMBER(FIND(\"MEDICAID\",A4278)),\"X\",\"\")","v":""},{"$f":"IF(ISNUMBER(FIND(\"MEDICARE\",A4278)),\"X\",\"\")","v":""},{"$f":"IF(ISNUMBER(FIND(\"BC/BS\",#REF!)),\"X\",\"\")","v":""}]
["UMR PACKAGING CONCEPTS INC",null,{"$f":"IF(ISNUMBER(FIND(\"MEDICAID\",A4279)),\"X\",\"\")","v":""},{"$f":"IF(ISNUMBER(FIND(\"MEDICARE\",A4279)),\"X\",\"\")","v":""},{"$f":"IF(ISNUMBER(FIND(\"BC/BS\",#REF!)),\"X\",\"\")","v":""}]
["UMR PAINTERS LOCAL NO 109",null,{"$f":"IF(ISNUMBER(FIND(\"MEDICAID\",A4280)),\"X\",\"\")","v":""},{"$f":"IF(ISNUMBER(FIND(\"MEDICARE\",A4280)),\"X\",\"\")","v":""},{"$f":"IF(ISNUMBER(FIND(\"BC/BS\",#REF!)),\"X\",\"\")","v":""}]
["UMR PAINTERS USA INC",null,{"$f":"IF(ISNUMBER(FIND(\"MEDICAID\",A4281)),\"X\",\"\")","v":""},{"$f":"IF(ISNUMBER(FIND(\"MEDICARE\",A4281)),\"X\",\"\")","v":""},{"$f":"IF(ISNUMBER(FIND(\"BC/BS\",#REF!)),\"X\",\"\")","v":""}]
["UMR PAJCO HOLDINGS  INC",null,{"$f":"IF(ISNUMBER(FIND(\"MEDICAID\",A4282)),\"X\",\"\")","v":""},{"$f":"IF(ISNUMBER(FIND(\"MEDICARE\",A4282)),\"X\",\"\")","v":""},{"$f":"IF(ISNUMBER(FIND(\"BC/BS\",#REF!)),\"X\",\"\")","v":""}]
["UMR PALACIOS MARINE INDUSTRIAL",null,{"$f":"IF(ISNUMBER(FIND(\"MEDICAID\",A4283)),\"X\",\"\")","v":""},{"$f":"IF(ISNUMBER(FIND(\"MEDICARE\",A4283)),\"X\",\"\")","v":""},{"$f":"IF(ISNUMBER(FIND(\"BC/BS\",#REF!)),\"X\",\"\")","v":""}]
["UMR PALM GARDEN HEALTHCARE HOLDINGS LLC",null,{"$f":"IF(ISNUMBER(FIND(\"MEDICAID\",A4284)),\"X\",\"\")","v":""},{"$f":"IF(ISNUMBER(FIND(\"MEDICARE\",A4284)),\"X\",\"\")","v":""},{"$f":"IF(ISNUMBER(FIND(\"BC/BS\",#REF!)),\"X\",\"\")","v":""}]
["UMR PALMER COLLEGE OF CHIROPRACTIC",null,{"$f":"IF(ISNUMBER(FIND(\"MEDICAID\",A4285)),\"X\",\"\")","v":""},{"$f":"IF(ISNUMBER(FIND(\"MEDICARE\",A4285)),\"X\",\"\")","v":""},{"$f":"IF(ISNUMBER(FIND(\"BC/BS\",#REF!)),\"X\",\"\")","v":""}]
["UMR PALMS MEDICAL GROUP",null,{"$f":"IF(ISNUMBER(FIND(\"MEDICAID\",A4286)),\"X\",\"\")","v":""},{"$f":"IF(ISNUMBER(FIND(\"MEDICARE\",A4286)),\"X\",\"\")","v":""},{"$f":"IF(ISNUMBER(FIND(\"BC/BS\",#REF!)),\"X\",\"\")","v":""}]
["UMR PALO PINTO GENERAL HOSPITAL",null,{"$f":"IF(ISNUMBER(FIND(\"MEDICAID\",A4287)),\"X\",\"\")","v":""},{"$f":"IF(ISNUMBER(FIND(\"MEDICARE\",A4287)),\"X\",\"\")","v":""},{"$f":"IF(ISNUMBER(FIND(\"BC/BS\",#REF!)),\"X\",\"\")","v":""}]
["UMR PANGEA VENTURES LLC",null,{"$f":"IF(ISNUMBER(FIND(\"MEDICAID\",A4288)),\"X\",\"\")","v":""},{"$f":"IF(ISNUMBER(FIND(\"MEDICARE\",A4288)),\"X\",\"\")","v":""},{"$f":"IF(ISNUMBER(FIND(\"BC/BS\",#REF!)),\"X\",\"\")","v":""}]
["UMR PAPER TRANSPORT LLC",null,{"$f":"IF(ISNUMBER(FIND(\"MEDICAID\",A4289)),\"X\",\"\")","v":""},{"$f":"IF(ISNUMBER(FIND(\"MEDICARE\",A4289)),\"X\",\"\")","v":""},{"$f":"IF(ISNUMBER(FIND(\"BC/BS\",#REF!)),\"X\",\"\")","v":""}]
["UMR PARIC CORPORATION",null,{"$f":"IF(ISNUMBER(FIND(\"MEDICAID\",A4290)),\"X\",\"\")","v":""},{"$f":"IF(ISNUMBER(FIND(\"MEDICARE\",A4290)),\"X\",\"\")","v":""},{"$f":"IF(ISNUMBER(FIND(\"BC/BS\",#REF!)),\"X\",\"\")","v":""}]
["UMR PARKER POE ADAMS BERNSTEIN LLP",null,{"$f":"IF(ISNUMBER(FIND(\"MEDICAID\",A4291)),\"X\",\"\")","v":""},{"$f":"IF(ISNUMBER(FIND(\"MEDICARE\",A4291)),\"X\",\"\")","v":""},{"$f":"IF(ISNUMBER(FIND(\"BC/BS\",#REF!)),\"X\",\"\")","v":""}]
["UMR PARKHILL",null,{"$f":"IF(ISNUMBER(FIND(\"MEDICAID\",A4292)),\"X\",\"\")","v":""},{"$f":"IF(ISNUMBER(FIND(\"MEDICARE\",A4292)),\"X\",\"\")","v":""},{"$f":"IF(ISNUMBER(FIND(\"BC/BS\",#REF!)),\"X\",\"\")","v":""}]
["UMR PARR INSTRUMENT COMPANY",null,{"$f":"IF(ISNUMBER(FIND(\"MEDICAID\",A4293)),\"X\",\"\")","v":""},{"$f":"IF(ISNUMBER(FIND(\"MEDICARE\",A4293)),\"X\",\"\")","v":""},{"$f":"IF(ISNUMBER(FIND(\"BC/BS\",#REF!)),\"X\",\"\")","v":""}]
["UMR PARRISH HARE ELECTRICAL SUPPLY LLC",null,{"$f":"IF(ISNUMBER(FIND(\"MEDICAID\",A4294)),\"X\",\"\")","v":""},{"$f":"IF(ISNUMBER(FIND(\"MEDICARE\",A4294)),\"X\",\"\")","v":""},{"$f":"IF(ISNUMBER(FIND(\"BC/BS\",#REF!)),\"X\",\"\")","v":""}]
["UMR PATAGONIA WORKS",null,{"$f":"IF(ISNUMBER(FIND(\"MEDICAID\",A4295)),\"X\",\"\")","v":""},{"$f":"IF(ISNUMBER(FIND(\"MEDICARE\",A4295)),\"X\",\"\")","v":""},{"$f":"IF(ISNUMBER(FIND(\"BC/BS\",#REF!)),\"X\",\"\")","v":""}]
["UMR PATTONVILLE SCHOOL DISTRICT",null,{"$f":"IF(ISNUMBER(FIND(\"MEDICAID\",A4296)),\"X\",\"\")","v":""},{"$f":"IF(ISNUMBER(FIND(\"MEDICARE\",A4296)),\"X\",\"\")","v":""},{"$f":"IF(ISNUMBER(FIND(\"BC/BS\",#REF!)),\"X\",\"\")","v":""}]
["UMR PAULDING COUNTY HOSPITAL",null,{"$f":"IF(ISNUMBER(FIND(\"MEDICAID\",A4297)),\"X\",\"\")","v":""},{"$f":"IF(ISNUMBER(FIND(\"MEDICARE\",A4297)),\"X\",\"\")","v":""},{"$f":"IF(ISNUMBER(FIND(\"BC/BS\",#REF!)),\"X\",\"\")","v":""}]
["UMR PAYNE DOLAN INC",null,{"$f":"IF(ISNUMBER(FIND(\"MEDICAID\",A4298)),\"X\",\"\")","v":""},{"$f":"IF(ISNUMBER(FIND(\"MEDICARE\",A4298)),\"X\",\"\")","v":""},{"$f":"IF(ISNUMBER(FIND(\"BC/BS\",#REF!)),\"X\",\"\")","v":""}]
["UMR PCI ENERGY SOLUTIONS",null,{"$f":"IF(ISNUMBER(FIND(\"MEDICAID\",A4299)),\"X\",\"\")","v":""},{"$f":"IF(ISNUMBER(FIND(\"MEDICARE\",A4299)),\"X\",\"\")","v":""},{"$f":"IF(ISNUMBER(FIND(\"BC/BS\",#REF!)),\"X\",\"\")","v":""}]
["UMR PCL CONSTRUCTION ENTERPRISES INC",null,{"$f":"IF(ISNUMBER(FIND(\"MEDICAID\",A4300)),\"X\",\"\")","v":""},{"$f":"IF(ISNUMBER(FIND(\"MEDICARE\",A4300)),\"X\",\"\")","v":""},{"$f":"IF(ISNUMBER(FIND(\"BC/BS\",#REF!)),\"X\",\"\")","v":""}]
["UMR PEABODY HOLDING COMPANY LLC",null,{"$f":"IF(ISNUMBER(FIND(\"MEDICAID\",A4301)),\"X\",\"\")","v":""},{"$f":"IF(ISNUMBER(FIND(\"MEDICARE\",A4301)),\"X\",\"\")","v":""},{"$f":"IF(ISNUMBER(FIND(\"BC/BS\",#REF!)),\"X\",\"\")","v":""}]
["UMR PERI SONS FARMS",null,{"$f":"IF(ISNUMBER(FIND(\"MEDICAID\",A4302)),\"X\",\"\")","v":""},{"$f":"IF(ISNUMBER(FIND(\"MEDICARE\",A4302)),\"X\",\"\")","v":""},{"$f":"IF(ISNUMBER(FIND(\"BC/BS\",#REF!)),\"X\",\"\")","v":""}]
["UMR PETERSON MANUFACTURING COMPANY AFFILIATES",null,{"$f":"IF(ISNUMBER(FIND(\"MEDICAID\",A4303)),\"X\",\"\")","v":""},{"$f":"IF(ISNUMBER(FIND(\"MEDICARE\",A4303)),\"X\",\"\")","v":""},{"$f":"IF(ISNUMBER(FIND(\"BC/BS\",#REF!)),\"X\",\"\")","v":""}]
["UMR PGA TOUR INC",null,{"$f":"IF(ISNUMBER(FIND(\"MEDICAID\",A4304)),\"X\",\"\")","v":""},{"$f":"IF(ISNUMBER(FIND(\"MEDICARE\",A4304)),\"X\",\"\")","v":""},{"$f":"IF(ISNUMBER(FIND(\"BC/BS\",#REF!)),\"X\",\"\")","v":""}]
["UMR PHOTONICS MANAGEMENT CORP",null,{"$f":"IF(ISNUMBER(FIND(\"MEDICAID\",A4305)),\"X\",\"\")","v":""},{"$f":"IF(ISNUMBER(FIND(\"MEDICARE\",A4305)),\"X\",\"\")","v":""},{"$f":"IF(ISNUMBER(FIND(\"BC/BS\",#REF!)),\"X\",\"\")","v":""}]
["UMR PILLEN FAMILY FARMS INC DNA GENETICS",null,{"$f":"IF(ISNUMBER(FIND(\"MEDICAID\",A4306)),\"X\",\"\")","v":""},{"$f":"IF(ISNUMBER(FIND(\"MEDICARE\",A4306)),\"X\",\"\")","v":""},{"$f":"IF(ISNUMBER(FIND(\"BC/BS\",#REF!)),\"X\",\"\")","v":""}]
["UMR PIZZA RANCH INC",null,{"$f":"IF(ISNUMBER(FIND(\"MEDICAID\",A4307)),\"X\",\"\")","v":""},{"$f":"IF(ISNUMBER(FIND(\"MEDICARE\",A4307)),\"X\",\"\")","v":""},{"$f":"IF(ISNUMBER(FIND(\"BC/BS\",#REF!)),\"X\",\"\")","v":""}]
["UMR PLAQUEMINES PARISH SHERIFF'S OFFICE",null,{"$f":"IF(ISNUMBER(FIND(\"MEDICAID\",A4308)),\"X\",\"\")","v":""},{"$f":"IF(ISNUMBER(FIND(\"MEDICARE\",A4308)),\"X\",\"\")","v":""},{"$f":"IF(ISNUMBER(FIND(\"BC/BS\",#REF!)),\"X\",\"\")","v":""}]
["UMR PLASKOLITE LLC",null,{"$f":"IF(ISNUMBER(FIND(\"MEDICAID\",A4309)),\"X\",\"\")","v":""},{"$f":"IF(ISNUMBER(FIND(\"MEDICARE\",A4309)),\"X\",\"\")","v":""},{"$f":"IF(ISNUMBER(FIND(\"BC/BS\",#REF!)),\"X\",\"\")","v":""}]
["UMR PLAZA TIRE SERVICE INC",null,{"$f":"IF(ISNUMBER(FIND(\"MEDICAID\",A4310)),\"X\",\"\")","v":""},{"$f":"IF(ISNUMBER(FIND(\"MEDICARE\",A4310)),\"X\",\"\")","v":""},{"$f":"IF(ISNUMBER(FIND(\"BC/BS\",#REF!)),\"X\",\"\")","v":""}]
["UMR PLUMBERS PIPEFITTERS LOCAL 178",null,{"$f":"IF(ISNUMBER(FIND(\"MEDICAID\",A4311)),\"X\",\"\")","v":""},{"$f":"IF(ISNUMBER(FIND(\"MEDICARE\",A4311)),\"X\",\"\")","v":""},{"$f":"IF(ISNUMBER(FIND(\"BC/BS\",#REF!)),\"X\",\"\")","v":""}]
["UMR PLUMBERS STEAMFITTERS 248 WELFARE FUND",null,{"$f":"IF(ISNUMBER(FIND(\"MEDICAID\",A4312)),\"X\",\"\")","v":""},{"$f":"IF(ISNUMBER(FIND(\"MEDICARE\",A4312)),\"X\",\"\")","v":""},{"$f":"IF(ISNUMBER(FIND(\"BC/BS\",#REF!)),\"X\",\"\")","v":""}]
["UMR PLUMBERS STEAMFITTERS 577 WELFARE FUND",null,{"$f":"IF(ISNUMBER(FIND(\"MEDICAID\",A4313)),\"X\",\"\")","v":""},{"$f":"IF(ISNUMBER(FIND(\"MEDICARE\",A4313)),\"X\",\"\")","v":""},{"$f":"IF(ISNUMBER(FIND(\"BC/BS\",#REF!)),\"X\",\"\")","v":""}]
["UMR PLUMBERS STEAMFITTERS LOCAL 267",null,{"$f":"IF(ISNUMBER(FIND(\"MEDICAID\",A4314)),\"X\",\"\")","v":""},{"$f":"IF(ISNUMBER(FIND(\"MEDICARE\",A4314)),\"X\",\"\")","v":""},{"$f":"IF(ISNUMBER(FIND(\"BC/BS\",#REF!)),\"X\",\"\")","v":""}]
["UMR POET",null,{"$f":"IF(ISNUMBER(FIND(\"MEDICAID\",A4315)),\"X\",\"\")","v":""},{"$f":"IF(ISNUMBER(FIND(\"MEDICARE\",A4315)),\"X\",\"\")","v":""},{"$f":"IF(ISNUMBER(FIND(\"BC/BS\",#REF!)),\"X\",\"\")","v":""}]
["UMR POINT B INC",null,{"$f":"IF(ISNUMBER(FIND(\"MEDICAID\",A4316)),\"X\",\"\")","v":""},{"$f":"IF(ISNUMBER(FIND(\"MEDICARE\",A4316)),\"X\",\"\")","v":""},{"$f":"IF(ISNUMBER(FIND(\"BC/BS\",#REF!)),\"X\",\"\")","v":""}]
["UMR POLLARD GAMES INC DBA AMERICAN GAMES",null,{"$f":"IF(ISNUMBER(FIND(\"MEDICAID\",A4317)),\"X\",\"\")","v":""},{"$f":"IF(ISNUMBER(FIND(\"MEDICARE\",A4317)),\"X\",\"\")","v":""},{"$f":"IF(ISNUMBER(FIND(\"BC/BS\",#REF!)),\"X\",\"\")","v":""}]
["UMR POLYSCIENCES INC",null,{"$f":"IF(ISNUMBER(FIND(\"MEDICAID\",A4318)),\"X\",\"\")","v":""},{"$f":"IF(ISNUMBER(FIND(\"MEDICARE\",A4318)),\"X\",\"\")","v":""},{"$f":"IF(ISNUMBER(FIND(\"BC/BS\",#REF!)),\"X\",\"\")","v":""}]
["UMR POMEROY TECHNOLOGIES LLC",null,{"$f":"IF(ISNUMBER(FIND(\"MEDICAID\",A4319)),\"X\",\"\")","v":""},{"$f":"IF(ISNUMBER(FIND(\"MEDICARE\",A4319)),\"X\",\"\")","v":""},{"$f":"IF(ISNUMBER(FIND(\"BC/BS\",#REF!)),\"X\",\"\")","v":""}]
["UMR POWER COSTS INC",null,{"$f":"IF(ISNUMBER(FIND(\"MEDICAID\",A4320)),\"X\",\"\")","v":""},{"$f":"IF(ISNUMBER(FIND(\"MEDICARE\",A4320)),\"X\",\"\")","v":""},{"$f":"IF(ISNUMBER(FIND(\"BC/BS\",#REF!)),\"X\",\"\")","v":""}]
["UMR POWER DISTRIBUTORS",null,{"$f":"IF(ISNUMBER(FIND(\"MEDICAID\",A4321)),\"X\",\"\")","v":""},{"$f":"IF(ISNUMBER(FIND(\"MEDICARE\",A4321)),\"X\",\"\")","v":""},{"$f":"IF(ISNUMBER(FIND(\"BC/BS\",#REF!)),\"X\",\"\")","v":""}]
["UMR PPD",null,{"$f":"IF(ISNUMBER(FIND(\"MEDICAID\",A4322)),\"X\",\"\")","v":""},{"$f":"IF(ISNUMBER(FIND(\"MEDICARE\",A4322)),\"X\",\"\")","v":""},{"$f":"IF(ISNUMBER(FIND(\"BC/BS\",#REF!)),\"X\",\"\")","v":""}]
["UMR PRECISION DRILLING US CORPORATION",null,{"$f":"IF(ISNUMBER(FIND(\"MEDICAID\",A4323)),\"X\",\"\")","v":""},{"$f":"IF(ISNUMBER(FIND(\"MEDICARE\",A4323)),\"X\",\"\")","v":""},{"$f":"IF(ISNUMBER(FIND(\"BC/BS\",#REF!)),\"X\",\"\")","v":""}]
["UMR PREFERRED FAMILY HEALTHCARE",null,{"$f":"IF(ISNUMBER(FIND(\"MEDICAID\",A4324)),\"X\",\"\")","v":""},{"$f":"IF(ISNUMBER(FIND(\"MEDICARE\",A4324)),\"X\",\"\")","v":""},{"$f":"IF(ISNUMBER(FIND(\"BC/BS\",#REF!)),\"X\",\"\")","v":""}]
["UMR PREMIUM TRANSPORTATION GROUP INC",null,{"$f":"IF(ISNUMBER(FIND(\"MEDICAID\",A4325)),\"X\",\"\")","v":""},{"$f":"IF(ISNUMBER(FIND(\"MEDICARE\",A4325)),\"X\",\"\")","v":""},{"$f":"IF(ISNUMBER(FIND(\"BC/BS\",#REF!)),\"X\",\"\")","v":""}]
["UMR PRENTKE ROMICH COMPANY",null,{"$f":"IF(ISNUMBER(FIND(\"MEDICAID\",A4326)),\"X\",\"\")","v":""},{"$f":"IF(ISNUMBER(FIND(\"MEDICARE\",A4326)),\"X\",\"\")","v":""},{"$f":"IF(ISNUMBER(FIND(\"BC/BS\",#REF!)),\"X\",\"\")","v":""}]
["UMR PRIMARY AIM LLC",null,{"$f":"IF(ISNUMBER(FIND(\"MEDICAID\",A4327)),\"X\",\"\")","v":""},{"$f":"IF(ISNUMBER(FIND(\"MEDICARE\",A4327)),\"X\",\"\")","v":""},{"$f":"IF(ISNUMBER(FIND(\"BC/BS\",#REF!)),\"X\",\"\")","v":""}]
["UMR PRIMED PHYSICIANS",null,{"$f":"IF(ISNUMBER(FIND(\"MEDICAID\",A4328)),\"X\",\"\")","v":""},{"$f":"IF(ISNUMBER(FIND(\"MEDICARE\",A4328)),\"X\",\"\")","v":""},{"$f":"IF(ISNUMBER(FIND(\"BC/BS\",#REF!)),\"X\",\"\")","v":""}]
["UMR PRIMEPAY LLC",null,{"$f":"IF(ISNUMBER(FIND(\"MEDICAID\",A4329)),\"X\",\"\")","v":""},{"$f":"IF(ISNUMBER(FIND(\"MEDICARE\",A4329)),\"X\",\"\")","v":""},{"$f":"IF(ISNUMBER(FIND(\"BC/BS\",#REF!)),\"X\",\"\")","v":""}]
["UMR PRINCETON CITY SCHOOL DISTRICT",null,{"$f":"IF(ISNUMBER(FIND(\"MEDICAID\",A4330)),\"X\",\"\")","v":""},{"$f":"IF(ISNUMBER(FIND(\"MEDICARE\",A4330)),\"X\",\"\")","v":""},{"$f":"IF(ISNUMBER(FIND(\"BC/BS\",#REF!)),\"X\",\"\")","v":""}]
["UMR PRIVIA HEALTH LLC",null,{"$f":"IF(ISNUMBER(FIND(\"MEDICAID\",A4331)),\"X\",\"\")","v":""},{"$f":"IF(ISNUMBER(FIND(\"MEDICARE\",A4331)),\"X\",\"\")","v":""},{"$f":"IF(ISNUMBER(FIND(\"BC/BS\",#REF!)),\"X\",\"\")","v":""}]
["UMR PRO FOOD SYSTEMS INC",null,{"$f":"IF(ISNUMBER(FIND(\"MEDICAID\",A4332)),\"X\",\"\")","v":""},{"$f":"IF(ISNUMBER(FIND(\"MEDICARE\",A4332)),\"X\",\"\")","v":""},{"$f":"IF(ISNUMBER(FIND(\"BC/BS\",#REF!)),\"X\",\"\")","v":""}]
["UMR PROLOGIS LP",null,{"$f":"IF(ISNUMBER(FIND(\"MEDICAID\",A4333)),\"X\",\"\")","v":""},{"$f":"IF(ISNUMBER(FIND(\"MEDICARE\",A4333)),\"X\",\"\")","v":""},{"$f":"IF(ISNUMBER(FIND(\"BC/BS\",#REF!)),\"X\",\"\")","v":""}]
["UMR PROMEGA CORPORATION",null,{"$f":"IF(ISNUMBER(FIND(\"MEDICAID\",A4334)),\"X\",\"\")","v":""},{"$f":"IF(ISNUMBER(FIND(\"MEDICARE\",A4334)),\"X\",\"\")","v":""},{"$f":"IF(ISNUMBER(FIND(\"BC/BS\",#REF!)),\"X\",\"\")","v":""}]
["UMR PROSOURCE INC",null,{"$f":"IF(ISNUMBER(FIND(\"MEDICAID\",A4335)),\"X\",\"\")","v":""},{"$f":"IF(ISNUMBER(FIND(\"MEDICARE\",A4335)),\"X\",\"\")","v":""},{"$f":"IF(ISNUMBER(FIND(\"BC/BS\",#REF!)),\"X\",\"\")","v":""}]
["UMR PROTRANS INTERNATIONAL LLC",null,{"$f":"IF(ISNUMBER(FIND(\"MEDICAID\",A4336)),\"X\",\"\")","v":""},{"$f":"IF(ISNUMBER(FIND(\"MEDICARE\",A4336)),\"X\",\"\")","v":""},{"$f":"IF(ISNUMBER(FIND(\"BC/BS\",#REF!)),\"X\",\"\")","v":""}]
["UMR PROVIDENCE MEDICAL GROUP INC",null,{"$f":"IF(ISNUMBER(FIND(\"MEDICAID\",A4337)),\"X\",\"\")","v":""},{"$f":"IF(ISNUMBER(FIND(\"MEDICARE\",A4337)),\"X\",\"\")","v":""},{"$f":"IF(ISNUMBER(FIND(\"BC/BS\",#REF!)),\"X\",\"\")","v":""}]
["UMR PSYCHIATRIC MEDICAL CARE",null,{"$f":"IF(ISNUMBER(FIND(\"MEDICAID\",A4338)),\"X\",\"\")","v":""},{"$f":"IF(ISNUMBER(FIND(\"MEDICARE\",A4338)),\"X\",\"\")","v":""},{"$f":"IF(ISNUMBER(FIND(\"BC/BS\",#REF!)),\"X\",\"\")","v":""}]
["UMR PUBLIC EMPLOYEES BENEFITS PROGRAM",null,{"$f":"IF(ISNUMBER(FIND(\"MEDICAID\",A4339)),\"X\",\"\")","v":""},{"$f":"IF(ISNUMBER(FIND(\"MEDICARE\",A4339)),\"X\",\"\")","v":""},{"$f":"IF(ISNUMBER(FIND(\"BC/BS\",#REF!)),\"X\",\"\")","v":""}]
["UMR PUBLIC STORAGE",null,{"$f":"IF(ISNUMBER(FIND(\"MEDICAID\",A4340)),\"X\",\"\")","v":""},{"$f":"IF(ISNUMBER(FIND(\"MEDICARE\",A4340)),\"X\",\"\")","v":""},{"$f":"IF(ISNUMBER(FIND(\"BC/BS\",#REF!)),\"X\",\"\")","v":""}]
["UMR QBE THE AMERICAS",null,{"$f":"IF(ISNUMBER(FIND(\"MEDICAID\",A4341)),\"X\",\"\")","v":""},{"$f":"IF(ISNUMBER(FIND(\"MEDICARE\",A4341)),\"X\",\"\")","v":""},{"$f":"IF(ISNUMBER(FIND(\"BC/BS\",#REF!)),\"X\",\"\")","v":""}]
["UMR QCR HOLDINGS INC",null,{"$f":"IF(ISNUMBER(FIND(\"MEDICAID\",A4342)),\"X\",\"\")","v":""},{"$f":"IF(ISNUMBER(FIND(\"MEDICARE\",A4342)),\"X\",\"\")","v":""},{"$f":"IF(ISNUMBER(FIND(\"BC/BS\",#REF!)),\"X\",\"\")","v":""}]
["UMR QUAKER WINDOW PRODUCTS COMPANY",null,{"$f":"IF(ISNUMBER(FIND(\"MEDICAID\",A4343)),\"X\",\"\")","v":""},{"$f":"IF(ISNUMBER(FIND(\"MEDICARE\",A4343)),\"X\",\"\")","v":""},{"$f":"IF(ISNUMBER(FIND(\"BC/BS\",#REF!)),\"X\",\"\")","v":""}]
["UMR QUALAWASH HOLDINGS LLC",null,{"$f":"IF(ISNUMBER(FIND(\"MEDICAID\",A4344)),\"X\",\"\")","v":""},{"$f":"IF(ISNUMBER(FIND(\"MEDICARE\",A4344)),\"X\",\"\")","v":""},{"$f":"IF(ISNUMBER(FIND(\"BC/BS\",#REF!)),\"X\",\"\")","v":""}]
["UMR QUALITY REFRIGERATED SERVICES INC",null,{"$f":"IF(ISNUMBER(FIND(\"MEDICAID\",A4345)),\"X\",\"\")","v":""},{"$f":"IF(ISNUMBER(FIND(\"MEDICARE\",A4345)),\"X\",\"\")","v":""},{"$f":"IF(ISNUMBER(FIND(\"BC/BS\",#REF!)),\"X\",\"\")","v":""}]
["UMR QUANTUM HEALTH INC",null,{"$f":"IF(ISNUMBER(FIND(\"MEDICAID\",A4346)),\"X\",\"\")","v":""},{"$f":"IF(ISNUMBER(FIND(\"MEDICARE\",A4346)),\"X\",\"\")","v":""},{"$f":"IF(ISNUMBER(FIND(\"BC/BS\",#REF!)),\"X\",\"\")","v":""}]
["UMR QUAPAW NATION",null,{"$f":"IF(ISNUMBER(FIND(\"MEDICAID\",A4347)),\"X\",\"\")","v":""},{"$f":"IF(ISNUMBER(FIND(\"MEDICARE\",A4347)),\"X\",\"\")","v":""},{"$f":"IF(ISNUMBER(FIND(\"BC/BS\",#REF!)),\"X\",\"\")","v":""}]
["UMR QUAPAW TRIBAL MEMBER PLAN",null,{"$f":"IF(ISNUMBER(FIND(\"MEDICAID\",A4348)),\"X\",\"\")","v":""},{"$f":"IF(ISNUMBER(FIND(\"MEDICARE\",A4348)),\"X\",\"\")","v":""},{"$f":"IF(ISNUMBER(FIND(\"BC/BS\",#REF!)),\"X\",\"\")","v":""}]
["UMR R L SPRING COMPANY",null,{"$f":"IF(ISNUMBER(FIND(\"MEDICAID\",A4349)),\"X\",\"\")","v":""},{"$f":"IF(ISNUMBER(FIND(\"MEDICARE\",A4349)),\"X\",\"\")","v":""},{"$f":"IF(ISNUMBER(FIND(\"BC/BS\",#REF!)),\"X\",\"\")","v":""}]
["UMR RADIOLOGY ASSOCIATES OF RICHMOND INC",null,{"$f":"IF(ISNUMBER(FIND(\"MEDICAID\",A4350)),\"X\",\"\")","v":""},{"$f":"IF(ISNUMBER(FIND(\"MEDICARE\",A4350)),\"X\",\"\")","v":""},{"$f":"IF(ISNUMBER(FIND(\"BC/BS\",#REF!)),\"X\",\"\")","v":""}]
["UMR RAINBOW GROCERY COOPERATIVE INC",null,{"$f":"IF(ISNUMBER(FIND(\"MEDICAID\",A4351)),\"X\",\"\")","v":""},{"$f":"IF(ISNUMBER(FIND(\"MEDICARE\",A4351)),\"X\",\"\")","v":""},{"$f":"IF(ISNUMBER(FIND(\"BC/BS\",#REF!)),\"X\",\"\")","v":""}]
["UMR RAPID RESPONSE INC",null,{"$f":"IF(ISNUMBER(FIND(\"MEDICAID\",A4352)),\"X\",\"\")","v":""},{"$f":"IF(ISNUMBER(FIND(\"MEDICARE\",A4352)),\"X\",\"\")","v":""},{"$f":"IF(ISNUMBER(FIND(\"BC/BS\",#REF!)),\"X\",\"\")","v":""}]
["UMR RCB HOLDING COMPANY",null,{"$f":"IF(ISNUMBER(FIND(\"MEDICAID\",A4353)),\"X\",\"\")","v":""},{"$f":"IF(ISNUMBER(FIND(\"MEDICARE\",A4353)),\"X\",\"\")","v":""},{"$f":"IF(ISNUMBER(FIND(\"BC/BS\",#REF!)),\"X\",\"\")","v":""}]
["UMR RDG PLANNING DESIGN",null,{"$f":"IF(ISNUMBER(FIND(\"MEDICAID\",A4354)),\"X\",\"\")","v":""},{"$f":"IF(ISNUMBER(FIND(\"MEDICARE\",A4354)),\"X\",\"\")","v":""},{"$f":"IF(ISNUMBER(FIND(\"BC/BS\",#REF!)),\"X\",\"\")","v":""}]
["UMR RED SPOT PAINT GROUP HEALTH PLAN",null,{"$f":"IF(ISNUMBER(FIND(\"MEDICAID\",A4355)),\"X\",\"\")","v":""},{"$f":"IF(ISNUMBER(FIND(\"MEDICARE\",A4355)),\"X\",\"\")","v":""},{"$f":"IF(ISNUMBER(FIND(\"BC/BS\",#REF!)),\"X\",\"\")","v":""}]
["UMR REEDTMS LOGISTICS",null,{"$f":"IF(ISNUMBER(FIND(\"MEDICAID\",A4356)),\"X\",\"\")","v":""},{"$f":"IF(ISNUMBER(FIND(\"MEDICARE\",A4356)),\"X\",\"\")","v":""},{"$f":"IF(ISNUMBER(FIND(\"BC/BS\",#REF!)),\"X\",\"\")","v":""}]
["UMR REFRESCO BEVERAGES US INC",null,{"$f":"IF(ISNUMBER(FIND(\"MEDICAID\",A4357)),\"X\",\"\")","v":""},{"$f":"IF(ISNUMBER(FIND(\"MEDICARE\",A4357)),\"X\",\"\")","v":""},{"$f":"IF(ISNUMBER(FIND(\"BC/BS\",#REF!)),\"X\",\"\")","v":""}]
["UMR REGAL REXNORD CORPORATION",null,{"$f":"IF(ISNUMBER(FIND(\"MEDICAID\",A4358)),\"X\",\"\")","v":""},{"$f":"IF(ISNUMBER(FIND(\"MEDICARE\",A4358)),\"X\",\"\")","v":""},{"$f":"IF(ISNUMBER(FIND(\"BC/BS\",#REF!)),\"X\",\"\")","v":""}]
["UMR REILLY FOAM CORPORATION",null,{"$f":"IF(ISNUMBER(FIND(\"MEDICAID\",A4359)),\"X\",\"\")","v":""},{"$f":"IF(ISNUMBER(FIND(\"MEDICARE\",A4359)),\"X\",\"\")","v":""},{"$f":"IF(ISNUMBER(FIND(\"BC/BS\",#REF!)),\"X\",\"\")","v":""}]
["UMR REINDERS INC",null,{"$f":"IF(ISNUMBER(FIND(\"MEDICAID\",A4360)),\"X\",\"\")","v":""},{"$f":"IF(ISNUMBER(FIND(\"MEDICARE\",A4360)),\"X\",\"\")","v":""},{"$f":"IF(ISNUMBER(FIND(\"BC/BS\",#REF!)),\"X\",\"\")","v":""}]
["UMR RELIANCE ELECTRIC INC",null,{"$f":"IF(ISNUMBER(FIND(\"MEDICAID\",A4361)),\"X\",\"\")","v":""},{"$f":"IF(ISNUMBER(FIND(\"MEDICARE\",A4361)),\"X\",\"\")","v":""},{"$f":"IF(ISNUMBER(FIND(\"BC/BS\",#REF!)),\"X\",\"\")","v":""}]
["UMR REMINGTON SEEDS LLC",null,{"$f":"IF(ISNUMBER(FIND(\"MEDICAID\",A4362)),\"X\",\"\")","v":""},{"$f":"IF(ISNUMBER(FIND(\"MEDICARE\",A4362)),\"X\",\"\")","v":""},{"$f":"IF(ISNUMBER(FIND(\"BC/BS\",#REF!)),\"X\",\"\")","v":""}]
["UMR REVERE CONTROL SYSTEMS INC",null,{"$f":"IF(ISNUMBER(FIND(\"MEDICAID\",A4363)),\"X\",\"\")","v":""},{"$f":"IF(ISNUMBER(FIND(\"MEDICARE\",A4363)),\"X\",\"\")","v":""},{"$f":"IF(ISNUMBER(FIND(\"BC/BS\",#REF!)),\"X\",\"\")","v":""}]
["UMR REYNOLDS SERVICES INC",null,{"$f":"IF(ISNUMBER(FIND(\"MEDICAID\",A4364)),\"X\",\"\")","v":""},{"$f":"IF(ISNUMBER(FIND(\"MEDICARE\",A4364)),\"X\",\"\")","v":""},{"$f":"IF(ISNUMBER(FIND(\"BC/BS\",#REF!)),\"X\",\"\")","v":""}]
["UMR RF INSTALLATIONS LLC",null,{"$f":"IF(ISNUMBER(FIND(\"MEDICAID\",A4365)),\"X\",\"\")","v":""},{"$f":"IF(ISNUMBER(FIND(\"MEDICARE\",A4365)),\"X\",\"\")","v":""},{"$f":"IF(ISNUMBER(FIND(\"BC/BS\",#REF!)),\"X\",\"\")","v":""}]
["UMR RHODES INTERNATIONAL INC",null,{"$f":"IF(ISNUMBER(FIND(\"MEDICAID\",A4366)),\"X\",\"\")","v":""},{"$f":"IF(ISNUMBER(FIND(\"MEDICARE\",A4366)),\"X\",\"\")","v":""},{"$f":"IF(ISNUMBER(FIND(\"BC/BS\",#REF!)),\"X\",\"\")","v":""}]
["UMR RICHMOND AUTO PARTS TECHNOLOGY INC",null,{"$f":"IF(ISNUMBER(FIND(\"MEDICAID\",A4367)),\"X\",\"\")","v":""},{"$f":"IF(ISNUMBER(FIND(\"MEDICARE\",A4367)),\"X\",\"\")","v":""},{"$f":"IF(ISNUMBER(FIND(\"BC/BS\",#REF!)),\"X\",\"\")","v":""}]
["UMR RING CONTAINER TECHNOLOGIES LLC",null,{"$f":"IF(ISNUMBER(FIND(\"MEDICAID\",A4368)),\"X\",\"\")","v":""},{"$f":"IF(ISNUMBER(FIND(\"MEDICARE\",A4368)),\"X\",\"\")","v":""},{"$f":"IF(ISNUMBER(FIND(\"BC/BS\",#REF!)),\"X\",\"\")","v":""}]
["UMR RINGGOLD COUNTY HOSPITAL",null,{"$f":"IF(ISNUMBER(FIND(\"MEDICAID\",A4369)),\"X\",\"\")","v":""},{"$f":"IF(ISNUMBER(FIND(\"MEDICARE\",A4369)),\"X\",\"\")","v":""},{"$f":"IF(ISNUMBER(FIND(\"BC/BS\",#REF!)),\"X\",\"\")","v":""}]
["UMR RINKER DESIGN ASSOCIATES P C",null,{"$f":"IF(ISNUMBER(FIND(\"MEDICAID\",A4370)),\"X\",\"\")","v":""},{"$f":"IF(ISNUMBER(FIND(\"MEDICARE\",A4370)),\"X\",\"\")","v":""},{"$f":"IF(ISNUMBER(FIND(\"BC/BS\",#REF!)),\"X\",\"\")","v":""}]
["UMR RITTAL NORTH AMERICA",null,{"$f":"IF(ISNUMBER(FIND(\"MEDICAID\",A4371)),\"X\",\"\")","v":""},{"$f":"IF(ISNUMBER(FIND(\"MEDICARE\",A4371)),\"X\",\"\")","v":""},{"$f":"IF(ISNUMBER(FIND(\"BC/BS\",#REF!)),\"X\",\"\")","v":""}]
["UMR RIVER CITY CONSTRUCTION LLC",null,{"$f":"IF(ISNUMBER(FIND(\"MEDICAID\",A4372)),\"X\",\"\")","v":""},{"$f":"IF(ISNUMBER(FIND(\"MEDICARE\",A4372)),\"X\",\"\")","v":""},{"$f":"IF(ISNUMBER(FIND(\"BC/BS\",#REF!)),\"X\",\"\")","v":""}]
["UMR RIVERVIEW HEALTH",null,{"$f":"IF(ISNUMBER(FIND(\"MEDICAID\",A4373)),\"X\",\"\")","v":""},{"$f":"IF(ISNUMBER(FIND(\"MEDICARE\",A4373)),\"X\",\"\")","v":""},{"$f":"IF(ISNUMBER(FIND(\"BC/BS\",#REF!)),\"X\",\"\")","v":""}]
["UMR RIZO LOPEZ FOODS INC",null,{"$f":"IF(ISNUMBER(FIND(\"MEDICAID\",A4374)),\"X\",\"\")","v":""},{"$f":"IF(ISNUMBER(FIND(\"MEDICARE\",A4374)),\"X\",\"\")","v":""},{"$f":"IF(ISNUMBER(FIND(\"BC/BS\",#REF!)),\"X\",\"\")","v":""}]
["UMR RK INDUSTRIES LLC",null,{"$f":"IF(ISNUMBER(FIND(\"MEDICAID\",A4375)),\"X\",\"\")","v":""},{"$f":"IF(ISNUMBER(FIND(\"MEDICARE\",A4375)),\"X\",\"\")","v":""},{"$f":"IF(ISNUMBER(FIND(\"BC/BS\",#REF!)),\"X\",\"\")","v":""}]
["UMR ROCKINGHAM COUNTY GOVERNMENT",null,{"$f":"IF(ISNUMBER(FIND(\"MEDICAID\",A4376)),\"X\",\"\")","v":""},{"$f":"IF(ISNUMBER(FIND(\"MEDICARE\",A4376)),\"X\",\"\")","v":""},{"$f":"IF(ISNUMBER(FIND(\"BC/BS\",#REF!)),\"X\",\"\")","v":""}]
["UMR ROESLEIN ASSOCIATES INC",null,{"$f":"IF(ISNUMBER(FIND(\"MEDICAID\",A4377)),\"X\",\"\")","v":""},{"$f":"IF(ISNUMBER(FIND(\"MEDICARE\",A4377)),\"X\",\"\")","v":""},{"$f":"IF(ISNUMBER(FIND(\"BC/BS\",#REF!)),\"X\",\"\")","v":""}]
["UMR ROGERS ENTERPRISES INC",null,{"$f":"IF(ISNUMBER(FIND(\"MEDICAID\",A4378)),\"X\",\"\")","v":""},{"$f":"IF(ISNUMBER(FIND(\"MEDICARE\",A4378)),\"X\",\"\")","v":""},{"$f":"IF(ISNUMBER(FIND(\"BC/BS\",#REF!)),\"X\",\"\")","v":""}]
["UMR ROLLA PUBLIC SCHOOLS",null,{"$f":"IF(ISNUMBER(FIND(\"MEDICAID\",A4379)),\"X\",\"\")","v":""},{"$f":"IF(ISNUMBER(FIND(\"MEDICARE\",A4379)),\"X\",\"\")","v":""},{"$f":"IF(ISNUMBER(FIND(\"BC/BS\",#REF!)),\"X\",\"\")","v":""}]
["UMR ROYAL BANKS OF MISSOURI",null,{"$f":"IF(ISNUMBER(FIND(\"MEDICAID\",A4380)),\"X\",\"\")","v":""},{"$f":"IF(ISNUMBER(FIND(\"MEDICARE\",A4380)),\"X\",\"\")","v":""},{"$f":"IF(ISNUMBER(FIND(\"BC/BS\",#REF!)),\"X\",\"\")","v":""}]
["UMR RUOFF MORTGAGE COMPANY INC",null,{"$f":"IF(ISNUMBER(FIND(\"MEDICAID\",A4381)),\"X\",\"\")","v":""},{"$f":"IF(ISNUMBER(FIND(\"MEDICARE\",A4381)),\"X\",\"\")","v":""},{"$f":"IF(ISNUMBER(FIND(\"BC/BS\",#REF!)),\"X\",\"\")","v":""}]
["UMR RUSS DARROW",null,{"$f":"IF(ISNUMBER(FIND(\"MEDICAID\",A4382)),\"X\",\"\")","v":""},{"$f":"IF(ISNUMBER(FIND(\"MEDICARE\",A4382)),\"X\",\"\")","v":""},{"$f":"IF(ISNUMBER(FIND(\"BC/BS\",#REF!)),\"X\",\"\")","v":""}]
["UMR SABRE INDUSTRIES INC",null,{"$f":"IF(ISNUMBER(FIND(\"MEDICAID\",A4383)),\"X\",\"\")","v":""},{"$f":"IF(ISNUMBER(FIND(\"MEDICARE\",A4383)),\"X\",\"\")","v":""},{"$f":"IF(ISNUMBER(FIND(\"BC/BS\",#REF!)),\"X\",\"\")","v":""}]
["UMR SAFE GUARD PRODUCTS INTERNATIONAL LLC",null,{"$f":"IF(ISNUMBER(FIND(\"MEDICAID\",A4384)),\"X\",\"\")","v":""},{"$f":"IF(ISNUMBER(FIND(\"MEDICARE\",A4384)),\"X\",\"\")","v":""},{"$f":"IF(ISNUMBER(FIND(\"BC/BS\",#REF!)),\"X\",\"\")","v":""}]
["UMR SAFT AMERICA INC",null,{"$f":"IF(ISNUMBER(FIND(\"MEDICAID\",A4385)),\"X\",\"\")","v":""},{"$f":"IF(ISNUMBER(FIND(\"MEDICARE\",A4385)),\"X\",\"\")","v":""},{"$f":"IF(ISNUMBER(FIND(\"BC/BS\",#REF!)),\"X\",\"\")","v":""}]
["UMR SALELYTICS LLC",null,{"$f":"IF(ISNUMBER(FIND(\"MEDICAID\",A4386)),\"X\",\"\")","v":""},{"$f":"IF(ISNUMBER(FIND(\"MEDICARE\",A4386)),\"X\",\"\")","v":""},{"$f":"IF(ISNUMBER(FIND(\"BC/BS\",#REF!)),\"X\",\"\")","v":""}]
["UMR SALINE COUNTY",null,{"$f":"IF(ISNUMBER(FIND(\"MEDICAID\",A4387)),\"X\",\"\")","v":""},{"$f":"IF(ISNUMBER(FIND(\"MEDICARE\",A4387)),\"X\",\"\")","v":""},{"$f":"IF(ISNUMBER(FIND(\"BC/BS\",#REF!)),\"X\",\"\")","v":""}]
["UMR SAMARITAN'S PURSE",null,{"$f":"IF(ISNUMBER(FIND(\"MEDICAID\",A4388)),\"X\",\"\")","v":""},{"$f":"IF(ISNUMBER(FIND(\"MEDICARE\",A4388)),\"X\",\"\")","v":""},{"$f":"IF(ISNUMBER(FIND(\"BC/BS\",#REF!)),\"X\",\"\")","v":""}]
["UMR SAN CARLOS APACHE TRIBE",null,{"$f":"IF(ISNUMBER(FIND(\"MEDICAID\",A4389)),\"X\",\"\")","v":""},{"$f":"IF(ISNUMBER(FIND(\"MEDICARE\",A4389)),\"X\",\"\")","v":""},{"$f":"IF(ISNUMBER(FIND(\"BC/BS\",#REF!)),\"X\",\"\")","v":""}]
["UMR SAN JOAQUIN VALLEY COLLEGE INC",null,{"$f":"IF(ISNUMBER(FIND(\"MEDICAID\",A4390)),\"X\",\"\")","v":""},{"$f":"IF(ISNUMBER(FIND(\"MEDICARE\",A4390)),\"X\",\"\")","v":""},{"$f":"IF(ISNUMBER(FIND(\"BC/BS\",#REF!)),\"X\",\"\")","v":""}]
["UMR SANDESTIN INVESTMENTS LLC",null,{"$f":"IF(ISNUMBER(FIND(\"MEDICAID\",A4391)),\"X\",\"\")","v":""},{"$f":"IF(ISNUMBER(FIND(\"MEDICARE\",A4391)),\"X\",\"\")","v":""},{"$f":"IF(ISNUMBER(FIND(\"BC/BS\",#REF!)),\"X\",\"\")","v":""}]
["UMR SARGENTO FOODS INC",null,{"$f":"IF(ISNUMBER(FIND(\"MEDICAID\",A4392)),\"X\",\"\")","v":""},{"$f":"IF(ISNUMBER(FIND(\"MEDICARE\",A4392)),\"X\",\"\")","v":""},{"$f":"IF(ISNUMBER(FIND(\"BC/BS\",#REF!)),\"X\",\"\")","v":""}]
["UMR SCHOOL DISTRICT OF NORTH FOND DU LAC",null,{"$f":"IF(ISNUMBER(FIND(\"MEDICAID\",A4393)),\"X\",\"\")","v":""},{"$f":"IF(ISNUMBER(FIND(\"MEDICARE\",A4393)),\"X\",\"\")","v":""},{"$f":"IF(ISNUMBER(FIND(\"BC/BS\",#REF!)),\"X\",\"\")","v":""}]
["UMR SCHUNK CARBON TECHNOLOGY LLC",null,{"$f":"IF(ISNUMBER(FIND(\"MEDICAID\",A4394)),\"X\",\"\")","v":""},{"$f":"IF(ISNUMBER(FIND(\"MEDICARE\",A4394)),\"X\",\"\")","v":""},{"$f":"IF(ISNUMBER(FIND(\"BC/BS\",#REF!)),\"X\",\"\")","v":""}]
["UMR SCHWABE NORTH AMERICA INC",null,{"$f":"IF(ISNUMBER(FIND(\"MEDICAID\",A4395)),\"X\",\"\")","v":""},{"$f":"IF(ISNUMBER(FIND(\"MEDICARE\",A4395)),\"X\",\"\")","v":""},{"$f":"IF(ISNUMBER(FIND(\"BC/BS\",#REF!)),\"X\",\"\")","v":""}]
["UMR SCHWARZ PARTNERS LP GROUP BENEFIT PLAN",null,{"$f":"IF(ISNUMBER(FIND(\"MEDICAID\",A4396)),\"X\",\"\")","v":""},{"$f":"IF(ISNUMBER(FIND(\"MEDICARE\",A4396)),\"X\",\"\")","v":""},{"$f":"IF(ISNUMBER(FIND(\"BC/BS\",#REF!)),\"X\",\"\")","v":""}]
["UMR SCULLY COMPANY",null,{"$f":"IF(ISNUMBER(FIND(\"MEDICAID\",A4397)),\"X\",\"\")","v":""},{"$f":"IF(ISNUMBER(FIND(\"MEDICARE\",A4397)),\"X\",\"\")","v":""},{"$f":"IF(ISNUMBER(FIND(\"BC/BS\",#REF!)),\"X\",\"\")","v":""}]
["UMR SEBASTIAN COUNTY",null,{"$f":"IF(ISNUMBER(FIND(\"MEDICAID\",A4398)),\"X\",\"\")","v":""},{"$f":"IF(ISNUMBER(FIND(\"MEDICARE\",A4398)),\"X\",\"\")","v":""},{"$f":"IF(ISNUMBER(FIND(\"BC/BS\",#REF!)),\"X\",\"\")","v":""}]
["UMR SEBT",null,{"$f":"IF(ISNUMBER(FIND(\"MEDICAID\",A4399)),\"X\",\"\")","v":""},{"$f":"IF(ISNUMBER(FIND(\"MEDICARE\",A4399)),\"X\",\"\")","v":""},{"$f":"IF(ISNUMBER(FIND(\"BC/BS\",#REF!)),\"X\",\"\")","v":""}]
["UMR SEDGWICK",null,{"$f":"IF(ISNUMBER(FIND(\"MEDICAID\",A4400)),\"X\",\"\")","v":""},{"$f":"IF(ISNUMBER(FIND(\"MEDICARE\",A4400)),\"X\",\"\")","v":""},{"$f":"IF(ISNUMBER(FIND(\"BC/BS\",#REF!)),\"X\",\"\")","v":""}]
["UMR SELECT SIRES INC",null,{"$f":"IF(ISNUMBER(FIND(\"MEDICAID\",A4401)),\"X\",\"\")","v":""},{"$f":"IF(ISNUMBER(FIND(\"MEDICARE\",A4401)),\"X\",\"\")","v":""},{"$f":"IF(ISNUMBER(FIND(\"BC/BS\",#REF!)),\"X\",\"\")","v":""}]
["UMR SELLENRIEK CONSTRUCTION INC",null,{"$f":"IF(ISNUMBER(FIND(\"MEDICAID\",A4402)),\"X\",\"\")","v":""},{"$f":"IF(ISNUMBER(FIND(\"MEDICARE\",A4402)),\"X\",\"\")","v":""},{"$f":"IF(ISNUMBER(FIND(\"BC/BS\",#REF!)),\"X\",\"\")","v":""}]
["UMR SEM HAVEN HEALTHCARE",null,{"$f":"IF(ISNUMBER(FIND(\"MEDICAID\",A4403)),\"X\",\"\")","v":""},{"$f":"IF(ISNUMBER(FIND(\"MEDICARE\",A4403)),\"X\",\"\")","v":""},{"$f":"IF(ISNUMBER(FIND(\"BC/BS\",#REF!)),\"X\",\"\")","v":""}]
["UMR SEMCO",null,{"$f":"IF(ISNUMBER(FIND(\"MEDICAID\",A4404)),\"X\",\"\")","v":""},{"$f":"IF(ISNUMBER(FIND(\"MEDICARE\",A4404)),\"X\",\"\")","v":""},{"$f":"IF(ISNUMBER(FIND(\"BC/BS\",#REF!)),\"X\",\"\")","v":""}]
["UMR SEMMANAGEMENT LLC",null,{"$f":"IF(ISNUMBER(FIND(\"MEDICAID\",A4405)),\"X\",\"\")","v":""},{"$f":"IF(ISNUMBER(FIND(\"MEDICARE\",A4405)),\"X\",\"\")","v":""},{"$f":"IF(ISNUMBER(FIND(\"BC/BS\",#REF!)),\"X\",\"\")","v":""}]
["UMR SENECA COMPANIES INC",null,{"$f":"IF(ISNUMBER(FIND(\"MEDICAID\",A4406)),\"X\",\"\")","v":""},{"$f":"IF(ISNUMBER(FIND(\"MEDICARE\",A4406)),\"X\",\"\")","v":""},{"$f":"IF(ISNUMBER(FIND(\"BC/BS\",#REF!)),\"X\",\"\")","v":""}]
["UMR SENNECA HOLDINGS",null,{"$f":"IF(ISNUMBER(FIND(\"MEDICAID\",A4407)),\"X\",\"\")","v":""},{"$f":"IF(ISNUMBER(FIND(\"MEDICARE\",A4407)),\"X\",\"\")","v":""},{"$f":"IF(ISNUMBER(FIND(\"BC/BS\",#REF!)),\"X\",\"\")","v":""}]
["UMR SENTURE LLC EMPLOYEE BENEFITS PLAN",null,{"$f":"IF(ISNUMBER(FIND(\"MEDICAID\",A4408)),\"X\",\"\")","v":""},{"$f":"IF(ISNUMBER(FIND(\"MEDICARE\",A4408)),\"X\",\"\")","v":""},{"$f":"IF(ISNUMBER(FIND(\"BC/BS\",#REF!)),\"X\",\"\")","v":""}]
["UMR SEW EURODRIVE",null,{"$f":"IF(ISNUMBER(FIND(\"MEDICAID\",A4409)),\"X\",\"\")","v":""},{"$f":"IF(ISNUMBER(FIND(\"MEDICARE\",A4409)),\"X\",\"\")","v":""},{"$f":"IF(ISNUMBER(FIND(\"BC/BS\",#REF!)),\"X\",\"\")","v":""}]
["UMR SEYER INDUSTRIES INC",null,{"$f":"IF(ISNUMBER(FIND(\"MEDICAID\",A4410)),\"X\",\"\")","v":""},{"$f":"IF(ISNUMBER(FIND(\"MEDICARE\",A4410)),\"X\",\"\")","v":""},{"$f":"IF(ISNUMBER(FIND(\"BC/BS\",#REF!)),\"X\",\"\")","v":""}]
["UMR SHELL FEDERAL CREDIT UNION",null,{"$f":"IF(ISNUMBER(FIND(\"MEDICAID\",A4411)),\"X\",\"\")","v":""},{"$f":"IF(ISNUMBER(FIND(\"MEDICARE\",A4411)),\"X\",\"\")","v":""},{"$f":"IF(ISNUMBER(FIND(\"BC/BS\",#REF!)),\"X\",\"\")","v":""}]
["UMR SHIPPERS AUTOMOTIVE GROUP",null,{"$f":"IF(ISNUMBER(FIND(\"MEDICAID\",A4412)),\"X\",\"\")","v":""},{"$f":"IF(ISNUMBER(FIND(\"MEDICARE\",A4412)),\"X\",\"\")","v":""},{"$f":"IF(ISNUMBER(FIND(\"BC/BS\",#REF!)),\"X\",\"\")","v":""}]
["UMR SHOE PALACE CORPORATION",null,{"$f":"IF(ISNUMBER(FIND(\"MEDICAID\",A4413)),\"X\",\"\")","v":""},{"$f":"IF(ISNUMBER(FIND(\"MEDICARE\",A4413)),\"X\",\"\")","v":""},{"$f":"IF(ISNUMBER(FIND(\"BC/BS\",#REF!)),\"X\",\"\")","v":""}]
["UMR SHOOK CONSTRUCTION CO",null,{"$f":"IF(ISNUMBER(FIND(\"MEDICAID\",A4414)),\"X\",\"\")","v":""},{"$f":"IF(ISNUMBER(FIND(\"MEDICARE\",A4414)),\"X\",\"\")","v":""},{"$f":"IF(ISNUMBER(FIND(\"BC/BS\",#REF!)),\"X\",\"\")","v":""}]
["UMR SIGNATURE PERFORMANCE INC",null,{"$f":"IF(ISNUMBER(FIND(\"MEDICAID\",A4415)),\"X\",\"\")","v":""},{"$f":"IF(ISNUMBER(FIND(\"MEDICARE\",A4415)),\"X\",\"\")","v":""},{"$f":"IF(ISNUMBER(FIND(\"BC/BS\",#REF!)),\"X\",\"\")","v":""}]
["UMR SIGNET JEWELERS",null,{"$f":"IF(ISNUMBER(FIND(\"MEDICAID\",A4416)),\"X\",\"\")","v":""},{"$f":"IF(ISNUMBER(FIND(\"MEDICARE\",A4416)),\"X\",\"\")","v":""},{"$f":"IF(ISNUMBER(FIND(\"BC/BS\",#REF!)),\"X\",\"\")","v":""}]
["UMR SIGNODE INDUSTRIAL GROUP LLC",null,{"$f":"IF(ISNUMBER(FIND(\"MEDICAID\",A4417)),\"X\",\"\")","v":""},{"$f":"IF(ISNUMBER(FIND(\"MEDICARE\",A4417)),\"X\",\"\")","v":""},{"$f":"IF(ISNUMBER(FIND(\"BC/BS\",#REF!)),\"X\",\"\")","v":""}]
["UMR SIMS LOHMAN INC",null,{"$f":"IF(ISNUMBER(FIND(\"MEDICAID\",A4418)),\"X\",\"\")","v":""},{"$f":"IF(ISNUMBER(FIND(\"MEDICARE\",A4418)),\"X\",\"\")","v":""},{"$f":"IF(ISNUMBER(FIND(\"BC/BS\",#REF!)),\"X\",\"\")","v":""}]
["UMR SKIDMORE SALES DISTRIBUTING",null,{"$f":"IF(ISNUMBER(FIND(\"MEDICAID\",A4419)),\"X\",\"\")","v":""},{"$f":"IF(ISNUMBER(FIND(\"MEDICARE\",A4419)),\"X\",\"\")","v":""},{"$f":"IF(ISNUMBER(FIND(\"BC/BS\",#REF!)),\"X\",\"\")","v":""}]
["UMR SKOGEN'S FESTIVAL FOODS",null,{"$f":"IF(ISNUMBER(FIND(\"MEDICAID\",A4420)),\"X\",\"\")","v":""},{"$f":"IF(ISNUMBER(FIND(\"MEDICARE\",A4420)),\"X\",\"\")","v":""},{"$f":"IF(ISNUMBER(FIND(\"BC/BS\",#REF!)),\"X\",\"\")","v":""}]
["UMR SMC PACKAGING GROUP",null,{"$f":"IF(ISNUMBER(FIND(\"MEDICAID\",A4421)),\"X\",\"\")","v":""},{"$f":"IF(ISNUMBER(FIND(\"MEDICARE\",A4421)),\"X\",\"\")","v":""},{"$f":"IF(ISNUMBER(FIND(\"BC/BS\",#REF!)),\"X\",\"\")","v":""}]
["UMR SMITHFOODS INC",null,{"$f":"IF(ISNUMBER(FIND(\"MEDICAID\",A4422)),\"X\",\"\")","v":""},{"$f":"IF(ISNUMBER(FIND(\"MEDICARE\",A4422)),\"X\",\"\")","v":""},{"$f":"IF(ISNUMBER(FIND(\"BC/BS\",#REF!)),\"X\",\"\")","v":""}]
["UMR SONBYRNE SALES INC",null,{"$f":"IF(ISNUMBER(FIND(\"MEDICAID\",A4423)),\"X\",\"\")","v":""},{"$f":"IF(ISNUMBER(FIND(\"MEDICARE\",A4423)),\"X\",\"\")","v":""},{"$f":"IF(ISNUMBER(FIND(\"BC/BS\",#REF!)),\"X\",\"\")","v":""}]
["UMR SORENSON COMMUNICATIONS LLC",null,{"$f":"IF(ISNUMBER(FIND(\"MEDICAID\",A4424)),\"X\",\"\")","v":""},{"$f":"IF(ISNUMBER(FIND(\"MEDICARE\",A4424)),\"X\",\"\")","v":""},{"$f":"IF(ISNUMBER(FIND(\"BC/BS\",#REF!)),\"X\",\"\")","v":""}]
["UMR SOUTH TEXAS RADIOLOGY GROUP P A",null,{"$f":"IF(ISNUMBER(FIND(\"MEDICAID\",A4425)),\"X\",\"\")","v":""},{"$f":"IF(ISNUMBER(FIND(\"MEDICARE\",A4425)),\"X\",\"\")","v":""},{"$f":"IF(ISNUMBER(FIND(\"BC/BS\",#REF!)),\"X\",\"\")","v":""}]
["UMR SOUTHERN MANAGEMENT CORPORATION",null,{"$f":"IF(ISNUMBER(FIND(\"MEDICAID\",A4426)),\"X\",\"\")","v":""},{"$f":"IF(ISNUMBER(FIND(\"MEDICARE\",A4426)),\"X\",\"\")","v":""},{"$f":"IF(ISNUMBER(FIND(\"BC/BS\",#REF!)),\"X\",\"\")","v":""}]
["UMR SOUTHWEST BAPTIST UNIVERSITY",null,{"$f":"IF(ISNUMBER(FIND(\"MEDICAID\",A4427)),\"X\",\"\")","v":""},{"$f":"IF(ISNUMBER(FIND(\"MEDICARE\",A4427)),\"X\",\"\")","v":""},{"$f":"IF(ISNUMBER(FIND(\"BC/BS\",#REF!)),\"X\",\"\")","v":""}]
["UMR SOUTHWEST ELECTRIC CO",null,{"$f":"IF(ISNUMBER(FIND(\"MEDICAID\",A4428)),\"X\",\"\")","v":""},{"$f":"IF(ISNUMBER(FIND(\"MEDICARE\",A4428)),\"X\",\"\")","v":""},{"$f":"IF(ISNUMBER(FIND(\"BC/BS\",#REF!)),\"X\",\"\")","v":""}]
["UMR SOUTHWEST MISSOURI BANK",null,{"$f":"IF(ISNUMBER(FIND(\"MEDICAID\",A4429)),\"X\",\"\")","v":""},{"$f":"IF(ISNUMBER(FIND(\"MEDICARE\",A4429)),\"X\",\"\")","v":""},{"$f":"IF(ISNUMBER(FIND(\"BC/BS\",#REF!)),\"X\",\"\")","v":""}]
["UMR SPARTAN LIGHT METAL PRODUCTS INC",null,{"$f":"IF(ISNUMBER(FIND(\"MEDICAID\",A4430)),\"X\",\"\")","v":""},{"$f":"IF(ISNUMBER(FIND(\"MEDICARE\",A4430)),\"X\",\"\")","v":""},{"$f":"IF(ISNUMBER(FIND(\"BC/BS\",#REF!)),\"X\",\"\")","v":""}]
["UMR SPINE TEAM TEXAS",null,{"$f":"IF(ISNUMBER(FIND(\"MEDICAID\",A4431)),\"X\",\"\")","v":""},{"$f":"IF(ISNUMBER(FIND(\"MEDICARE\",A4431)),\"X\",\"\")","v":""},{"$f":"IF(ISNUMBER(FIND(\"BC/BS\",#REF!)),\"X\",\"\")","v":""}]
["UMR SRM LLC DBA HOLLOWAY AMERICA",null,{"$f":"IF(ISNUMBER(FIND(\"MEDICAID\",A4432)),\"X\",\"\")","v":""},{"$f":"IF(ISNUMBER(FIND(\"MEDICARE\",A4432)),\"X\",\"\")","v":""},{"$f":"IF(ISNUMBER(FIND(\"BC/BS\",#REF!)),\"X\",\"\")","v":""}]
["UMR ST. ANTHONY'S MEDICAL CENTER",null,{"$f":"IF(ISNUMBER(FIND(\"MEDICAID\",A4433)),\"X\",\"\")","v":""},{"$f":"IF(ISNUMBER(FIND(\"MEDICARE\",A4433)),\"X\",\"\")","v":""},{"$f":"IF(ISNUMBER(FIND(\"BC/BS\",#REF!)),\"X\",\"\")","v":""}]
["UMR ST. CHARLES COUNTY AMBULANCE DISTRICT",null,{"$f":"IF(ISNUMBER(FIND(\"MEDICAID\",A4434)),\"X\",\"\")","v":""},{"$f":"IF(ISNUMBER(FIND(\"MEDICARE\",A4434)),\"X\",\"\")","v":""},{"$f":"IF(ISNUMBER(FIND(\"BC/BS\",#REF!)),\"X\",\"\")","v":""}]
["UMR ST. CLAIR COUNTY",null,{"$f":"IF(ISNUMBER(FIND(\"MEDICAID\",A4435)),\"X\",\"\")","v":""},{"$f":"IF(ISNUMBER(FIND(\"MEDICARE\",A4435)),\"X\",\"\")","v":""},{"$f":"IF(ISNUMBER(FIND(\"BC/BS\",#REF!)),\"X\",\"\")","v":""}]
["UMR ST. ELIZABETH",null,{"$f":"IF(ISNUMBER(FIND(\"MEDICAID\",A4436)),\"X\",\"\")","v":""},{"$f":"IF(ISNUMBER(FIND(\"MEDICARE\",A4436)),\"X\",\"\")","v":""},{"$f":"IF(ISNUMBER(FIND(\"BC/BS\",#REF!)),\"X\",\"\")","v":""}]
["UMR ST. LOUIS ARC",null,{"$f":"IF(ISNUMBER(FIND(\"MEDICAID\",A4437)),\"X\",\"\")","v":""},{"$f":"IF(ISNUMBER(FIND(\"MEDICARE\",A4437)),\"X\",\"\")","v":""},{"$f":"IF(ISNUMBER(FIND(\"BC/BS\",#REF!)),\"X\",\"\")","v":""}]
["UMR ST. LUKE'S HOSPITAL",null,{"$f":"IF(ISNUMBER(FIND(\"MEDICAID\",A4438)),\"X\",\"\")","v":""},{"$f":"IF(ISNUMBER(FIND(\"MEDICARE\",A4438)),\"X\",\"\")","v":""},{"$f":"IF(ISNUMBER(FIND(\"BC/BS\",#REF!)),\"X\",\"\")","v":""}]
["UMR STANDARD TRANSPORTATION INC",null,{"$f":"IF(ISNUMBER(FIND(\"MEDICAID\",A4439)),\"X\",\"\")","v":""},{"$f":"IF(ISNUMBER(FIND(\"MEDICARE\",A4439)),\"X\",\"\")","v":""},{"$f":"IF(ISNUMBER(FIND(\"BC/BS\",#REF!)),\"X\",\"\")","v":""}]
["UMR STANDARDAERO AVIATION HOLDINGS INC",null,{"$f":"IF(ISNUMBER(FIND(\"MEDICAID\",A4440)),\"X\",\"\")","v":""},{"$f":"IF(ISNUMBER(FIND(\"MEDICARE\",A4440)),\"X\",\"\")","v":""},{"$f":"IF(ISNUMBER(FIND(\"BC/BS\",#REF!)),\"X\",\"\")","v":""}]
["UMR STATE OF NEVADA PEBP","X",{"$f":"IF(ISNUMBER(FIND(\"MEDICAID\",A4441)),\"X\",\"\")","v":""},{"$f":"IF(ISNUMBER(FIND(\"MEDICARE\",A4441)),\"X\",\"\")","v":""},{"$f":"IF(ISNUMBER(FIND(\"BC/BS\",#REF!)),\"X\",\"\")","v":""}]
["UMR STEPHENS SHARED SERVICES LL GROUP HEALTH PLAN",null,{"$f":"IF(ISNUMBER(FIND(\"MEDICAID\",A4442)),\"X\",\"\")","v":""},{"$f":"IF(ISNUMBER(FIND(\"MEDICARE\",A4442)),\"X\",\"\")","v":""},{"$f":"IF(ISNUMBER(FIND(\"BC/BS\",#REF!)),\"X\",\"\")","v":""}]
["UMR STONEAGE INC",null,{"$f":"IF(ISNUMBER(FIND(\"MEDICAID\",A4443)),\"X\",\"\")","v":""},{"$f":"IF(ISNUMBER(FIND(\"MEDICARE\",A4443)),\"X\",\"\")","v":""},{"$f":"IF(ISNUMBER(FIND(\"BC/BS\",#REF!)),\"X\",\"\")","v":""}]
["UMR STOREY KENWORTHY COMPANY",null,{"$f":"IF(ISNUMBER(FIND(\"MEDICAID\",A4444)),\"X\",\"\")","v":""},{"$f":"IF(ISNUMBER(FIND(\"MEDICARE\",A4444)),\"X\",\"\")","v":""},{"$f":"IF(ISNUMBER(FIND(\"BC/BS\",#REF!)),\"X\",\"\")","v":""}]
["UMR STRATOSPHERE QUALITY LLC",null,{"$f":"IF(ISNUMBER(FIND(\"MEDICAID\",A4445)),\"X\",\"\")","v":""},{"$f":"IF(ISNUMBER(FIND(\"MEDICARE\",A4445)),\"X\",\"\")","v":""},{"$f":"IF(ISNUMBER(FIND(\"BC/BS\",#REF!)),\"X\",\"\")","v":""}]
["UMR STREMICKS HERITAGE FOODS LLC",null,{"$f":"IF(ISNUMBER(FIND(\"MEDICAID\",A4446)),\"X\",\"\")","v":""},{"$f":"IF(ISNUMBER(FIND(\"MEDICARE\",A4446)),\"X\",\"\")","v":""},{"$f":"IF(ISNUMBER(FIND(\"BC/BS\",#REF!)),\"X\",\"\")","v":""}]
["UMR SUBURBAN ENTERPRISES INC",null,{"$f":"IF(ISNUMBER(FIND(\"MEDICAID\",A4447)),\"X\",\"\")","v":""},{"$f":"IF(ISNUMBER(FIND(\"MEDICARE\",A4447)),\"X\",\"\")","v":""},{"$f":"IF(ISNUMBER(FIND(\"BC/BS\",#REF!)),\"X\",\"\")","v":""}]
["UMR SUKUP MANUFACTURING CO",null,{"$f":"IF(ISNUMBER(FIND(\"MEDICAID\",A4448)),\"X\",\"\")","v":""},{"$f":"IF(ISNUMBER(FIND(\"MEDICARE\",A4448)),\"X\",\"\")","v":""},{"$f":"IF(ISNUMBER(FIND(\"BC/BS\",#REF!)),\"X\",\"\")","v":""}]
["UMR SUMMIT POLYMERS INC",null,{"$f":"IF(ISNUMBER(FIND(\"MEDICAID\",A4449)),\"X\",\"\")","v":""},{"$f":"IF(ISNUMBER(FIND(\"MEDICARE\",A4449)),\"X\",\"\")","v":""},{"$f":"IF(ISNUMBER(FIND(\"BC/BS\",#REF!)),\"X\",\"\")","v":""}]
["UMR SUMMIT SCHOOL INC",null,{"$f":"IF(ISNUMBER(FIND(\"MEDICAID\",A4450)),\"X\",\"\")","v":""},{"$f":"IF(ISNUMBER(FIND(\"MEDICARE\",A4450)),\"X\",\"\")","v":""},{"$f":"IF(ISNUMBER(FIND(\"BC/BS\",#REF!)),\"X\",\"\")","v":""}]
["UMR SUNRIGHT AMERICA INC",null,{"$f":"IF(ISNUMBER(FIND(\"MEDICAID\",A4451)),\"X\",\"\")","v":""},{"$f":"IF(ISNUMBER(FIND(\"MEDICARE\",A4451)),\"X\",\"\")","v":""},{"$f":"IF(ISNUMBER(FIND(\"BC/BS\",#REF!)),\"X\",\"\")","v":""}]
["UMR SUNY RESEARCH FOUNDATION",null,{"$f":"IF(ISNUMBER(FIND(\"MEDICAID\",A4452)),\"X\",\"\")","v":""},{"$f":"IF(ISNUMBER(FIND(\"MEDICARE\",A4452)),\"X\",\"\")","v":""},{"$f":"IF(ISNUMBER(FIND(\"BC/BS\",#REF!)),\"X\",\"\")","v":""}]
["UMR SUPERIOR INDUSTRIAL SOLUTIONS INC",null,{"$f":"IF(ISNUMBER(FIND(\"MEDICAID\",A4453)),\"X\",\"\")","v":""},{"$f":"IF(ISNUMBER(FIND(\"MEDICARE\",A4453)),\"X\",\"\")","v":""},{"$f":"IF(ISNUMBER(FIND(\"BC/BS\",#REF!)),\"X\",\"\")","v":""}]
["UMR SUTTERSELECT","X",{"$f":"IF(ISNUMBER(FIND(\"MEDICAID\",A4454)),\"X\",\"\")","v":""},{"$f":"IF(ISNUMBER(FIND(\"MEDICARE\",A4454)),\"X\",\"\")","v":""},{"$f":"IF(ISNUMBER(FIND(\"BC/BS\",#REF!)),\"X\",\"\")","v":""}]
["UMR SUTTON TRANSPORT INC",null,{"$f":"IF(ISNUMBER(FIND(\"MEDICAID\",A4455)),\"X\",\"\")","v":""},{"$f":"IF(ISNUMBER(FIND(\"MEDICARE\",A4455)),\"X\",\"\")","v":""},{"$f":"IF(ISNUMBER(FIND(\"BC/BS\",#REF!)),\"X\",\"\")","v":""}]
["UMR SWITCH BENEFIT PLAN",null,{"$f":"IF(ISNUMBER(FIND(\"MEDICAID\",A4456)),\"X\",\"\")","v":""},{"$f":"IF(ISNUMBER(FIND(\"MEDICARE\",A4456)),\"X\",\"\")","v":""},{"$f":"IF(ISNUMBER(FIND(\"BC/BS\",#REF!)),\"X\",\"\")","v":""}]
["UMR SYRACUSE CITY SCHOOL DISTRICT",null,{"$f":"IF(ISNUMBER(FIND(\"MEDICAID\",A4457)),\"X\",\"\")","v":""},{"$f":"IF(ISNUMBER(FIND(\"MEDICARE\",A4457)),\"X\",\"\")","v":""},{"$f":"IF(ISNUMBER(FIND(\"BC/BS\",#REF!)),\"X\",\"\")","v":""}]
["UMR TA OPERATING LLC",null,{"$f":"IF(ISNUMBER(FIND(\"MEDICAID\",A4458)),\"X\",\"\")","v":""},{"$f":"IF(ISNUMBER(FIND(\"MEDICARE\",A4458)),\"X\",\"\")","v":""},{"$f":"IF(ISNUMBER(FIND(\"BC/BS\",#REF!)),\"X\",\"\")","v":""}]
["UMR TAILORED LABEL PRODUCTS INC",null,{"$f":"IF(ISNUMBER(FIND(\"MEDICAID\",A4459)),\"X\",\"\")","v":""},{"$f":"IF(ISNUMBER(FIND(\"MEDICARE\",A4459)),\"X\",\"\")","v":""},{"$f":"IF(ISNUMBER(FIND(\"BC/BS\",#REF!)),\"X\",\"\")","v":""}]
["UMR TAMPA GENERAL HOSPITAL",null,{"$f":"IF(ISNUMBER(FIND(\"MEDICAID\",A4460)),\"X\",\"\")","v":""},{"$f":"IF(ISNUMBER(FIND(\"MEDICARE\",A4460)),\"X\",\"\")","v":""},{"$f":"IF(ISNUMBER(FIND(\"BC/BS\",#REF!)),\"X\",\"\")","v":""}]
["UMR TEACHERS HEALTH TRUST",null,{"$f":"IF(ISNUMBER(FIND(\"MEDICAID\",A4461)),\"X\",\"\")","v":""},{"$f":"IF(ISNUMBER(FIND(\"MEDICARE\",A4461)),\"X\",\"\")","v":""},{"$f":"IF(ISNUMBER(FIND(\"BC/BS\",#REF!)),\"X\",\"\")","v":""}]
["UMR TEAM SCHOSTAK FAMILY RESTAURANTS",null,{"$f":"IF(ISNUMBER(FIND(\"MEDICAID\",A4462)),\"X\",\"\")","v":""},{"$f":"IF(ISNUMBER(FIND(\"MEDICARE\",A4462)),\"X\",\"\")","v":""},{"$f":"IF(ISNUMBER(FIND(\"BC/BS\",#REF!)),\"X\",\"\")","v":""}]
["UMR TEMP CON LLC",null,{"$f":"IF(ISNUMBER(FIND(\"MEDICAID\",A4463)),\"X\",\"\")","v":""},{"$f":"IF(ISNUMBER(FIND(\"MEDICARE\",A4463)),\"X\",\"\")","v":""},{"$f":"IF(ISNUMBER(FIND(\"BC/BS\",#REF!)),\"X\",\"\")","v":""}]
["UMR TEP OPCO LLC HEALTH BENEFIT PLAN",null,{"$f":"IF(ISNUMBER(FIND(\"MEDICAID\",A4464)),\"X\",\"\")","v":""},{"$f":"IF(ISNUMBER(FIND(\"MEDICARE\",A4464)),\"X\",\"\")","v":""},{"$f":"IF(ISNUMBER(FIND(\"BC/BS\",#REF!)),\"X\",\"\")","v":""}]
["UMR THARALDSON HOSPITALITY STAFFING",null,{"$f":"IF(ISNUMBER(FIND(\"MEDICAID\",A4465)),\"X\",\"\")","v":""},{"$f":"IF(ISNUMBER(FIND(\"MEDICARE\",A4465)),\"X\",\"\")","v":""},{"$f":"IF(ISNUMBER(FIND(\"BC/BS\",#REF!)),\"X\",\"\")","v":""}]
["UMR THE BOSTWICK BRAUN COMPANY",null,{"$f":"IF(ISNUMBER(FIND(\"MEDICAID\",A4466)),\"X\",\"\")","v":""},{"$f":"IF(ISNUMBER(FIND(\"MEDICARE\",A4466)),\"X\",\"\")","v":""},{"$f":"IF(ISNUMBER(FIND(\"BC/BS\",#REF!)),\"X\",\"\")","v":""}]
["UMR THE BOYD GROUP",null,{"$f":"IF(ISNUMBER(FIND(\"MEDICAID\",A4467)),\"X\",\"\")","v":""},{"$f":"IF(ISNUMBER(FIND(\"MEDICARE\",A4467)),\"X\",\"\")","v":""},{"$f":"IF(ISNUMBER(FIND(\"BC/BS\",#REF!)),\"X\",\"\")","v":""}]
["UMR THE BUCKLE INC AND WHOLLY OWNED",null,{"$f":"IF(ISNUMBER(FIND(\"MEDICAID\",A4468)),\"X\",\"\")","v":""},{"$f":"IF(ISNUMBER(FIND(\"MEDICARE\",A4468)),\"X\",\"\")","v":""},{"$f":"IF(ISNUMBER(FIND(\"BC/BS\",#REF!)),\"X\",\"\")","v":""}]
["UMR THE C W ZUMBIEL COMPANY",null,{"$f":"IF(ISNUMBER(FIND(\"MEDICAID\",A4469)),\"X\",\"\")","v":""},{"$f":"IF(ISNUMBER(FIND(\"MEDICARE\",A4469)),\"X\",\"\")","v":""},{"$f":"IF(ISNUMBER(FIND(\"BC/BS\",#REF!)),\"X\",\"\")","v":""}]
["UMR THE COUNSELING CENTER",null,{"$f":"IF(ISNUMBER(FIND(\"MEDICAID\",A4470)),\"X\",\"\")","v":""},{"$f":"IF(ISNUMBER(FIND(\"MEDICARE\",A4470)),\"X\",\"\")","v":""},{"$f":"IF(ISNUMBER(FIND(\"BC/BS\",#REF!)),\"X\",\"\")","v":""}]
["UMR THE DELONG COMPANY INC",null,{"$f":"IF(ISNUMBER(FIND(\"MEDICAID\",A4471)),\"X\",\"\")","v":""},{"$f":"IF(ISNUMBER(FIND(\"MEDICARE\",A4471)),\"X\",\"\")","v":""},{"$f":"IF(ISNUMBER(FIND(\"BC/BS\",#REF!)),\"X\",\"\")","v":""}]
["UMR THE FLEXAUST COMPANY",null,{"$f":"IF(ISNUMBER(FIND(\"MEDICAID\",A4472)),\"X\",\"\")","v":""},{"$f":"IF(ISNUMBER(FIND(\"MEDICARE\",A4472)),\"X\",\"\")","v":""},{"$f":"IF(ISNUMBER(FIND(\"BC/BS\",#REF!)),\"X\",\"\")","v":""}]
["UMR THE GATESWORTH LLC",null,{"$f":"IF(ISNUMBER(FIND(\"MEDICAID\",A4473)),\"X\",\"\")","v":""},{"$f":"IF(ISNUMBER(FIND(\"MEDICARE\",A4473)),\"X\",\"\")","v":""},{"$f":"IF(ISNUMBER(FIND(\"BC/BS\",#REF!)),\"X\",\"\")","v":""}]
["UMR THE HANA GROUP",null,{"$f":"IF(ISNUMBER(FIND(\"MEDICAID\",A4474)),\"X\",\"\")","v":""},{"$f":"IF(ISNUMBER(FIND(\"MEDICARE\",A4474)),\"X\",\"\")","v":""},{"$f":"IF(ISNUMBER(FIND(\"BC/BS\",#REF!)),\"X\",\"\")","v":""}]
["UMR THE HERTZ CORPORATION",null,{"$f":"IF(ISNUMBER(FIND(\"MEDICAID\",A4475)),\"X\",\"\")","v":""},{"$f":"IF(ISNUMBER(FIND(\"MEDICARE\",A4475)),\"X\",\"\")","v":""},{"$f":"IF(ISNUMBER(FIND(\"BC/BS\",#REF!)),\"X\",\"\")","v":""}]
["UMR THE HILLMAN GROUP INC",null,{"$f":"IF(ISNUMBER(FIND(\"MEDICAID\",A4476)),\"X\",\"\")","v":""},{"$f":"IF(ISNUMBER(FIND(\"MEDICARE\",A4476)),\"X\",\"\")","v":""},{"$f":"IF(ISNUMBER(FIND(\"BC/BS\",#REF!)),\"X\",\"\")","v":""}]
["UMR THE MATTHEWS GROUP INC",null,{"$f":"IF(ISNUMBER(FIND(\"MEDICAID\",A4477)),\"X\",\"\")","v":""},{"$f":"IF(ISNUMBER(FIND(\"MEDICARE\",A4477)),\"X\",\"\")","v":""},{"$f":"IF(ISNUMBER(FIND(\"BC/BS\",#REF!)),\"X\",\"\")","v":""}]
["UMR THE MCALEAR GROUP INC",null,{"$f":"IF(ISNUMBER(FIND(\"MEDICAID\",A4478)),\"X\",\"\")","v":""},{"$f":"IF(ISNUMBER(FIND(\"MEDICARE\",A4478)),\"X\",\"\")","v":""},{"$f":"IF(ISNUMBER(FIND(\"BC/BS\",#REF!)),\"X\",\"\")","v":""}]
["UMR THE OHIO AUTOMOBILE CLUB",null,{"$f":"IF(ISNUMBER(FIND(\"MEDICAID\",A4479)),\"X\",\"\")","v":""},{"$f":"IF(ISNUMBER(FIND(\"MEDICARE\",A4479)),\"X\",\"\")","v":""},{"$f":"IF(ISNUMBER(FIND(\"BC/BS\",#REF!)),\"X\",\"\")","v":""}]
["UMR THE OSBORN ENGINEERING COMPANY",null,{"$f":"IF(ISNUMBER(FIND(\"MEDICAID\",A4480)),\"X\",\"\")","v":""},{"$f":"IF(ISNUMBER(FIND(\"MEDICARE\",A4480)),\"X\",\"\")","v":""},{"$f":"IF(ISNUMBER(FIND(\"BC/BS\",#REF!)),\"X\",\"\")","v":""}]
["UMR THE PAPE GROUP INC",null,{"$f":"IF(ISNUMBER(FIND(\"MEDICAID\",A4481)),\"X\",\"\")","v":""},{"$f":"IF(ISNUMBER(FIND(\"MEDICARE\",A4481)),\"X\",\"\")","v":""},{"$f":"IF(ISNUMBER(FIND(\"BC/BS\",#REF!)),\"X\",\"\")","v":""}]
["UMR THE PEOPLES BANK CO",null,{"$f":"IF(ISNUMBER(FIND(\"MEDICAID\",A4482)),\"X\",\"\")","v":""},{"$f":"IF(ISNUMBER(FIND(\"MEDICARE\",A4482)),\"X\",\"\")","v":""},{"$f":"IF(ISNUMBER(FIND(\"BC/BS\",#REF!)),\"X\",\"\")","v":""}]
["UMR THE PROMPTCARE COMPANIES INC",null,{"$f":"IF(ISNUMBER(FIND(\"MEDICAID\",A4483)),\"X\",\"\")","v":""},{"$f":"IF(ISNUMBER(FIND(\"MEDICARE\",A4483)),\"X\",\"\")","v":""},{"$f":"IF(ISNUMBER(FIND(\"BC/BS\",#REF!)),\"X\",\"\")","v":""}]
["UMR THE RIB CRIB BBQ INC DBA CHANDLER HOSPITALITY",null,{"$f":"IF(ISNUMBER(FIND(\"MEDICAID\",A4484)),\"X\",\"\")","v":""},{"$f":"IF(ISNUMBER(FIND(\"MEDICARE\",A4484)),\"X\",\"\")","v":""},{"$f":"IF(ISNUMBER(FIND(\"BC/BS\",#REF!)),\"X\",\"\")","v":""}]
["UMR THE S L A M COLLABORATIVE INC",null,{"$f":"IF(ISNUMBER(FIND(\"MEDICAID\",A4485)),\"X\",\"\")","v":""},{"$f":"IF(ISNUMBER(FIND(\"MEDICARE\",A4485)),\"X\",\"\")","v":""},{"$f":"IF(ISNUMBER(FIND(\"BC/BS\",#REF!)),\"X\",\"\")","v":""}]
["UMR THE SEVEN HILLS SCHOOL",null,{"$f":"IF(ISNUMBER(FIND(\"MEDICAID\",A4486)),\"X\",\"\")","v":""},{"$f":"IF(ISNUMBER(FIND(\"MEDICARE\",A4486)),\"X\",\"\")","v":""},{"$f":"IF(ISNUMBER(FIND(\"BC/BS\",#REF!)),\"X\",\"\")","v":""}]
["UMR THE SHEAKLEY GROUP INC",null,{"$f":"IF(ISNUMBER(FIND(\"MEDICAID\",A4487)),\"X\",\"\")","v":""},{"$f":"IF(ISNUMBER(FIND(\"MEDICARE\",A4487)),\"X\",\"\")","v":""},{"$f":"IF(ISNUMBER(FIND(\"BC/BS\",#REF!)),\"X\",\"\")","v":""}]
["UMR THE STERLING GROUP EMPLOYEE BENEFIT TRUST",null,{"$f":"IF(ISNUMBER(FIND(\"MEDICAID\",A4488)),\"X\",\"\")","v":""},{"$f":"IF(ISNUMBER(FIND(\"MEDICARE\",A4488)),\"X\",\"\")","v":""},{"$f":"IF(ISNUMBER(FIND(\"BC/BS\",#REF!)),\"X\",\"\")","v":""}]
["UMR THE TOWNSEND CORPORATION",null,{"$f":"IF(ISNUMBER(FIND(\"MEDICAID\",A4489)),\"X\",\"\")","v":""},{"$f":"IF(ISNUMBER(FIND(\"MEDICARE\",A4489)),\"X\",\"\")","v":""},{"$f":"IF(ISNUMBER(FIND(\"BC/BS\",#REF!)),\"X\",\"\")","v":""}]
["UMR THE TRADITIONAL BAKERY INC",null,{"$f":"IF(ISNUMBER(FIND(\"MEDICAID\",A4490)),\"X\",\"\")","v":""},{"$f":"IF(ISNUMBER(FIND(\"MEDICARE\",A4490)),\"X\",\"\")","v":""},{"$f":"IF(ISNUMBER(FIND(\"BC/BS\",#REF!)),\"X\",\"\")","v":""}]
["UMR THE WELLINGTON SCHOOL",null,{"$f":"IF(ISNUMBER(FIND(\"MEDICAID\",A4491)),\"X\",\"\")","v":""},{"$f":"IF(ISNUMBER(FIND(\"MEDICARE\",A4491)),\"X\",\"\")","v":""},{"$f":"IF(ISNUMBER(FIND(\"BC/BS\",#REF!)),\"X\",\"\")","v":""}]
["UMR THE WEST VIRGINIA PUBLIC EMPLOYEES INSURANCE",null,{"$f":"IF(ISNUMBER(FIND(\"MEDICAID\",A4492)),\"X\",\"\")","v":""},{"$f":"IF(ISNUMBER(FIND(\"MEDICARE\",A4492)),\"X\",\"\")","v":""},{"$f":"IF(ISNUMBER(FIND(\"BC/BS\",#REF!)),\"X\",\"\")","v":""}]
["UMR THE WICHITA PUBLIC SCHOOLS",null,{"$f":"IF(ISNUMBER(FIND(\"MEDICAID\",A4493)),\"X\",\"\")","v":""},{"$f":"IF(ISNUMBER(FIND(\"MEDICARE\",A4493)),\"X\",\"\")","v":""},{"$f":"IF(ISNUMBER(FIND(\"BC/BS\",#REF!)),\"X\",\"\")","v":""}]
["UMR THE WINE GROUP INC",null,{"$f":"IF(ISNUMBER(FIND(\"MEDICAID\",A4494)),\"X\",\"\")","v":""},{"$f":"IF(ISNUMBER(FIND(\"MEDICARE\",A4494)),\"X\",\"\")","v":""},{"$f":"IF(ISNUMBER(FIND(\"BC/BS\",#REF!)),\"X\",\"\")","v":""}]
["UMR THIEMAN TAILGATES INC",null,{"$f":"IF(ISNUMBER(FIND(\"MEDICAID\",A4495)),\"X\",\"\")","v":""},{"$f":"IF(ISNUMBER(FIND(\"MEDICARE\",A4495)),\"X\",\"\")","v":""},{"$f":"IF(ISNUMBER(FIND(\"BC/BS\",#REF!)),\"X\",\"\")","v":""}]
["UMR THK MANUFACTURING OF AMERICA INC",null,{"$f":"IF(ISNUMBER(FIND(\"MEDICAID\",A4496)),\"X\",\"\")","v":""},{"$f":"IF(ISNUMBER(FIND(\"MEDICARE\",A4496)),\"X\",\"\")","v":""},{"$f":"IF(ISNUMBER(FIND(\"BC/BS\",#REF!)),\"X\",\"\")","v":""}]
["UMR THOMAS JEFFERSON SCHOOL",null,{"$f":"IF(ISNUMBER(FIND(\"MEDICAID\",A4497)),\"X\",\"\")","v":""},{"$f":"IF(ISNUMBER(FIND(\"MEDICARE\",A4497)),\"X\",\"\")","v":""},{"$f":"IF(ISNUMBER(FIND(\"BC/BS\",#REF!)),\"X\",\"\")","v":""}]
["UMR THOMAS LLC",null,{"$f":"IF(ISNUMBER(FIND(\"MEDICAID\",A4498)),\"X\",\"\")","v":""},{"$f":"IF(ISNUMBER(FIND(\"MEDICARE\",A4498)),\"X\",\"\")","v":""},{"$f":"IF(ISNUMBER(FIND(\"BC/BS\",#REF!)),\"X\",\"\")","v":""}]
["UMR THOMPSON INDUSTRIAL SERVICES",null,{"$f":"IF(ISNUMBER(FIND(\"MEDICAID\",A4499)),\"X\",\"\")","v":""},{"$f":"IF(ISNUMBER(FIND(\"MEDICARE\",A4499)),\"X\",\"\")","v":""},{"$f":"IF(ISNUMBER(FIND(\"BC/BS\",#REF!)),\"X\",\"\")","v":""}]
["UMR THOMPSON MACHINERY COMMERCE CORPORATION",null,{"$f":"IF(ISNUMBER(FIND(\"MEDICAID\",A4500)),\"X\",\"\")","v":""},{"$f":"IF(ISNUMBER(FIND(\"MEDICARE\",A4500)),\"X\",\"\")","v":""},{"$f":"IF(ISNUMBER(FIND(\"BC/BS\",#REF!)),\"X\",\"\")","v":""}]
["UMR TIDI PRODUCTS LLC",null,{"$f":"IF(ISNUMBER(FIND(\"MEDICAID\",A4501)),\"X\",\"\")","v":""},{"$f":"IF(ISNUMBER(FIND(\"MEDICARE\",A4501)),\"X\",\"\")","v":""},{"$f":"IF(ISNUMBER(FIND(\"BC/BS\",#REF!)),\"X\",\"\")","v":""}]
["UMR TIFFS TREATS GP LLC",null,{"$f":"IF(ISNUMBER(FIND(\"MEDICAID\",A4502)),\"X\",\"\")","v":""},{"$f":"IF(ISNUMBER(FIND(\"MEDICARE\",A4502)),\"X\",\"\")","v":""},{"$f":"IF(ISNUMBER(FIND(\"BC/BS\",#REF!)),\"X\",\"\")","v":""}]
["UMR TIFT REGIONAL HEALTH SYSTEM",null,{"$f":"IF(ISNUMBER(FIND(\"MEDICAID\",A4503)),\"X\",\"\")","v":""},{"$f":"IF(ISNUMBER(FIND(\"MEDICARE\",A4503)),\"X\",\"\")","v":""},{"$f":"IF(ISNUMBER(FIND(\"BC/BS\",#REF!)),\"X\",\"\")","v":""}]
["UMR TOGETHER CREDIT UNION",null,{"$f":"IF(ISNUMBER(FIND(\"MEDICAID\",A4504)),\"X\",\"\")","v":""},{"$f":"IF(ISNUMBER(FIND(\"MEDICARE\",A4504)),\"X\",\"\")","v":""},{"$f":"IF(ISNUMBER(FIND(\"BC/BS\",#REF!)),\"X\",\"\")","v":""}]
["UMR TOSHIBA AMERICA BUSINESS SOLUTIONS INC",null,{"$f":"IF(ISNUMBER(FIND(\"MEDICAID\",A4505)),\"X\",\"\")","v":""},{"$f":"IF(ISNUMBER(FIND(\"MEDICARE\",A4505)),\"X\",\"\")","v":""},{"$f":"IF(ISNUMBER(FIND(\"BC/BS\",#REF!)),\"X\",\"\")","v":""}]
["UMR TOWN FINANCIAL CORPORATION",null,{"$f":"IF(ISNUMBER(FIND(\"MEDICAID\",A4506)),\"X\",\"\")","v":""},{"$f":"IF(ISNUMBER(FIND(\"MEDICARE\",A4506)),\"X\",\"\")","v":""},{"$f":"IF(ISNUMBER(FIND(\"BC/BS\",#REF!)),\"X\",\"\")","v":""}]
["UMR TOWN OF NORMAL",null,{"$f":"IF(ISNUMBER(FIND(\"MEDICAID\",A4507)),\"X\",\"\")","v":""},{"$f":"IF(ISNUMBER(FIND(\"MEDICARE\",A4507)),\"X\",\"\")","v":""},{"$f":"IF(ISNUMBER(FIND(\"BC/BS\",#REF!)),\"X\",\"\")","v":""}]
["UMR TOWN VILLAGE OF HARRISON",null,{"$f":"IF(ISNUMBER(FIND(\"MEDICAID\",A4508)),\"X\",\"\")","v":""},{"$f":"IF(ISNUMBER(FIND(\"MEDICARE\",A4508)),\"X\",\"\")","v":""},{"$f":"IF(ISNUMBER(FIND(\"BC/BS\",#REF!)),\"X\",\"\")","v":""}]
["UMR TOYO INK INTERNATIONAL CORP",null,{"$f":"IF(ISNUMBER(FIND(\"MEDICAID\",A4509)),\"X\",\"\")","v":""},{"$f":"IF(ISNUMBER(FIND(\"MEDICARE\",A4509)),\"X\",\"\")","v":""},{"$f":"IF(ISNUMBER(FIND(\"BC/BS\",#REF!)),\"X\",\"\")","v":""}]
["UMR TOYOTETSU AMERICA INC",null,{"$f":"IF(ISNUMBER(FIND(\"MEDICAID\",A4510)),\"X\",\"\")","v":""},{"$f":"IF(ISNUMBER(FIND(\"MEDICARE\",A4510)),\"X\",\"\")","v":""},{"$f":"IF(ISNUMBER(FIND(\"BC/BS\",#REF!)),\"X\",\"\")","v":""}]
["UMR TP MECHANICAL CONTRACTORS INC",null,{"$f":"IF(ISNUMBER(FIND(\"MEDICAID\",A4511)),\"X\",\"\")","v":""},{"$f":"IF(ISNUMBER(FIND(\"MEDICARE\",A4511)),\"X\",\"\")","v":""},{"$f":"IF(ISNUMBER(FIND(\"BC/BS\",#REF!)),\"X\",\"\")","v":""}]
["UMR TRAJECTOR HOLDINGS LLC",null,{"$f":"IF(ISNUMBER(FIND(\"MEDICAID\",A4512)),\"X\",\"\")","v":""},{"$f":"IF(ISNUMBER(FIND(\"MEDICARE\",A4512)),\"X\",\"\")","v":""},{"$f":"IF(ISNUMBER(FIND(\"BC/BS\",#REF!)),\"X\",\"\")","v":""}]
["UMR TRANSCARENT  INC",null,{"$f":"IF(ISNUMBER(FIND(\"MEDICAID\",A4513)),\"X\",\"\")","v":""},{"$f":"IF(ISNUMBER(FIND(\"MEDICARE\",A4513)),\"X\",\"\")","v":""},{"$f":"IF(ISNUMBER(FIND(\"BC/BS\",#REF!)),\"X\",\"\")","v":""}]
["UMR TRANSCARENT INC",null,{"$f":"IF(ISNUMBER(FIND(\"MEDICAID\",A4514)),\"X\",\"\")","v":""},{"$f":"IF(ISNUMBER(FIND(\"MEDICARE\",A4514)),\"X\",\"\")","v":""},{"$f":"IF(ISNUMBER(FIND(\"BC/BS\",#REF!)),\"X\",\"\")","v":""}]
["UMR TRANSERVICE LOGISTICS INC",null,{"$f":"IF(ISNUMBER(FIND(\"MEDICAID\",A4515)),\"X\",\"\")","v":""},{"$f":"IF(ISNUMBER(FIND(\"MEDICARE\",A4515)),\"X\",\"\")","v":""},{"$f":"IF(ISNUMBER(FIND(\"BC/BS\",#REF!)),\"X\",\"\")","v":""}]
["UMR TREK BICYCLE CORPORATION",null,{"$f":"IF(ISNUMBER(FIND(\"MEDICAID\",A4516)),\"X\",\"\")","v":""},{"$f":"IF(ISNUMBER(FIND(\"MEDICARE\",A4516)),\"X\",\"\")","v":""},{"$f":"IF(ISNUMBER(FIND(\"BC/BS\",#REF!)),\"X\",\"\")","v":""}]
["UMR TRIAD MANUFACTURING INC",null,{"$f":"IF(ISNUMBER(FIND(\"MEDICAID\",A4517)),\"X\",\"\")","v":""},{"$f":"IF(ISNUMBER(FIND(\"MEDICARE\",A4517)),\"X\",\"\")","v":""},{"$f":"IF(ISNUMBER(FIND(\"BC/BS\",#REF!)),\"X\",\"\")","v":""}]
["UMR TRIAD TECHNOLOGIES LLC",null,{"$f":"IF(ISNUMBER(FIND(\"MEDICAID\",A4518)),\"X\",\"\")","v":""},{"$f":"IF(ISNUMBER(FIND(\"MEDICARE\",A4518)),\"X\",\"\")","v":""},{"$f":"IF(ISNUMBER(FIND(\"BC/BS\",#REF!)),\"X\",\"\")","v":""}]
["UMR TRIANGLE TOOL CORPORATION",null,{"$f":"IF(ISNUMBER(FIND(\"MEDICAID\",A4519)),\"X\",\"\")","v":""},{"$f":"IF(ISNUMBER(FIND(\"MEDICARE\",A4519)),\"X\",\"\")","v":""},{"$f":"IF(ISNUMBER(FIND(\"BC/BS\",#REF!)),\"X\",\"\")","v":""}]
["UMR TRIGO US INC",null,{"$f":"IF(ISNUMBER(FIND(\"MEDICAID\",A4520)),\"X\",\"\")","v":""},{"$f":"IF(ISNUMBER(FIND(\"MEDICARE\",A4520)),\"X\",\"\")","v":""},{"$f":"IF(ISNUMBER(FIND(\"BC/BS\",#REF!)),\"X\",\"\")","v":""}]
["UMR TRIPLE V INC",null,{"$f":"IF(ISNUMBER(FIND(\"MEDICAID\",A4521)),\"X\",\"\")","v":""},{"$f":"IF(ISNUMBER(FIND(\"MEDICARE\",A4521)),\"X\",\"\")","v":""},{"$f":"IF(ISNUMBER(FIND(\"BC/BS\",#REF!)),\"X\",\"\")","v":""}]
["UMR TRUE WORLD HOLDINGS LLC",null,{"$f":"IF(ISNUMBER(FIND(\"MEDICAID\",A4522)),\"X\",\"\")","v":""},{"$f":"IF(ISNUMBER(FIND(\"MEDICARE\",A4522)),\"X\",\"\")","v":""},{"$f":"IF(ISNUMBER(FIND(\"BC/BS\",#REF!)),\"X\",\"\")","v":""}]
["UMR TRUMPET BEHAVIORAL HEALTH",null,{"$f":"IF(ISNUMBER(FIND(\"MEDICAID\",A4523)),\"X\",\"\")","v":""},{"$f":"IF(ISNUMBER(FIND(\"MEDICARE\",A4523)),\"X\",\"\")","v":""},{"$f":"IF(ISNUMBER(FIND(\"BC/BS\",#REF!)),\"X\",\"\")","v":""}]
["UMR TS TECH",null,{"$f":"IF(ISNUMBER(FIND(\"MEDICAID\",A4524)),\"X\",\"\")","v":""},{"$f":"IF(ISNUMBER(FIND(\"MEDICARE\",A4524)),\"X\",\"\")","v":""},{"$f":"IF(ISNUMBER(FIND(\"BC/BS\",#REF!)),\"X\",\"\")","v":""}]
["UMR TUBE PROCESSING CORPORATION",null,{"$f":"IF(ISNUMBER(FIND(\"MEDICAID\",A4525)),\"X\",\"\")","v":""},{"$f":"IF(ISNUMBER(FIND(\"MEDICARE\",A4525)),\"X\",\"\")","v":""},{"$f":"IF(ISNUMBER(FIND(\"BC/BS\",#REF!)),\"X\",\"\")","v":""}]
["UMR TYLER MANAGEMENT LLC",null,{"$f":"IF(ISNUMBER(FIND(\"MEDICAID\",A4526)),\"X\",\"\")","v":""},{"$f":"IF(ISNUMBER(FIND(\"MEDICARE\",A4526)),\"X\",\"\")","v":""},{"$f":"IF(ISNUMBER(FIND(\"BC/BS\",#REF!)),\"X\",\"\")","v":""}]
["UMR U.S. TOOL GRINDING INC",null,{"$f":"IF(ISNUMBER(FIND(\"MEDICAID\",A4527)),\"X\",\"\")","v":""},{"$f":"IF(ISNUMBER(FIND(\"MEDICARE\",A4527)),\"X\",\"\")","v":""},{"$f":"IF(ISNUMBER(FIND(\"BC/BS\",#REF!)),\"X\",\"\")","v":""}]
["UMR U.S. VENTURE INC",null,{"$f":"IF(ISNUMBER(FIND(\"MEDICAID\",A4528)),\"X\",\"\")","v":""},{"$f":"IF(ISNUMBER(FIND(\"MEDICARE\",A4528)),\"X\",\"\")","v":""},{"$f":"IF(ISNUMBER(FIND(\"BC/BS\",#REF!)),\"X\",\"\")","v":""}]
["UMR UC HEALTH",null,{"$f":"IF(ISNUMBER(FIND(\"MEDICAID\",A4529)),\"X\",\"\")","v":""},{"$f":"IF(ISNUMBER(FIND(\"MEDICARE\",A4529)),\"X\",\"\")","v":""},{"$f":"IF(ISNUMBER(FIND(\"BC/BS\",#REF!)),\"X\",\"\")","v":""}]
["UMR UNC HEALTH CARE AFFILIATES HEALTH PLAN",null,{"$f":"IF(ISNUMBER(FIND(\"MEDICAID\",A4530)),\"X\",\"\")","v":""},{"$f":"IF(ISNUMBER(FIND(\"MEDICARE\",A4530)),\"X\",\"\")","v":""},{"$f":"IF(ISNUMBER(FIND(\"BC/BS\",#REF!)),\"X\",\"\")","v":""}]
["UMR UNCLE JULIO'S CORPORATION",null,{"$f":"IF(ISNUMBER(FIND(\"MEDICAID\",A4531)),\"X\",\"\")","v":""},{"$f":"IF(ISNUMBER(FIND(\"MEDICARE\",A4531)),\"X\",\"\")","v":""},{"$f":"IF(ISNUMBER(FIND(\"BC/BS\",#REF!)),\"X\",\"\")","v":""}]
["UMR UNION PACIFIC",null,{"$f":"IF(ISNUMBER(FIND(\"MEDICAID\",A4532)),\"X\",\"\")","v":""},{"$f":"IF(ISNUMBER(FIND(\"MEDICARE\",A4532)),\"X\",\"\")","v":""},{"$f":"IF(ISNUMBER(FIND(\"BC/BS\",#REF!)),\"X\",\"\")","v":""}]
["UMR UNITED CHURCH HOMES",null,{"$f":"IF(ISNUMBER(FIND(\"MEDICAID\",A4533)),\"X\",\"\")","v":""},{"$f":"IF(ISNUMBER(FIND(\"MEDICARE\",A4533)),\"X\",\"\")","v":""},{"$f":"IF(ISNUMBER(FIND(\"BC/BS\",#REF!)),\"X\",\"\")","v":""}]
["UMR UNITED DISTRIBUTORS INC",null,{"$f":"IF(ISNUMBER(FIND(\"MEDICAID\",A4534)),\"X\",\"\")","v":""},{"$f":"IF(ISNUMBER(FIND(\"MEDICARE\",A4534)),\"X\",\"\")","v":""},{"$f":"IF(ISNUMBER(FIND(\"BC/BS\",#REF!)),\"X\",\"\")","v":""}]
["UMR UNITED FURNITURE INDUSTRIES INC",null,{"$f":"IF(ISNUMBER(FIND(\"MEDICAID\",A4535)),\"X\",\"\")","v":""},{"$f":"IF(ISNUMBER(FIND(\"MEDICARE\",A4535)),\"X\",\"\")","v":""},{"$f":"IF(ISNUMBER(FIND(\"BC/BS\",#REF!)),\"X\",\"\")","v":""}]
["UMR UNITED STEELWORKERS HEALTH WELFARE FUND",null,{"$f":"IF(ISNUMBER(FIND(\"MEDICAID\",A4536)),\"X\",\"\")","v":""},{"$f":"IF(ISNUMBER(FIND(\"MEDICARE\",A4536)),\"X\",\"\")","v":""},{"$f":"IF(ISNUMBER(FIND(\"BC/BS\",#REF!)),\"X\",\"\")","v":""}]
["UMR UNIVERSAL ENVIRONMENTAL SERVICES LLC",null,{"$f":"IF(ISNUMBER(FIND(\"MEDICAID\",A4537)),\"X\",\"\")","v":""},{"$f":"IF(ISNUMBER(FIND(\"MEDICARE\",A4537)),\"X\",\"\")","v":""},{"$f":"IF(ISNUMBER(FIND(\"BC/BS\",#REF!)),\"X\",\"\")","v":""}]
["UMR UNIVERSAL TECHNICAL INSTITUTE",null,{"$f":"IF(ISNUMBER(FIND(\"MEDICAID\",A4538)),\"X\",\"\")","v":""},{"$f":"IF(ISNUMBER(FIND(\"MEDICARE\",A4538)),\"X\",\"\")","v":""},{"$f":"IF(ISNUMBER(FIND(\"BC/BS\",#REF!)),\"X\",\"\")","v":""}]
["UMR UNIVERSAL WOODS LLC",null,{"$f":"IF(ISNUMBER(FIND(\"MEDICAID\",A4539)),\"X\",\"\")","v":""},{"$f":"IF(ISNUMBER(FIND(\"MEDICARE\",A4539)),\"X\",\"\")","v":""},{"$f":"IF(ISNUMBER(FIND(\"BC/BS\",#REF!)),\"X\",\"\")","v":""}]
["UMR UNIVERSITY HEALTH CARE SYSTEM",null,{"$f":"IF(ISNUMBER(FIND(\"MEDICAID\",A4540)),\"X\",\"\")","v":""},{"$f":"IF(ISNUMBER(FIND(\"MEDICARE\",A4540)),\"X\",\"\")","v":""},{"$f":"IF(ISNUMBER(FIND(\"BC/BS\",#REF!)),\"X\",\"\")","v":""}]
["UMR UNIVERSITY OF ARKANSAS SYSTEM",null,{"$f":"IF(ISNUMBER(FIND(\"MEDICAID\",A4541)),\"X\",\"\")","v":""},{"$f":"IF(ISNUMBER(FIND(\"MEDICARE\",A4541)),\"X\",\"\")","v":""},{"$f":"IF(ISNUMBER(FIND(\"BC/BS\",#REF!)),\"X\",\"\")","v":""}]
["UMR UNIVERSITY OF FINDLAY",null,{"$f":"IF(ISNUMBER(FIND(\"MEDICAID\",A4542)),\"X\",\"\")","v":""},{"$f":"IF(ISNUMBER(FIND(\"MEDICARE\",A4542)),\"X\",\"\")","v":""},{"$f":"IF(ISNUMBER(FIND(\"BC/BS\",#REF!)),\"X\",\"\")","v":""}]
["UMR UPAC HOLDINGS INC",null,{"$f":"IF(ISNUMBER(FIND(\"MEDICAID\",A4543)),\"X\",\"\")","v":""},{"$f":"IF(ISNUMBER(FIND(\"MEDICARE\",A4543)),\"X\",\"\")","v":""},{"$f":"IF(ISNUMBER(FIND(\"BC/BS\",#REF!)),\"X\",\"\")","v":""}]
["UMR UPPER TRINITY REGIONAL WATER DISTRICT",null,{"$f":"IF(ISNUMBER(FIND(\"MEDICAID\",A4544)),\"X\",\"\")","v":""},{"$f":"IF(ISNUMBER(FIND(\"MEDICARE\",A4544)),\"X\",\"\")","v":""},{"$f":"IF(ISNUMBER(FIND(\"BC/BS\",#REF!)),\"X\",\"\")","v":""}]
["UMR URUS GROUP LP",null,{"$f":"IF(ISNUMBER(FIND(\"MEDICAID\",A4545)),\"X\",\"\")","v":""},{"$f":"IF(ISNUMBER(FIND(\"MEDICARE\",A4545)),\"X\",\"\")","v":""},{"$f":"IF(ISNUMBER(FIND(\"BC/BS\",#REF!)),\"X\",\"\")","v":""}]
["UMR USA TRUCK INC",null,{"$f":"IF(ISNUMBER(FIND(\"MEDICAID\",A4546)),\"X\",\"\")","v":""},{"$f":"IF(ISNUMBER(FIND(\"MEDICARE\",A4546)),\"X\",\"\")","v":""},{"$f":"IF(ISNUMBER(FIND(\"BC/BS\",#REF!)),\"X\",\"\")","v":""}]
["UMR USALCO LLC",null,{"$f":"IF(ISNUMBER(FIND(\"MEDICAID\",A4547)),\"X\",\"\")","v":""},{"$f":"IF(ISNUMBER(FIND(\"MEDICARE\",A4547)),\"X\",\"\")","v":""},{"$f":"IF(ISNUMBER(FIND(\"BC/BS\",#REF!)),\"X\",\"\")","v":""}]
["UMR USIC",null,{"$f":"IF(ISNUMBER(FIND(\"MEDICAID\",A4548)),\"X\",\"\")","v":""},{"$f":"IF(ISNUMBER(FIND(\"MEDICARE\",A4548)),\"X\",\"\")","v":""},{"$f":"IF(ISNUMBER(FIND(\"BC/BS\",#REF!)),\"X\",\"\")","v":""}]
["UMR USNAS","X",{"$f":"IF(ISNUMBER(FIND(\"MEDICAID\",A4549)),\"X\",\"\")","v":""},{"$f":"IF(ISNUMBER(FIND(\"MEDICARE\",A4549)),\"X\",\"\")","v":""},{"$f":"IF(ISNUMBER(FIND(\"BC/BS\",#REF!)),\"X\",\"\")","v":""}]
["UMR VAIL RUBBER WORKS INC",null,{"$f":"IF(ISNUMBER(FIND(\"MEDICAID\",A4550)),\"X\",\"\")","v":""},{"$f":"IF(ISNUMBER(FIND(\"MEDICARE\",A4550)),\"X\",\"\")","v":""},{"$f":"IF(ISNUMBER(FIND(\"BC/BS\",#REF!)),\"X\",\"\")","v":""}]
["UMR VALLEY HOSPICE INC",null,{"$f":"IF(ISNUMBER(FIND(\"MEDICAID\",A4551)),\"X\",\"\")","v":""},{"$f":"IF(ISNUMBER(FIND(\"MEDICARE\",A4551)),\"X\",\"\")","v":""},{"$f":"IF(ISNUMBER(FIND(\"BC/BS\",#REF!)),\"X\",\"\")","v":""}]
["UMR VAN GORP CORPORATION",null,{"$f":"IF(ISNUMBER(FIND(\"MEDICAID\",A4552)),\"X\",\"\")","v":""},{"$f":"IF(ISNUMBER(FIND(\"MEDICARE\",A4552)),\"X\",\"\")","v":""},{"$f":"IF(ISNUMBER(FIND(\"BC/BS\",#REF!)),\"X\",\"\")","v":""}]
["UMR VAN WALL EQUIPMENT INC",null,{"$f":"IF(ISNUMBER(FIND(\"MEDICAID\",A4553)),\"X\",\"\")","v":""},{"$f":"IF(ISNUMBER(FIND(\"MEDICARE\",A4553)),\"X\",\"\")","v":""},{"$f":"IF(ISNUMBER(FIND(\"BC/BS\",#REF!)),\"X\",\"\")","v":""}]
["UMR VAN WERT COUNTY HOSPITAL ASSOCIATION",null,{"$f":"IF(ISNUMBER(FIND(\"MEDICAID\",A4554)),\"X\",\"\")","v":""},{"$f":"IF(ISNUMBER(FIND(\"MEDICARE\",A4554)),\"X\",\"\")","v":""},{"$f":"IF(ISNUMBER(FIND(\"BC/BS\",#REF!)),\"X\",\"\")","v":""}]
["UMR VANDOR CORPORATION",null,{"$f":"IF(ISNUMBER(FIND(\"MEDICAID\",A4555)),\"X\",\"\")","v":""},{"$f":"IF(ISNUMBER(FIND(\"MEDICARE\",A4555)),\"X\",\"\")","v":""},{"$f":"IF(ISNUMBER(FIND(\"BC/BS\",#REF!)),\"X\",\"\")","v":""}]
["UMR VANIR GROUP OF COMPANIES INC",null,{"$f":"IF(ISNUMBER(FIND(\"MEDICAID\",A4556)),\"X\",\"\")","v":""},{"$f":"IF(ISNUMBER(FIND(\"MEDICARE\",A4556)),\"X\",\"\")","v":""},{"$f":"IF(ISNUMBER(FIND(\"BC/BS\",#REF!)),\"X\",\"\")","v":""}]
["UMR VANTEC HITACHI TRANSPORT SYSTEM USA",null,{"$f":"IF(ISNUMBER(FIND(\"MEDICAID\",A4557)),\"X\",\"\")","v":""},{"$f":"IF(ISNUMBER(FIND(\"MEDICARE\",A4557)),\"X\",\"\")","v":""},{"$f":"IF(ISNUMBER(FIND(\"BC/BS\",#REF!)),\"X\",\"\")","v":""}]
["UMR VARSITY TUTORS",null,{"$f":"IF(ISNUMBER(FIND(\"MEDICAID\",A4558)),\"X\",\"\")","v":""},{"$f":"IF(ISNUMBER(FIND(\"MEDICARE\",A4558)),\"X\",\"\")","v":""},{"$f":"IF(ISNUMBER(FIND(\"BC/BS\",#REF!)),\"X\",\"\")","v":""}]
["UMR VENTURE GROUP BENEFIT PLAN",null,{"$f":"IF(ISNUMBER(FIND(\"MEDICAID\",A4559)),\"X\",\"\")","v":""},{"$f":"IF(ISNUMBER(FIND(\"MEDICARE\",A4559)),\"X\",\"\")","v":""},{"$f":"IF(ISNUMBER(FIND(\"BC/BS\",#REF!)),\"X\",\"\")","v":""}]
["UMR VENTURE MECHANICAL INC",null,{"$f":"IF(ISNUMBER(FIND(\"MEDICAID\",A4560)),\"X\",\"\")","v":""},{"$f":"IF(ISNUMBER(FIND(\"MEDICARE\",A4560)),\"X\",\"\")","v":""},{"$f":"IF(ISNUMBER(FIND(\"BC/BS\",#REF!)),\"X\",\"\")","v":""}]
["UMR VERST GROUP LOGISTICS INC",null,{"$f":"IF(ISNUMBER(FIND(\"MEDICAID\",A4561)),\"X\",\"\")","v":""},{"$f":"IF(ISNUMBER(FIND(\"MEDICARE\",A4561)),\"X\",\"\")","v":""},{"$f":"IF(ISNUMBER(FIND(\"BC/BS\",#REF!)),\"X\",\"\")","v":""}]
["UMR VERVE A CREDIT UNION",null,{"$f":"IF(ISNUMBER(FIND(\"MEDICAID\",A4562)),\"X\",\"\")","v":""},{"$f":"IF(ISNUMBER(FIND(\"MEDICARE\",A4562)),\"X\",\"\")","v":""},{"$f":"IF(ISNUMBER(FIND(\"BC/BS\",#REF!)),\"X\",\"\")","v":""}]
["UMR VIEGA LLC",null,{"$f":"IF(ISNUMBER(FIND(\"MEDICAID\",A4563)),\"X\",\"\")","v":""},{"$f":"IF(ISNUMBER(FIND(\"MEDICARE\",A4563)),\"X\",\"\")","v":""},{"$f":"IF(ISNUMBER(FIND(\"BC/BS\",#REF!)),\"X\",\"\")","v":""}]
["UMR VILLAGE OF MORTON",null,{"$f":"IF(ISNUMBER(FIND(\"MEDICAID\",A4564)),\"X\",\"\")","v":""},{"$f":"IF(ISNUMBER(FIND(\"MEDICARE\",A4564)),\"X\",\"\")","v":""},{"$f":"IF(ISNUMBER(FIND(\"BC/BS\",#REF!)),\"X\",\"\")","v":""}]
["UMR VISU SEWER INC",null,{"$f":"IF(ISNUMBER(FIND(\"MEDICAID\",A4565)),\"X\",\"\")","v":""},{"$f":"IF(ISNUMBER(FIND(\"MEDICARE\",A4565)),\"X\",\"\")","v":""},{"$f":"IF(ISNUMBER(FIND(\"BC/BS\",#REF!)),\"X\",\"\")","v":""}]
["UMR VITREOUS RETINA CONSULTANTS P A",null,{"$f":"IF(ISNUMBER(FIND(\"MEDICAID\",A4566)),\"X\",\"\")","v":""},{"$f":"IF(ISNUMBER(FIND(\"MEDICARE\",A4566)),\"X\",\"\")","v":""},{"$f":"IF(ISNUMBER(FIND(\"BC/BS\",#REF!)),\"X\",\"\")","v":""}]
["UMR VOCATIONAL TRAINING INSTITUTES INC",null,{"$f":"IF(ISNUMBER(FIND(\"MEDICAID\",A4567)),\"X\",\"\")","v":""},{"$f":"IF(ISNUMBER(FIND(\"MEDICARE\",A4567)),\"X\",\"\")","v":""},{"$f":"IF(ISNUMBER(FIND(\"BC/BS\",#REF!)),\"X\",\"\")","v":""}]
["UMR VOLK ENTERPRISES SAFETY TODAY",null,{"$f":"IF(ISNUMBER(FIND(\"MEDICAID\",A4568)),\"X\",\"\")","v":""},{"$f":"IF(ISNUMBER(FIND(\"MEDICARE\",A4568)),\"X\",\"\")","v":""},{"$f":"IF(ISNUMBER(FIND(\"BC/BS\",#REF!)),\"X\",\"\")","v":""}]
["UMR VUTEQ USA INC",null,{"$f":"IF(ISNUMBER(FIND(\"MEDICAID\",A4569)),\"X\",\"\")","v":""},{"$f":"IF(ISNUMBER(FIND(\"MEDICARE\",A4569)),\"X\",\"\")","v":""},{"$f":"IF(ISNUMBER(FIND(\"BC/BS\",#REF!)),\"X\",\"\")","v":""}]
["UMR WABASH NATIONAL CORPORATION",null,{"$f":"IF(ISNUMBER(FIND(\"MEDICAID\",A4570)),\"X\",\"\")","v":""},{"$f":"IF(ISNUMBER(FIND(\"MEDICARE\",A4570)),\"X\",\"\")","v":""},{"$f":"IF(ISNUMBER(FIND(\"BC/BS\",#REF!)),\"X\",\"\")","v":""}]
["UMR WAFRA INC",null,{"$f":"IF(ISNUMBER(FIND(\"MEDICAID\",A4571)),\"X\",\"\")","v":""},{"$f":"IF(ISNUMBER(FIND(\"MEDICARE\",A4571)),\"X\",\"\")","v":""},{"$f":"IF(ISNUMBER(FIND(\"BC/BS\",#REF!)),\"X\",\"\")","v":""}]
["UMR WAGSTAFF",null,{"$f":"IF(ISNUMBER(FIND(\"MEDICAID\",A4572)),\"X\",\"\")","v":""},{"$f":"IF(ISNUMBER(FIND(\"MEDICARE\",A4572)),\"X\",\"\")","v":""},{"$f":"IF(ISNUMBER(FIND(\"BC/BS\",#REF!)),\"X\",\"\")","v":""}]
["UMR WALLACE MANAGEMENT COMPANY",null,{"$f":"IF(ISNUMBER(FIND(\"MEDICAID\",A4573)),\"X\",\"\")","v":""},{"$f":"IF(ISNUMBER(FIND(\"MEDICARE\",A4573)),\"X\",\"\")","v":""},{"$f":"IF(ISNUMBER(FIND(\"BC/BS\",#REF!)),\"X\",\"\")","v":""}]
["UMR WALMART INC","X",{"$f":"IF(ISNUMBER(FIND(\"MEDICAID\",A4574)),\"X\",\"\")","v":""},{"$f":"IF(ISNUMBER(FIND(\"MEDICARE\",A4574)),\"X\",\"\")","v":""},{"$f":"IF(ISNUMBER(FIND(\"BC/BS\",#REF!)),\"X\",\"\")","v":""}]
["UMR WAPELLO COUNTY",null,{"$f":"IF(ISNUMBER(FIND(\"MEDICAID\",A4575)),\"X\",\"\")","v":""},{"$f":"IF(ISNUMBER(FIND(\"MEDICARE\",A4575)),\"X\",\"\")","v":""},{"$f":"IF(ISNUMBER(FIND(\"BC/BS\",#REF!)),\"X\",\"\")","v":""}]
["UMR WARING OIL COMPANY LLC",null,{"$f":"IF(ISNUMBER(FIND(\"MEDICAID\",A4576)),\"X\",\"\")","v":""},{"$f":"IF(ISNUMBER(FIND(\"MEDICARE\",A4576)),\"X\",\"\")","v":""},{"$f":"IF(ISNUMBER(FIND(\"BC/BS\",#REF!)),\"X\",\"\")","v":""}]
["UMR WARREN PAVING INC",null,{"$f":"IF(ISNUMBER(FIND(\"MEDICAID\",A4577)),\"X\",\"\")","v":""},{"$f":"IF(ISNUMBER(FIND(\"MEDICARE\",A4577)),\"X\",\"\")","v":""},{"$f":"IF(ISNUMBER(FIND(\"BC/BS\",#REF!)),\"X\",\"\")","v":""}]
["UMR WATCO COMPANIES INC",null,{"$f":"IF(ISNUMBER(FIND(\"MEDICAID\",A4578)),\"X\",\"\")","v":""},{"$f":"IF(ISNUMBER(FIND(\"MEDICARE\",A4578)),\"X\",\"\")","v":""},{"$f":"IF(ISNUMBER(FIND(\"BC/BS\",#REF!)),\"X\",\"\")","v":""}]
["UMR WAYNE HEALTHCARE",null,{"$f":"IF(ISNUMBER(FIND(\"MEDICAID\",A4579)),\"X\",\"\")","v":""},{"$f":"IF(ISNUMBER(FIND(\"MEDICARE\",A4579)),\"X\",\"\")","v":""},{"$f":"IF(ISNUMBER(FIND(\"BC/BS\",#REF!)),\"X\",\"\")","v":""}]
["UMR WAYNE TOWNSHIP TRUSTEE",null,{"$f":"IF(ISNUMBER(FIND(\"MEDICAID\",A4580)),\"X\",\"\")","v":""},{"$f":"IF(ISNUMBER(FIND(\"MEDICARE\",A4580)),\"X\",\"\")","v":""},{"$f":"IF(ISNUMBER(FIND(\"BC/BS\",#REF!)),\"X\",\"\")","v":""}]
["UMR WB MANUFACTURING LLC",null,{"$f":"IF(ISNUMBER(FIND(\"MEDICAID\",A4581)),\"X\",\"\")","v":""},{"$f":"IF(ISNUMBER(FIND(\"MEDICARE\",A4581)),\"X\",\"\")","v":""},{"$f":"IF(ISNUMBER(FIND(\"BC/BS\",#REF!)),\"X\",\"\")","v":""}]
["UMR WEEKENDS ONLY INC",null,{"$f":"IF(ISNUMBER(FIND(\"MEDICAID\",A4582)),\"X\",\"\")","v":""},{"$f":"IF(ISNUMBER(FIND(\"MEDICARE\",A4582)),\"X\",\"\")","v":""},{"$f":"IF(ISNUMBER(FIND(\"BC/BS\",#REF!)),\"X\",\"\")","v":""}]
["UMR WELCH PACKAGING GROUP INC",null,{"$f":"IF(ISNUMBER(FIND(\"MEDICAID\",A4583)),\"X\",\"\")","v":""},{"$f":"IF(ISNUMBER(FIND(\"MEDICARE\",A4583)),\"X\",\"\")","v":""},{"$f":"IF(ISNUMBER(FIND(\"BC/BS\",#REF!)),\"X\",\"\")","v":""}]
["UMR WELDON WILLIAMS LICK INC",null,{"$f":"IF(ISNUMBER(FIND(\"MEDICAID\",A4584)),\"X\",\"\")","v":""},{"$f":"IF(ISNUMBER(FIND(\"MEDICARE\",A4584)),\"X\",\"\")","v":""},{"$f":"IF(ISNUMBER(FIND(\"BC/BS\",#REF!)),\"X\",\"\")","v":""}]
["UMR WEOKIE FEDERAL CREDIT UNION",null,{"$f":"IF(ISNUMBER(FIND(\"MEDICAID\",A4585)),\"X\",\"\")","v":""},{"$f":"IF(ISNUMBER(FIND(\"MEDICARE\",A4585)),\"X\",\"\")","v":""},{"$f":"IF(ISNUMBER(FIND(\"BC/BS\",#REF!)),\"X\",\"\")","v":""}]
["UMR WESLEYAN HEALTH DBA TLC MGMT",null,{"$f":"IF(ISNUMBER(FIND(\"MEDICAID\",A4586)),\"X\",\"\")","v":""},{"$f":"IF(ISNUMBER(FIND(\"MEDICARE\",A4586)),\"X\",\"\")","v":""},{"$f":"IF(ISNUMBER(FIND(\"BC/BS\",#REF!)),\"X\",\"\")","v":""}]
["UMR WEST CENTRAL MISSOURI COMMUNITY ACTION AGENCY",null,{"$f":"IF(ISNUMBER(FIND(\"MEDICAID\",A4587)),\"X\",\"\")","v":""},{"$f":"IF(ISNUMBER(FIND(\"MEDICARE\",A4587)),\"X\",\"\")","v":""},{"$f":"IF(ISNUMBER(FIND(\"BC/BS\",#REF!)),\"X\",\"\")","v":""}]
["UMR WEST VUE INC",null,{"$f":"IF(ISNUMBER(FIND(\"MEDICAID\",A4588)),\"X\",\"\")","v":""},{"$f":"IF(ISNUMBER(FIND(\"MEDICARE\",A4588)),\"X\",\"\")","v":""},{"$f":"IF(ISNUMBER(FIND(\"BC/BS\",#REF!)),\"X\",\"\")","v":""}]
["UMR WESTECH ENGINEERING LLC",null,{"$f":"IF(ISNUMBER(FIND(\"MEDICAID\",A4589)),\"X\",\"\")","v":""},{"$f":"IF(ISNUMBER(FIND(\"MEDICARE\",A4589)),\"X\",\"\")","v":""},{"$f":"IF(ISNUMBER(FIND(\"BC/BS\",#REF!)),\"X\",\"\")","v":""}]
["UMR WEXNER HERITAGE VILLAGE",null,{"$f":"IF(ISNUMBER(FIND(\"MEDICAID\",A4590)),\"X\",\"\")","v":""},{"$f":"IF(ISNUMBER(FIND(\"MEDICARE\",A4590)),\"X\",\"\")","v":""},{"$f":"IF(ISNUMBER(FIND(\"BC/BS\",#REF!)),\"X\",\"\")","v":""}]
["UMR WHOLESALE FLOORS LLC",null,{"$f":"IF(ISNUMBER(FIND(\"MEDICAID\",A4591)),\"X\",\"\")","v":""},{"$f":"IF(ISNUMBER(FIND(\"MEDICARE\",A4591)),\"X\",\"\")","v":""},{"$f":"IF(ISNUMBER(FIND(\"BC/BS\",#REF!)),\"X\",\"\")","v":""}]
["UMR WIESE USA INC",null,{"$f":"IF(ISNUMBER(FIND(\"MEDICAID\",A4592)),\"X\",\"\")","v":""},{"$f":"IF(ISNUMBER(FIND(\"MEDICARE\",A4592)),\"X\",\"\")","v":""},{"$f":"IF(ISNUMBER(FIND(\"BC/BS\",#REF!)),\"X\",\"\")","v":""}]
["UMR WILLOW HEALTH CARE INC",null,{"$f":"IF(ISNUMBER(FIND(\"MEDICAID\",A4593)),\"X\",\"\")","v":""},{"$f":"IF(ISNUMBER(FIND(\"MEDICARE\",A4593)),\"X\",\"\")","v":""},{"$f":"IF(ISNUMBER(FIND(\"BC/BS\",#REF!)),\"X\",\"\")","v":""}]
["UMR WILLOWWOOD GLOBAL LLC",null,{"$f":"IF(ISNUMBER(FIND(\"MEDICAID\",A4594)),\"X\",\"\")","v":""},{"$f":"IF(ISNUMBER(FIND(\"MEDICARE\",A4594)),\"X\",\"\")","v":""},{"$f":"IF(ISNUMBER(FIND(\"BC/BS\",#REF!)),\"X\",\"\")","v":""}]
["UMR WINAMAC COIL SPRING INC",null,{"$f":"IF(ISNUMBER(FIND(\"MEDICAID\",A4595)),\"X\",\"\")","v":""},{"$f":"IF(ISNUMBER(FIND(\"MEDICARE\",A4595)),\"X\",\"\")","v":""},{"$f":"IF(ISNUMBER(FIND(\"BC/BS\",#REF!)),\"X\",\"\")","v":""}]
["UMR WINDSOR HEALTHCARE COMMUNITIES",null,{"$f":"IF(ISNUMBER(FIND(\"MEDICAID\",A4596)),\"X\",\"\")","v":""},{"$f":"IF(ISNUMBER(FIND(\"MEDICARE\",A4596)),\"X\",\"\")","v":""},{"$f":"IF(ISNUMBER(FIND(\"BC/BS\",#REF!)),\"X\",\"\")","v":""}]
["UMR WINTECH",null,{"$f":"IF(ISNUMBER(FIND(\"MEDICAID\",A4597)),\"X\",\"\")","v":""},{"$f":"IF(ISNUMBER(FIND(\"MEDICARE\",A4597)),\"X\",\"\")","v":""},{"$f":"IF(ISNUMBER(FIND(\"BC/BS\",#REF!)),\"X\",\"\")","v":""}]
["UMR WISCONSIN MASONIC HOME INC",null,{"$f":"IF(ISNUMBER(FIND(\"MEDICAID\",A4598)),\"X\",\"\")","v":""},{"$f":"IF(ISNUMBER(FIND(\"MEDICARE\",A4598)),\"X\",\"\")","v":""},{"$f":"IF(ISNUMBER(FIND(\"BC/BS\",#REF!)),\"X\",\"\")","v":""}]
["UMR WITTE BROTHERS EXCHANGE INC",null,{"$f":"IF(ISNUMBER(FIND(\"MEDICAID\",A4599)),\"X\",\"\")","v":""},{"$f":"IF(ISNUMBER(FIND(\"MEDICARE\",A4599)),\"X\",\"\")","v":""},{"$f":"IF(ISNUMBER(FIND(\"BC/BS\",#REF!)),\"X\",\"\")","v":""}]
["UMR WOMEN'S HEALTH CARE GROUP OF PENNSYLVANIA",null,{"$f":"IF(ISNUMBER(FIND(\"MEDICAID\",A4600)),\"X\",\"\")","v":""},{"$f":"IF(ISNUMBER(FIND(\"MEDICARE\",A4600)),\"X\",\"\")","v":""},{"$f":"IF(ISNUMBER(FIND(\"BC/BS\",#REF!)),\"X\",\"\")","v":""}]
["UMR WONDERS OF WILDLIFE",null,{"$f":"IF(ISNUMBER(FIND(\"MEDICAID\",A4601)),\"X\",\"\")","v":""},{"$f":"IF(ISNUMBER(FIND(\"MEDICARE\",A4601)),\"X\",\"\")","v":""},{"$f":"IF(ISNUMBER(FIND(\"BC/BS\",#REF!)),\"X\",\"\")","v":""}]
["UMR WOODY BOGLER TRUCKING CO",null,{"$f":"IF(ISNUMBER(FIND(\"MEDICAID\",A4602)),\"X\",\"\")","v":""},{"$f":"IF(ISNUMBER(FIND(\"MEDICARE\",A4602)),\"X\",\"\")","v":""},{"$f":"IF(ISNUMBER(FIND(\"BC/BS\",#REF!)),\"X\",\"\")","v":""}]
["UMR WOODY FOLSOM AUTOMOTIVE",null,{"$f":"IF(ISNUMBER(FIND(\"MEDICAID\",A4603)),\"X\",\"\")","v":""},{"$f":"IF(ISNUMBER(FIND(\"MEDICARE\",A4603)),\"X\",\"\")","v":""},{"$f":"IF(ISNUMBER(FIND(\"BC/BS\",#REF!)),\"X\",\"\")","v":""}]
["UMR WORKIVA INC",null,{"$f":"IF(ISNUMBER(FIND(\"MEDICAID\",A4604)),\"X\",\"\")","v":""},{"$f":"IF(ISNUMBER(FIND(\"MEDICARE\",A4604)),\"X\",\"\")","v":""},{"$f":"IF(ISNUMBER(FIND(\"BC/BS\",#REF!)),\"X\",\"\")","v":""}]
["UMR WOW LOGISTICS COMPANY",null,{"$f":"IF(ISNUMBER(FIND(\"MEDICAID\",A4605)),\"X\",\"\")","v":""},{"$f":"IF(ISNUMBER(FIND(\"MEDICARE\",A4605)),\"X\",\"\")","v":""},{"$f":"IF(ISNUMBER(FIND(\"BC/BS\",#REF!)),\"X\",\"\")","v":""}]
["UMR WRENCH GROUP HEALTH WELFARE PLAN",null,{"$f":"IF(ISNUMBER(FIND(\"MEDICAID\",A4606)),\"X\",\"\")","v":""},{"$f":"IF(ISNUMBER(FIND(\"MEDICARE\",A4606)),\"X\",\"\")","v":""},{"$f":"IF(ISNUMBER(FIND(\"BC/BS\",#REF!)),\"X\",\"\")","v":""}]
["UMR WRIGHT MCGILL CO",null,{"$f":"IF(ISNUMBER(FIND(\"MEDICAID\",A4607)),\"X\",\"\")","v":""},{"$f":"IF(ISNUMBER(FIND(\"MEDICARE\",A4607)),\"X\",\"\")","v":""},{"$f":"IF(ISNUMBER(FIND(\"BC/BS\",#REF!)),\"X\",\"\")","v":""}]
["UMR WS PACKAGING GROUP INC",null,{"$f":"IF(ISNUMBER(FIND(\"MEDICAID\",A4608)),\"X\",\"\")","v":""},{"$f":"IF(ISNUMBER(FIND(\"MEDICARE\",A4608)),\"X\",\"\")","v":""},{"$f":"IF(ISNUMBER(FIND(\"BC/BS\",#REF!)),\"X\",\"\")","v":""}]
["UMR WTC HEALTH PROGRAM",null,{"$f":"IF(ISNUMBER(FIND(\"MEDICAID\",A4609)),\"X\",\"\")","v":""},{"$f":"IF(ISNUMBER(FIND(\"MEDICARE\",A4609)),\"X\",\"\")","v":""},{"$f":"IF(ISNUMBER(FIND(\"BC/BS\",#REF!)),\"X\",\"\")","v":""}]
["UMR WV PUBLIC EMPLOYEES INSURANCE AGENCY",null,{"$f":"IF(ISNUMBER(FIND(\"MEDICAID\",A4610)),\"X\",\"\")","v":""},{"$f":"IF(ISNUMBER(FIND(\"MEDICARE\",A4610)),\"X\",\"\")","v":""},{"$f":"IF(ISNUMBER(FIND(\"BC/BS\",#REF!)),\"X\",\"\")","v":""}]
["UMR WYNFORD LOCAL SCHOOLS",null,{"$f":"IF(ISNUMBER(FIND(\"MEDICAID\",A4611)),\"X\",\"\")","v":""},{"$f":"IF(ISNUMBER(FIND(\"MEDICARE\",A4611)),\"X\",\"\")","v":""},{"$f":"IF(ISNUMBER(FIND(\"BC/BS\",#REF!)),\"X\",\"\")","v":""}]
["UMR YAMAMOTO FB ENGINEERING",null,{"$f":"IF(ISNUMBER(FIND(\"MEDICAID\",A4612)),\"X\",\"\")","v":""},{"$f":"IF(ISNUMBER(FIND(\"MEDICARE\",A4612)),\"X\",\"\")","v":""},{"$f":"IF(ISNUMBER(FIND(\"BC/BS\",#REF!)),\"X\",\"\")","v":""}]
["UMR YOUNG LIFE",null,{"$f":"IF(ISNUMBER(FIND(\"MEDICAID\",A4613)),\"X\",\"\")","v":""},{"$f":"IF(ISNUMBER(FIND(\"MEDICARE\",A4613)),\"X\",\"\")","v":""},{"$f":"IF(ISNUMBER(FIND(\"BC/BS\",#REF!)),\"X\",\"\")","v":""}]
["UMR YUM BRANDS INC",null,{"$f":"IF(ISNUMBER(FIND(\"MEDICAID\",A4614)),\"X\",\"\")","v":""},{"$f":"IF(ISNUMBER(FIND(\"MEDICARE\",A4614)),\"X\",\"\")","v":""},{"$f":"IF(ISNUMBER(FIND(\"BC/BS\",#REF!)),\"X\",\"\")","v":""}]
["UMR YUMA REGIONAL MEDICAL CENTER",null,{"$f":"IF(ISNUMBER(FIND(\"MEDICAID\",A4615)),\"X\",\"\")","v":""},{"$f":"IF(ISNUMBER(FIND(\"MEDICARE\",A4615)),\"X\",\"\")","v":""},{"$f":"IF(ISNUMBER(FIND(\"BC/BS\",#REF!)),\"X\",\"\")","v":""}]
["UMR ZERO ZONE INC",null,{"$f":"IF(ISNUMBER(FIND(\"MEDICAID\",A4616)),\"X\",\"\")","v":""},{"$f":"IF(ISNUMBER(FIND(\"MEDICARE\",A4616)),\"X\",\"\")","v":""},{"$f":"IF(ISNUMBER(FIND(\"BC/BS\",#REF!)),\"X\",\"\")","v":""}]
["UMR ZIROUS INC",null,{"$f":"IF(ISNUMBER(FIND(\"MEDICAID\",A4617)),\"X\",\"\")","v":""},{"$f":"IF(ISNUMBER(FIND(\"MEDICARE\",A4617)),\"X\",\"\")","v":""},{"$f":"IF(ISNUMBER(FIND(\"BC/BS\",#REF!)),\"X\",\"\")","v":""}]
["UMR ZS ASSOCIATES INC",null,{"$f":"IF(ISNUMBER(FIND(\"MEDICAID\",A4618)),\"X\",\"\")","v":""},{"$f":"IF(ISNUMBER(FIND(\"MEDICARE\",A4618)),\"X\",\"\")","v":""},{"$f":"IF(ISNUMBER(FIND(\"BC/BS\",#REF!)),\"X\",\"\")","v":""}]
["UMWA HEALTH AND RETIREMENT FUNDS","X",{"$f":"IF(ISNUMBER(FIND(\"MEDICAID\",A4619)),\"X\",\"\")","v":""},{"$f":"IF(ISNUMBER(FIND(\"MEDICARE\",A4619)),\"X\",\"\")","v":""},{"$f":"IF(ISNUMBER(FIND(\"BC/BS\",#REF!)),\"X\",\"\")","v":""}]
["UNDERWRITERS SERVICES CORPORATION","X",{"$f":"IF(ISNUMBER(FIND(\"MEDICAID\",A4620)),\"X\",\"\")","v":""},{"$f":"IF(ISNUMBER(FIND(\"MEDICARE\",A4620)),\"X\",\"\")","v":""},{"$f":"IF(ISNUMBER(FIND(\"BC/BS\",#REF!)),\"X\",\"\")","v":""}]
["UNICARE HEALTH PLAN OF WEST VIRGINIA","X",{"$f":"IF(ISNUMBER(FIND(\"MEDICAID\",A4621)),\"X\",\"\")","v":""},{"$f":"IF(ISNUMBER(FIND(\"MEDICARE\",A4621)),\"X\",\"\")","v":""},{"$f":"IF(ISNUMBER(FIND(\"BC/BS\",#REF!)),\"X\",\"\")","v":""}]
["UNICARE LIFE & HEALTH","X",{"$f":"IF(ISNUMBER(FIND(\"MEDICAID\",A4622)),\"X\",\"\")","v":""},{"$f":"IF(ISNUMBER(FIND(\"MEDICARE\",A4622)),\"X\",\"\")","v":""},{"$f":"IF(ISNUMBER(FIND(\"BC/BS\",#REF!)),\"X\",\"\")","v":""}]
["UNICARE WDS",null,{"$f":"IF(ISNUMBER(FIND(\"MEDICAID\",A4623)),\"X\",\"\")","v":""},{"$f":"IF(ISNUMBER(FIND(\"MEDICARE\",A4623)),\"X\",\"\")","v":""},{"$f":"IF(ISNUMBER(FIND(\"BC/BS\",#REF!)),\"X\",\"\")","v":""}]
["UNIFIED GROUP SERVICES INC","X",{"$f":"IF(ISNUMBER(FIND(\"MEDICAID\",A4624)),\"X\",\"\")","v":""},{"$f":"IF(ISNUMBER(FIND(\"MEDICARE\",A4624)),\"X\",\"\")","v":""},{"$f":"IF(ISNUMBER(FIND(\"BC/BS\",#REF!)),\"X\",\"\")","v":""}]
["UNIFIED LIFE INSURANCE COMPANY (ACTUARIAL MANAGEMENT RESOURCES)","X",{"$f":"IF(ISNUMBER(FIND(\"MEDICAID\",A4625)),\"X\",\"\")","v":""},{"$f":"IF(ISNUMBER(FIND(\"MEDICARE\",A4625)),\"X\",\"\")","v":""},{"$f":"IF(ISNUMBER(FIND(\"BC/BS\",#REF!)),\"X\",\"\")","v":""}]
["UNIFIED PHYSICIANS NETWORK - COOK CO ONLY (ARCADIA SOLUTIONS)","X",{"$f":"IF(ISNUMBER(FIND(\"MEDICAID\",A4626)),\"X\",\"\")","v":""},{"$f":"IF(ISNUMBER(FIND(\"MEDICARE\",A4626)),\"X\",\"\")","v":""},{"$f":"IF(ISNUMBER(FIND(\"BC/BS\",#REF!)),\"X\",\"\")","v":""}]
["UNIFIED PHYSICIANS NETWORK - MA (ARCADIA SOLUTIONS)","X",{"$f":"IF(ISNUMBER(FIND(\"MEDICAID\",A4627)),\"X\",\"\")","v":""},{"$f":"IF(ISNUMBER(FIND(\"MEDICARE\",A4627)),\"X\",\"\")","v":""},{"$f":"IF(ISNUMBER(FIND(\"BC/BS\",#REF!)),\"X\",\"\")","v":""}]
["UNIFIED PHYSICIANS NETWORK (ARCADIA SOLUTIONS)","X",{"$f":"IF(ISNUMBER(FIND(\"MEDICAID\",A4628)),\"X\",\"\")","v":""},{"$f":"IF(ISNUMBER(FIND(\"MEDICARE\",A4628)),\"X\",\"\")","v":""},{"$f":"IF(ISNUMBER(FIND(\"BC/BS\",#REF!)),\"X\",\"\")","v":""}]
["UNION - 1199-PAS (MVP HEALTH CARE)","X",{"$f":"IF(ISNUMBER(FIND(\"MEDICAID\",A4629)),\"X\",\"\")","v":""},{"$f":"IF(ISNUMBER(FIND(\"MEDICARE\",A4629)),\"X\",\"\")","v":""},{"$f":"IF(ISNUMBER(FIND(\"BC/BS\",#REF!)),\"X\",\"\")","v":""}]
["UNION COLLEGE (CDPHP)","X",{"$f":"IF(ISNUMBER(FIND(\"MEDICAID\",A4630)),\"X\",\"\")","v":""},{"$f":"IF(ISNUMBER(FIND(\"MEDICARE\",A4630)),\"X\",\"\")","v":""},{"$f":"IF(ISNUMBER(FIND(\"BC/BS\",#REF!)),\"X\",\"\")","v":""}]
["UNION COUNTY (GEISINGER HEALTH PLAN)","X",{"$f":"IF(ISNUMBER(FIND(\"MEDICAID\",A4631)),\"X\",\"\")","v":""},{"$f":"IF(ISNUMBER(FIND(\"MEDICARE\",A4631)),\"X\",\"\")","v":""},{"$f":"IF(ISNUMBER(FIND(\"BC/BS\",#REF!)),\"X\",\"\")","v":""}]
["UNION COUNTY (MAESTRO HEALTH)",null,{"$f":"IF(ISNUMBER(FIND(\"MEDICAID\",A4632)),\"X\",\"\")","v":""},{"$f":"IF(ISNUMBER(FIND(\"MEDICARE\",A4632)),\"X\",\"\")","v":""},{"$f":"IF(ISNUMBER(FIND(\"BC/BS\",#REF!)),\"X\",\"\")","v":""}]
["UNION FIDELITY LIFE INSURANCE COMPANY (AETNA SSI)","X",{"$f":"IF(ISNUMBER(FIND(\"MEDICAID\",A4633)),\"X\",\"\")","v":""},{"$f":"IF(ISNUMBER(FIND(\"MEDICARE\",A4633)),\"X\",\"\")","v":""},{"$f":"IF(ISNUMBER(FIND(\"BC/BS\",#REF!)),\"X\",\"\")","v":""}]
["UNION LABOR LIFE INSURANCE COMPANY (CHCS)","X",{"$f":"IF(ISNUMBER(FIND(\"MEDICAID\",A4634)),\"X\",\"\")","v":""},{"$f":"IF(ISNUMBER(FIND(\"MEDICARE\",A4634)),\"X\",\"\")","v":""},{"$f":"IF(ISNUMBER(FIND(\"BC/BS\",#REF!)),\"X\",\"\")","v":""}]
["UNION SECURITY INSURANCE COMPANY (AETNA SSI)","X",{"$f":"IF(ISNUMBER(FIND(\"MEDICAID\",A4635)),\"X\",\"\")","v":""},{"$f":"IF(ISNUMBER(FIND(\"MEDICARE\",A4635)),\"X\",\"\")","v":""},{"$f":"IF(ISNUMBER(FIND(\"BC/BS\",#REF!)),\"X\",\"\")","v":""}]
["UNISON HEALTH PLAN OF DELAWARE (UHC)","X",{"$f":"IF(ISNUMBER(FIND(\"MEDICAID\",A4636)),\"X\",\"\")","v":""},{"$f":"IF(ISNUMBER(FIND(\"MEDICARE\",A4636)),\"X\",\"\")","v":""},{"$f":"IF(ISNUMBER(FIND(\"BC/BS\",#REF!)),\"X\",\"\")","v":""}]
["UNITE HERE HEALTH","X",{"$f":"IF(ISNUMBER(FIND(\"MEDICAID\",A4637)),\"X\",\"\")","v":""},{"$f":"IF(ISNUMBER(FIND(\"MEDICARE\",A4637)),\"X\",\"\")","v":""},{"$f":"IF(ISNUMBER(FIND(\"BC/BS\",#REF!)),\"X\",\"\")","v":""}]
["UNITED AMERICAN INSURANCE COMPANY","X",{"$f":"IF(ISNUMBER(FIND(\"MEDICAID\",A4638)),\"X\",\"\")","v":""},{"$f":"IF(ISNUMBER(FIND(\"MEDICARE\",A4638)),\"X\",\"\")","v":""},{"$f":"IF(ISNUMBER(FIND(\"BC/BS\",#REF!)),\"X\",\"\")","v":""}]
["UNITED BEHAVIORAL HEALTH (UHC)","X",{"$f":"IF(ISNUMBER(FIND(\"MEDICAID\",A4639)),\"X\",\"\")","v":""},{"$f":"IF(ISNUMBER(FIND(\"MEDICARE\",A4639)),\"X\",\"\")","v":""},{"$f":"IF(ISNUMBER(FIND(\"BC/BS\",#REF!)),\"X\",\"\")","v":""}]
["UNITED BEHAVIORAL HEALTH CSP OF OHIO (UHC)","X",{"$f":"IF(ISNUMBER(FIND(\"MEDICAID\",A4640)),\"X\",\"\")","v":""},{"$f":"IF(ISNUMBER(FIND(\"MEDICARE\",A4640)),\"X\",\"\")","v":""},{"$f":"IF(ISNUMBER(FIND(\"BC/BS\",#REF!)),\"X\",\"\")","v":""}]
["UNITED CARE MEDICAL GROUP (PROSPECT MEDICAL SYSTEMS)",null,{"$f":"IF(ISNUMBER(FIND(\"MEDICAID\",A4641)),\"X\",\"\")","v":""},{"$f":"IF(ISNUMBER(FIND(\"MEDICARE\",A4641)),\"X\",\"\")","v":""},{"$f":"IF(ISNUMBER(FIND(\"BC/BS\",#REF!)),\"X\",\"\")","v":""}]
["UNITED CONCORDIA COMPANIES INCORPORATED","X",{"$f":"IF(ISNUMBER(FIND(\"MEDICAID\",A4642)),\"X\",\"\")","v":""},{"$f":"IF(ISNUMBER(FIND(\"MEDICARE\",A4642)),\"X\",\"\")","v":""},{"$f":"IF(ISNUMBER(FIND(\"BC/BS\",#REF!)),\"X\",\"\")","v":""}]
["UNITED CONCORDIA COMPANIES INCORPORATED (DENTAL)","X",{"$f":"IF(ISNUMBER(FIND(\"MEDICAID\",A4643)),\"X\",\"\")","v":""},{"$f":"IF(ISNUMBER(FIND(\"MEDICARE\",A4643)),\"X\",\"\")","v":""},{"$f":"IF(ISNUMBER(FIND(\"BC/BS\",#REF!)),\"X\",\"\")","v":""}]
["UNITED FIRE AND CASUALTY","X",{"$f":"IF(ISNUMBER(FIND(\"MEDICAID\",A4644)),\"X\",\"\")","v":""},{"$f":"IF(ISNUMBER(FIND(\"MEDICARE\",A4644)),\"X\",\"\")","v":""},{"$f":"IF(ISNUMBER(FIND(\"BC/BS\",#REF!)),\"X\",\"\")","v":""},null,"X"]
["UNITED GROUP PROGRAMS","X",{"$f":"IF(ISNUMBER(FIND(\"MEDICAID\",A4645)),\"X\",\"\")","v":""},{"$f":"IF(ISNUMBER(FIND(\"MEDICARE\",A4645)),\"X\",\"\")","v":""},{"$f":"IF(ISNUMBER(FIND(\"BC/BS\",#REF!)),\"X\",\"\")","v":""}]
["UNITED HEALTH CENTERS (PINNACLE CLAIMS MANAGEMENT)",null,{"$f":"IF(ISNUMBER(FIND(\"MEDICAID\",A4646)),\"X\",\"\")","v":""},{"$f":"IF(ISNUMBER(FIND(\"MEDICARE\",A4646)),\"X\",\"\")","v":""},{"$f":"IF(ISNUMBER(FIND(\"BC/BS\",#REF!)),\"X\",\"\")","v":""}]
["UNITED NATIONAL LIFE INSURANCE OF AMERICA (GUARANTEE TRUST LIFE INSURANCE COMPANY)","X",{"$f":"IF(ISNUMBER(FIND(\"MEDICAID\",A4647)),\"X\",\"\")","v":""},{"$f":"IF(ISNUMBER(FIND(\"MEDICARE\",A4647)),\"X\",\"\")","v":""},{"$f":"IF(ISNUMBER(FIND(\"BC/BS\",#REF!)),\"X\",\"\")","v":""}]
["UNITED OF OMAHA LIFE INSURANCE COMPANY","X",{"$f":"IF(ISNUMBER(FIND(\"MEDICAID\",A4648)),\"X\",\"\")","v":""},{"$f":"IF(ISNUMBER(FIND(\"MEDICARE\",A4648)),\"X\",\"\")","v":""},{"$f":"IF(ISNUMBER(FIND(\"BC/BS\",#REF!)),\"X\",\"\")","v":""}]
["UNITED STATES FIRE INSURANCE COMPANY (ALLIED NATIONAL)",null,{"$f":"IF(ISNUMBER(FIND(\"MEDICAID\",A4649)),\"X\",\"\")","v":""},{"$f":"IF(ISNUMBER(FIND(\"MEDICARE\",A4649)),\"X\",\"\")","v":""},{"$f":"IF(ISNUMBER(FIND(\"BC/BS\",#REF!)),\"X\",\"\")","v":""}]
["UNITED STATES FIRE INSURANCE COMPANY (IAS ADMIN)","X",{"$f":"IF(ISNUMBER(FIND(\"MEDICAID\",A4650)),\"X\",\"\")","v":""},{"$f":"IF(ISNUMBER(FIND(\"MEDICARE\",A4650)),\"X\",\"\")","v":""},{"$f":"IF(ISNUMBER(FIND(\"BC/BS\",#REF!)),\"X\",\"\")","v":""}]
["UNITED WAY OF ROANOKE (SENTARA)","X",{"$f":"IF(ISNUMBER(FIND(\"MEDICAID\",A4651)),\"X\",\"\")","v":""},{"$f":"IF(ISNUMBER(FIND(\"MEDICARE\",A4651)),\"X\",\"\")","v":""},{"$f":"IF(ISNUMBER(FIND(\"BC/BS\",#REF!)),\"X\",\"\")","v":""}]
["UNITED WORLD LIFE INSURANCE COMPANY","X",{"$f":"IF(ISNUMBER(FIND(\"MEDICAID\",A4652)),\"X\",\"\")","v":""},{"$f":"IF(ISNUMBER(FIND(\"MEDICARE\",A4652)),\"X\",\"\")","v":""},{"$f":"IF(ISNUMBER(FIND(\"BC/BS\",#REF!)),\"X\",\"\")","v":""}]
["UNITEDHEALTHCARE - HRA","X",{"$f":"IF(ISNUMBER(FIND(\"MEDICAID\",A4653)),\"X\",\"\")","v":""},{"$f":"IF(ISNUMBER(FIND(\"MEDICARE\",A4653)),\"X\",\"\")","v":""},{"$f":"IF(ISNUMBER(FIND(\"BC/BS\",#REF!)),\"X\",\"\")","v":""}]
["UNITEDHEALTHCARE BENEFITS OF TEXAS (UHC)","X",{"$f":"IF(ISNUMBER(FIND(\"MEDICAID\",A4654)),\"X\",\"\")","v":""},{"$f":"IF(ISNUMBER(FIND(\"MEDICARE\",A4654)),\"X\",\"\")","v":""},{"$f":"IF(ISNUMBER(FIND(\"BC/BS\",#REF!)),\"X\",\"\")","v":""}]
["UNITEDHEALTHCARE COMMUNITY PLAN - ARIZONA (FKA ARIZONA PHYSICIANS IPA) (UHC)","X",{"$f":"IF(ISNUMBER(FIND(\"MEDICAID\",A4655)),\"X\",\"\")","v":""},{"$f":"IF(ISNUMBER(FIND(\"MEDICARE\",A4655)),\"X\",\"\")","v":""},{"$f":"IF(ISNUMBER(FIND(\"BC/BS\",#REF!)),\"X\",\"\")","v":""}]
["UNITEDHEALTHCARE COMMUNITY PLAN (UHC)","X",{"$f":"IF(ISNUMBER(FIND(\"MEDICAID\",A4656)),\"X\",\"\")","v":""},{"$f":"IF(ISNUMBER(FIND(\"MEDICARE\",A4656)),\"X\",\"\")","v":""},{"$f":"IF(ISNUMBER(FIND(\"BC/BS\",#REF!)),\"X\",\"\")","v":""}]
["UNITEDHEALTHCARE COMMUNITY PLAN INC DUAL (UHC)","X",{"$f":"IF(ISNUMBER(FIND(\"MEDICAID\",A4657)),\"X\",\"\")","v":""},{"$f":"IF(ISNUMBER(FIND(\"MEDICARE\",A4657)),\"X\",\"\")","v":""},{"$f":"IF(ISNUMBER(FIND(\"BC/BS\",#REF!)),\"X\",\"\")","v":""}]
["UNITEDHEALTHCARE COMMUNITY PLAN OF CALIFORNIA (UHC)","X",{"$f":"IF(ISNUMBER(FIND(\"MEDICAID\",A4658)),\"X\",\"\")","v":""},{"$f":"IF(ISNUMBER(FIND(\"MEDICARE\",A4658)),\"X\",\"\")","v":""},{"$f":"IF(ISNUMBER(FIND(\"BC/BS\",#REF!)),\"X\",\"\")","v":""}]
["UNITEDHEALTHCARE COMMUNITY PLAN OF CALIFORNIA DUAL (UHC)","X",{"$f":"IF(ISNUMBER(FIND(\"MEDICAID\",A4659)),\"X\",\"\")","v":""},{"$f":"IF(ISNUMBER(FIND(\"MEDICARE\",A4659)),\"X\",\"\")","v":""},{"$f":"IF(ISNUMBER(FIND(\"BC/BS\",#REF!)),\"X\",\"\")","v":""}]
["UNITEDHEALTHCARE COMMUNITY PLAN OF IOWA (UHC)","X",{"$f":"IF(ISNUMBER(FIND(\"MEDICAID\",A4660)),\"X\",\"\")","v":""},{"$f":"IF(ISNUMBER(FIND(\"MEDICARE\",A4660)),\"X\",\"\")","v":""},{"$f":"IF(ISNUMBER(FIND(\"BC/BS\",#REF!)),\"X\",\"\")","v":""}]
["UNITEDHEALTHCARE COMMUNITY PLAN OF KANSAS (UHC)","X",{"$f":"IF(ISNUMBER(FIND(\"MEDICAID\",A4661)),\"X\",\"\")","v":""},{"$f":"IF(ISNUMBER(FIND(\"MEDICARE\",A4661)),\"X\",\"\")","v":""},{"$f":"IF(ISNUMBER(FIND(\"BC/BS\",#REF!)),\"X\",\"\")","v":""}]
["UNITEDHEALTHCARE COMMUNITY PLAN OF KENTUCKY (UHC)","X",{"$f":"IF(ISNUMBER(FIND(\"MEDICAID\",A4662)),\"X\",\"\")","v":""},{"$f":"IF(ISNUMBER(FIND(\"MEDICARE\",A4662)),\"X\",\"\")","v":""},{"$f":"IF(ISNUMBER(FIND(\"BC/BS\",#REF!)),\"X\",\"\")","v":""}]
["UNITEDHEALTHCARE COMMUNITY PLAN OF NEBRASKA (UHC)","X",{"$f":"IF(ISNUMBER(FIND(\"MEDICAID\",A4663)),\"X\",\"\")","v":""},{"$f":"IF(ISNUMBER(FIND(\"MEDICARE\",A4663)),\"X\",\"\")","v":""},{"$f":"IF(ISNUMBER(FIND(\"BC/BS\",#REF!)),\"X\",\"\")","v":""}]
["UNITEDHEALTHCARE COMMUNITY PLAN OF NORTH CAROLINA (UHC)","X",{"$f":"IF(ISNUMBER(FIND(\"MEDICAID\",A4664)),\"X\",\"\")","v":""},{"$f":"IF(ISNUMBER(FIND(\"MEDICARE\",A4664)),\"X\",\"\")","v":""},{"$f":"IF(ISNUMBER(FIND(\"BC/BS\",#REF!)),\"X\",\"\")","v":""}]
["UNITEDHEALTHCARE COMMUNITY PLAN OF OHIO (UHC)","X",{"$f":"IF(ISNUMBER(FIND(\"MEDICAID\",A4665)),\"X\",\"\")","v":""},{"$f":"IF(ISNUMBER(FIND(\"MEDICARE\",A4665)),\"X\",\"\")","v":""},{"$f":"IF(ISNUMBER(FIND(\"BC/BS\",#REF!)),\"X\",\"\")","v":""}]
["UNITEDHEALTHCARE COMMUNITY PLAN OF TEXAS (UHC)","X",{"$f":"IF(ISNUMBER(FIND(\"MEDICAID\",A4666)),\"X\",\"\")","v":""},{"$f":"IF(ISNUMBER(FIND(\"MEDICARE\",A4666)),\"X\",\"\")","v":""},{"$f":"IF(ISNUMBER(FIND(\"BC/BS\",#REF!)),\"X\",\"\")","v":""}]
["UNITEDHEALTHCARE COMMUNITY PLAN OF THE MIDLANDS (UHC)","X",{"$f":"IF(ISNUMBER(FIND(\"MEDICAID\",A4667)),\"X\",\"\")","v":""},{"$f":"IF(ISNUMBER(FIND(\"MEDICARE\",A4667)),\"X\",\"\")","v":""},{"$f":"IF(ISNUMBER(FIND(\"BC/BS\",#REF!)),\"X\",\"\")","v":""}]
["UNITEDHEALTHCARE COMMUNITY PLAN OF WISCONSIN (UHC)","X",{"$f":"IF(ISNUMBER(FIND(\"MEDICAID\",A4668)),\"X\",\"\")","v":""},{"$f":"IF(ISNUMBER(FIND(\"MEDICARE\",A4668)),\"X\",\"\")","v":""},{"$f":"IF(ISNUMBER(FIND(\"BC/BS\",#REF!)),\"X\",\"\")","v":""}]
["UNITEDHEALTHCARE DUAL COMPLETE OF PENNSYLVANIA (UHC)","X",{"$f":"IF(ISNUMBER(FIND(\"MEDICAID\",A4669)),\"X\",\"\")","v":""},{"$f":"IF(ISNUMBER(FIND(\"MEDICARE\",A4669)),\"X\",\"\")","v":""},{"$f":"IF(ISNUMBER(FIND(\"BC/BS\",#REF!)),\"X\",\"\")","v":""}]
["UNITEDHEALTHCARE INSURANCE COMPANY (STUDENT RESOURCES) (UHC)","X",{"$f":"IF(ISNUMBER(FIND(\"MEDICAID\",A4670)),\"X\",\"\")","v":""},{"$f":"IF(ISNUMBER(FIND(\"MEDICARE\",A4670)),\"X\",\"\")","v":""},{"$f":"IF(ISNUMBER(FIND(\"BC/BS\",#REF!)),\"X\",\"\")","v":""}]
["UNITEDHEALTHCARE INSURANCE COMPANY (UHC)","X",{"$f":"IF(ISNUMBER(FIND(\"MEDICAID\",A4671)),\"X\",\"\")","v":""},{"$f":"IF(ISNUMBER(FIND(\"MEDICARE\",A4671)),\"X\",\"\")","v":""},{"$f":"IF(ISNUMBER(FIND(\"BC/BS\",#REF!)),\"X\",\"\")","v":""}]
["UNITEDHEALTHCARE INSURANCE COMPANY (UHC) (CHCS)","X",{"$f":"IF(ISNUMBER(FIND(\"MEDICAID\",A4672)),\"X\",\"\")","v":""},{"$f":"IF(ISNUMBER(FIND(\"MEDICARE\",A4672)),\"X\",\"\")","v":""},{"$f":"IF(ISNUMBER(FIND(\"BC/BS\",#REF!)),\"X\",\"\")","v":""}]
["UNITEDHEALTHCARE INSURANCE COMPANY AND ITS AFFILIATES (UHC)",null,{"$f":"IF(ISNUMBER(FIND(\"MEDICAID\",A4673)),\"X\",\"\")","v":""},{"$f":"IF(ISNUMBER(FIND(\"MEDICARE\",A4673)),\"X\",\"\")","v":""},{"$f":"IF(ISNUMBER(FIND(\"BC/BS\",#REF!)),\"X\",\"\")","v":""}]
["UNITEDHEALTHCARE INSURANCE COMPANY OF NEW YORK (UHC)","X",{"$f":"IF(ISNUMBER(FIND(\"MEDICAID\",A4674)),\"X\",\"\")","v":""},{"$f":"IF(ISNUMBER(FIND(\"MEDICARE\",A4674)),\"X\",\"\")","v":""},{"$f":"IF(ISNUMBER(FIND(\"BC/BS\",#REF!)),\"X\",\"\")","v":""}]
["UNITEDHEALTHCARE LIFE INSURANCE COMPANY (UHC)","X",{"$f":"IF(ISNUMBER(FIND(\"MEDICAID\",A4675)),\"X\",\"\")","v":""},{"$f":"IF(ISNUMBER(FIND(\"MEDICARE\",A4675)),\"X\",\"\")","v":""},{"$f":"IF(ISNUMBER(FIND(\"BC/BS\",#REF!)),\"X\",\"\")","v":""}]
["UNITEDHEALTHCARE OF ALABAMA (UHC)","X",{"$f":"IF(ISNUMBER(FIND(\"MEDICAID\",A4676)),\"X\",\"\")","v":""},{"$f":"IF(ISNUMBER(FIND(\"MEDICARE\",A4676)),\"X\",\"\")","v":""},{"$f":"IF(ISNUMBER(FIND(\"BC/BS\",#REF!)),\"X\",\"\")","v":""}]
["UNITEDHEALTHCARE OF ARIZONA (UHC)","X",{"$f":"IF(ISNUMBER(FIND(\"MEDICAID\",A4677)),\"X\",\"\")","v":""},{"$f":"IF(ISNUMBER(FIND(\"MEDICARE\",A4677)),\"X\",\"\")","v":""},{"$f":"IF(ISNUMBER(FIND(\"BC/BS\",#REF!)),\"X\",\"\")","v":""}]
["UNITEDHEALTHCARE OF CALIFORNIA (UHC)","X",{"$f":"IF(ISNUMBER(FIND(\"MEDICAID\",A4678)),\"X\",\"\")","v":""},{"$f":"IF(ISNUMBER(FIND(\"MEDICARE\",A4678)),\"X\",\"\")","v":""},{"$f":"IF(ISNUMBER(FIND(\"BC/BS\",#REF!)),\"X\",\"\")","v":""}]
["UNITEDHEALTHCARE OF FLORIDA (UHC)","X",{"$f":"IF(ISNUMBER(FIND(\"MEDICAID\",A4679)),\"X\",\"\")","v":""},{"$f":"IF(ISNUMBER(FIND(\"MEDICARE\",A4679)),\"X\",\"\")","v":""},{"$f":"IF(ISNUMBER(FIND(\"BC/BS\",#REF!)),\"X\",\"\")","v":""}]
["UNITEDHEALTHCARE OF GEORGIA (UHC)","X",{"$f":"IF(ISNUMBER(FIND(\"MEDICAID\",A4680)),\"X\",\"\")","v":""},{"$f":"IF(ISNUMBER(FIND(\"MEDICARE\",A4680)),\"X\",\"\")","v":""},{"$f":"IF(ISNUMBER(FIND(\"BC/BS\",#REF!)),\"X\",\"\")","v":""}]
["UNITEDHEALTHCARE OF ILLINOIS (UHC)","X",{"$f":"IF(ISNUMBER(FIND(\"MEDICAID\",A4681)),\"X\",\"\")","v":""},{"$f":"IF(ISNUMBER(FIND(\"MEDICARE\",A4681)),\"X\",\"\")","v":""},{"$f":"IF(ISNUMBER(FIND(\"BC/BS\",#REF!)),\"X\",\"\")","v":""}]
["UNITEDHEALTHCARE OF LOUISIANA (UHC)","X",{"$f":"IF(ISNUMBER(FIND(\"MEDICAID\",A4682)),\"X\",\"\")","v":""},{"$f":"IF(ISNUMBER(FIND(\"MEDICARE\",A4682)),\"X\",\"\")","v":""},{"$f":"IF(ISNUMBER(FIND(\"BC/BS\",#REF!)),\"X\",\"\")","v":""}]
["UNITEDHEALTHCARE OF NEW ENGLAND","X",{"$f":"IF(ISNUMBER(FIND(\"MEDICAID\",A4683)),\"X\",\"\")","v":""},{"$f":"IF(ISNUMBER(FIND(\"MEDICARE\",A4683)),\"X\",\"\")","v":""},{"$f":"IF(ISNUMBER(FIND(\"BC/BS\",#REF!)),\"X\",\"\")","v":""}]
["UNITEDHEALTHCARE OF NEW YORK (UHC)","X",{"$f":"IF(ISNUMBER(FIND(\"MEDICAID\",A4684)),\"X\",\"\")","v":""},{"$f":"IF(ISNUMBER(FIND(\"MEDICARE\",A4684)),\"X\",\"\")","v":""},{"$f":"IF(ISNUMBER(FIND(\"BC/BS\",#REF!)),\"X\",\"\")","v":""}]
["UNITEDHEALTHCARE OF OKLAHOMA (UHC)","X",{"$f":"IF(ISNUMBER(FIND(\"MEDICAID\",A4685)),\"X\",\"\")","v":""},{"$f":"IF(ISNUMBER(FIND(\"MEDICARE\",A4685)),\"X\",\"\")","v":""},{"$f":"IF(ISNUMBER(FIND(\"BC/BS\",#REF!)),\"X\",\"\")","v":""}]
["UNITEDHEALTHCARE OF OREGON (UHC)","X",{"$f":"IF(ISNUMBER(FIND(\"MEDICAID\",A4686)),\"X\",\"\")","v":""},{"$f":"IF(ISNUMBER(FIND(\"MEDICARE\",A4686)),\"X\",\"\")","v":""},{"$f":"IF(ISNUMBER(FIND(\"BC/BS\",#REF!)),\"X\",\"\")","v":""}]
["UNITEDHEALTHCARE OF PENNSYLVANIA (UHC)","X",{"$f":"IF(ISNUMBER(FIND(\"MEDICAID\",A4687)),\"X\",\"\")","v":""},{"$f":"IF(ISNUMBER(FIND(\"MEDICARE\",A4687)),\"X\",\"\")","v":""},{"$f":"IF(ISNUMBER(FIND(\"BC/BS\",#REF!)),\"X\",\"\")","v":""}]
["UNITEDHEALTHCARE OF TEXAS (UHC)","X",{"$f":"IF(ISNUMBER(FIND(\"MEDICAID\",A4688)),\"X\",\"\")","v":""},{"$f":"IF(ISNUMBER(FIND(\"MEDICARE\",A4688)),\"X\",\"\")","v":""},{"$f":"IF(ISNUMBER(FIND(\"BC/BS\",#REF!)),\"X\",\"\")","v":""}]
["UNITEDHEALTHCARE OF THE MIDATLANTIC (UHC)","X",{"$f":"IF(ISNUMBER(FIND(\"MEDICAID\",A4689)),\"X\",\"\")","v":""},{"$f":"IF(ISNUMBER(FIND(\"MEDICARE\",A4689)),\"X\",\"\")","v":""},{"$f":"IF(ISNUMBER(FIND(\"BC/BS\",#REF!)),\"X\",\"\")","v":""}]
["UNITEDHEALTHCARE OF THE MIDWEST (UHC)","X",{"$f":"IF(ISNUMBER(FIND(\"MEDICAID\",A4690)),\"X\",\"\")","v":""},{"$f":"IF(ISNUMBER(FIND(\"MEDICARE\",A4690)),\"X\",\"\")","v":""},{"$f":"IF(ISNUMBER(FIND(\"BC/BS\",#REF!)),\"X\",\"\")","v":""}]
["UNITEDHEALTHCARE OF WASHINGTON (UHC)","X",{"$f":"IF(ISNUMBER(FIND(\"MEDICAID\",A4691)),\"X\",\"\")","v":""},{"$f":"IF(ISNUMBER(FIND(\"MEDICARE\",A4691)),\"X\",\"\")","v":""},{"$f":"IF(ISNUMBER(FIND(\"BC/BS\",#REF!)),\"X\",\"\")","v":""}]
["UNITEDHEALTHCARE OF WISCONSIN (UHC)","X",{"$f":"IF(ISNUMBER(FIND(\"MEDICAID\",A4692)),\"X\",\"\")","v":""},{"$f":"IF(ISNUMBER(FIND(\"MEDICARE\",A4692)),\"X\",\"\")","v":""},{"$f":"IF(ISNUMBER(FIND(\"BC/BS\",#REF!)),\"X\",\"\")","v":""}]
["UNITEDHEALTHCARE PLAN OF THE RIVER VALLEY (UHC)","X",{"$f":"IF(ISNUMBER(FIND(\"MEDICAID\",A4693)),\"X\",\"\")","v":""},{"$f":"IF(ISNUMBER(FIND(\"MEDICARE\",A4693)),\"X\",\"\")","v":""},{"$f":"IF(ISNUMBER(FIND(\"BC/BS\",#REF!)),\"X\",\"\")","v":""}]
["UNITEDHEALTHCARE SERVICES (UHC)","X",{"$f":"IF(ISNUMBER(FIND(\"MEDICAID\",A4694)),\"X\",\"\")","v":""},{"$f":"IF(ISNUMBER(FIND(\"MEDICARE\",A4694)),\"X\",\"\")","v":""},{"$f":"IF(ISNUMBER(FIND(\"BC/BS\",#REF!)),\"X\",\"\")","v":""}]
["UNITEDHEALTHCARE SERVICES INC (STUDENT RESOURCES) (UHC)","X",{"$f":"IF(ISNUMBER(FIND(\"MEDICAID\",A4695)),\"X\",\"\")","v":""},{"$f":"IF(ISNUMBER(FIND(\"MEDICARE\",A4695)),\"X\",\"\")","v":""},{"$f":"IF(ISNUMBER(FIND(\"BC/BS\",#REF!)),\"X\",\"\")","v":""}]
["UNITEDHEALTHCARE SERVICES INC AND ITS AFFILIATES (UHC)",null,{"$f":"IF(ISNUMBER(FIND(\"MEDICAID\",A4696)),\"X\",\"\")","v":""},{"$f":"IF(ISNUMBER(FIND(\"MEDICARE\",A4696)),\"X\",\"\")","v":""},{"$f":"IF(ISNUMBER(FIND(\"BC/BS\",#REF!)),\"X\",\"\")","v":""}]
["UNITEDHEATHCARE INSURANCE COMPANY (UHC)","X",{"$f":"IF(ISNUMBER(FIND(\"MEDICAID\",A4697)),\"X\",\"\")","v":""},{"$f":"IF(ISNUMBER(FIND(\"MEDICARE\",A4697)),\"X\",\"\")","v":""},{"$f":"IF(ISNUMBER(FIND(\"BC/BS\",#REF!)),\"X\",\"\")","v":""}]
["UNITY BPO ASO (PRESBYTERIAN HEALTH PLAN)","X",{"$f":"IF(ISNUMBER(FIND(\"MEDICAID\",A4698)),\"X\",\"\")","v":""},{"$f":"IF(ISNUMBER(FIND(\"MEDICARE\",A4698)),\"X\",\"\")","v":""},{"$f":"IF(ISNUMBER(FIND(\"BC/BS\",#REF!)),\"X\",\"\")","v":""}]
["UNITYPOINT HEALTH PLUS (ARCADIA SOLUTIONS)","X",{"$f":"IF(ISNUMBER(FIND(\"MEDICAID\",A4699)),\"X\",\"\")","v":""},{"$f":"IF(ISNUMBER(FIND(\"MEDICARE\",A4699)),\"X\",\"\")","v":""},{"$f":"IF(ISNUMBER(FIND(\"BC/BS\",#REF!)),\"X\",\"\")","v":""}]
["UNIVERA HEALTHCARE","X",{"$f":"IF(ISNUMBER(FIND(\"MEDICAID\",A4700)),\"X\",\"\")","v":""},{"$f":"IF(ISNUMBER(FIND(\"MEDICARE\",A4700)),\"X\",\"\")","v":""},{"$f":"IF(ISNUMBER(FIND(\"BC/BS\",#REF!)),\"X\",\"\")","v":""}]
["UNIVERSAL BENEFITS LLC (TRANSAMERICA)",null,{"$f":"IF(ISNUMBER(FIND(\"MEDICAID\",A4701)),\"X\",\"\")","v":""},{"$f":"IF(ISNUMBER(FIND(\"MEDICARE\",A4701)),\"X\",\"\")","v":""},{"$f":"IF(ISNUMBER(FIND(\"BC/BS\",#REF!)),\"X\",\"\")","v":""}]
["UNIVERSAL FIDELITY LIFE INSURANCE COMPANY","X",{"$f":"IF(ISNUMBER(FIND(\"MEDICAID\",A4702)),\"X\",\"\")","v":""},{"$f":"IF(ISNUMBER(FIND(\"MEDICARE\",A4702)),\"X\",\"\")","v":""},{"$f":"IF(ISNUMBER(FIND(\"BC/BS\",#REF!)),\"X\",\"\")","v":""}]
["UNIVERSAL HEALTHCARE IPA INC","X",{"$f":"IF(ISNUMBER(FIND(\"MEDICAID\",A4703)),\"X\",\"\")","v":""},{"$f":"IF(ISNUMBER(FIND(\"MEDICARE\",A4703)),\"X\",\"\")","v":""},{"$f":"IF(ISNUMBER(FIND(\"BC/BS\",#REF!)),\"X\",\"\")","v":""}]
["UNIVERSITY HEALTH ALLIANCE (UHA)","X",{"$f":"IF(ISNUMBER(FIND(\"MEDICAID\",A4704)),\"X\",\"\")","v":""},{"$f":"IF(ISNUMBER(FIND(\"MEDICARE\",A4704)),\"X\",\"\")","v":""},{"$f":"IF(ISNUMBER(FIND(\"BC/BS\",#REF!)),\"X\",\"\")","v":""}]
["UNIVERSITY HEALTH PLANS (UNIVERSITY OF UTAH HEALTH PLANS)","X",{"$f":"IF(ISNUMBER(FIND(\"MEDICAID\",A4705)),\"X\",\"\")","v":""},{"$f":"IF(ISNUMBER(FIND(\"MEDICARE\",A4705)),\"X\",\"\")","v":""},{"$f":"IF(ISNUMBER(FIND(\"BC/BS\",#REF!)),\"X\",\"\")","v":""}]
["UNIVERSITY HOSPITALS (CONTIGO HEALTH)",null,{"$f":"IF(ISNUMBER(FIND(\"MEDICAID\",A4706)),\"X\",\"\")","v":""},{"$f":"IF(ISNUMBER(FIND(\"MEDICARE\",A4706)),\"X\",\"\")","v":""},{"$f":"IF(ISNUMBER(FIND(\"BC/BS\",#REF!)),\"X\",\"\")","v":""}]
["UNIVERSITY OF ARIZONA HEALTH PLANS",null,{"$f":"IF(ISNUMBER(FIND(\"MEDICAID\",A4707)),\"X\",\"\")","v":""},{"$f":"IF(ISNUMBER(FIND(\"MEDICARE\",A4707)),\"X\",\"\")","v":""},{"$f":"IF(ISNUMBER(FIND(\"BC/BS\",#REF!)),\"X\",\"\")","v":""}]
["UNIVERSITY OF ILLINOIS CAMPUS CARE (INNOVISTA HEALTH)","X",{"$f":"IF(ISNUMBER(FIND(\"MEDICAID\",A4708)),\"X\",\"\")","v":""},{"$f":"IF(ISNUMBER(FIND(\"MEDICARE\",A4708)),\"X\",\"\")","v":""},{"$f":"IF(ISNUMBER(FIND(\"BC/BS\",#REF!)),\"X\",\"\")","v":""}]
["UNIVERSITY OF ILLINOIS COMMERCIAL HMO (INNOVISTA HEALTH)","X",{"$f":"IF(ISNUMBER(FIND(\"MEDICAID\",A4709)),\"X\",\"\")","v":""},{"$f":"IF(ISNUMBER(FIND(\"MEDICARE\",A4709)),\"X\",\"\")","v":""},{"$f":"IF(ISNUMBER(FIND(\"BC/BS\",#REF!)),\"X\",\"\")","v":""}]
["UNIVERSITY OF MARYLAND HEALTH PARTNERS","X",{"$f":"IF(ISNUMBER(FIND(\"MEDICAID\",A4710)),\"X\",\"\")","v":""},{"$f":"IF(ISNUMBER(FIND(\"MEDICARE\",A4710)),\"X\",\"\")","v":""},{"$f":"IF(ISNUMBER(FIND(\"BC/BS\",#REF!)),\"X\",\"\")","v":""}]
["UNIVERSITY OF SOUTHERN CALIFORNIA (HEALTHCOMP)","X",{"$f":"IF(ISNUMBER(FIND(\"MEDICAID\",A4711)),\"X\",\"\")","v":""},{"$f":"IF(ISNUMBER(FIND(\"MEDICARE\",A4711)),\"X\",\"\")","v":""},{"$f":"IF(ISNUMBER(FIND(\"BC/BS\",#REF!)),\"X\",\"\")","v":""}]
["UNIVERSITY OF UTAH HEALTH INSURANCE PLANS","X",{"$f":"IF(ISNUMBER(FIND(\"MEDICAID\",A4712)),\"X\",\"\")","v":""},{"$f":"IF(ISNUMBER(FIND(\"MEDICARE\",A4712)),\"X\",\"\")","v":""},{"$f":"IF(ISNUMBER(FIND(\"BC/BS\",#REF!)),\"X\",\"\")","v":""}]
["UNIVERSITY ORTHOPAEDIC SERVICES INC (INDEPENDENT HEALTH)",null,{"$f":"IF(ISNUMBER(FIND(\"MEDICAID\",A4713)),\"X\",\"\")","v":""},{"$f":"IF(ISNUMBER(FIND(\"MEDICARE\",A4713)),\"X\",\"\")","v":""},{"$f":"IF(ISNUMBER(FIND(\"BC/BS\",#REF!)),\"X\",\"\")","v":""}]
["UNM ASO (PRESBYTERIAN HEALTH PLAN)","X",{"$f":"IF(ISNUMBER(FIND(\"MEDICAID\",A4714)),\"X\",\"\")","v":""},{"$f":"IF(ISNUMBER(FIND(\"MEDICARE\",A4714)),\"X\",\"\")","v":""},{"$f":"IF(ISNUMBER(FIND(\"BC/BS\",#REF!)),\"X\",\"\")","v":""}]
["UPLAND MEDICAL GROUP (PROSPECT MEDICAL SYSTEMS)","X",{"$f":"IF(ISNUMBER(FIND(\"MEDICAID\",A4715)),\"X\",\"\")","v":""},{"$f":"IF(ISNUMBER(FIND(\"MEDICARE\",A4715)),\"X\",\"\")","v":""},{"$f":"IF(ISNUMBER(FIND(\"BC/BS\",#REF!)),\"X\",\"\")","v":""}]
["UPMC BENEFIT MANAGEMENT SERVICES INC","X",{"$f":"IF(ISNUMBER(FIND(\"MEDICAID\",A4716)),\"X\",\"\")","v":""},{"$f":"IF(ISNUMBER(FIND(\"MEDICARE\",A4716)),\"X\",\"\")","v":""},{"$f":"IF(ISNUMBER(FIND(\"BC/BS\",#REF!)),\"X\",\"\")","v":""}]
["UPMC HEALTH PLAN","X",{"$f":"IF(ISNUMBER(FIND(\"MEDICAID\",A4717)),\"X\",\"\")","v":""},{"$f":"IF(ISNUMBER(FIND(\"MEDICARE\",A4717)),\"X\",\"\")","v":""},{"$f":"IF(ISNUMBER(FIND(\"BC/BS\",#REF!)),\"X\",\"\")","v":""}]
["UPPER PENINSULA HEALTH PLAN","X",{"$f":"IF(ISNUMBER(FIND(\"MEDICAID\",A4718)),\"X\",\"\")","v":""},{"$f":"IF(ISNUMBER(FIND(\"MEDICARE\",A4718)),\"X\",\"\")","v":""},{"$f":"IF(ISNUMBER(FIND(\"BC/BS\",#REF!)),\"X\",\"\")","v":""}]
["US ACUTE CARE SOLUTIONS (CONTIGO HEALTH)",null,{"$f":"IF(ISNUMBER(FIND(\"MEDICAID\",A4719)),\"X\",\"\")","v":""},{"$f":"IF(ISNUMBER(FIND(\"MEDICARE\",A4719)),\"X\",\"\")","v":""},{"$f":"IF(ISNUMBER(FIND(\"BC/BS\",#REF!)),\"X\",\"\")","v":""}]
["US BENEFITS","X",{"$f":"IF(ISNUMBER(FIND(\"MEDICAID\",A4720)),\"X\",\"\")","v":""},{"$f":"IF(ISNUMBER(FIND(\"MEDICARE\",A4720)),\"X\",\"\")","v":""},{"$f":"IF(ISNUMBER(FIND(\"BC/BS\",#REF!)),\"X\",\"\")","v":""}]
["US FAMILY HEALTH PLAN AT PACMED (USFHP)","X",{"$f":"IF(ISNUMBER(FIND(\"MEDICAID\",A4721)),\"X\",\"\")","v":""},{"$f":"IF(ISNUMBER(FIND(\"MEDICARE\",A4721)),\"X\",\"\")","v":""},{"$f":"IF(ISNUMBER(FIND(\"BC/BS\",#REF!)),\"X\",\"\")","v":""}]
["US FAMILY HEALTH PLAN AT ST. VINCENT CATHOLIC MEDICAL CENTERS OF NEW YORK (USFHP) (SVCMC)","X",{"$f":"IF(ISNUMBER(FIND(\"MEDICAID\",A4722)),\"X\",\"\")","v":""},{"$f":"IF(ISNUMBER(FIND(\"MEDICARE\",A4722)),\"X\",\"\")","v":""},{"$f":"IF(ISNUMBER(FIND(\"BC/BS\",#REF!)),\"X\",\"\")","v":""}]
["US HYDRATIONS","X",{"$f":"IF(ISNUMBER(FIND(\"MEDICAID\",A4723)),\"X\",\"\")","v":""},{"$f":"IF(ISNUMBER(FIND(\"MEDICARE\",A4723)),\"X\",\"\")","v":""},{"$f":"IF(ISNUMBER(FIND(\"BC/BS\",#REF!)),\"X\",\"\")","v":""}]
["US LUMBER GROUP LLC (HEALTHSCOPE BENEFITS)",null,{"$f":"IF(ISNUMBER(FIND(\"MEDICAID\",A4724)),\"X\",\"\")","v":""},{"$f":"IF(ISNUMBER(FIND(\"MEDICARE\",A4724)),\"X\",\"\")","v":""},{"$f":"IF(ISNUMBER(FIND(\"BC/BS\",#REF!)),\"X\",\"\")","v":""}]
["US MANAGERS (US HEALTH PLAN ADMINISTRATORS)",null,{"$f":"IF(ISNUMBER(FIND(\"MEDICAID\",A4725)),\"X\",\"\")","v":""},{"$f":"IF(ISNUMBER(FIND(\"MEDICARE\",A4725)),\"X\",\"\")","v":""},{"$f":"IF(ISNUMBER(FIND(\"BC/BS\",#REF!)),\"X\",\"\")","v":""}]
["US SCRIPT INC","X",{"$f":"IF(ISNUMBER(FIND(\"MEDICAID\",A4726)),\"X\",\"\")","v":""},{"$f":"IF(ISNUMBER(FIND(\"MEDICARE\",A4726)),\"X\",\"\")","v":""},{"$f":"IF(ISNUMBER(FIND(\"BC/BS\",#REF!)),\"X\",\"\")","v":""}]
["USAA (CHCS)","X",{"$f":"IF(ISNUMBER(FIND(\"MEDICAID\",A4727)),\"X\",\"\")","v":""},{"$f":"IF(ISNUMBER(FIND(\"MEDICARE\",A4727)),\"X\",\"\")","v":""},{"$f":"IF(ISNUMBER(FIND(\"BC/BS\",#REF!)),\"X\",\"\")","v":""}]
["USAA LIFE INSURANCE COMPANY (CHCS)",null,{"$f":"IF(ISNUMBER(FIND(\"MEDICAID\",A4728)),\"X\",\"\")","v":""},{"$f":"IF(ISNUMBER(FIND(\"MEDICARE\",A4728)),\"X\",\"\")","v":""},{"$f":"IF(ISNUMBER(FIND(\"BC/BS\",#REF!)),\"X\",\"\")","v":""}]
["USABLE CORP DBA USAA (BCBS OF ARKANSAS)","X",{"$f":"IF(ISNUMBER(FIND(\"MEDICAID\",A4729)),\"X\",\"\")","v":""},{"$f":"IF(ISNUMBER(FIND(\"MEDICARE\",A4729)),\"X\",\"\")","v":""},"X"]
["USABLE MUTUAL INSURANCE COMPANY (BCBS OF ARKANSAS)","X",{"$f":"IF(ISNUMBER(FIND(\"MEDICAID\",A4730)),\"X\",\"\")","v":""},{"$f":"IF(ISNUMBER(FIND(\"MEDICARE\",A4730)),\"X\",\"\")","v":""},"X"]
["USC VERDUGO HILLS HOSPITAL (HEALTHCOMP)",null,{"$f":"IF(ISNUMBER(FIND(\"MEDICAID\",A4731)),\"X\",\"\")","v":""},{"$f":"IF(ISNUMBER(FIND(\"MEDICARE\",A4731)),\"X\",\"\")","v":""},{"$f":"IF(ISNUMBER(FIND(\"BC/BS\",#REF!)),\"X\",\"\")","v":""}]
["UTAH UFCW 711 HEALTH & WELFARE (SOUTHWEST SERVICE ADMINISTRATORS)",null,{"$f":"IF(ISNUMBER(FIND(\"MEDICAID\",A4732)),\"X\",\"\")","v":""},{"$f":"IF(ISNUMBER(FIND(\"MEDICARE\",A4732)),\"X\",\"\")","v":""},{"$f":"IF(ISNUMBER(FIND(\"BC/BS\",#REF!)),\"X\",\"\")","v":""}]
["UVA HEALTH (AMERIBEN)",null,{"$f":"IF(ISNUMBER(FIND(\"MEDICAID\",A4733)),\"X\",\"\")","v":""},{"$f":"IF(ISNUMBER(FIND(\"MEDICARE\",A4733)),\"X\",\"\")","v":""},{"$f":"IF(ISNUMBER(FIND(\"BC/BS\",#REF!)),\"X\",\"\")","v":""}]
["UVALDE COUNTY TREASURER (GROUP & PENSION ADMIN)","X",{"$f":"IF(ISNUMBER(FIND(\"MEDICAID\",A4734)),\"X\",\"\")","v":""},{"$f":"IF(ISNUMBER(FIND(\"MEDICARE\",A4734)),\"X\",\"\")","v":""},{"$f":"IF(ISNUMBER(FIND(\"BC/BS\",#REF!)),\"X\",\"\")","v":""}]
["UWAJIMAYA INC (HEALTHCOMP)","X",{"$f":"IF(ISNUMBER(FIND(\"MEDICAID\",A4735)),\"X\",\"\")","v":""},{"$f":"IF(ISNUMBER(FIND(\"MEDICARE\",A4735)),\"X\",\"\")","v":""},{"$f":"IF(ISNUMBER(FIND(\"BC/BS\",#REF!)),\"X\",\"\")","v":""}]
["VA BEACH MUNICIPALITIES (SENTARA)","X",{"$f":"IF(ISNUMBER(FIND(\"MEDICAID\",A4736)),\"X\",\"\")","v":""},{"$f":"IF(ISNUMBER(FIND(\"MEDICARE\",A4736)),\"X\",\"\")","v":""},{"$f":"IF(ISNUMBER(FIND(\"BC/BS\",#REF!)),\"X\",\"\")","v":""}]
["VA CENTRAL IOWA HEALTH CARE",null,{"$f":"IF(ISNUMBER(FIND(\"MEDICAID\",A4737)),\"X\",\"\")","v":""},{"$f":"IF(ISNUMBER(FIND(\"MEDICARE\",A4737)),\"X\",\"\")","v":""},{"$f":"IF(ISNUMBER(FIND(\"BC/BS\",#REF!)),\"X\",\"\")","v":""}]
["VA CHICAGO HEALTH CARE SYSTEM",null,{"$f":"IF(ISNUMBER(FIND(\"MEDICAID\",A4738)),\"X\",\"\")","v":""},{"$f":"IF(ISNUMBER(FIND(\"MEDICARE\",A4738)),\"X\",\"\")","v":""},{"$f":"IF(ISNUMBER(FIND(\"BC/BS\",#REF!)),\"X\",\"\")","v":""}]
["VA ILLIANA HEALTH CARE SYSTEM",null,{"$f":"IF(ISNUMBER(FIND(\"MEDICAID\",A4739)),\"X\",\"\")","v":""},{"$f":"IF(ISNUMBER(FIND(\"MEDICARE\",A4739)),\"X\",\"\")","v":""},{"$f":"IF(ISNUMBER(FIND(\"BC/BS\",#REF!)),\"X\",\"\")","v":""}]
["VA MARYLAND HEALTH CARE SYSTEM - VAMC BALTIMORE",null,{"$f":"IF(ISNUMBER(FIND(\"MEDICAID\",A4740)),\"X\",\"\")","v":""},{"$f":"IF(ISNUMBER(FIND(\"MEDICARE\",A4740)),\"X\",\"\")","v":""},{"$f":"IF(ISNUMBER(FIND(\"BC/BS\",#REF!)),\"X\",\"\")","v":""}]
["VA MONTANA HEALTH CARE SYSTEM",null,{"$f":"IF(ISNUMBER(FIND(\"MEDICAID\",A4741)),\"X\",\"\")","v":""},{"$f":"IF(ISNUMBER(FIND(\"MEDICARE\",A4741)),\"X\",\"\")","v":""},{"$f":"IF(ISNUMBER(FIND(\"BC/BS\",#REF!)),\"X\",\"\")","v":""}]
["VA NORTHERN CALIFORNIA HEALTH CARE SYSTEM","X",{"$f":"IF(ISNUMBER(FIND(\"MEDICAID\",A4742)),\"X\",\"\")","v":""},{"$f":"IF(ISNUMBER(FIND(\"MEDICARE\",A4742)),\"X\",\"\")","v":""},{"$f":"IF(ISNUMBER(FIND(\"BC/BS\",#REF!)),\"X\",\"\")","v":""}]
["VA PUGET SOUND HEALTH CARE SYSTEM",null,{"$f":"IF(ISNUMBER(FIND(\"MEDICAID\",A4743)),\"X\",\"\")","v":""},{"$f":"IF(ISNUMBER(FIND(\"MEDICARE\",A4743)),\"X\",\"\")","v":""},{"$f":"IF(ISNUMBER(FIND(\"BC/BS\",#REF!)),\"X\",\"\")","v":""}]
["VA ROSEBURG HEALTH CARE SYSTEM",null,{"$f":"IF(ISNUMBER(FIND(\"MEDICAID\",A4744)),\"X\",\"\")","v":""},{"$f":"IF(ISNUMBER(FIND(\"MEDICARE\",A4744)),\"X\",\"\")","v":""},{"$f":"IF(ISNUMBER(FIND(\"BC/BS\",#REF!)),\"X\",\"\")","v":""}]
["VACATION SALES ASSOCIATES (SENTARA)","X",{"$f":"IF(ISNUMBER(FIND(\"MEDICAID\",A4745)),\"X\",\"\")","v":""},{"$f":"IF(ISNUMBER(FIND(\"MEDICARE\",A4745)),\"X\",\"\")","v":""},{"$f":"IF(ISNUMBER(FIND(\"BC/BS\",#REF!)),\"X\",\"\")","v":""}]
["VALLEY CARE IPA","X",{"$f":"IF(ISNUMBER(FIND(\"MEDICAID\",A4746)),\"X\",\"\")","v":""},{"$f":"IF(ISNUMBER(FIND(\"MEDICARE\",A4746)),\"X\",\"\")","v":""},{"$f":"IF(ISNUMBER(FIND(\"BC/BS\",#REF!)),\"X\",\"\")","v":""}]
["VALLEY OIL CORPORATION (SENTARA)",null,{"$f":"IF(ISNUMBER(FIND(\"MEDICAID\",A4747)),\"X\",\"\")","v":""},{"$f":"IF(ISNUMBER(FIND(\"MEDICARE\",A4747)),\"X\",\"\")","v":""},{"$f":"IF(ISNUMBER(FIND(\"BC/BS\",#REF!)),\"X\",\"\")","v":""}]
["VALLEY PHYSICIANS NETWORK DBA OPTUM (NAMM CALIFORNIA)","X",{"$f":"IF(ISNUMBER(FIND(\"MEDICAID\",A4748)),\"X\",\"\")","v":""},{"$f":"IF(ISNUMBER(FIND(\"MEDICARE\",A4748)),\"X\",\"\")","v":""},{"$f":"IF(ISNUMBER(FIND(\"BC/BS\",#REF!)),\"X\",\"\")","v":""}]
["VALLEY PRESBYTERIAN HOSPITAL (MEDPOINT MANAGEMENT)","X",{"$f":"IF(ISNUMBER(FIND(\"MEDICAID\",A4749)),\"X\",\"\")","v":""},{"$f":"IF(ISNUMBER(FIND(\"MEDICARE\",A4749)),\"X\",\"\")","v":""},{"$f":"IF(ISNUMBER(FIND(\"BC/BS\",#REF!)),\"X\",\"\")","v":""}]
["VALLEY TELEPHONE CO-OP INC (GROUP & PENSION ADMIN)","X",{"$f":"IF(ISNUMBER(FIND(\"MEDICAID\",A4750)),\"X\",\"\")","v":""},{"$f":"IF(ISNUMBER(FIND(\"MEDICARE\",A4750)),\"X\",\"\")","v":""},{"$f":"IF(ISNUMBER(FIND(\"BC/BS\",#REF!)),\"X\",\"\")","v":""}]
["VALLEY TRUCK PARTS (ASR HEALTH BENEFITS)","X",{"$f":"IF(ISNUMBER(FIND(\"MEDICAID\",A4751)),\"X\",\"\")","v":""},{"$f":"IF(ISNUMBER(FIND(\"MEDICARE\",A4751)),\"X\",\"\")","v":""},{"$f":"IF(ISNUMBER(FIND(\"BC/BS\",#REF!)),\"X\",\"\")","v":""}]
["VALOR HEALTH PLAN",null,{"$f":"IF(ISNUMBER(FIND(\"MEDICAID\",A4752)),\"X\",\"\")","v":""},{"$f":"IF(ISNUMBER(FIND(\"MEDICARE\",A4752)),\"X\",\"\")","v":""},{"$f":"IF(ISNUMBER(FIND(\"BC/BS\",#REF!)),\"X\",\"\")","v":""}]
["VANGUARD FURNITURE (THE HEALH PLAN)",null,{"$f":"IF(ISNUMBER(FIND(\"MEDICAID\",A4753)),\"X\",\"\")","v":""},{"$f":"IF(ISNUMBER(FIND(\"MEDICARE\",A4753)),\"X\",\"\")","v":""},{"$f":"IF(ISNUMBER(FIND(\"BC/BS\",#REF!)),\"X\",\"\")","v":""}]
["VANGUARD RESOURCES EBPT (90 DEGREE BENEFITS HOUSTON - ENTRUST)",null,{"$f":"IF(ISNUMBER(FIND(\"MEDICAID\",A4754)),\"X\",\"\")","v":""},{"$f":"IF(ISNUMBER(FIND(\"MEDICARE\",A4754)),\"X\",\"\")","v":""},{"$f":"IF(ISNUMBER(FIND(\"BC/BS\",#REF!)),\"X\",\"\")","v":""}]
["VANTAGE HEALTH PLAN","X",{"$f":"IF(ISNUMBER(FIND(\"MEDICAID\",A4755)),\"X\",\"\")","v":""},{"$f":"IF(ISNUMBER(FIND(\"MEDICARE\",A4755)),\"X\",\"\")","v":""},{"$f":"IF(ISNUMBER(FIND(\"BC/BS\",#REF!)),\"X\",\"\")","v":""}]
["VANTAGE MEDICAL GROUP (PROSPECT MEDICAL SYSTEMS)","X",{"$f":"IF(ISNUMBER(FIND(\"MEDICAID\",A4756)),\"X\",\"\")","v":""},{"$f":"IF(ISNUMBER(FIND(\"MEDICARE\",A4756)),\"X\",\"\")","v":""},{"$f":"IF(ISNUMBER(FIND(\"BC/BS\",#REF!)),\"X\",\"\")","v":""}]
["VAULT ADMIN SERVICES","X",{"$f":"IF(ISNUMBER(FIND(\"MEDICAID\",A4757)),\"X\",\"\")","v":""},{"$f":"IF(ISNUMBER(FIND(\"MEDICARE\",A4757)),\"X\",\"\")","v":""},{"$f":"IF(ISNUMBER(FIND(\"BC/BS\",#REF!)),\"X\",\"\")","v":""}]
["VCU HEALTH SYSTEM (SENTARA)","X",{"$f":"IF(ISNUMBER(FIND(\"MEDICAID\",A4758)),\"X\",\"\")","v":""},{"$f":"IF(ISNUMBER(FIND(\"MEDICARE\",A4758)),\"X\",\"\")","v":""},{"$f":"IF(ISNUMBER(FIND(\"BC/BS\",#REF!)),\"X\",\"\")","v":""}]
["VELUX GREENWOOD (90 DEGREE BENEFITS NORTH CAROLINA - CORPORATE BENEFIT SERVICES)","X",{"$f":"IF(ISNUMBER(FIND(\"MEDICAID\",A4759)),\"X\",\"\")","v":""},{"$f":"IF(ISNUMBER(FIND(\"MEDICARE\",A4759)),\"X\",\"\")","v":""},{"$f":"IF(ISNUMBER(FIND(\"BC/BS\",#REF!)),\"X\",\"\")","v":""}]
["VENDORS SUPPLY (90 DEGREE BENEFITS NORTH CAROLINA - CORPORATE BENEFIT SERVICES)","X",{"$f":"IF(ISNUMBER(FIND(\"MEDICAID\",A4760)),\"X\",\"\")","v":""},{"$f":"IF(ISNUMBER(FIND(\"MEDICARE\",A4760)),\"X\",\"\")","v":""},{"$f":"IF(ISNUMBER(FIND(\"BC/BS\",#REF!)),\"X\",\"\")","v":""}]
["VENTEGRA INC","X",{"$f":"IF(ISNUMBER(FIND(\"MEDICAID\",A4761)),\"X\",\"\")","v":""},{"$f":"IF(ISNUMBER(FIND(\"MEDICARE\",A4761)),\"X\",\"\")","v":""},{"$f":"IF(ISNUMBER(FIND(\"BC/BS\",#REF!)),\"X\",\"\")","v":""}]
["VENTURE TRANSPORTATION PARTNERS LLC (THE HEALTH PLAN)",null,{"$f":"IF(ISNUMBER(FIND(\"MEDICAID\",A4762)),\"X\",\"\")","v":""},{"$f":"IF(ISNUMBER(FIND(\"MEDICARE\",A4762)),\"X\",\"\")","v":""},{"$f":"IF(ISNUMBER(FIND(\"BC/BS\",#REF!)),\"X\",\"\")","v":""}]
["VERA WHOLE HEALTH (HEALTHCOMP)","X",{"$f":"IF(ISNUMBER(FIND(\"MEDICAID\",A4763)),\"X\",\"\")","v":""},{"$f":"IF(ISNUMBER(FIND(\"MEDICARE\",A4763)),\"X\",\"\")","v":""},{"$f":"IF(ISNUMBER(FIND(\"BC/BS\",#REF!)),\"X\",\"\")","v":""}]
["VERIZON (CDPHP)","X",{"$f":"IF(ISNUMBER(FIND(\"MEDICAID\",A4764)),\"X\",\"\")","v":""},{"$f":"IF(ISNUMBER(FIND(\"MEDICARE\",A4764)),\"X\",\"\")","v":""},{"$f":"IF(ISNUMBER(FIND(\"BC/BS\",#REF!)),\"X\",\"\")","v":""}]
["VERIZON (GEISINGER HEALTH PLAN)","X",{"$f":"IF(ISNUMBER(FIND(\"MEDICAID\",A4765)),\"X\",\"\")","v":""},{"$f":"IF(ISNUMBER(FIND(\"MEDICARE\",A4765)),\"X\",\"\")","v":""},{"$f":"IF(ISNUMBER(FIND(\"BC/BS\",#REF!)),\"X\",\"\")","v":""}]
["VERMEER CORPORATE (90 DEGREE BENEFITS NORTH CAROLINA - CORPORATE BENEFIT SERVICES)","X",{"$f":"IF(ISNUMBER(FIND(\"MEDICAID\",A4766)),\"X\",\"\")","v":""},{"$f":"IF(ISNUMBER(FIND(\"MEDICARE\",A4766)),\"X\",\"\")","v":""},{"$f":"IF(ISNUMBER(FIND(\"BC/BS\",#REF!)),\"X\",\"\")","v":""}]
["VERNON-VERONA-SHERRILL CENTRAL SCHOOL DISTRICT (MVP HEALTH CARE)","X",{"$f":"IF(ISNUMBER(FIND(\"MEDICAID\",A4767)),\"X\",\"\")","v":""},{"$f":"IF(ISNUMBER(FIND(\"MEDICARE\",A4767)),\"X\",\"\")","v":""},{"$f":"IF(ISNUMBER(FIND(\"BC/BS\",#REF!)),\"X\",\"\")","v":""}]
["VERNOR EBPT (90 DEGREE BENEFITS HOUSTON - ENTRUST)",null,{"$f":"IF(ISNUMBER(FIND(\"MEDICAID\",A4768)),\"X\",\"\")","v":""},{"$f":"IF(ISNUMBER(FIND(\"MEDICARE\",A4768)),\"X\",\"\")","v":""},{"$f":"IF(ISNUMBER(FIND(\"BC/BS\",#REF!)),\"X\",\"\")","v":""}]
["VERSANT HEALTH (SUPERIOR VISION SERVICES)","X",{"$f":"IF(ISNUMBER(FIND(\"MEDICAID\",A4769)),\"X\",\"\")","v":""},{"$f":"IF(ISNUMBER(FIND(\"MEDICARE\",A4769)),\"X\",\"\")","v":""},{"$f":"IF(ISNUMBER(FIND(\"BC/BS\",#REF!)),\"X\",\"\")","v":""}]
["VETERAN FAMILY MEMBER PROGRAM (OFFICE OF COMMUNITY CARE)","X",{"$f":"IF(ISNUMBER(FIND(\"MEDICAID\",A4770)),\"X\",\"\")","v":""},{"$f":"IF(ISNUMBER(FIND(\"MEDICARE\",A4770)),\"X\",\"\")","v":""},{"$f":"IF(ISNUMBER(FIND(\"BC/BS\",#REF!)),\"X\",\"\")","v":""}]
["VIBRA HEALTH PLAN","X",{"$f":"IF(ISNUMBER(FIND(\"MEDICAID\",A4771)),\"X\",\"\")","v":""},{"$f":"IF(ISNUMBER(FIND(\"MEDICARE\",A4771)),\"X\",\"\")","v":""},{"$f":"IF(ISNUMBER(FIND(\"BC/BS\",#REF!)),\"X\",\"\")","v":""}]
["VILLAGE SENIOR SERVICES",null,{"$f":"IF(ISNUMBER(FIND(\"MEDICAID\",A4772)),\"X\",\"\")","v":""},{"$f":"IF(ISNUMBER(FIND(\"MEDICARE\",A4772)),\"X\",\"\")","v":""},{"$f":"IF(ISNUMBER(FIND(\"BC/BS\",#REF!)),\"X\",\"\")","v":""}]
["VILLAGEMD CHICAGO LLC - MA (ARCADIA SOLUTIONS)","X",{"$f":"IF(ISNUMBER(FIND(\"MEDICAID\",A4773)),\"X\",\"\")","v":""},{"$f":"IF(ISNUMBER(FIND(\"MEDICARE\",A4773)),\"X\",\"\")","v":""},{"$f":"IF(ISNUMBER(FIND(\"BC/BS\",#REF!)),\"X\",\"\")","v":""}]
["VILLAGEMD CHICAGO LLC (ARCADIA SOLUTIONS)","X",{"$f":"IF(ISNUMBER(FIND(\"MEDICAID\",A4774)),\"X\",\"\")","v":""},{"$f":"IF(ISNUMBER(FIND(\"MEDICARE\",A4774)),\"X\",\"\")","v":""},{"$f":"IF(ISNUMBER(FIND(\"BC/BS\",#REF!)),\"X\",\"\")","v":""}]
["VINMAR TRADE SOLUTIONS LLC (GROUP & PENSION ADMIN)","X",{"$f":"IF(ISNUMBER(FIND(\"MEDICAID\",A4775)),\"X\",\"\")","v":""},{"$f":"IF(ISNUMBER(FIND(\"MEDICARE\",A4775)),\"X\",\"\")","v":""},{"$f":"IF(ISNUMBER(FIND(\"BC/BS\",#REF!)),\"X\",\"\")","v":""}]
["VINO FARMS LLC (HEALTHCOMP)","X",{"$f":"IF(ISNUMBER(FIND(\"MEDICAID\",A4776)),\"X\",\"\")","v":""},{"$f":"IF(ISNUMBER(FIND(\"MEDICARE\",A4776)),\"X\",\"\")","v":""},{"$f":"IF(ISNUMBER(FIND(\"BC/BS\",#REF!)),\"X\",\"\")","v":""}]
["VIRGINIA GASTROENTEROLOGY (SENTARA)","X",{"$f":"IF(ISNUMBER(FIND(\"MEDICAID\",A4777)),\"X\",\"\")","v":""},{"$f":"IF(ISNUMBER(FIND(\"MEDICARE\",A4777)),\"X\",\"\")","v":""},{"$f":"IF(ISNUMBER(FIND(\"BC/BS\",#REF!)),\"X\",\"\")","v":""}]
["VIRGINIA PREMIER HEALTH PLAN","X",{"$f":"IF(ISNUMBER(FIND(\"MEDICAID\",A4778)),\"X\",\"\")","v":""},{"$f":"IF(ISNUMBER(FIND(\"MEDICARE\",A4778)),\"X\",\"\")","v":""},{"$f":"IF(ISNUMBER(FIND(\"BC/BS\",#REF!)),\"X\",\"\")","v":""}]
["VISITING NURSE & HOSPICE CARE (DELTA HEALTH SYSTEM)",null,{"$f":"IF(ISNUMBER(FIND(\"MEDICAID\",A4779)),\"X\",\"\")","v":""},{"$f":"IF(ISNUMBER(FIND(\"MEDICARE\",A4779)),\"X\",\"\")","v":""},{"$f":"IF(ISNUMBER(FIND(\"BC/BS\",#REF!)),\"X\",\"\")","v":""}]
["VIVA HEALTH","X",{"$f":"IF(ISNUMBER(FIND(\"MEDICAID\",A4780)),\"X\",\"\")","v":""},{"$f":"IF(ISNUMBER(FIND(\"MEDICARE\",A4780)),\"X\",\"\")","v":""},{"$f":"IF(ISNUMBER(FIND(\"BC/BS\",#REF!)),\"X\",\"\")","v":""}]
["VIVA MEDICARE PLUS (VIVA HEALTH)","X",{"$f":"IF(ISNUMBER(FIND(\"MEDICAID\",A4781)),\"X\",\"\")","v":""},null,{"$f":"IF(ISNUMBER(FIND(\"BC/BS\",#REF!)),\"X\",\"\")","v":""}]
["VNS NY CHOICE",null,{"$f":"IF(ISNUMBER(FIND(\"MEDICAID\",A4782)),\"X\",\"\")","v":""},{"$f":"IF(ISNUMBER(FIND(\"MEDICARE\",A4782)),\"X\",\"\")","v":""},{"$f":"IF(ISNUMBER(FIND(\"BC/BS\",#REF!)),\"X\",\"\")","v":""}]
["VORTEX CONSTRUCTION EBPT (90 DEGREE BENEFITS HOUSTON - ENTRUST)",null,{"$f":"IF(ISNUMBER(FIND(\"MEDICAID\",A4783)),\"X\",\"\")","v":""},{"$f":"IF(ISNUMBER(FIND(\"MEDICARE\",A4783)),\"X\",\"\")","v":""},{"$f":"IF(ISNUMBER(FIND(\"BC/BS\",#REF!)),\"X\",\"\")","v":""}]
["VSHP BLUECARE RISK EAST/WEST (VOLUNTEER STATE HEALTH PLAN)","X",{"$f":"IF(ISNUMBER(FIND(\"MEDICAID\",A4784)),\"X\",\"\")","v":""},{"$f":"IF(ISNUMBER(FIND(\"MEDICARE\",A4784)),\"X\",\"\")","v":""},{"$f":"IF(ISNUMBER(FIND(\"BC/BS\",#REF!)),\"X\",\"\")","v":""}]
["VSHP TENNCARE SELECT (VOLUNTEER STATE HEALTH PLAN)","X",{"$f":"IF(ISNUMBER(FIND(\"MEDICAID\",A4785)),\"X\",\"\")","v":""},{"$f":"IF(ISNUMBER(FIND(\"MEDICARE\",A4785)),\"X\",\"\")","v":""},{"$f":"IF(ISNUMBER(FIND(\"BC/BS\",#REF!)),\"X\",\"\")","v":""}]
["V-SOFT CONSULTING GROUP INC (GROUP & PENSION ADMIN)","X",{"$f":"IF(ISNUMBER(FIND(\"MEDICAID\",A4786)),\"X\",\"\")","v":""},{"$f":"IF(ISNUMBER(FIND(\"MEDICARE\",A4786)),\"X\",\"\")","v":""},{"$f":"IF(ISNUMBER(FIND(\"BC/BS\",#REF!)),\"X\",\"\")","v":""}]
["VTN NEVADA EBPT (90 DEGREE BENEFITS HOUSTON - ENTRUST)",null,{"$f":"IF(ISNUMBER(FIND(\"MEDICAID\",A4787)),\"X\",\"\")","v":""},{"$f":"IF(ISNUMBER(FIND(\"MEDICARE\",A4787)),\"X\",\"\")","v":""},{"$f":"IF(ISNUMBER(FIND(\"BC/BS\",#REF!)),\"X\",\"\")","v":""}]
["W F RETIREES' HEALTH TRUST (MAA / HEALTHSMART)",null,{"$f":"IF(ISNUMBER(FIND(\"MEDICAID\",A4788)),\"X\",\"\")","v":""},{"$f":"IF(ISNUMBER(FIND(\"MEDICARE\",A4788)),\"X\",\"\")","v":""},{"$f":"IF(ISNUMBER(FIND(\"BC/BS\",#REF!)),\"X\",\"\")","v":""}]
["W R MEADOWS INC (GROUP & PENSION ADMIN)","X",{"$f":"IF(ISNUMBER(FIND(\"MEDICAID\",A4789)),\"X\",\"\")","v":""},{"$f":"IF(ISNUMBER(FIND(\"MEDICARE\",A4789)),\"X\",\"\")","v":""},{"$f":"IF(ISNUMBER(FIND(\"BC/BS\",#REF!)),\"X\",\"\")","v":""}]
["W. L. FLOWERS EBPT (90 DEGREE BENEFITS HOUSTON - ENTRUST)","X",{"$f":"IF(ISNUMBER(FIND(\"MEDICAID\",A4790)),\"X\",\"\")","v":""},{"$f":"IF(ISNUMBER(FIND(\"MEDICARE\",A4790)),\"X\",\"\")","v":""},{"$f":"IF(ISNUMBER(FIND(\"BC/BS\",#REF!)),\"X\",\"\")","v":""}]
["W. WALKER AUCTION GROUP EBPT (90 DEGREE BENEFITS HOUSTON - ENTRUST)",null,{"$f":"IF(ISNUMBER(FIND(\"MEDICAID\",A4791)),\"X\",\"\")","v":""},{"$f":"IF(ISNUMBER(FIND(\"MEDICARE\",A4791)),\"X\",\"\")","v":""},{"$f":"IF(ISNUMBER(FIND(\"BC/BS\",#REF!)),\"X\",\"\")","v":""}]
["W.A. WILSON INC (THE HEALTH PLAN)",null,{"$f":"IF(ISNUMBER(FIND(\"MEDICAID\",A4792)),\"X\",\"\")","v":""},{"$f":"IF(ISNUMBER(FIND(\"MEDICARE\",A4792)),\"X\",\"\")","v":""},{"$f":"IF(ISNUMBER(FIND(\"BC/BS\",#REF!)),\"X\",\"\")","v":""}]
["W.G. (BILL) HEFNER SALISBURY DEPARTMENT OF VETERANS AFFAIRS","X",{"$f":"IF(ISNUMBER(FIND(\"MEDICAID\",A4793)),\"X\",\"\")","v":""},{"$f":"IF(ISNUMBER(FIND(\"MEDICARE\",A4793)),\"X\",\"\")","v":""},{"$f":"IF(ISNUMBER(FIND(\"BC/BS\",#REF!)),\"X\",\"\")","v":""}]
["WABASH MEMORIAL HOSPITAL ASSOCIATION","X",{"$f":"IF(ISNUMBER(FIND(\"MEDICAID\",A4794)),\"X\",\"\")","v":""},{"$f":"IF(ISNUMBER(FIND(\"MEDICARE\",A4794)),\"X\",\"\")","v":""},{"$f":"IF(ISNUMBER(FIND(\"BC/BS\",#REF!)),\"X\",\"\")","v":""}]
["WAGNER CUBAN (GROUP & PENSION ADMIN)","X",{"$f":"IF(ISNUMBER(FIND(\"MEDICAID\",A4795)),\"X\",\"\")","v":""},{"$f":"IF(ISNUMBER(FIND(\"MEDICARE\",A4795)),\"X\",\"\")","v":""},{"$f":"IF(ISNUMBER(FIND(\"BC/BS\",#REF!)),\"X\",\"\")","v":""}]
["WAKEMED (CONTIGO HEALTH)","X",{"$f":"IF(ISNUMBER(FIND(\"MEDICAID\",A4796)),\"X\",\"\")","v":""},{"$f":"IF(ISNUMBER(FIND(\"MEDICARE\",A4796)),\"X\",\"\")","v":""},{"$f":"IF(ISNUMBER(FIND(\"BC/BS\",#REF!)),\"X\",\"\")","v":""}]
["WALKER ENGINEERING INC MEDICAL (GROUP & PENSION ADMIN)","X",{"$f":"IF(ISNUMBER(FIND(\"MEDICAID\",A4797)),\"X\",\"\")","v":""},{"$f":"IF(ISNUMBER(FIND(\"MEDICARE\",A4797)),\"X\",\"\")","v":""},{"$f":"IF(ISNUMBER(FIND(\"BC/BS\",#REF!)),\"X\",\"\")","v":""}]
["WALL STREET HOLDING GROUP INC (THE HEALTH PLAN)",null,{"$f":"IF(ISNUMBER(FIND(\"MEDICAID\",A4798)),\"X\",\"\")","v":""},{"$f":"IF(ISNUMBER(FIND(\"MEDICARE\",A4798)),\"X\",\"\")","v":""},{"$f":"IF(ISNUMBER(FIND(\"BC/BS\",#REF!)),\"X\",\"\")","v":""}]
["WAL-MART STORES INC (CONTIGO HEALTH)",null,{"$f":"IF(ISNUMBER(FIND(\"MEDICAID\",A4799)),\"X\",\"\")","v":""},{"$f":"IF(ISNUMBER(FIND(\"MEDICARE\",A4799)),\"X\",\"\")","v":""},{"$f":"IF(ISNUMBER(FIND(\"BC/BS\",#REF!)),\"X\",\"\")","v":""}]
["WARD TIMBER EBPT (90 DEGREE BENEFITS HOUSTON - ENTRUST)",null,{"$f":"IF(ISNUMBER(FIND(\"MEDICAID\",A4800)),\"X\",\"\")","v":""},{"$f":"IF(ISNUMBER(FIND(\"MEDICARE\",A4800)),\"X\",\"\")","v":""},{"$f":"IF(ISNUMBER(FIND(\"BC/BS\",#REF!)),\"X\",\"\")","v":""}]
["WAREHOUSE HOME FURNISHINGS DISTRIBUTORS INC (GROUP & PENSION ADMIN)","X",{"$f":"IF(ISNUMBER(FIND(\"MEDICAID\",A4801)),\"X\",\"\")","v":""},{"$f":"IF(ISNUMBER(FIND(\"MEDICARE\",A4801)),\"X\",\"\")","v":""},{"$f":"IF(ISNUMBER(FIND(\"BC/BS\",#REF!)),\"X\",\"\")","v":""}]
["WASHINGTON DC VA MEDICAL CENTER","X",{"$f":"IF(ISNUMBER(FIND(\"MEDICAID\",A4802)),\"X\",\"\")","v":""},{"$f":"IF(ISNUMBER(FIND(\"MEDICARE\",A4802)),\"X\",\"\")","v":""},{"$f":"IF(ISNUMBER(FIND(\"BC/BS\",#REF!)),\"X\",\"\")","v":""}]
["WASHINGTON HOSPITAL HEALTH SYS (HEALTHCOMP)","X",{"$f":"IF(ISNUMBER(FIND(\"MEDICAID\",A4803)),\"X\",\"\")","v":""},{"$f":"IF(ISNUMBER(FIND(\"MEDICARE\",A4803)),\"X\",\"\")","v":""},{"$f":"IF(ISNUMBER(FIND(\"BC/BS\",#REF!)),\"X\",\"\")","v":""}]
["WASHINGTON NATIONAL INSURANCE COMPANY (AETNA SSI)","X",{"$f":"IF(ISNUMBER(FIND(\"MEDICAID\",A4804)),\"X\",\"\")","v":""},{"$f":"IF(ISNUMBER(FIND(\"MEDICARE\",A4804)),\"X\",\"\")","v":""},{"$f":"IF(ISNUMBER(FIND(\"BC/BS\",#REF!)),\"X\",\"\")","v":""}]
["WASHINGTON NATIONAL INSURANCE COMPANY (CONSECO)","X",{"$f":"IF(ISNUMBER(FIND(\"MEDICAID\",A4805)),\"X\",\"\")","v":""},{"$f":"IF(ISNUMBER(FIND(\"MEDICARE\",A4805)),\"X\",\"\")","v":""},{"$f":"IF(ISNUMBER(FIND(\"BC/BS\",#REF!)),\"X\",\"\")","v":""}]
["WASHOE COUNTY (HOMETOWN HEALTH PLAN)","X",{"$f":"IF(ISNUMBER(FIND(\"MEDICAID\",A4806)),\"X\",\"\")","v":""},{"$f":"IF(ISNUMBER(FIND(\"MEDICARE\",A4806)),\"X\",\"\")","v":""},{"$f":"IF(ISNUMBER(FIND(\"BC/BS\",#REF!)),\"X\",\"\")","v":""}]
["WATERMAN BROADCASTING CORP (GROUP & PENSION ADMIN)","X",{"$f":"IF(ISNUMBER(FIND(\"MEDICAID\",A4807)),\"X\",\"\")","v":""},{"$f":"IF(ISNUMBER(FIND(\"MEDICARE\",A4807)),\"X\",\"\")","v":""},{"$f":"IF(ISNUMBER(FIND(\"BC/BS\",#REF!)),\"X\",\"\")","v":""}]
["WATSONTOWN TRUCKING COMPANY (GROUP & PENSION ADMIN)","X",{"$f":"IF(ISNUMBER(FIND(\"MEDICAID\",A4808)),\"X\",\"\")","v":""},{"$f":"IF(ISNUMBER(FIND(\"MEDICARE\",A4808)),\"X\",\"\")","v":""},{"$f":"IF(ISNUMBER(FIND(\"BC/BS\",#REF!)),\"X\",\"\")","v":""}]
["WAUSAU SCHOOL DISTRICT - ASSOCIATED BANK (WPS)","X",{"$f":"IF(ISNUMBER(FIND(\"MEDICAID\",A4809)),\"X\",\"\")","v":""},{"$f":"IF(ISNUMBER(FIND(\"MEDICARE\",A4809)),\"X\",\"\")","v":""},{"$f":"IF(ISNUMBER(FIND(\"BC/BS\",#REF!)),\"X\",\"\")","v":""}]
["WAYLAND BAPTIST UNIVERSITY (GROUP & PENSION ADMIN)","X",{"$f":"IF(ISNUMBER(FIND(\"MEDICAID\",A4810)),\"X\",\"\")","v":""},{"$f":"IF(ISNUMBER(FIND(\"MEDICARE\",A4810)),\"X\",\"\")","v":""},{"$f":"IF(ISNUMBER(FIND(\"BC/BS\",#REF!)),\"X\",\"\")","v":""}]
["WCF MUTUAL INSURANCE COMPANY","X",{"$f":"IF(ISNUMBER(FIND(\"MEDICAID\",A4811)),\"X\",\"\")","v":""},{"$f":"IF(ISNUMBER(FIND(\"MEDICARE\",A4811)),\"X\",\"\")","v":""},{"$f":"IF(ISNUMBER(FIND(\"BC/BS\",#REF!)),\"X\",\"\")","v":""},"X","X"]
["WEA TRUST","X",{"$f":"IF(ISNUMBER(FIND(\"MEDICAID\",A4812)),\"X\",\"\")","v":""},{"$f":"IF(ISNUMBER(FIND(\"MEDICARE\",A4812)),\"X\",\"\")","v":""},{"$f":"IF(ISNUMBER(FIND(\"BC/BS\",#REF!)),\"X\",\"\")","v":""}]
["WEBB MASON INC (MAESTRO HEALTH)","X",{"$f":"IF(ISNUMBER(FIND(\"MEDICAID\",A4813)),\"X\",\"\")","v":""},{"$f":"IF(ISNUMBER(FIND(\"MEDICARE\",A4813)),\"X\",\"\")","v":""},{"$f":"IF(ISNUMBER(FIND(\"BC/BS\",#REF!)),\"X\",\"\")","v":""}]
["WEBTPA","X",{"$f":"IF(ISNUMBER(FIND(\"MEDICAID\",A4814)),\"X\",\"\")","v":""},{"$f":"IF(ISNUMBER(FIND(\"MEDICARE\",A4814)),\"X\",\"\")","v":""},{"$f":"IF(ISNUMBER(FIND(\"BC/BS\",#REF!)),\"X\",\"\")","v":""}]
["WEBTPA OBO AMERICAN AIRLINES",null,{"$f":"IF(ISNUMBER(FIND(\"MEDICAID\",A4815)),\"X\",\"\")","v":""},{"$f":"IF(ISNUMBER(FIND(\"MEDICARE\",A4815)),\"X\",\"\")","v":""},{"$f":"IF(ISNUMBER(FIND(\"BC/BS\",#REF!)),\"X\",\"\")","v":""}]
["WEBTPA OBO CONCORDIA PLAN SERVICES","X",{"$f":"IF(ISNUMBER(FIND(\"MEDICAID\",A4816)),\"X\",\"\")","v":""},{"$f":"IF(ISNUMBER(FIND(\"MEDICARE\",A4816)),\"X\",\"\")","v":""},{"$f":"IF(ISNUMBER(FIND(\"BC/BS\",#REF!)),\"X\",\"\")","v":""}]
["WEBTPA OBO PRUDENTIAL","X",{"$f":"IF(ISNUMBER(FIND(\"MEDICAID\",A4817)),\"X\",\"\")","v":""},{"$f":"IF(ISNUMBER(FIND(\"MEDICARE\",A4817)),\"X\",\"\")","v":""},{"$f":"IF(ISNUMBER(FIND(\"BC/BS\",#REF!)),\"X\",\"\")","v":""}]
["WEBTPA OBO ROSEN HEALTH","X",{"$f":"IF(ISNUMBER(FIND(\"MEDICAID\",A4818)),\"X\",\"\")","v":""},{"$f":"IF(ISNUMBER(FIND(\"MEDICARE\",A4818)),\"X\",\"\")","v":""},{"$f":"IF(ISNUMBER(FIND(\"BC/BS\",#REF!)),\"X\",\"\")","v":""}]
["WELFARE PENSION AND ADMINISTRATION","X",{"$f":"IF(ISNUMBER(FIND(\"MEDICAID\",A4819)),\"X\",\"\")","v":""},{"$f":"IF(ISNUMBER(FIND(\"MEDICARE\",A4819)),\"X\",\"\")","v":""},{"$f":"IF(ISNUMBER(FIND(\"BC/BS\",#REF!)),\"X\",\"\")","v":""}]
["WELLCARE","X",{"$f":"IF(ISNUMBER(FIND(\"MEDICAID\",A4820)),\"X\",\"\")","v":""},{"$f":"IF(ISNUMBER(FIND(\"MEDICARE\",A4820)),\"X\",\"\")","v":""},{"$f":"IF(ISNUMBER(FIND(\"BC/BS\",#REF!)),\"X\",\"\")","v":""}]
["WELLCARE HEALTH INSURANCE CO OF AMERICA","X",{"$f":"IF(ISNUMBER(FIND(\"MEDICAID\",A4821)),\"X\",\"\")","v":""},{"$f":"IF(ISNUMBER(FIND(\"MEDICARE\",A4821)),\"X\",\"\")","v":""},{"$f":"IF(ISNUMBER(FIND(\"BC/BS\",#REF!)),\"X\",\"\")","v":""}]
["WELLCARE HEALTH INSURANCE CO OF HAWAII","X",{"$f":"IF(ISNUMBER(FIND(\"MEDICAID\",A4822)),\"X\",\"\")","v":""},{"$f":"IF(ISNUMBER(FIND(\"MEDICARE\",A4822)),\"X\",\"\")","v":""},{"$f":"IF(ISNUMBER(FIND(\"BC/BS\",#REF!)),\"X\",\"\")","v":""}]
["WELLCARE HEALTH INSURANCE CO OF LOUISIANA","X",{"$f":"IF(ISNUMBER(FIND(\"MEDICAID\",A4823)),\"X\",\"\")","v":""},{"$f":"IF(ISNUMBER(FIND(\"MEDICARE\",A4823)),\"X\",\"\")","v":""},{"$f":"IF(ISNUMBER(FIND(\"BC/BS\",#REF!)),\"X\",\"\")","v":""}]
["WELLCARE HEALTH INSURANCE CO OF NEW JERSEY","X",{"$f":"IF(ISNUMBER(FIND(\"MEDICAID\",A4824)),\"X\",\"\")","v":""},{"$f":"IF(ISNUMBER(FIND(\"MEDICARE\",A4824)),\"X\",\"\")","v":""},{"$f":"IF(ISNUMBER(FIND(\"BC/BS\",#REF!)),\"X\",\"\")","v":""}]
["WELLCARE HEALTH INSURANCE CO OF OKLAHOMA","X",{"$f":"IF(ISNUMBER(FIND(\"MEDICAID\",A4825)),\"X\",\"\")","v":""},{"$f":"IF(ISNUMBER(FIND(\"MEDICARE\",A4825)),\"X\",\"\")","v":""},{"$f":"IF(ISNUMBER(FIND(\"BC/BS\",#REF!)),\"X\",\"\")","v":""}]
["WELLCARE HEALTH INSURANCE CO OF WASHINGTON","X",{"$f":"IF(ISNUMBER(FIND(\"MEDICAID\",A4826)),\"X\",\"\")","v":""},{"$f":"IF(ISNUMBER(FIND(\"MEDICARE\",A4826)),\"X\",\"\")","v":""},{"$f":"IF(ISNUMBER(FIND(\"BC/BS\",#REF!)),\"X\",\"\")","v":""}]
["WELLCARE HEALTH INSURANCE OF ARIZONA","X",{"$f":"IF(ISNUMBER(FIND(\"MEDICAID\",A4827)),\"X\",\"\")","v":""},{"$f":"IF(ISNUMBER(FIND(\"MEDICARE\",A4827)),\"X\",\"\")","v":""},{"$f":"IF(ISNUMBER(FIND(\"BC/BS\",#REF!)),\"X\",\"\")","v":""}]
["WELLCARE HEALTH INSURANCE OF CONNECTICUT","X",{"$f":"IF(ISNUMBER(FIND(\"MEDICAID\",A4828)),\"X\",\"\")","v":""},{"$f":"IF(ISNUMBER(FIND(\"MEDICARE\",A4828)),\"X\",\"\")","v":""},{"$f":"IF(ISNUMBER(FIND(\"BC/BS\",#REF!)),\"X\",\"\")","v":""}]
["WELLCARE HEALTH INSURANCE OF NEW YORK","X",{"$f":"IF(ISNUMBER(FIND(\"MEDICAID\",A4829)),\"X\",\"\")","v":""},{"$f":"IF(ISNUMBER(FIND(\"MEDICARE\",A4829)),\"X\",\"\")","v":""},{"$f":"IF(ISNUMBER(FIND(\"BC/BS\",#REF!)),\"X\",\"\")","v":""}]
["WELLCARE HEALTH INSURANCE OF NORTH CAROLINA","X",{"$f":"IF(ISNUMBER(FIND(\"MEDICAID\",A4830)),\"X\",\"\")","v":""},{"$f":"IF(ISNUMBER(FIND(\"MEDICARE\",A4830)),\"X\",\"\")","v":""},{"$f":"IF(ISNUMBER(FIND(\"BC/BS\",#REF!)),\"X\",\"\")","v":""}]
["WELLCARE HEALTH INSURANCE OF TENNESSEE","X",{"$f":"IF(ISNUMBER(FIND(\"MEDICAID\",A4831)),\"X\",\"\")","v":""},{"$f":"IF(ISNUMBER(FIND(\"MEDICARE\",A4831)),\"X\",\"\")","v":""},{"$f":"IF(ISNUMBER(FIND(\"BC/BS\",#REF!)),\"X\",\"\")","v":""}]
["WELLCARE HEALTH INSURANCE OF THE SOUTHWEST","X",{"$f":"IF(ISNUMBER(FIND(\"MEDICAID\",A4832)),\"X\",\"\")","v":""},{"$f":"IF(ISNUMBER(FIND(\"MEDICARE\",A4832)),\"X\",\"\")","v":""},{"$f":"IF(ISNUMBER(FIND(\"BC/BS\",#REF!)),\"X\",\"\")","v":""}]
["WELLCARE HEALTH PLAN","X",{"$f":"IF(ISNUMBER(FIND(\"MEDICAID\",A4833)),\"X\",\"\")","v":""},{"$f":"IF(ISNUMBER(FIND(\"MEDICARE\",A4833)),\"X\",\"\")","v":""},{"$f":"IF(ISNUMBER(FIND(\"BC/BS\",#REF!)),\"X\",\"\")","v":""}]
["WELLCARE HEALTH PLANS OF ARIZONA","X",{"$f":"IF(ISNUMBER(FIND(\"MEDICAID\",A4834)),\"X\",\"\")","v":""},{"$f":"IF(ISNUMBER(FIND(\"MEDICARE\",A4834)),\"X\",\"\")","v":""},{"$f":"IF(ISNUMBER(FIND(\"BC/BS\",#REF!)),\"X\",\"\")","v":""}]
["WELLCARE HEALTH PLANS OF MASSACHUSETTS","X",{"$f":"IF(ISNUMBER(FIND(\"MEDICAID\",A4835)),\"X\",\"\")","v":""},{"$f":"IF(ISNUMBER(FIND(\"MEDICARE\",A4835)),\"X\",\"\")","v":""},{"$f":"IF(ISNUMBER(FIND(\"BC/BS\",#REF!)),\"X\",\"\")","v":""}]
["WELLCARE HEALTH PLANS OF MISSOURI","X",{"$f":"IF(ISNUMBER(FIND(\"MEDICAID\",A4836)),\"X\",\"\")","v":""},{"$f":"IF(ISNUMBER(FIND(\"MEDICARE\",A4836)),\"X\",\"\")","v":""},{"$f":"IF(ISNUMBER(FIND(\"BC/BS\",#REF!)),\"X\",\"\")","v":""}]
["WELLCARE HEALTH PLANS OF NEW JERSEY","X",{"$f":"IF(ISNUMBER(FIND(\"MEDICAID\",A4837)),\"X\",\"\")","v":""},{"$f":"IF(ISNUMBER(FIND(\"MEDICARE\",A4837)),\"X\",\"\")","v":""},{"$f":"IF(ISNUMBER(FIND(\"BC/BS\",#REF!)),\"X\",\"\")","v":""}]
["WELLCARE HEALTH PLANS OF RHODE ISLAND","X",{"$f":"IF(ISNUMBER(FIND(\"MEDICAID\",A4838)),\"X\",\"\")","v":""},{"$f":"IF(ISNUMBER(FIND(\"MEDICARE\",A4838)),\"X\",\"\")","v":""},{"$f":"IF(ISNUMBER(FIND(\"BC/BS\",#REF!)),\"X\",\"\")","v":""}]
["WELLCARE HEALTH PLANS OF VERMONT","X",{"$f":"IF(ISNUMBER(FIND(\"MEDICAID\",A4839)),\"X\",\"\")","v":""},{"$f":"IF(ISNUMBER(FIND(\"MEDICARE\",A4839)),\"X\",\"\")","v":""},{"$f":"IF(ISNUMBER(FIND(\"BC/BS\",#REF!)),\"X\",\"\")","v":""}]
["WELLCARE NATIONAL HEALTH INSURANCE CO","X",{"$f":"IF(ISNUMBER(FIND(\"MEDICAID\",A4840)),\"X\",\"\")","v":""},{"$f":"IF(ISNUMBER(FIND(\"MEDICARE\",A4840)),\"X\",\"\")","v":""},{"$f":"IF(ISNUMBER(FIND(\"BC/BS\",#REF!)),\"X\",\"\")","v":""}]
["WELLCARE OF ALABAMA","X",{"$f":"IF(ISNUMBER(FIND(\"MEDICAID\",A4841)),\"X\",\"\")","v":""},{"$f":"IF(ISNUMBER(FIND(\"MEDICARE\",A4841)),\"X\",\"\")","v":""},{"$f":"IF(ISNUMBER(FIND(\"BC/BS\",#REF!)),\"X\",\"\")","v":""}]
["WELLCARE OF CALIFORNIA","X",{"$f":"IF(ISNUMBER(FIND(\"MEDICAID\",A4842)),\"X\",\"\")","v":""},{"$f":"IF(ISNUMBER(FIND(\"MEDICARE\",A4842)),\"X\",\"\")","v":""},{"$f":"IF(ISNUMBER(FIND(\"BC/BS\",#REF!)),\"X\",\"\")","v":""}]
["WELLCARE OF CONNECTICUT","X",{"$f":"IF(ISNUMBER(FIND(\"MEDICAID\",A4843)),\"X\",\"\")","v":""},{"$f":"IF(ISNUMBER(FIND(\"MEDICARE\",A4843)),\"X\",\"\")","v":""},{"$f":"IF(ISNUMBER(FIND(\"BC/BS\",#REF!)),\"X\",\"\")","v":""}]
["WELLCARE OF GEORGIA","X",{"$f":"IF(ISNUMBER(FIND(\"MEDICAID\",A4844)),\"X\",\"\")","v":""},{"$f":"IF(ISNUMBER(FIND(\"MEDICARE\",A4844)),\"X\",\"\")","v":""},{"$f":"IF(ISNUMBER(FIND(\"BC/BS\",#REF!)),\"X\",\"\")","v":""}]
["WELLCARE OF ILLINOIS","X",{"$f":"IF(ISNUMBER(FIND(\"MEDICAID\",A4845)),\"X\",\"\")","v":""},{"$f":"IF(ISNUMBER(FIND(\"MEDICARE\",A4845)),\"X\",\"\")","v":""},{"$f":"IF(ISNUMBER(FIND(\"BC/BS\",#REF!)),\"X\",\"\")","v":""}]
["WELLCARE OF KENTUCKY","X",{"$f":"IF(ISNUMBER(FIND(\"MEDICAID\",A4846)),\"X\",\"\")","v":""},{"$f":"IF(ISNUMBER(FIND(\"MEDICARE\",A4846)),\"X\",\"\")","v":""},{"$f":"IF(ISNUMBER(FIND(\"BC/BS\",#REF!)),\"X\",\"\")","v":""}]
["WELLCARE OF LOUISIANA","X",{"$f":"IF(ISNUMBER(FIND(\"MEDICAID\",A4847)),\"X\",\"\")","v":""},{"$f":"IF(ISNUMBER(FIND(\"MEDICARE\",A4847)),\"X\",\"\")","v":""},{"$f":"IF(ISNUMBER(FIND(\"BC/BS\",#REF!)),\"X\",\"\")","v":""}]
["WELLCARE OF MAINE","X",{"$f":"IF(ISNUMBER(FIND(\"MEDICAID\",A4848)),\"X\",\"\")","v":""},{"$f":"IF(ISNUMBER(FIND(\"MEDICARE\",A4848)),\"X\",\"\")","v":""},{"$f":"IF(ISNUMBER(FIND(\"BC/BS\",#REF!)),\"X\",\"\")","v":""}]
["WELLCARE OF MISSISSIPPI","X",{"$f":"IF(ISNUMBER(FIND(\"MEDICAID\",A4849)),\"X\",\"\")","v":""},{"$f":"IF(ISNUMBER(FIND(\"MEDICARE\",A4849)),\"X\",\"\")","v":""},{"$f":"IF(ISNUMBER(FIND(\"BC/BS\",#REF!)),\"X\",\"\")","v":""}]
["WELLCARE OF MISSOURI","X",{"$f":"IF(ISNUMBER(FIND(\"MEDICAID\",A4850)),\"X\",\"\")","v":""},{"$f":"IF(ISNUMBER(FIND(\"MEDICARE\",A4850)),\"X\",\"\")","v":""},{"$f":"IF(ISNUMBER(FIND(\"BC/BS\",#REF!)),\"X\",\"\")","v":""}]
["WELLCARE OF NEBRASKA","X",{"$f":"IF(ISNUMBER(FIND(\"MEDICAID\",A4851)),\"X\",\"\")","v":""},{"$f":"IF(ISNUMBER(FIND(\"MEDICARE\",A4851)),\"X\",\"\")","v":""},{"$f":"IF(ISNUMBER(FIND(\"BC/BS\",#REF!)),\"X\",\"\")","v":""}]
["WELLCARE OF NEW HAMPSHIRE","X",{"$f":"IF(ISNUMBER(FIND(\"MEDICAID\",A4852)),\"X\",\"\")","v":""},{"$f":"IF(ISNUMBER(FIND(\"MEDICARE\",A4852)),\"X\",\"\")","v":""},{"$f":"IF(ISNUMBER(FIND(\"BC/BS\",#REF!)),\"X\",\"\")","v":""}]
["WELLCARE OF NEW YORK","X",{"$f":"IF(ISNUMBER(FIND(\"MEDICAID\",A4853)),\"X\",\"\")","v":""},{"$f":"IF(ISNUMBER(FIND(\"MEDICARE\",A4853)),\"X\",\"\")","v":""},{"$f":"IF(ISNUMBER(FIND(\"BC/BS\",#REF!)),\"X\",\"\")","v":""}]
["WELLCARE OF NORTH CAROLINA","X",{"$f":"IF(ISNUMBER(FIND(\"MEDICAID\",A4854)),\"X\",\"\")","v":""},{"$f":"IF(ISNUMBER(FIND(\"MEDICARE\",A4854)),\"X\",\"\")","v":""},{"$f":"IF(ISNUMBER(FIND(\"BC/BS\",#REF!)),\"X\",\"\")","v":""}]
["WELLCARE OF OHIO","X",{"$f":"IF(ISNUMBER(FIND(\"MEDICAID\",A4855)),\"X\",\"\")","v":""},{"$f":"IF(ISNUMBER(FIND(\"MEDICARE\",A4855)),\"X\",\"\")","v":""},{"$f":"IF(ISNUMBER(FIND(\"BC/BS\",#REF!)),\"X\",\"\")","v":""}]
["WELLCARE OF OKLAHOMA","X",{"$f":"IF(ISNUMBER(FIND(\"MEDICAID\",A4856)),\"X\",\"\")","v":""},{"$f":"IF(ISNUMBER(FIND(\"MEDICARE\",A4856)),\"X\",\"\")","v":""},{"$f":"IF(ISNUMBER(FIND(\"BC/BS\",#REF!)),\"X\",\"\")","v":""}]
["WELLCARE OF SOUTH CAROLINA","X",{"$f":"IF(ISNUMBER(FIND(\"MEDICAID\",A4857)),\"X\",\"\")","v":""},{"$f":"IF(ISNUMBER(FIND(\"MEDICARE\",A4857)),\"X\",\"\")","v":""},{"$f":"IF(ISNUMBER(FIND(\"BC/BS\",#REF!)),\"X\",\"\")","v":""}]
["WELLCARE OF TEXAS","X",{"$f":"IF(ISNUMBER(FIND(\"MEDICAID\",A4858)),\"X\",\"\")","v":""},{"$f":"IF(ISNUMBER(FIND(\"MEDICARE\",A4858)),\"X\",\"\")","v":""},{"$f":"IF(ISNUMBER(FIND(\"BC/BS\",#REF!)),\"X\",\"\")","v":""}]
["WELLCARE OF WASHINGTON","X",{"$f":"IF(ISNUMBER(FIND(\"MEDICAID\",A4859)),\"X\",\"\")","v":""},{"$f":"IF(ISNUMBER(FIND(\"MEDICARE\",A4859)),\"X\",\"\")","v":""},{"$f":"IF(ISNUMBER(FIND(\"BC/BS\",#REF!)),\"X\",\"\")","v":""}]
["WELLFIRST HEALTH","X",{"$f":"IF(ISNUMBER(FIND(\"MEDICAID\",A4860)),\"X\",\"\")","v":""},{"$f":"IF(ISNUMBER(FIND(\"MEDICARE\",A4860)),\"X\",\"\")","v":""},{"$f":"IF(ISNUMBER(FIND(\"BC/BS\",#REF!)),\"X\",\"\")","v":""}]
["WELLFLEET","X",{"$f":"IF(ISNUMBER(FIND(\"MEDICAID\",A4861)),\"X\",\"\")","v":""},{"$f":"IF(ISNUMBER(FIND(\"MEDICARE\",A4861)),\"X\",\"\")","v":""},{"$f":"IF(ISNUMBER(FIND(\"BC/BS\",#REF!)),\"X\",\"\")","v":""}]
["WELLMARK ADVANTAGE HEALTH PLAN","X",{"$f":"IF(ISNUMBER(FIND(\"MEDICAID\",A4862)),\"X\",\"\")","v":""},{"$f":"IF(ISNUMBER(FIND(\"MEDICARE\",A4862)),\"X\",\"\")","v":""},"X"]
["WELLMARK BCBS OF IOWA","X",{"$f":"IF(ISNUMBER(FIND(\"MEDICAID\",A4863)),\"X\",\"\")","v":""},{"$f":"IF(ISNUMBER(FIND(\"MEDICARE\",A4863)),\"X\",\"\")","v":""},"X"]
["WELLMARK BCBS OF SOUTH DAKOTA","X",{"$f":"IF(ISNUMBER(FIND(\"MEDICAID\",A4864)),\"X\",\"\")","v":""},{"$f":"IF(ISNUMBER(FIND(\"MEDICARE\",A4864)),\"X\",\"\")","v":""},"X"]
["WELLMARK HEALTH PLAN OF IOWA","X",{"$f":"IF(ISNUMBER(FIND(\"MEDICAID\",A4865)),\"X\",\"\")","v":""},{"$f":"IF(ISNUMBER(FIND(\"MEDICARE\",A4865)),\"X\",\"\")","v":""},"X"]
["WELLMARK VALUE HEALTH PLAN INC","X",{"$f":"IF(ISNUMBER(FIND(\"MEDICAID\",A4866)),\"X\",\"\")","v":""},{"$f":"IF(ISNUMBER(FIND(\"MEDICARE\",A4866)),\"X\",\"\")","v":""},"X"]
["WELLMED MEDICAL MANAGEMENT INC (WMMI)","X",{"$f":"IF(ISNUMBER(FIND(\"MEDICAID\",A4867)),\"X\",\"\")","v":""},{"$f":"IF(ISNUMBER(FIND(\"MEDICARE\",A4867)),\"X\",\"\")","v":""},{"$f":"IF(ISNUMBER(FIND(\"BC/BS\",#REF!)),\"X\",\"\")","v":""}]
["WELLSPAN POPULATION HEALTH SERVICES","X",{"$f":"IF(ISNUMBER(FIND(\"MEDICAID\",A4868)),\"X\",\"\")","v":""},{"$f":"IF(ISNUMBER(FIND(\"MEDICARE\",A4868)),\"X\",\"\")","v":""},{"$f":"IF(ISNUMBER(FIND(\"BC/BS\",#REF!)),\"X\",\"\")","v":""}]
["WEST AUTO GROUP EBPT (90 DEGREE BENEFITS HOUSTON - ENTRUST)",null,{"$f":"IF(ISNUMBER(FIND(\"MEDICAID\",A4869)),\"X\",\"\")","v":""},{"$f":"IF(ISNUMBER(FIND(\"MEDICARE\",A4869)),\"X\",\"\")","v":""},{"$f":"IF(ISNUMBER(FIND(\"BC/BS\",#REF!)),\"X\",\"\")","v":""}]
["WEST LOS ANGELES VA MEDICAL CENTER","X",{"$f":"IF(ISNUMBER(FIND(\"MEDICAID\",A4870)),\"X\",\"\")","v":""},{"$f":"IF(ISNUMBER(FIND(\"MEDICARE\",A4870)),\"X\",\"\")","v":""},{"$f":"IF(ISNUMBER(FIND(\"BC/BS\",#REF!)),\"X\",\"\")","v":""}]
["WEST PALM BEACH VA MEDICAL CENTER",null,{"$f":"IF(ISNUMBER(FIND(\"MEDICAID\",A4871)),\"X\",\"\")","v":""},{"$f":"IF(ISNUMBER(FIND(\"MEDICARE\",A4871)),\"X\",\"\")","v":""},{"$f":"IF(ISNUMBER(FIND(\"BC/BS\",#REF!)),\"X\",\"\")","v":""}]
["WEST SENECA CENTRAL SCHOOL DISTRICT (INDEPENDENT HEALTH)",null,{"$f":"IF(ISNUMBER(FIND(\"MEDICAID\",A4872)),\"X\",\"\")","v":""},{"$f":"IF(ISNUMBER(FIND(\"MEDICARE\",A4872)),\"X\",\"\")","v":""},{"$f":"IF(ISNUMBER(FIND(\"BC/BS\",#REF!)),\"X\",\"\")","v":""}]
["WEST SENECA TEACHERS ASSOCIATION",null,{"$f":"IF(ISNUMBER(FIND(\"MEDICAID\",A4873)),\"X\",\"\")","v":""},{"$f":"IF(ISNUMBER(FIND(\"MEDICARE\",A4873)),\"X\",\"\")","v":""},{"$f":"IF(ISNUMBER(FIND(\"BC/BS\",#REF!)),\"X\",\"\")","v":""}]
["WEST SUBURBAN HEALTH PROVIDERS (INNOVISTA HEALTH)","X",{"$f":"IF(ISNUMBER(FIND(\"MEDICAID\",A4874)),\"X\",\"\")","v":""},{"$f":"IF(ISNUMBER(FIND(\"MEDICARE\",A4874)),\"X\",\"\")","v":""},{"$f":"IF(ISNUMBER(FIND(\"BC/BS\",#REF!)),\"X\",\"\")","v":""}]
["WEST VIRGINIA LABORERS BENEFIT FUNDS",null,{"$f":"IF(ISNUMBER(FIND(\"MEDICAID\",A4875)),\"X\",\"\")","v":""},{"$f":"IF(ISNUMBER(FIND(\"MEDICARE\",A4875)),\"X\",\"\")","v":""},{"$f":"IF(ISNUMBER(FIND(\"BC/BS\",#REF!)),\"X\",\"\")","v":""}]
["WESTERN GROWERS ASSURANCE TRUST","X",{"$f":"IF(ISNUMBER(FIND(\"MEDICAID\",A4876)),\"X\",\"\")","v":""},{"$f":"IF(ISNUMBER(FIND(\"MEDICARE\",A4876)),\"X\",\"\")","v":""},{"$f":"IF(ISNUMBER(FIND(\"BC/BS\",#REF!)),\"X\",\"\")","v":""}]
["WESTERN HEALTH ADVANTAGE","X",{"$f":"IF(ISNUMBER(FIND(\"MEDICAID\",A4877)),\"X\",\"\")","v":""},{"$f":"IF(ISNUMBER(FIND(\"MEDICARE\",A4877)),\"X\",\"\")","v":""},{"$f":"IF(ISNUMBER(FIND(\"BC/BS\",#REF!)),\"X\",\"\")","v":""}]
["WESTERN HEALTH RESOURCES (ADVENTIST HEALTH SYSTEM WEST)","X",{"$f":"IF(ISNUMBER(FIND(\"MEDICAID\",A4878)),\"X\",\"\")","v":""},{"$f":"IF(ISNUMBER(FIND(\"MEDICARE\",A4878)),\"X\",\"\")","v":""},{"$f":"IF(ISNUMBER(FIND(\"BC/BS\",#REF!)),\"X\",\"\")","v":""}]
["WESTERN MI PIP CLAIMS BRANCH (AUTO-OWNERS INSURANCE COMPANY)","X",{"$f":"IF(ISNUMBER(FIND(\"MEDICAID\",A4879)),\"X\",\"\")","v":""},{"$f":"IF(ISNUMBER(FIND(\"MEDICARE\",A4879)),\"X\",\"\")","v":""},{"$f":"IF(ISNUMBER(FIND(\"BC/BS\",#REF!)),\"X\",\"\")","v":""},null,"X"]
["WESTERN MILLING (HEALTHCOMP)",null,{"$f":"IF(ISNUMBER(FIND(\"MEDICAID\",A4880)),\"X\",\"\")","v":""},{"$f":"IF(ISNUMBER(FIND(\"MEDICARE\",A4880)),\"X\",\"\")","v":""},{"$f":"IF(ISNUMBER(FIND(\"BC/BS\",#REF!)),\"X\",\"\")","v":""}]
["WESTERN RESERVE HOSPITAL LLC (CONTIGO HEALTH)",null,{"$f":"IF(ISNUMBER(FIND(\"MEDICAID\",A4881)),\"X\",\"\")","v":""},{"$f":"IF(ISNUMBER(FIND(\"MEDICARE\",A4881)),\"X\",\"\")","v":""},{"$f":"IF(ISNUMBER(FIND(\"BC/BS\",#REF!)),\"X\",\"\")","v":""}]
["WESTERN SKY COMMUNITY CARE INC","X",{"$f":"IF(ISNUMBER(FIND(\"MEDICAID\",A4882)),\"X\",\"\")","v":""},{"$f":"IF(ISNUMBER(FIND(\"MEDICARE\",A4882)),\"X\",\"\")","v":""},{"$f":"IF(ISNUMBER(FIND(\"BC/BS\",#REF!)),\"X\",\"\")","v":""}]
["WESTERN SOUTHERN FINANCIAL GROUP (WSFG)","X",{"$f":"IF(ISNUMBER(FIND(\"MEDICAID\",A4883)),\"X\",\"\")","v":""},{"$f":"IF(ISNUMBER(FIND(\"MEDICARE\",A4883)),\"X\",\"\")","v":""},{"$f":"IF(ISNUMBER(FIND(\"BC/BS\",#REF!)),\"X\",\"\")","v":""}]
["WESTFIELD INSURANCE COMPANY","X",{"$f":"IF(ISNUMBER(FIND(\"MEDICAID\",A4884)),\"X\",\"\")","v":""},{"$f":"IF(ISNUMBER(FIND(\"MEDICARE\",A4884)),\"X\",\"\")","v":""},{"$f":"IF(ISNUMBER(FIND(\"BC/BS\",#REF!)),\"X\",\"\")","v":""}]
["WESTMINSTER-CANTERBURY EBP (90 DEGREE BENEFITS HOUSTON - ENTRUST) ",null,{"$f":"IF(ISNUMBER(FIND(\"MEDICAID\",A4885)),\"X\",\"\")","v":""},{"$f":"IF(ISNUMBER(FIND(\"MEDICARE\",A4885)),\"X\",\"\")","v":""},{"$f":"IF(ISNUMBER(FIND(\"BC/BS\",#REF!)),\"X\",\"\")","v":""}]
["WESTON PREPARATORY ACADEMY - GROUP (APOSTROPHE)",null,{"$f":"IF(ISNUMBER(FIND(\"MEDICAID\",A4886)),\"X\",\"\")","v":""},{"$f":"IF(ISNUMBER(FIND(\"MEDICARE\",A4886)),\"X\",\"\")","v":""},{"$f":"IF(ISNUMBER(FIND(\"BC/BS\",#REF!)),\"X\",\"\")","v":""}]
["WESTSIDE CHEVROLET EBPT (90 DEGREE BENEFITS HOUSTON - ENTRUST)",null,{"$f":"IF(ISNUMBER(FIND(\"MEDICAID\",A4887)),\"X\",\"\")","v":""},{"$f":"IF(ISNUMBER(FIND(\"MEDICARE\",A4887)),\"X\",\"\")","v":""},{"$f":"IF(ISNUMBER(FIND(\"BC/BS\",#REF!)),\"X\",\"\")","v":""}]
["WETHERILL ASSOCIATES INC (WAI) (MAESTRO HEALTH)",null,{"$f":"IF(ISNUMBER(FIND(\"MEDICAID\",A4888)),\"X\",\"\")","v":""},{"$f":"IF(ISNUMBER(FIND(\"MEDICARE\",A4888)),\"X\",\"\")","v":""},{"$f":"IF(ISNUMBER(FIND(\"BC/BS\",#REF!)),\"X\",\"\")","v":""}]
["WEX HEALTH INC","X",{"$f":"IF(ISNUMBER(FIND(\"MEDICAID\",A4889)),\"X\",\"\")","v":""},{"$f":"IF(ISNUMBER(FIND(\"MEDICARE\",A4889)),\"X\",\"\")","v":""},{"$f":"IF(ISNUMBER(FIND(\"BC/BS\",#REF!)),\"X\",\"\")","v":""}]
["WHEELING HOSPITAL - PREMIUM (THE HEALTH PLAN)","X",{"$f":"IF(ISNUMBER(FIND(\"MEDICAID\",A4890)),\"X\",\"\")","v":""},{"$f":"IF(ISNUMBER(FIND(\"MEDICARE\",A4890)),\"X\",\"\")","v":""},{"$f":"IF(ISNUMBER(FIND(\"BC/BS\",#REF!)),\"X\",\"\")","v":""}]
["WHITE CAP LTD (AMERIBEN)",null,{"$f":"IF(ISNUMBER(FIND(\"MEDICAID\",A4891)),\"X\",\"\")","v":""},{"$f":"IF(ISNUMBER(FIND(\"MEDICARE\",A4891)),\"X\",\"\")","v":""},{"$f":"IF(ISNUMBER(FIND(\"BC/BS\",#REF!)),\"X\",\"\")","v":""}]
["WHITE CITY VA MEDICAL CENTER",null,{"$f":"IF(ISNUMBER(FIND(\"MEDICAID\",A4892)),\"X\",\"\")","v":""},{"$f":"IF(ISNUMBER(FIND(\"MEDICARE\",A4892)),\"X\",\"\")","v":""},{"$f":"IF(ISNUMBER(FIND(\"BC/BS\",#REF!)),\"X\",\"\")","v":""}]
["WHITE MEMORIAL MEDICAL CENTER (ADVENTIST HEALTH SYSTEM WEST)","X",{"$f":"IF(ISNUMBER(FIND(\"MEDICAID\",A4893)),\"X\",\"\")","v":""},{"$f":"IF(ISNUMBER(FIND(\"MEDICARE\",A4893)),\"X\",\"\")","v":""},{"$f":"IF(ISNUMBER(FIND(\"BC/BS\",#REF!)),\"X\",\"\")","v":""}]
["WHITE RIVER HEALTH SYSTEM (WEBTPA)","X",{"$f":"IF(ISNUMBER(FIND(\"MEDICAID\",A4894)),\"X\",\"\")","v":""},{"$f":"IF(ISNUMBER(FIND(\"MEDICARE\",A4894)),\"X\",\"\")","v":""},{"$f":"IF(ISNUMBER(FIND(\"BC/BS\",#REF!)),\"X\",\"\")","v":""}]
["WHOLE FOODS MARKET GROUP BENEFIT PLAN (WEBTPA)","X",{"$f":"IF(ISNUMBER(FIND(\"MEDICAID\",A4895)),\"X\",\"\")","v":""},{"$f":"IF(ISNUMBER(FIND(\"MEDICARE\",A4895)),\"X\",\"\")","v":""},{"$f":"IF(ISNUMBER(FIND(\"BC/BS\",#REF!)),\"X\",\"\")","v":""}]
["WICKER CONSTRUCTION EBPT (90 DEGREE BENEFITS HOUSTON - ENTRUST)",null,{"$f":"IF(ISNUMBER(FIND(\"MEDICAID\",A4896)),\"X\",\"\")","v":""},{"$f":"IF(ISNUMBER(FIND(\"MEDICARE\",A4896)),\"X\",\"\")","v":""},{"$f":"IF(ISNUMBER(FIND(\"BC/BS\",#REF!)),\"X\",\"\")","v":""}]
["WIKOFF (MAESTRO HEALTH)","X",{"$f":"IF(ISNUMBER(FIND(\"MEDICAID\",A4897)),\"X\",\"\")","v":""},{"$f":"IF(ISNUMBER(FIND(\"MEDICARE\",A4897)),\"X\",\"\")","v":""},{"$f":"IF(ISNUMBER(FIND(\"BC/BS\",#REF!)),\"X\",\"\")","v":""}]
["WILCO LIFE INSURANCE COMPANY (CONSECO)","X",{"$f":"IF(ISNUMBER(FIND(\"MEDICAID\",A4898)),\"X\",\"\")","v":""},{"$f":"IF(ISNUMBER(FIND(\"MEDICARE\",A4898)),\"X\",\"\")","v":""},{"$f":"IF(ISNUMBER(FIND(\"BC/BS\",#REF!)),\"X\",\"\")","v":""}]
["WILKES-BARRE VA MEDICAL CENTER","X",{"$f":"IF(ISNUMBER(FIND(\"MEDICAID\",A4899)),\"X\",\"\")","v":""},{"$f":"IF(ISNUMBER(FIND(\"MEDICARE\",A4899)),\"X\",\"\")","v":""},{"$f":"IF(ISNUMBER(FIND(\"BC/BS\",#REF!)),\"X\",\"\")","v":""}]
["WILLBANKS METALS INC EBP (90 DEGREE BENEFITS HOUSTON - ENTRUST)",null,{"$f":"IF(ISNUMBER(FIND(\"MEDICAID\",A4900)),\"X\",\"\")","v":""},{"$f":"IF(ISNUMBER(FIND(\"MEDICARE\",A4900)),\"X\",\"\")","v":""},{"$f":"IF(ISNUMBER(FIND(\"BC/BS\",#REF!)),\"X\",\"\")","v":""}]
["WILLIAM C. EARHART COMPANY INC","X",{"$f":"IF(ISNUMBER(FIND(\"MEDICAID\",A4901)),\"X\",\"\")","v":""},{"$f":"IF(ISNUMBER(FIND(\"MEDICARE\",A4901)),\"X\",\"\")","v":""},{"$f":"IF(ISNUMBER(FIND(\"BC/BS\",#REF!)),\"X\",\"\")","v":""}]
["WILLIAM S. MIDDLETON MEMORIAL VETERANS HOSPITAL","X",{"$f":"IF(ISNUMBER(FIND(\"MEDICAID\",A4902)),\"X\",\"\")","v":""},{"$f":"IF(ISNUMBER(FIND(\"MEDICARE\",A4902)),\"X\",\"\")","v":""},{"$f":"IF(ISNUMBER(FIND(\"BC/BS\",#REF!)),\"X\",\"\")","v":""}]
["WILLIAMS DISTRIBUTORS (REHN AND ASSOCIATES)","X",{"$f":"IF(ISNUMBER(FIND(\"MEDICAID\",A4903)),\"X\",\"\")","v":""},{"$f":"IF(ISNUMBER(FIND(\"MEDICARE\",A4903)),\"X\",\"\")","v":""},{"$f":"IF(ISNUMBER(FIND(\"BC/BS\",#REF!)),\"X\",\"\")","v":""}]
["WILLIAMSON COUNTY CLINICAL SERVICES INC (WEBTPA)",null,{"$f":"IF(ISNUMBER(FIND(\"MEDICAID\",A4904)),\"X\",\"\")","v":""},{"$f":"IF(ISNUMBER(FIND(\"MEDICARE\",A4904)),\"X\",\"\")","v":""},{"$f":"IF(ISNUMBER(FIND(\"BC/BS\",#REF!)),\"X\",\"\")","v":""}]
["WILLIAMSVILLE CENTRAL SCHOOL DISTRICT (INDEPENDENT HEALTH)",null,{"$f":"IF(ISNUMBER(FIND(\"MEDICAID\",A4905)),\"X\",\"\")","v":""},{"$f":"IF(ISNUMBER(FIND(\"MEDICARE\",A4905)),\"X\",\"\")","v":""},{"$f":"IF(ISNUMBER(FIND(\"BC/BS\",#REF!)),\"X\",\"\")","v":""}]
["WILMINGTON VA MEDICAL CENTER","X",{"$f":"IF(ISNUMBER(FIND(\"MEDICAID\",A4906)),\"X\",\"\")","v":""},{"$f":"IF(ISNUMBER(FIND(\"MEDICARE\",A4906)),\"X\",\"\")","v":""},{"$f":"IF(ISNUMBER(FIND(\"BC/BS\",#REF!)),\"X\",\"\")","v":""}]
["WILSON HEALTH (CONTIGO HEALTH)",null,{"$f":"IF(ISNUMBER(FIND(\"MEDICAID\",A4907)),\"X\",\"\")","v":""},{"$f":"IF(ISNUMBER(FIND(\"MEDICARE\",A4907)),\"X\",\"\")","v":""},{"$f":"IF(ISNUMBER(FIND(\"BC/BS\",#REF!)),\"X\",\"\")","v":""}]
["WILSON-MCSHANE CORPORATION","X",{"$f":"IF(ISNUMBER(FIND(\"MEDICAID\",A4908)),\"X\",\"\")","v":""},{"$f":"IF(ISNUMBER(FIND(\"MEDICARE\",A4908)),\"X\",\"\")","v":""},{"$f":"IF(ISNUMBER(FIND(\"BC/BS\",#REF!)),\"X\",\"\")","v":""}]
["WINDEMULLER ELECTRIC INC (ASR HEALTH BENEFITS)","X",{"$f":"IF(ISNUMBER(FIND(\"MEDICAID\",A4909)),\"X\",\"\")","v":""},{"$f":"IF(ISNUMBER(FIND(\"MEDICARE\",A4909)),\"X\",\"\")","v":""},{"$f":"IF(ISNUMBER(FIND(\"BC/BS\",#REF!)),\"X\",\"\")","v":""}]
["WIN-SUM SKI CORP (INDEPENDENT HEALTH)",null,{"$f":"IF(ISNUMBER(FIND(\"MEDICAID\",A4910)),\"X\",\"\")","v":""},{"$f":"IF(ISNUMBER(FIND(\"MEDICARE\",A4910)),\"X\",\"\")","v":""},{"$f":"IF(ISNUMBER(FIND(\"BC/BS\",#REF!)),\"X\",\"\")","v":""}]
["WISCONSIN PHYSICIANS SERVICE INSURANCE (WPS)","X",{"$f":"IF(ISNUMBER(FIND(\"MEDICAID\",A4911)),\"X\",\"\")","v":""},{"$f":"IF(ISNUMBER(FIND(\"MEDICARE\",A4911)),\"X\",\"\")","v":""},{"$f":"IF(ISNUMBER(FIND(\"BC/BS\",#REF!)),\"X\",\"\")","v":""}]
["WITZENMANN USA LLC (ASR HEALTH BENEFITS)","X",{"$f":"IF(ISNUMBER(FIND(\"MEDICAID\",A4912)),\"X\",\"\")","v":""},{"$f":"IF(ISNUMBER(FIND(\"MEDICARE\",A4912)),\"X\",\"\")","v":""},{"$f":"IF(ISNUMBER(FIND(\"BC/BS\",#REF!)),\"X\",\"\")","v":""}]
["WKG&J INC (SENTARA)","X",{"$f":"IF(ISNUMBER(FIND(\"MEDICAID\",A4913)),\"X\",\"\")","v":""},{"$f":"IF(ISNUMBER(FIND(\"MEDICARE\",A4913)),\"X\",\"\")","v":""},{"$f":"IF(ISNUMBER(FIND(\"BC/BS\",#REF!)),\"X\",\"\")","v":""}]
["WM. JENNINGS BRYAN DORN VA MEDICAL CENTER","X",{"$f":"IF(ISNUMBER(FIND(\"MEDICAID\",A4914)),\"X\",\"\")","v":""},{"$f":"IF(ISNUMBER(FIND(\"MEDICARE\",A4914)),\"X\",\"\")","v":""},{"$f":"IF(ISNUMBER(FIND(\"BC/BS\",#REF!)),\"X\",\"\")","v":""}]
["WMI MUTUAL INSURANCE COMPANY","X",{"$f":"IF(ISNUMBER(FIND(\"MEDICAID\",A4915)),\"X\",\"\")","v":""},{"$f":"IF(ISNUMBER(FIND(\"MEDICARE\",A4915)),\"X\",\"\")","v":""},{"$f":"IF(ISNUMBER(FIND(\"BC/BS\",#REF!)),\"X\",\"\")","v":""},null,"X"]
["WOODFOREST FINANCIAL GROUP INC (AMERIBEN)",null,{"$f":"IF(ISNUMBER(FIND(\"MEDICAID\",A4916)),\"X\",\"\")","v":""},{"$f":"IF(ISNUMBER(FIND(\"MEDICARE\",A4916)),\"X\",\"\")","v":""},{"$f":"IF(ISNUMBER(FIND(\"BC/BS\",#REF!)),\"X\",\"\")","v":""}]
["WOODMARK EBPT (90 DEGREE BENEFITS HOUSTON - ENTRUST)",null,{"$f":"IF(ISNUMBER(FIND(\"MEDICAID\",A4917)),\"X\",\"\")","v":""},{"$f":"IF(ISNUMBER(FIND(\"MEDICARE\",A4917)),\"X\",\"\")","v":""},{"$f":"IF(ISNUMBER(FIND(\"BC/BS\",#REF!)),\"X\",\"\")","v":""}]
["WORD OF GOD FELLOWSHIP INC (GROUP & PENSION ADMIN)","X",{"$f":"IF(ISNUMBER(FIND(\"MEDICAID\",A4918)),\"X\",\"\")","v":""},{"$f":"IF(ISNUMBER(FIND(\"MEDICARE\",A4918)),\"X\",\"\")","v":""},{"$f":"IF(ISNUMBER(FIND(\"BC/BS\",#REF!)),\"X\",\"\")","v":""}]
["WORKERS UNITED (AMALGAMATED LIFE)","X",{"$f":"IF(ISNUMBER(FIND(\"MEDICAID\",A4919)),\"X\",\"\")","v":""},{"$f":"IF(ISNUMBER(FIND(\"MEDICARE\",A4919)),\"X\",\"\")","v":""},{"$f":"IF(ISNUMBER(FIND(\"BC/BS\",#REF!)),\"X\",\"\")","v":""}]
["WORLD INSURANCE CO (AMERICAN REPUBLIC INSURANCE)","X",{"$f":"IF(ISNUMBER(FIND(\"MEDICAID\",A4920)),\"X\",\"\")","v":""},{"$f":"IF(ISNUMBER(FIND(\"MEDICARE\",A4920)),\"X\",\"\")","v":""},{"$f":"IF(ISNUMBER(FIND(\"BC/BS\",#REF!)),\"X\",\"\")","v":""}]
["WORLD TEK INDUSTRIES LLC (ASR HEALTH BENEFITS)","X",{"$f":"IF(ISNUMBER(FIND(\"MEDICAID\",A4921)),\"X\",\"\")","v":""},{"$f":"IF(ISNUMBER(FIND(\"MEDICARE\",A4921)),\"X\",\"\")","v":""},{"$f":"IF(ISNUMBER(FIND(\"BC/BS\",#REF!)),\"X\",\"\")","v":""}]
["WORTHINGTON INDUSTRIES (AMERIBEN)",null,{"$f":"IF(ISNUMBER(FIND(\"MEDICAID\",A4922)),\"X\",\"\")","v":""},{"$f":"IF(ISNUMBER(FIND(\"MEDICARE\",A4922)),\"X\",\"\")","v":""},{"$f":"IF(ISNUMBER(FIND(\"BC/BS\",#REF!)),\"X\",\"\")","v":""}]
["WP MALONE INC (90 DEGREE BENEFITS NORTH CAROLINA - CORPORATE BENEFIT SERVICES)","X",{"$f":"IF(ISNUMBER(FIND(\"MEDICAID\",A4923)),\"X\",\"\")","v":""},{"$f":"IF(ISNUMBER(FIND(\"MEDICARE\",A4923)),\"X\",\"\")","v":""},{"$f":"IF(ISNUMBER(FIND(\"BC/BS\",#REF!)),\"X\",\"\")","v":""}]
["WPS ASO (AUXIANT)",null,{"$f":"IF(ISNUMBER(FIND(\"MEDICAID\",A4924)),\"X\",\"\")","v":""},{"$f":"IF(ISNUMBER(FIND(\"MEDICARE\",A4924)),\"X\",\"\")","v":""},{"$f":"IF(ISNUMBER(FIND(\"BC/BS\",#REF!)),\"X\",\"\")","v":""}]
["WTS INTERNATIONAL (MAESTRO HEALTH)","X",{"$f":"IF(ISNUMBER(FIND(\"MEDICAID\",A4925)),\"X\",\"\")","v":""},{"$f":"IF(ISNUMBER(FIND(\"MEDICARE\",A4925)),\"X\",\"\")","v":""},{"$f":"IF(ISNUMBER(FIND(\"BC/BS\",#REF!)),\"X\",\"\")","v":""}]
["WV PIPE TRADES LOCAL 565 (THE HEALTH PLAN)","X",{"$f":"IF(ISNUMBER(FIND(\"MEDICAID\",A4926)),\"X\",\"\")","v":""},{"$f":"IF(ISNUMBER(FIND(\"MEDICARE\",A4926)),\"X\",\"\")","v":""},{"$f":"IF(ISNUMBER(FIND(\"BC/BS\",#REF!)),\"X\",\"\")","v":""}]
["WV PIPE TRADES LOCAL 83 (THE HEALTH PLAN)","X",{"$f":"IF(ISNUMBER(FIND(\"MEDICAID\",A4927)),\"X\",\"\")","v":""},{"$f":"IF(ISNUMBER(FIND(\"MEDICARE\",A4927)),\"X\",\"\")","v":""},{"$f":"IF(ISNUMBER(FIND(\"BC/BS\",#REF!)),\"X\",\"\")","v":""}]
["WV TREASURY PEIA (UMR)","X",{"$f":"IF(ISNUMBER(FIND(\"MEDICAID\",A4928)),\"X\",\"\")","v":""},{"$f":"IF(ISNUMBER(FIND(\"MEDICARE\",A4928)),\"X\",\"\")","v":""},{"$f":"IF(ISNUMBER(FIND(\"BC/BS\",#REF!)),\"X\",\"\")","v":""}]
["WVU MEDICINE (THE HEALTH PLAN)","X",{"$f":"IF(ISNUMBER(FIND(\"MEDICAID\",A4929)),\"X\",\"\")","v":""},{"$f":"IF(ISNUMBER(FIND(\"MEDICARE\",A4929)),\"X\",\"\")","v":""},{"$f":"IF(ISNUMBER(FIND(\"BC/BS\",#REF!)),\"X\",\"\")","v":""}]
["YAKAMA NATION LEGENDS CASINO (HEALTHCOMP)","X",{"$f":"IF(ISNUMBER(FIND(\"MEDICAID\",A4930)),\"X\",\"\")","v":""},{"$f":"IF(ISNUMBER(FIND(\"MEDICARE\",A4930)),\"X\",\"\")","v":""},{"$f":"IF(ISNUMBER(FIND(\"BC/BS\",#REF!)),\"X\",\"\")","v":""}]
["YAMHILL CCO (PERFORMANCE HEALTH TECHNOLOGY)","X",{"$f":"IF(ISNUMBER(FIND(\"MEDICAID\",A4931)),\"X\",\"\")","v":""},{"$f":"IF(ISNUMBER(FIND(\"MEDICARE\",A4931)),\"X\",\"\")","v":""},{"$f":"IF(ISNUMBER(FIND(\"BC/BS\",#REF!)),\"X\",\"\")","v":""}]
["YORK COUNTY SCHOOL DIVISION (SENTARA)","X",{"$f":"IF(ISNUMBER(FIND(\"MEDICAID\",A4932)),\"X\",\"\")","v":""},{"$f":"IF(ISNUMBER(FIND(\"MEDICARE\",A4932)),\"X\",\"\")","v":""},{"$f":"IF(ISNUMBER(FIND(\"BC/BS\",#REF!)),\"X\",\"\")","v":""}]
["YORK HOSPITAL (AMERIBEN)",null,{"$f":"IF(ISNUMBER(FIND(\"MEDICAID\",A4933)),\"X\",\"\")","v":""},{"$f":"IF(ISNUMBER(FIND(\"MEDICARE\",A4933)),\"X\",\"\")","v":""},{"$f":"IF(ISNUMBER(FIND(\"BC/BS\",#REF!)),\"X\",\"\")","v":""}]
["YOUTH EDUCATIONAL SVC INC (GROUP & PENSION ADMIN)","X",{"$f":"IF(ISNUMBER(FIND(\"MEDICAID\",A4934)),\"X\",\"\")","v":""},{"$f":"IF(ISNUMBER(FIND(\"MEDICARE\",A4934)),\"X\",\"\")","v":""},{"$f":"IF(ISNUMBER(FIND(\"BC/BS\",#REF!)),\"X\",\"\")","v":""}]
["YUMA AREA BENEFIT CONSORTIUM (AMERIBEN)",null,{"$f":"IF(ISNUMBER(FIND(\"MEDICAID\",A4935)),\"X\",\"\")","v":""},{"$f":"IF(ISNUMBER(FIND(\"MEDICARE\",A4935)),\"X\",\"\")","v":""},{"$f":"IF(ISNUMBER(FIND(\"BC/BS\",#REF!)),\"X\",\"\")","v":""}]
["YUROK TRIBE (HEALTHCOMP)","X",{"$f":"IF(ISNUMBER(FIND(\"MEDICAID\",A4936)),\"X\",\"\")","v":""},{"$f":"IF(ISNUMBER(FIND(\"MEDICARE\",A4936)),\"X\",\"\")","v":""},{"$f":"IF(ISNUMBER(FIND(\"BC/BS\",#REF!)),\"X\",\"\")","v":""}]
["ZAPPOS.COM INC (THE HEALTH PLAN)",null,{"$f":"IF(ISNUMBER(FIND(\"MEDICAID\",A4937)),\"X\",\"\")","v":""},{"$f":"IF(ISNUMBER(FIND(\"MEDICARE\",A4937)),\"X\",\"\")","v":""},{"$f":"IF(ISNUMBER(FIND(\"BC/BS\",#REF!)),\"X\",\"\")","v":""}]
["ZARXIO MEDICAL COPAY PROGRAM (TRIALCARD)","X",{"$f":"IF(ISNUMBER(FIND(\"MEDICAID\",A4938)),\"X\",\"\")","v":""},{"$f":"IF(ISNUMBER(FIND(\"MEDICARE\",A4938)),\"X\",\"\")","v":""},{"$f":"IF(ISNUMBER(FIND(\"BC/BS\",#REF!)),\"X\",\"\")","v":""}]
["ZELIS HEALTHCARE (AMERIBEN)",null,{"$f":"IF(ISNUMBER(FIND(\"MEDICAID\",A4939)),\"X\",\"\")","v":""},{"$f":"IF(ISNUMBER(FIND(\"MEDICARE\",A4939)),\"X\",\"\")","v":""},{"$f":"IF(ISNUMBER(FIND(\"BC/BS\",#REF!)),\"X\",\"\")","v":""}]
["ZENITH AMERICAN SOLUTIONS","X",{"$f":"IF(ISNUMBER(FIND(\"MEDICAID\",A4940)),\"X\",\"\")","v":""},{"$f":"IF(ISNUMBER(FIND(\"MEDICARE\",A4940)),\"X\",\"\")","v":""},{"$f":"IF(ISNUMBER(FIND(\"BC/BS\",#REF!)),\"X\",\"\")","v":""}]
["ZENITH ATLAS","X",{"$f":"IF(ISNUMBER(FIND(\"MEDICAID\",A4941)),\"X\",\"\")","v":""},{"$f":"IF(ISNUMBER(FIND(\"MEDICARE\",A4941)),\"X\",\"\")","v":""},{"$f":"IF(ISNUMBER(FIND(\"BC/BS\",#REF!)),\"X\",\"\")","v":""}]
["ZENITH BEACON SPYGLASS","X",{"$f":"IF(ISNUMBER(FIND(\"MEDICAID\",A4942)),\"X\",\"\")","v":""},{"$f":"IF(ISNUMBER(FIND(\"MEDICARE\",A4942)),\"X\",\"\")","v":""},{"$f":"IF(ISNUMBER(FIND(\"BC/BS\",#REF!)),\"X\",\"\")","v":""}]
["ZENITH ILWU-PMA COASTWISE","X",{"$f":"IF(ISNUMBER(FIND(\"MEDICAID\",A4943)),\"X\",\"\")","v":""},{"$f":"IF(ISNUMBER(FIND(\"MEDICARE\",A4943)),\"X\",\"\")","v":""},{"$f":"IF(ISNUMBER(FIND(\"BC/BS\",#REF!)),\"X\",\"\")","v":""}]
["ZENITH LUMINX","X",{"$f":"IF(ISNUMBER(FIND(\"MEDICAID\",A4944)),\"X\",\"\")","v":""},{"$f":"IF(ISNUMBER(FIND(\"MEDICARE\",A4944)),\"X\",\"\")","v":""},{"$f":"IF(ISNUMBER(FIND(\"BC/BS\",#REF!)),\"X\",\"\")","v":""}]
["ZIGLIN SIGNS (IPMG)","X",{"$f":"IF(ISNUMBER(FIND(\"MEDICAID\",A4945)),\"X\",\"\")","v":""},{"$f":"IF(ISNUMBER(FIND(\"MEDICARE\",A4945)),\"X\",\"\")","v":""},{"$f":"IF(ISNUMBER(FIND(\"BC/BS\",#REF!)),\"X\",\"\")","v":""}]
["ZV PATE (MAESTRO HEALTH)",null,{"$f":"IF(ISNUMBER(FIND(\"MEDICAID\",A4946)),\"X\",\"\")","v":""},{"$f":"IF(ISNUMBER(FIND(\"MEDICARE\",A4946)),\"X\",\"\")","v":""},{"$f":"IF(ISNUMBER(FIND(\"BC/BS\",#REF!)),\"X\",\"\")","v":""}]

{"sheet":"837 Payer List","index":1,"n_rows":5347,"n_cols":6,"rows_kept":5347,"cut":false,"hidden":false,"merged":[]}
[]
[]
[]
[]
[]
[]
[]
["Healthcare Advantage 837 Payer List"]
["Key"]
["X = Requires Enrollment","P = Professional "]
["O = Does not require enrollment","I = Institutional"]
[]
[]
["Payer Name","PNC Payer ID","Professional Claims","Institutional Claims","Secondary Claim Format","Accepts Dual Clearinghouses"]
["1-888-OHIOCOMP","10041","X","X2","Electronic","P I"]
["1199 National Benefit Fund",13162,"O","O","Paper","P E"]
["1ST AUTO & CASUALTY (MN ONLY) (AUTO ONLY)","J1585A","O","O","Electronic"]
["21ST CENTURY INSURANCE (ALL STATES) (WC ONLY)","41556W","O","O","Electronic"]
["3-HAB (ALL STATES) (AUTO ONLY)","J3979A","O","O","Electronic","P I"]
["3-HAB (ALL STATES) (WC ONLY)","J3979","O","O","Electronic","P I"]
["729 DEMO PAYER",88888,null,null,"Paper"]
["A & I BENEFIT PLAN ADMINISTRATORS",93044,"O","O","Electronic","P I"]
["A PLUS STAFFING (ALL STATES) (WC ONLY)","A0280W","O","O","Electronic"]
["A W HOLDINGS LLC DBA BENCHMARK (CT FL GA IN MD MI MO NJ NM TN) (AUTO ONLY)","J1976A","O","O","Electronic"]
["AAA AUTOMOBILE  (AUTO ONLY)  (MN ONLY)","WC188A","O","O","Electronic"]
["AAA AUTOMOBILE (WC ONLY)","WC188W","O",null,"Paper"]
["AAA TRIPLE A (MN ONLY) (AUTO ONLY)","11983A","O","O","Electronic"]
["AARP MEDICARE SUPPLEMENT BY UNITEDHEALTHCARE",36273,"O","O","Electronic"]
["ABLEPAY HEALTH","ABLPY","O","O","Electronic"]
["ACADIA INSURANCE COMPANY (ALL STATES) (WC ONLY)","J1477","O","O","Electronic"]
["ACCELERATED CLAIMS INC","Z96399","O","O","Electronic"]
["ACCESS ADMINISTRATORS","Z0075","O","O","Electronic","P I"]
["ACCESS COMMUNITY HEALTH NETWORK","ACCOM","O","O","Paper"]
["ACCESS HEALTH (MI ONLY)","Z1353","O","O","Electronic","P"]
["ACCESS HEALTHNET (AHN)",53747,"O","O","Electronic","P I"]
["ACCESS INTEGRA","INTEG","O",null,"Electronic"]
["ACCESS IPA","ACC01","O","O","Electronic"]
["ACCESS MEDICAL GROUP","AMG02","O","O","Paper"]
["ACCIDENT FUND INSURANCE CO OF AMERICA (ALL STATES) (WC ONLY)","J1790W","O","O","Electronic"]
["ACCIDENT FUND INSURANCE OF AMERICA","J1790","O","O","Electronic"]
["ACCLAIM",64071,null,null,"Paper"," "]
["ACCOUNTABLE CARE MANAGEMENT GROUP LLC",45328,"O","O","Paper","P I"]
["ACCOUNTABLE IPA","AHIPA","O","O","Electronic"]
["ACCURIDE CORPORATION (ALL STATES) (WC ONLY)","WC528W","O","O","Electronic"]
["ACE PROPERTY & CASUALTY INS. COMPANY MEDICARE SUPPLEMENT (REMITS ONLY)","Z96821",null,null,"Paper"]
["ACE USA (ALL STATES) (WC ONLY)","20699W","O","O","Electronic"]
["ACIG INSURANCE COMPANY (AUTO ONLY)(MN,TX ONLY)","19984A","O",null,"Paper"]
["ACIG INSURANCE COMPANY (TX MN ONLY) (WC ONLY)","J1578","O","O","Electronic","P I"]
["ACIG INSURANCE COMPANY (TX MN ONLY)(AUTO ONLY)","J1578A","O","O","Electronic","P I"]
["ACIG INSURANCE COMPANY (WC ONLY)(MN,TX ONLY)","19984W","O",null,"Paper"]
["ACM - BLUE SHIELD OF CALIFORNIA (HOME INFUSION)","Z1244","X",null,"Electronic"]
["ACM - TUFTS (HOME INFUSION & SPECIALTY PHARMACY MEDICAL BENEFIT)","Z1238","X",null,"Electronic"]
["ACS BENEFIT SERVICES","PA331","O","O","Electronic"]
["ACS BENEFIT SERVICES INC",72467,"O","O","Electronic","P I "]
["ACTIN CARE GROUPS/CLIFTON HEALTH SYSTEMS",24585,"O","O","Electronic","P I"]
["ACTIVA BENEFIT SERVICES LLC",38254,"O","O","Electronic","P"]
["ACTIVE CARE INC",66310,"O","O","Electronic","P I"]
["ACTIVE CARE INC (ALL STATES) (AUTO ONLY)","J3840A","O","O","Electronic","P I"]
["ACTIVE CARE INC (ALL STATES) (WC ONLY)","J3840","O","O","Electronic","P I"]
["ACTIVHEALTHCARE","AHC01","O",null,"Electronic","P"]
["ACUITY, A MUTUAL INSURANCE COMPANY (ALL STATES)(WC ONLY)","J1240","O","O","Electronic"]
["ACUITY, A MUTUAL INSURANCE COMPANY (ALL STATES)(WC ONLY)","J1240W","O","O","Electronic"]
["AD- COMP (ALL STATES) (AUTO ONLY)","J1667A","O","O","Electronic"]
["AD- COMP (WC ONLY)","J1667WC","O","O","Electronic"]
["ADAP STATE OF NEW YORK DEPT OF HEALTH UNINSURED PRIMARY CARE REIMBURSEMENT PROGRAM",14142,"O","O","Electronic"]
["ADMINISTAFF (WC ONLY) (ALL STATES)","WC264","O",null,"Electronic"]
["ADMINISTRATIVE CLAIM SERVICE INC (ALL STATES) (WC ONLY)","J1005W","O","O","Electronic"]
["ADMINISTRATIVE CLAIM SERVICE,INC.","WZ093","O","O","Electronic"]
["ADMINISTRATIVE CONCEPTS, INC",22384,"O","O","Electronic","P I  "]
["ADMINISTRATIVE SERVICES INC",59141,"O","O","Electronic","P I "]
["ADMINONE (REMITS ONLY)",37278,null,null,"Paper"]
["ADMINSURE (ALL STATES) (AUTO ONLY)","J2292A","O","O","Electronic"]
["ADMINSURE (ALL STATES) (WC ONLY)","J2292W","O","O","Electronic"]
["ADP TOTAL SOURCE INC. (ALL STATES)(WC ONLY)","J1242W","O",null,"Electronic"]
["ADVANCED MEDICAL DOCTORS OF CA","AMDC1","O","O","Electronic","P I"]
["ADVANCED MEDICAL MANAGEMENT","AMM03","O","O","Electronic"]
["ADVANCED SERVICES INC (ALL STATES) (AUTO ONLY)","J1608A","O","O","Electronic"]
["ADVANCED SERVICES INC (ALL STATES) (WC ONLY)","J1608W","O","O","Electronic"]
["ADVA-NET","Z96191",null,null,"Paper"]
["ADVANTAGE BY BRIDGEWAY HEALTH SOLUTIONS",68056,"O","O","Electronic"]
["ADVANTAGE CARE IPA","ACIPA","O","O","Electronic","P I"]
["ADVANTEK BENEFIT ADMINISTRATORS",83077,"O","O","Electronic"]
["ADVANZEON SOLUTIONS",59314,"O","O","Paper"]
["ADVENT HEALTH MEDICAL CORPORATION","AHMC1","O","O","Paper","P I"]
["ADVENTHEALTH TRANSPLANT PROGRAM","AHTP01","O","O","Electronic","P I"]
["ADVENTIST HEALTH CARE NETWORK","MPM51","O","O","Electronic","P I"]
["ADVENTIST HEALTH HANFORD AHP","MPM36","O","O","Electronic","I"]
["ADVENTIST HEALTH PLAN","MPM37","O","O","Electronic","P I"]
["ADVENTIST HEALTH PLAN PROVIDER NETWORK","MPM38","O","O","Electronic","P"]
["ADVENTIST HEALTH SYSTEM WEST (ROSEVILLE, CA)",95340,"O","O","Electronic"]
["ADVENTIST WHITE MEMORIAL - CROWN CITY MEDICAL GROUP","MPM33","O","O","Electronic","P I"]
["ADVENTIST WHITE MEMORIAL - SOUTHLAND SAN GABRIEL VALLEY","MPM34","O","O","Electronic","P I"]
["ADVISORY HEALTH & WELLNESS",73824,"O","O","Electronic","P I"]
["ADVISORY HEALTH ADMINISTRATORS","CB159","O","O","Electronic","P I"]
["ADVOCARE INCORPORATED (WC)","J1896","O","O","Electronic"]
["ADVOCATE HEALTH CENTERS",36320,"O","O","Electronic","P I"]
["ADVOCATE PHYSICIAN PARTNERS",65093,"O","O","Electronic","P I"]
["ADVOCATE SECURITY HEALTH","Z0008","O",null,"Electronic","P"]
["AEGIS ADMINISTRATIVE SERVICES","CB637","O","O","Electronic"]
["AEGIS SECURITY INSURANCE COMPANY",33898,"O","O","Electronic"]
["AETNA",60054,"O","O","Electronic","P I "]
["AETNA (SUBROGATION CLAIMS ONLY)","60054S","O","O","Electronic","P I"]
["AETNA (WITH ATTACHMENTS)","J60054","O","O","Electronic"]
["AETNA ADMINISTRATOR MEDICARE SUPPLEMENT (ELIGIBILITY AND REMITS ONLY)",62118,null,null,"Paper"]
["AETNA AFFORDABLE HEALTH CHOICES (SM) - SRC",57604,"O","O","Electronic","P I"]
["AETNA BETTER HEALTH - IL MEDICAID",26337,"O","O","Electronic"]
["AETNA BETTER HEALTH - PA",23228,"O","O","Electronic"]
["AETNA BETTER HEALTH (ELIGIBILITY ONLY)","ABH01",null,null,"Paper"]
["AETNA BETTER HEALTH OF CALIFORNIA","128CA","O","O","Electronic"]
["AETNA BETTER HEALTH OF FLORIDA","128FL","O","O","Electronic"]
["AETNA BETTER HEALTH OF ILLINOIS INC",68024,"O","O","Electronic","P I"]
["AETNA BETTER HEALTH OF KANSAS","128KS","O","O","Electronic"," "]
["AETNA BETTER HEALTH OF KENTUCKY","128KY","O","O","Electronic"]
["AETNA BETTER HEALTH OF LOUISIANA","128LA","O","O","Electronic"]
["AETNA BETTER HEALTH OF MARYLAND","128MD","O","O","Paper","P I "]
["AETNA BETTER HEALTH OF MICHIGAN","128MI","O","O","Electronic","P I "]
["AETNA BETTER HEALTH OF NEW JERSEY",46320,"O","O","Electronic","P I "]
["AETNA BETTER HEALTH OF NEW YORK",34734,"O","O","Electronic","P I "]
["AETNA BETTER HEALTH OF OHIO",50023,"O","O","Electronic","P I "]
["AETNA BETTER HEALTH OF TEXAS",38692,"O","O","Electronic","P I "]
["AETNA BETTER HEALTH OF VIRGINIA","128VA","O","O","Electronic"]
["AETNA BETTER HEALTH OF WEST VIRGINIA","128WV","O","O","Electronic","P I "]
["AETNA EMPLOYEE ASSISTANCE PROGRAM (EAP)","EAP20","O",null,"Electronic","P"]
["AETNA ENCOUNTERS ONLY",60055,"O",null,"Electronic","P"]
["AETNA MEDICARE ADVANTAGE","Z95668","O","O","Electronic","P I"]
["AETNA RETIREE MEDICAL PLAN - ADMINISTRATOR",10891,null,null,"Paper"]
["AETNA RX (REMITS ONLY)","Z1420",null,null,"Paper"]
["AF SPECIALTY - ASSIGNED RISK SOLUTIONS (ALL STATES) (WC ONLY)","J2279W","O","O","Electronic"]
["AFFILIATED DOCTORS OF ORANGE COUNTY","ADOCS","O","O","Electronic","P I"]
["AFFILIATED PARTNERS IPA","POP09","O",null,"Electronic","P"]
["AFFILIATED PHYSICIANS GROUP","APG01",null,null,"Paper"]
["AFFILIATED PHYSICIANS IPA","POP06","O","O","Electronic"]
["AFFINITY HEALTH PLAN (DOS 10/31/21 AND PRIOR)",13334,null,null,"Paper"]
["AFFINITY MEDICAL GROUP",46594,"O","O","Electronic","P I"]
["AFFORDABLE BENEFIT ADMINISTRATORS INC",95426,"O","O","Electronic","P I"]
["AFLAC","Z10955",null,null,"Paper"]
["AFLAC DENTAL",10398,null,null,"Paper"]
["A-G ADMINISTRATORS LLC",11370,"O","O","Electronic","P I"]
["AG FACILITIES OPERATIONS, LLC (WC)","J41556W","O","O","Electronic","P I"]
["AGATE RESOURCES INC (LIPA) (DOS PRIOR TO 06/01/16)",20048,"O",null,"Electronic","P"]
["AGERIGHT ADVANTAGE","ARA01","O","O","Electronic","P I"]
["AGEWELL NEW YORK","AWNY6","O","O","Electronic"]
["AGIA INC",95241,"O","O","Electronic","P  "]
["AHPO (CLEVELAND, OH)",31138,"O","O","Electronic","P I"]
["AIDS HEALTHCARE FOUNDATION",95422,"O","O","Paper","P I"]
["AIDS HEALTHCARE FOUNDATION RWANDA",95433,"O","O","Electronic","P"]
["AITHER HEALTH",64884,"O","O","Electronic","P I"]
["AKAMAI ADVANTAGE","AKAMA","X","X","Electronic","P I"]
["ALACURA MEDICAL TRANSPORTATION MANAGEMENT LLC","RP065","X",null,"Electronic"]
["ALAFFIA HEALTH",89210,"O","O","Electronic","P"]
["ALAMEDA ALLIANCE FOR HEALTH",95327,"X","X","Electronic","P I"]
["ALAN STURM AND ASSOCIATES - DENTAL",10798,null,null,"Paper"]
["ALARM CONTRACTORS (ALL STATES) (WC ONLY)","J3859W","O","O","Electronic"]
["ALASKA CHILDREN'S SERVICES",91136,"O","O","Electronic","P I"]
["ALASKA NATIONAL INSURANCE (ALL STATES) (AUTO ONLY)","J1577A","O","O","Electronic","P"]
["ALASKA NATIONAL INSURANCE (ALL STATES) (WC ONLY)","J1577","O","O","Electronic","P"]
["ALASKA NATIONAL INSURANCE (AUTO ONLY) (ALL STATES)","19010A","O","O","Electronic"]
["ALASKA NATIONAL INSURANCE (AUTO)","J1557A","O","O","Electronic","P I"]
["ALBUQUERQUE PUBLIC SCHOOLS",85600,"O","O","Electronic","P I"]
["ALCOA FASTENERS SYSTEMS (ALL STATES)","WC340","O",null,"Electronic"]
["ALEXIAN BROTHERS COMMUNITY SERVICES OF TN",44423,"O","O","Paper","P I"]
["ALIGN SENIOR CARE (CA)","ASCA1","O","O","Electronic"]
["ALIGN SENIOR CARE (FL)","ASFL1","O","O","Paper","P I"]
["ALIGN SENIOR CARE (MI)","ASMI1","O","O","Paper","P I"]
["ALIGN SENIOR CARE (VA)","ASVA1","O","O","Paper","P I"]
["ALIGNED COMMUNITY PHYSICIANS","ACP17","O","O","Electronic","P I"]
["ALIGNMENT HEALTH CARE (FEE FOR SERVICE)","CCHPC","O","O","Electronic","P I"]
["ALIVI HEALTH","ALIVI","O",null,"Electronic","P"]
["ALIVI THERAPY NETWORK","ATNET","O",null,"Electronic","P"]
["ALL CARE MEDICAL GROUP","ALLCA","O","O","Paper","P I"]
["ALL UNITED MEDICAL GROUP","AUMG1","O","O","Electronic"]
["ALLCARE ADVANTAGE","Z1319","O","O","Electronic","P I"]
["ALLCARE HEALTH PLAN","Z1322","O","O","Electronic","P I"]
["ALLCARE IPA","AC101","O",null,"Electronic","P"]
["ALLCARE PACE","ACPCE","O","O","Electronic"]
["ALLCARE PEBB",26158,"O","O","Electronic","P I"]
["ALLEGEANT",52193,"O","O","Electronic","P I"]
["ALLEGHENY TECHNOLOGIES (ALL STATES)(WC ONLY)","J1245W","O",null,"Electronic"]
["ALLEGIANCE BENEFIT PLAN MANAGEMENT INC",81040,"O","O","Electronic","P I "]
["ALLEGIANCE HEALTH MANAGEMENT",99588,"O","O","Electronic","P I"]
["ALLEN CANNING (ALL STATES) (WC ONLY)","J1740","O","O","Electronic"]
["ALLEN MEDICAL CLAIMS ADMINISTRATORS","CX016",null,null,"Paper"]
["ALLIANCE - ALPHA CARE GOLD","ADSL1","O","O","Electronic","P"]
["ALLIANCE BEHAVIORAL HEALTH NC",23071,"X","X","Electronic"]
["ALLIANCE COAL HEALTH PLAN",93658,"O","O","Electronic"]
["ALLIANCE NATIONAL INSURANCE COMPANY (ALL STATES) (AUTO ONLY)","J3971A","O","O","Electronic","P I"]
["ALLIANCE NATIONAL INSURANCE COMPANY (ALL STATES) (WC ONLY)","J3971","O","O","Electronic","P I"]
["ALLIANCE PHYSICIANS-HIGH DESERT",22417,"O","O","Paper","P"]
["ALLIANT ENERGY  (AUTO ONLY)(MN,TX ONLY)","E3757A","O",null,"Paper"]
["ALLIANT ENERGY (ALL STATES) (WC ONLY)","J1619W","O","O","Electronic","P I"]
["ALLIANT ENERGY (AUTO ONLY)(ALL STATES)","J1619A","O","O","Electronic","P I"]
["ALLIANT ENERGY (WC ONLY)(MN,TX ONLY)","E3757W","O",null,"Paper"]
["ALLIANT HEALTH PLANS OF GEORGIA",58234,"O","O","Electronic","P  "]
["ALLIANZ (WC ONLY) (CA ONLY)","J1452","O","O","Electronic"]
["ALLIANZ GLOBAL ASSISTANCE",50749,"O","O","Electronic","P I"]
["ALLIANZ RESOLUTION MANAGEMENT - DATE OF INJURY BEFORE 12/31/12 (ALL STATES) (WC ONLY)","J2326","O","O","Electronic","P I"]
["ALLIED BENEFIT SYSTEMS",37308,"O","O","Electronic","P I "]
["ALLIED INSURANCE COMPANIES (ALL STATES) (WC ONLY)","J1550","O","O","Electronic","P I"]
["ALLINA HEALTH AETNA",54398,"O","O","Electronic","P I"]
["ALLINA HEALTH AETNA (WITH ATTACHMENTS)","J54398","O","O","Electronic"]
["ALLMERICA FINANCIAL BENEFITS INSURANCE COMP (ALL STATES) (AUTO ONLY)","J1589A","O","O","Electronic","P I"]
["ALLMERICA FINANCIAL BENEFITS INSURANCE COMP (ALL STATES) (WC ONLY)","J1589W","O","O","Electronic","P I"]
["ALLSTATE (ALL STATES EXCEPT NJ) (AUTO ONLY)","C1037A","O","O","Electronic","P I"]
["ALLSTATE (NJ ONLY) (AUTO ONLY)","C1089A","O","O","Electronic"]
["ALLSTATE INSURANCE COMPANY - ALL STATES EXCEPT NJ (AUTO ONLY)",77066,"O","O","Electronic","P"]
["ALLWAYS HEALTH PARTNERS",4293,"O","O","Electronic","P I "]
["ALOHACARE MEDICARE AND MEDICAID","Z1375","X","X","Electronic","P I  "]
["ALPHA CARE MEDICAL GROUP","NMM04","O","O","Electronic","P I"]
["ALPHACARE OF NY","ALPHA","O","O","Electronic"]
["ALTA BATES MEDICAL GROUP","A0701","O","O","Electronic","P I"]
["ALTAMED","ALTAM","O","O","Electronic"]
["ALTERNATIVE OPPORTUNITIES",16089,"O",null,"Electronic","P"]
["ALTERNATIVE PAPER - CLIA",98994,"O",null,"Electronic","P"]
["ALTERNATIVE SERVICE CONCEPTS (ASC) (ALL STATES) (AUTO ONLY)","J2149A","O","O","Electronic","P I"]
["ALTERNATIVE SERVICE CONCEPTS (ASC) (ALL STATES) (WC ONLY)","J2149W","O","O","Electronic","P I"]
["ALTERWOOD ADVANTAGE","RP016","O","O","Paper","P I"]
["ALVEY SYSTEMS (AON RISK) (MN, TX) AUTO ONLY","WC595A","O","O","Electronic"]
["ALWAYS CARE BENEFITS (FOR VISION ONLY)","ATR01","O",null,"Electronic"]
["ALWAYSCARE BENEFITS","STR01","O",null,"Electronic"]
["AMA INSURANCE AGENCY","TH071",null,"O","Electronic"]
["AMADA HEALTH","AMADA","O","O","Paper","P I"]
["AMALGAMATED LIFE",13550,"O","O","Electronic","P I"]
["AMALGAMATED LIFE - PA / ALICARE",13343,"O","O","Paper","P I"]
["AMBAY HEALTH NETWORK","AMBHN","O",null,"Electronic","P"]
["AMCO",62176,"O","O","Electronic","P I"]
["AMERIBEN SOLUTIONS INC",75137,"O","O","Electronic","P I "]
["AMERICAS CHOICE HEALTHPLANS/NMA",20029,"O","O","Electronic","P I"]
["AMERICAID/AMERIGROUP-FOR PROVIDERS LOCATED IN HOUSTON",26374,"O","O","Electronic"]
["AMERICAN BENEFIT CORPORATION","RP038","O","O","Electronic","P"]
["AMERICAN BENEFITS MANAGEMENT (NORTH CANTON OH)",34187,"O",null,"Electronic"]
["AMERICAN BENEFITS PLAN ADMINISTRATORS, INC (LAS VEGAS, NV)",59140,"O","O","Paper","P I"]
["AMERICAN CASINO & ENTERTAINMENT PROPERTIES (WC ONLY)","J1802W","O","O","Electronic"]
["AMERICAN CASINO & ENTERTAINMENT PROPERTIES LLC","J1802A","O","O","Electronic","P I"]
["AMERICAN CLAIMS MANAGEMENT (ACM) (ALL) AUTO ONLY","WA065A","O",null,"Electronic","P"]
["AMERICAN CLAIMS MANAGEMENT ACM (ALL STATES) (WC ONLY)","J1236","O","O","Electronic","P I"]
["AMERICAN COUNTRY INSURANCE | AMERICAN SERVICE INSURANCE (MN ONLY) (AUTO ONLY)","C1075","O","O","Electronic","P I"]
["AMERICAN ELDERCARE, INC",61115,"O","O","Electronic","I"]
["AMERICAN EXPRESS ","A0022","O",null,"Electronic","P"]
["AMERICAN FAMILY INSURANCE","TH095A","O","O","Electronic"]
["AMERICAN FAMILY LIFE ASSURANCE CO AFLAC-MEDICARE SUPPLEMENTAL",10663,null,null,"Paper"]
["AMERICAN FAMILY MEDICARE SUPPLEMENT",56071,"O","O","Paper","P I"]
["AMERICAN FAMILY MUTUAL INSURANCE (ALL STATES) (WC ONLY)","J2134","O","O","Electronic","P I"]
["AMERICAN FAMILY MUTUAL INSURANCE COMP (ALL STATES) (AUTO ONLY)","C1055","O","O","Electronic","P I"]
["AMERICAN FIDELITY ASSURANCE COMPANY",60801,"O","O","Electronic","P I"]
["AMERICAN FIRST (ALL STATES) (WC ONLY)","J1427W","O","O","Electronic"]
["AMERICAN FOUNDERS LIFE INSURANCE COMPANY (NFL PLANS ONLY)","Z0070","O",null,"Electronic","P"]
["AMERICAN GENERAL",62030,"O","O","Electronic","P"]
["AMERICAN GENERAL LIFE & ACCIDENT (ELIGIBILITY ONLY)","Z1089",null,null,"Paper"]
["AMERICAN HEALTH ADVANTAGE OF FLORIDA",31150,"O","O","Electronic","P I"]
["AMERICAN HEALTH ADVANTAGE OF MISSISSIPPI",31135,"O","O","Electronic","P I"]
["AMERICAN HEALTH ADVANTAGE OF MISSOURI","MMS01","O","O","Paper","P I"]
["AMERICAN HEALTH ADVANTAGE OF OKLAHOMA",31125,"O","O","Electronic","P I"]
["AMERICAN HEALTH ADVANTAGE OF TENNESSEE",31130,"O","O","Electronic","P I"]
["AMERICAN HEALTH ADVANTAGE OF TEXAS",31155,"O","O","Electronic","P I"]
["AMERICAN HEALTH ADVANTAGE OF UTAH AND IDAHO",31145,"O","O","Electronic","P I"]
["AMERICAN HEALTH PLANS (REMITS ONLY)","R2644",null,null,"Paper"]
["AMERICAN HEALTHCARE ALLIANCE",1066,"O","O","Paper","P I"]
["AMERICAN INCOME LIFE INSURANCE COMPANY",60577,null,null,"Paper"]
["AMERICAN INSURANCE ADMINISTRATORS (AIA)",26119,null,null,"Paper"]
["AMERICAN INSURANCE COMPANY OF TEXAS",81949,"O","O","Electronic","P"]
["AMERICAN LIFE CARE",72099,"O","O","Electronic","P"]
["AMERICAN MEDICAL LIFE INSURANCE",46004,null,"O","Electronic"]
["AMERICAN MEDICAL SECURITY","CX001",null,null,"Paper"]
["AMERICAN MINING INSURANCE GROUP (ALL STATES) (WC ONLY)","J1524","O","O","Electronic"]
["AMERICAN NATIONAL (NJ, MN ONLY) (AUTO ONLY)","J2295A","O","O","Electronic","P I"]
["AMERICAN NATIONAL INSURANCE CO (ANICO)",74048,"O","O","Electronic","P I "]
["AMERICAN NATIONAL LIFE INSURANCE COMPANY OF TEXAS",10596,null,null,"Paper"]
["AMERICAN PLAN ADMINISTRATORS",95606,"O","O","Electronic","P I"]
["AMERICAN POSTAL WORKERS UNION (APWU) (DOS 1/1/18 AND AFTER)",44445,"O","O","Electronic"]
["AMERICAN POSTAL WORKERS UNION (APWU) (DOS 12/31/17 AND PRIOR)",44444,"O","O","Paper","P I "]
["AMERICAN PRIMARY CARE ALLIANCE IPA","APCA1","O","O","Paper","P I"]
["AMERICAN REPUBLIC INSURANCE COMPANY (ARIC)",42011,"O","O","Paper","P I "]
["AMERICAN RETIREMENT LIFE INSURANCE CO MEDICARE SUPP","E10538",null,null,"Paper"," "]
["AMERICAN SENTINEL INSURANCE COMPANY",17965,"O",null,"Electronic","P"]
["AMERICAN SPECIALTY COMPANIES (ALL STATES) (WC ONLY)","WC638W","O","O","Electronic","P I"]
["AMERICAN SPECIALTY HEALTH","Z1091","O",null,"Electronic","P"]
["AMERICAN SPECIALTY INS / MIB (ALL STATES) (WC ONLY)","J1029","O","O","Electronic","P I"]
["AMERICAN SPECIALTY INS / MIB (ALL STATES) (WC ONLY)","J1029W","O","O","Electronic","P I"]
["AMERICAN THERAPY ADMINISTRATORS","ATHAL","O","O","Electronic"]
["AMERICAN TRUST ADMINISTRATORS INC",56195,"O","O","Electronic","P"]
["AMERICAN WEST","AWIPA","O","O","Electronic","P I"]
["AMERICAN WEST HEALTH CARE SOLUTION","AWHCS","O","O","Electronic"]
["AMERICAN WORKER HEALTH PLAN FAMILY",37322,"O","O","Electronic","P I"]
["AMERICAS HEALTH PLAN","AHP01","O","O","Electronic","P I"]
["AMERICA'S PPO/AMERICA'S TPA",41178,"O","O","Electronic","P I"]
["AMERICHOICE NEBRASKA","UFNEP",null,null,"Paper"]
["AMERICHOICE SAN DIEGO COUNTY PHYSICIAN EMERGENCY SERVICES","MSO22","O","O","Electronic","P"]
["AMERICO FINANCIAL LIFE & ANNUITY INSURANCE COMPANY","R26509",null,null,"Paper"," "]
["AMERIGROUP",26375,"O","O","Electronic"]
["AMERIGROUP","AMGRP",null,null,"Paper"]
["AMERIGROUP (ENCOUNTERS ONLY)","26375E","O",null,"Electronic"]
["AMERIGROUP (WITH ATTACHMENTS)","J26375","O","O","Electronic"]
["AMERIGROUP CORPORATION",27514,"O","O","Electronic","P I "]
["AMERIHEALTH  CASUALTY SERVICES (ALL STATES) (AUTO ONLY)","J3969A","O","O","Electronic","P I"]
["AMERIHEALTH ADMINISTRATORS & INTER-COUNTY - TPA SUFFIX",54763,"X","X","Electronic","P I "]
["AMERIHEALTH CARITAS DELAWARE",77799,"O","O","Electronic"," "]
["AMERIHEALTH CARITAS DISTRICT OF COLUMBIA",77002,"O","O","Electronic","P I "]
["AMERIHEALTH CARITAS FLORIDA",77003,"O","O","Electronic","P I "]
["AMERIHEALTH CARITAS LOUISIANA",27357,"O","O","Electronic","P I "]
["AMERIHEALTH CARITAS NEW HAMPSHIRE",87716,"O","O","Electronic","P I  "]
["AMERIHEALTH CARITAS NEXT - PRODUCT OF AMERIHEALTH CARITAS FLORIDA",45408,"O","O","Electronic","P I"]
["AMERIHEALTH CARITAS NEXT NORTH CAROLINA",83148,"O","O","Electronic","P I"]
["AMERIHEALTH CARITAS NORTH CAROLINA",81671,"O","O","Electronic","P I  "]
["AMERIHEALTH CARITAS PA COMMUNITY HEALTHCHOICES",77062,"O","O","Electronic"]
["AMERIHEALTH CARITAS PENNSYLVANIA",22248,"O","O","Electronic","P I "]
["AMERIHEALTH CARITAS VIP CARE - DELAWARE DSNP",87406,"O","O","Electronic","P I"]
["AMERIHEALTH CARITAS VIP CARE (HMO-SNP) (FL)",88232,"O","O","Electronic","P"]
["AMERIHEALTH CARITAS VIP CARE PLUS (MICHIGAN)",77013,"O","O","Electronic"," "]
["AMERIHEALTH CARITAS VIP NEXT",47073,"O","O","Electronic","P I"]
["AMERIHEALTH CASUALTY SERVICES (ALL STATES) (WC ONLY)","J3969","O","O","Electronic","P I"]
["AMERIHEALTH DE - PPO - Q2B PREFIX","SX074","X","X","Electronic","P I"]
["AMERIHEALTH HMO",95044,"X","X","Electronic","P I"]
["AMERIHEALTH NEW JERSEY (ELIGIBILITY ONLY)","Z95397",null,null,"Paper"]
["AMERIHEALTH PPO (NJ)","SX075","X","X","Electronic","P I"]
["AMERIPRISE AUTO & HOME INS. (AUTO ONLY)","C1004","O","O","Electronic"]
["AMERIPRISE AUTO & HOME INSURANCE (AUTO ONLY) (MN ONLY)","J12504","O","O","Electronic"]
["AMERISAFE (ALL STATES) (WC ONLY)","J1447","O","O","Electronic"]
["AMERISAFE (ALL STATES) (WC ONLY)","J1447W","O","O","Electronic"]
["AMERISURE","WB341","O","O","Electronic","P I"]
["AMERISURE INSURANCE (ALL STATES) (WC ONLY)","J1206W","O","O","Electronic"]
["AMERISURE INSURANCE (WC ONLY)","J1206","O","O","Electronic"]
["AMERISURE MUTUAL INSURANCE (ALL STATES)  (WC ONLY)","J1205W","O","O","Electronic","P I"]
["AMERISURE MUTUAL INSURANCE (ALL STATES) (AUTO ONLY)","J1205A","O","O","Electronic","P I"]
["AMERISURE MUTUAL INSURANCE [WC ONLY]","WC111","O","O","Electronic"]
["AMERITAS BANKERS ASSURANCE CO.",10020,null,null,"Paper"]
["AMERITAS LIFE INSURANCE CORP (REMITS ONLY)","R22072",null,null,"Paper"]
["AMERITAS LIFE INSURANCE CORP.",47009,null,null,"Paper"]
["AMFED COMPANIES LLC (AMFED NATIONAL INSURANCE)(ALL STATES)(WC ONLY)","J3735","O","O","Electronic"]
["AMFIRST INSURANCE COMPANY",1757,"O","O","Electronic"]
["AMG IPA - AVA MEDICAL GROUP","AMIPA","O","O","Electronic"]
["AMGUARD INSURANCE COMPANY - GUARD DBA (ALL STATES) (WC ONLY)","J1453","O","O","Electronic"]
["AMICA INSURANCE COMPANY (NJ ONLY) (AUTO ONLY)","C1098A","O","O","Electronic"]
["AMICA MUTUAL INSURANCE COMPANY (AUTO ONLY) (MN ONLY)","J12287","O","O","Electronic"]
["AMIDA CARE MEDICARE",79966,"O","O","Electronic","P I"]
["AMIDICARE",24818,"O","O","Paper","P I"]
["AMPLIFON HEARING HEALTH CARE (REMITS ONLY)",72947,null,null,"Paper"]
["AMPS",21825,"O","O","Electronic"]
["AMPS AMERICA",66775,"O","O","Electronic"]
["AMPS CX",25667,"O","O","Electronic"]
["AMTRUST NORTH AMERICA (ALL STATES) (WC ONLY)","J1868","O","O","Electronic"]
["AMTRUST NORTH AMERICA (ALL STATES) (WC ONLY) (W/O ATTACH)","J1868W","O","O","Electronic"]
["AMTRUST NORTH AMERICA (MN TX CA IL LA NJ NY OR NC) (WC ONLY)","12491W","O","O","Electronic","P I"]
["AMWAY",61301,null,null,"Paper"]
["AMWAY CORPORATION",38255,null,null,"Paper"]
["ANCHOR BENEFITS",53085,"O","O","Electronic","P"]
["ANCHOR GLASS CONTAINER CORP (ALL STATES) (AUTO ONLY)","J2136A","O","O","Electronic","P I"]
["ANCHOR GLASS CONTAINER CORP (ALL STATES) (WC ONLY)","J2136W","O","O","Electronic","P I"]
["ANCILLARY CARE SERVICES","A2004",null,null,"Paper"]
["ANGLE INSURANCE COMPANY OF UTAH",39856,"O","O","Electronic","P I"]
["ANHEUSER BUSCH (ALL STATES) (AUTO ONLY)","J1620A","O","O","Electronic","P I"]
["ANHEUSER BUSCH (ALL STATES) (WC ONLY)","J1620W","O","O","Electronic","P I"]
["ANTHEM DENTAL (REMITS AND ELIGIBILITY ONLY)",84105,null,null,"Paper"]
["ANTHEM MAINE HEALTH",958,"O","O","Electronic","P I"]
["ANTHEM MAINE HEALTH (WITH ATTACHMENTS)","J00958","O","O","Electronic","I"]
["ANTHEM REGIONAL (IN, KY, OH)","ZBIKO",null,null,"Paper"]
["APEX BENEFIT SERVICES",34196,"O","O","Electronic","P  "]
["APEX BULK  (MN, TX) WC ONLY","WC453W",null,"O","Electronic"]
["APEX HEALTH",83112,"O","O","Paper"]
["APOSTROPHE",81312,null,null,"Paper"]
["APPLECARE MEDICAL MANAGEMENT","APP01","O","O","Electronic","P I"]
["APPLIED UNDERWRITERS (ALL STATES EXCEPT AZ) (WC ONLY)","J1775W","O","O","Electronic","P I"]
["APS HEALTHCARE OF PUERTO RICO",66056,"X","X","Electronic"]
["ARAZ",16120,"O","O","Electronic","P I"]
["ARC ADMINISTRATORS","CXARC","O","O","Electronic","P I"]
["ARCADIA HEALTHCARE SOLUTIONS - IPG",11081,"O","O","Paper"]
["ARCADIA HEALTHCARE SOLUTIONS - NPA",36364,"O","O","Electronic","P I"]
["ARCADIAN MANAGEMENT SERVICES INC",77045,"O","O","Electronic","P I"]
["ARCHBOLD ED UNINSURED","AR812","O",null,"Paper"]
["ARCMI (ALL STATES) (AUTO ONLY)","J3977A","O","O","Electronic","P I"]
["ARCMI (ALL STATES) (WC ONLY)","J3977","O","O","Electronic","P I"]
["AR-CMI WAL-MART TX","WK001","O","O","Electronic"]
["AREAS USA INC (ALL STATES) (AUTO ONLY)","J1944A","O","O","Electronic","P I"]
["AREAS USA INC (ALL STATES) (WC ONLY)","J1944W","O","O","Electronic","P I"]
["ARGENT (ALL STATES) (AUTO ONLY)","J1420A","O","O","Electronic"]
["ARGENT (ALL STATES) (WC ONLY)","J1420W","O","O","Electronic","P I"]
["ARGENT (SUBSIDIARY OF WEST BEND BUT THIS ROUTE IS ARGENT ONLY)","J1420","O","O","Electronic","P I"]
["ARGONAUT INSURANCE COMP ARGO (ALL STATES) (WC ONLY)",19801,"O","O","Electronic"]
["ARGUS","Z95600","O","O","Electronic"]
["ARISE HEALTH PLAN",39185,"O","O","Electronic"," "]
["ARIZONA FOUNDATION FOR MEDICAL CARE",86062,"O","O","Electronic","P I"]
["ARIZONA PHYSICIANS IPA (UHC) COMMUNITY PLAN",3432,"O","O","Electronic"]
["ARIZONA PRIORITY CARE PLUS",27154,"O","O","Paper","P I"]
["ARIZONA SCHOOL ALLIANCE FOR WORKERS COMPENSATION (REMITS ONLY)","CB776",null,null,"Paper"]
["ARKANSAS EMPOWER HEALTHCARE SOLUTIONS",12956,"O","O","Electronic","P I  "]
["ARKANSAS MUNICIPAL LEAGUE","Z96790",null,null,"Paper"]
["ARKANSAS SUPERIOR SELECT",61184,"O","O","Electronic"]
["ARM LTD",63240,"O","O","Electronic"]
["ARROWPOINT (ALL STATES) (WC ONLY)","J1564","O","O","Electronic"]
["ASAGEHA",6603,"O","O","Electronic"]
["ASIAN AMERICAN MEDICAL GROUP","AAMG1","O","O","Electronic"]
["ASP BENEFITS","Z95946",null,null,"Paper"]
["ASPIRE HEALTH PLAN",46156,"O","O","Electronic","P I"]
["ASPIRUS HEALTH PLAN (MEDICARE ADVANTAGE) (DOS 1/1/2021 AND AFTER)",36483,"O","O","Electronic","P I"]
["ASR HEALTH BENEFITS",38265,"O","O","Electronic","P I "]
["ASRM LLC","ASRM1","O","O","Electronic","P I"]
["ASSIGNED RISK MANAGEMENT (ALL STATES)(AUTO ONLY)","J4083A","O","O","Electronic","P I"]
["ASSIST HEALTH GROUP INC",86147,"O","O","Electronic","P"]
["ASSOCIATED ADMINISTRATORS LLC",13788,null,null,"Paper"]
["ASSOCIATED HISPANIC PHYSICIANS OF SOUTHERN CALIFORNIA","MPM44","O","O","Electronic","P I"]
["ASSOCIATED THIRD PARTY ADMINISTRATION (ATPA)","ATPA1","O",null,"Electronic"]
["ASSOCIATES FOR HEALTH CARE INC (AHC)",36326,"O","O","Electronic","P I"]
["ASSOCIATION CASUALTY INSURANCE COMPANY (ALL STATES) (WC ONLY)","J1254W","O","O","Electronic"]
["ASSOCIATION COUNTY COMMISSIONERS OF GEORGIA (ACCG) (WC ONLY) (ALL STATES)","CB061","O","O","Electronic"]
["ASSURANCE COMPANY OF AMERICA (COMMERCIAL VEHICLES ONLY) (ALL STATES - AUTO)","C1034","O","O","Electronic"]
["ASSURANT HEALTH SELF FUNDED",75068,"O","O","Electronic"]
["ASSURED BENEFITS ADMINISTRATORS",74240,"O","O","Electronic","P I"]
["ASTIVA HEALTH",84320,"O","O","Electronic","P I"]
["ASTIVA HEALTH (ENCOUNTERS ONLY)",88875,"O","O","Electronic","P I"]
["ASURIS NORTHWEST HEALTH",93221,"O","O","Electronic","P I "]
["ATHENS ADMINISTRATORS (ALL STATES) (WC ONLY)","J1914","O","O","Electronic"]
["ATLANTIC MEDICAL INSURANCE",22285,"O","O","Electronic","P I"]
["ATLANTIS EYE CARE","AEC01","O",null,"Electronic","P"]
["ATLAS LIFE INSURANCE CO (NFIC PLAN ONLY)","Z0068","O",null,"Electronic","P"]
["ATRIO HEALTH PLANS","Z1351","O","O","Electronic","P I  "]
["AUDIONET - NATIONAL ELEVATOR","AUDIO","O",null,"Electronic"]
["AUDIONET - UAW FORD RETIREES/GM EMPLOYEES","AUDIOSVS","O",null,"Electronic"]
["AUDIONET - UAW GM RETIREES/CHRYSLER EMPS & RETIREES","AUDIOABS","O",null,"Electronic"]
["AUDIONET AMERICA","AUDIOCS","O",null,"Electronic"]
["AULTCARE","Z1224","O","O","Electronic","P I  "]
["AULTRA ADMINISTRATIVE GROUP",37242,"O","O","Electronic","P I"]
["AUSTIN MUTUAL INS. (AUTO ONLY)(ALL STATES)","I5991A","O",null,"Paper"]
["AUTHOR BY HUMANA (DOS 5/31/2022 AND PRIOR)",61108,"O","O","Electronic","P  "]
["AUTOMATED BENEFIT SERVICES",38259,"O","O","Electronic","P I "]
["AUTOMATED GROUP ADMINISTRATORS",37280,"O","O","Electronic","P I"]
["AUTOMATIC SPRINKLER LOCAL 281","ZP1228",null,null,"Paper"]
["AUTOMOBILE ACCIDENT COMPENSATION ADMINISTRATION","ACAA","O","O","Electronic","P I"]
["AUTO-OWNERS \\ OWNERS INSURANCE COMP (ALL STATES) (AUTO ONLY)","J1583A","O","O","Electronic"]
["AUTO-OWNERS \\ OWNERS INSURANCE COMP (ALL STATES) (WC ONLY)","J1583W","O","O","Electronic"]
["AUTO-OWNERS INSURANCE COMPANY (ALL STATES) (WC ONLY)","J1556","O","O","Electronic","P I"]
["AUTO-OWNERS INSURANCE COMPANY (ALL STATES)(AUTO ONLY)","J1556A","O","O","Electronic","P I"]
["AUXIANT","AUX01","O",null,"Electronic"]
["AUXIANT - VALENZ",92645,"O","O","Electronic","P I"]
["AUXILIUM","AXIPA","O","O","Electronic","P I"]
["AVANTE HEALTH","AH001","O",null,"Electronic","P"]
["AVECTUS HEALTHCARE SOLUTIONS","MP001","O","O","Electronic","P I"]
["AVERA HEALTH PLANS",46045,"O","O","Electronic","P I "]
["AVESIS THIRD PARTY ADMINISTRATORS",87098,"O",null,"Electronic","P"]
["AVESIS THIRD PARTY ADMINISTRATORS (REMITS ONLY)",86098,null,null,"Paper"]
["AVMED",59274,"O","O","Electronic","P I "]
["AVMED (ENCOUNTERS ONLY)","Z1209","O",null,"Electronic","P"]
["AXMINSTER MEDICAL GROUP","AXM01","O","O","Electronic","P I"]
["AYERS TRUCKING (CA, MN, TX ONLY) WC ONLY","WC429W","O","O","Electronic"]
["AZZ INC.","E1835","O","O","Electronic"]
["AZZ INC. (ALL STATES) (AUTO ONLY)","J3773A","O","O","Electronic"]
["AZZ INC. (ALL STATES) (WC ONLY)","J3773","O","O","Electronic"]
["BABB, INC.","R1169",null,null,"Paper"]
["BAKERSFIELD FAMILY MEDICAL CENTER","BKRFM","O","O","Electronic","P I"]
["BAKERY AND CONFECTIONERY","BCTF1","O","O","Electronic","P I"]
["BANK OF AMERICA (ALL STATES) (AUTO ONLY)","J1729A","O","O","Electronic","P I"]
["BANK OF AMERICA (ALL STATES) (WC ONLY)","J1729W","O","O","Electronic"]
["BANKERS CONSECO LIFE (REMITS ONLY)",68560,null,null,"Paper"]
["BANKERS FIDELITY LIFE ASSURANCE CO","Z95871",null,null,"Paper"]
["BANKERS LIFE AND CASUALTY (REMITS AND ELIGIBILITY ONLY)",61263,null,null,"Paper"," "]
["BANNER HEALTH","12X42","O","O","Electronic"]
["BANNER HEALTH AND AETNA HEALTH INSURANCE COMPANY",67895,"O","O","Electronic"]
["BANNER HEALTH AND AETNA HEALTH INSURANCE COMPANY (WITH ATTACHMENTS)","J67895","O","O","Electronic"]
["BANNER MEDICARE ADVANTAGE PLUS",84324,"O","O","Electronic","P I  "]
["BANNER MEDICARE ADVANTAGE PRIME",84323,"O","O","Electronic","P I  "]
["BANNER- UNIVERSITY FAMILY CARE (UNIVERSITY OF AZ HEALTH PLANS)",66901,"O","O","Electronic","P I "]
["BAPTIST CARDIAC PROGRAM","BSC01","O","O","Electronic","P I"]
["BAPTIST HEALTH SOUTH FLORIDA",65026,"O",null,"Paper","P"]
["BARDAVON HEALTH INNOVATIONS (ALL STATES) (AUTO ONLY)","J2334A","O","O","Electronic","P"]
["BARDAVON HEALTH INNOVATIONS (ALL STATES) (WC ONLY)","J2334","O","O","Electronic","P I"]
["BARINET","CB369","O","O","Paper"]
["BARNES (ALL STATES) (WC ONLY)","J1503W","O","O","Electronic"]
["BARRETT BUSINESS SERVICES INC BBSI (ALL STATES) (AUTO ONLY)","J1686A","O","O","Electronic","P I"]
["BARRETT BUSINESS SERVICES INC, (BBSI) WC ONLY (ANY STATE)","WC632","O","O","Electronic","P I "]
["BASS PRO GROUP LLC (ALL STATES) (AUTO ONLY)","J1958A","O","O","Electronic","P I"]
["BASS PRO GROUP LLC (ALL STATES) (WC ONLY)","J1958W","O","O","Electronic","P I"]
["BAY BRIDGE ADMINISTRATORS",6941,"O","O","Paper","P I"]
["BAY DISTRICT SCHOOLS(FL) (ALL STATES) (AUTO ONLY)","J1978A","O","O","Electronic"]
["BAYCARE SELECT HEALTH PLANS INC",81079,"O","O","Electronic","P I  "]
["BB&T CORP (BRANCH BANKING & TRUST) (ALL STATES) (AUTO ONLY)","J1995A","O","O","Electronic"]
["BB&T CORP (BRANCH BANKING & TRUST) (ALL STATES) (WC ONLY)","J1995W","O","O","Electronic"]
["BBQ HOLDINGS, INC. (ALL STATES) (WC ONLY)","J4408","O","O","Electronic"]
["BC/BS INDIANA - ANTHEM - HIP - HOME INFUSION/SPECIALTY ONLY","Z1307","X",null,"Electronic"]
["BC/BS INDIANA - ANTHEM - HMO PPO - HOME INFUSION/SPECIALTY ONLY","Z1303","X",null,"Electronic"]
["BC/BS INDIANA - ANTHEM - TRADITIONAL - HOME INFUSION/SPECIALTY ONLY","Z1304","X",null,"Electronic"]
["BC/BS MISSOURI - ANTHEM - HMO HOME INFUSION/SPECIALTY ONLY","Z1347","X",null,"Electronic"]
["BC/BS MISSOURI - ANTHEM - PPO HOME INFUSION/SPECIALTY ONLY","Z1346","X",null,"Paper"]
["BC/BS MISSOURI - ANTHEM - REGULAR HOME INFUSION/SPECIALTY ONLY","Z1345","X",null,"Electronic"]
["BC/BS OF KENTUCKY (MEDICAID)","ZBKYM","O","O","Electronic"]
["BC/BS OF KENTUCKY (MEDICAID) (WITH ATTACHMENTS)","JZBKYM","O","O","Electronic"]
["BC/BS OF MINNESOTA HMO","SB721","O","O","Electronic","P"]
["BC/BS OHIO - ANTHEM - HOME INFUSION/SPECIALTY ONLY","Z1306","X",null,"Electronic"]
["BC/BS PENNSYLVANIA - HIGHMARK WESTERN","SB866",null,"X","Electronic","I"]
["BCBS ALABAMA","SB510","O","O","Electronic","P I  "]
["BCBS ALABAMA INSTITUTIONAL ELIGIBILITY ONLY","Z96002",null,null,"Paper"," "]
["BCBS ARIZONA","SB530","O","O","Electronic","P I  "]
["BCBS ARKANSAS","SB520","X","X","Electronic"]
["BCBS ARKANSAS (WITH ATTACHMENTS)","JSB520","O","X","Electronic"]
["BCBS COLORADO","SB550","O","O","Electronic","P I "]
["BCBS COLORADO (TELEMED)","SB550T","O",null,"Electronic","P"]
["BCBS COLORADO (WITH ATTACHMENTS)","JSB550","O","O","Electronic","P I"]
["BCBS CONNECTICUT","SB560","O","O","Electronic","P I"]
["BCBS CONNECTICUT (TELEMED)","SB560T","O",null,"Electronic"]
["BCBS CONNECTICUT (WITH ATTACHMENTS)","JSB560","O","O","Electronic","P I"]
["BCBS DC AND NATIONAL CAPITAL AREA","SB580","O","O","Electronic","P I "]
["BCBS DELAWARE","SB570","X","X","Electronic","P I  "]
["BCBS FLORIDA","SB590","O","O","Electronic","P I   "]
["BCBS GEORGIA","SB601","O","O","Electronic"]
["BCBS GEORGIA (TELEMEDICINE)","SB601T","O",null,"Electronic"]
["BCBS GEORGIA (WITH ATTACHMENTS)","JSB601","O","O","Electronic"]
["BCBS HAWAII - HMSA","SB971","X","X","Electronic","P I"]
["BCBS ILLINOIS","SB621","O","O","Electronic","P I  "]
["BCBS ILLINOIS (SUBROGATION CLAIMS ONLY)","SB621S","O","O","Electronic","P I"]
["BCBS INDIANA","ZBIN0","O","O","Electronic","P I "]
["BCBS INDIANA (TELEMED)","SB630T","O",null,"Electronic","P"]
["BCBS INDIANA (TELEMED)","ZBIN0T","O",null,"Electronic"]
["BCBS INDIANA (WITH ATTACHMENTS)","JZBIN0","O","O","Electronic","P I"]
["BCBS IOWA (WELLMARK)","SB640","O","O","Electronic"]
["BCBS KANSAS","SB650","O","O","Electronic","P I "]
["BCBS KANSAS CITY","SB740","O","O","Electronic","P I "]
["BCBS KANSAS CITY (WORKERS COMP)","SB740WC","O","O","Electronic","I"]
["BCBS KENTUCKY","ZBKY0","O","O","Electronic","P I "]
["BCBS KENTUCKY (WITH ATTACHMENTS)","JZBKY0","O","O","Electronic"]
["BCBS LOUISIANA","SB670","X","X","Electronic","P I "]
["BCBS MAINE","SB680","O","O","Electronic","P I "]
["BCBS MAINE (WITH ATTACHMENTS)","JSB680","O","O","Electronic","P I"]
["BCBS MARYLAND (CAREFIRST)","SB690","O","O","Electronic","P I "]
["BCBS MASSACHUSETTS","SB700","X","X","Electronic","P I "]
["BCBS MICHIGAN","SB710","X","X","Electronic","P I "]
["BCBS MICHIGAN - BLUE CARE NETWORK HMO",2426,"X","X","Electronic","P"]
["BCBS MICHIGAN INSTITUTIONAL ELIGIBILITY ONLY","Z1380",null,null,"Paper"]
["BCBS MINNESOTA","SB720","O","O","Electronic","P I "]
["BCBS MINNESOTA (TELEMEDICINE)","SB720T","O",null,"Electronic"]
["BCBS MINNESOTA BLUE PLUS MEDICAID","Z96439","O","O","Electronic","P I  "]
["BCBS MINNESOTA BLUE PLUS MEDICAID (WITH ATTACHMENTS)","JZ96439","O","O","Electronic","P I"]
["BCBS MISSISSIPPI","SB730","X","X","Electronic","P I "]
["BCBS MISSISSIPPI - STATE EMPLOYEE","SB732","X","X","Electronic","P I  "]
["BCBS MISSOURI","SB741","O","O","Electronic","P I "]
["BCBS MISSOURI (TELEMED)","SB741T","O",null,"Electronic","P"]
["BCBS MISSOURI (WITH ATTACHMENTS)","JSB741","O","O","Electronic","P I"]
["BCBS MN BLUE PLUS MEDICAID WAIVER","FS802","O",null,"Electronic","P"]
["BCBS MONTANA",7450,"O","O","Electronic"," "]
["BCBS NEBRASKA","SB760","O","O","Electronic","P I "]
["BCBS NEVADA","SB765","O","O","Electronic","P I "]
["BCBS NEVADA (WITH ATTACHMENTS)","JSB765","O","O","Electronic","P I"]
["BCBS NEW HAMPSHIRE","SB770","O","O","Electronic","P I "]
["BCBS NEW HAMPSHIRE (WITH ATTACHMENTS)","JSB770","O","O","Electronic","P I"]
["BCBS NEW JERSEY",22099,"X","X","Electronic"]
["BCBS NEW MEXICO","SB790","O","O","Electronic","P I "]
["BCBS NEW YORK CENTRAL SYRACUSE","SB805","O","O","Electronic","P I "]
["BCBS NEW YORK EMPIRE","SB803","O","O","Electronic","P I "]
["BCBS NEW YORK EMPIRE (WITH ATTACHMENTS)","JSB803","O","O","Electronic","P"]
["BCBS NEW YORK EXCELLUS (REMIT ONLY)","12B37",null,null,"Paper"]
["BCBS NEW YORK NORTHEASTERN","SB800","O","O","Electronic","P I "]
["BCBS NEW YORK ROCHESTER","SB804","O","O","Electronic","P I "]
["BCBS NEW YORK UTICA-WATERTOWN","SB806","O","O","Electronic"]
["BCBS NEW YORK WESTERN","SB801","O","O","Electronic","P I "]
["BCBS NORTH CAROLINA","SB810","O","O","Electronic","P I "]
["BCBS NORTH DAKOTA","SB820","O","O","Electronic"]
["BCBS OF NEW YORK (EXCELLUS)",10323,null,null,"Paper"]
["BCBS OF VIRGINIA (TELEMED)","SB923T","O",null,"Electronic","P"]
["BCBS OHIO","ZBOH0","O","O","Electronic","P I "]
["BCBS OHIO (TELEMED)","ZBOH0T","O",null,"Electronic"]
["BCBS OHIO (WITH ATTACHMENTS)","JZBOH0","O","O","Electronic","P I"]
["BCBS OKLAHOMA","SB840","O","O","Electronic","P I "]
["BCBS OREGON (REGENCE)","SB850","O","O","Electronic","P I "]
["BCBS PENNSYLVANIA - HIGHMARK","SB865","X","X","Electronic","P I  "]
["BCBS PENNSYLVANIA (HIGHMARK) INSTITUTIONAL ELIGIBILITY ONLY","Z1440",null,null,"Paper"]
["BCBS PUERTO RICO","Z0065","X","X","Electronic"]
["BCBS PUERTO RICO - MEDICARE ADVANTAGE","973MA","O","O","Electronic"," "]
["BCBS REAL-TIME","Z1066",null,null,"Paper"]
["BCBS RHODE ISLAND",7420,"O","O","Electronic","P I "]
["BCBS RHODE ISLAND - BLUE CHIP","Z1009","O",null,"Electronic","P"]
["BCBS SOUTH CAROLINA","SB880","O","O","Electronic","P I  "]
["BCBS SOUTH CAROLINA - FEDERAL EMPLOYEE PLAN","SB882","O","O","Electronic","P I"]
["BCBS SOUTH CAROLINA - MEDICARE ADVANTAGE (C63)","SB894","O","O","Electronic"]
["BCBS SOUTH CAROLINA - PLANNED ADMINISTRATORS INC","SB883","O","O","Electronic","P I"]
["BCBS SOUTH CAROLINA - PREFERRED BLUE","Z1036","O","O","Electronic","P I"]
["BCBS SOUTH CAROLINA - STATE HEALTH PLAN","SB881","O","O","Electronic","P I"]
["BCBS SOUTH CAROLINA - THOMAS COOPER AGENCY","SB889","O","O","Electronic","P I"]
["BCBS SOUTH DAKOTA",2490,"O","O","Electronic"]
["BCBS TENNESSEE","SB890","X","X","Electronic","P I "]
["BCBS TENNESSEE - BLUECARE","SB390","X","X","Electronic","P I  "]
["BCBS TENNESSEE - TENNCARE SELECT","SB893","X","X","Electronic","P  "]
["BCBS TENNESSEE HMO","SB891","X",null,"Electronic","P"]
["BCBS TENNESSEE MEMPHIS","SB892","X",null,"Electronic","P  "]
["BCBS TEXAS","SB900","O","O","Electronic","P I "]
["BCBS TEXAS MEDICAID",66001,"O","O","Electronic","P I "]
["BCBS UTAH (REGENCE)","SB910","O","O","Electronic","P I  "]
["BCBS UTAH FEP","Z1300",null,"O","Electronic"]
["BCBS VERMONT","SB915","O","O","Electronic","P I "]
["BCBS VIRGIN ISLANDS","BCBSVI","O","O","Paper","P I"]
["BCBS VIRGINIA","SB923","O","O","Electronic","P I "]
["BCBS VIRGINIA (WITH ATTACHMENTS)","JSB923","O","O","Electronic","P I"]
["BCBS WEST VIRGINIA","SB941","X","X","Electronic","P I  "]
["BCBS WESTERN NEW YORK MEDICAID/CHP",246,"O","O","Electronic","P I "]
["BCBS WESTERN NEW YORK MEDICAID/CHP (WITH ATTACHMENTS)","J00246","O","O","Electronic"]
["BCBS WISCONSIN","SB950","O","O","Electronic","P I "]
["BCBS WISCONSIN (TELEMED)","SB950T","O",null,"Electronic"]
["BCBS WISCONSIN (WITH ATTACHMENTS)","JSB950","O","O","Electronic","P I"]
["BCBS WYOMING","SB960","O","O","Electronic","P "]
["BEACON HEALTH OPTIONS","Z1226","O","O","Electronic","P I"]
["BEACON HEALTH STRATEGIES",43324,"O","O","Electronic","P"]
["BEACON MUTUAL (ALL STATES) (WC ONLY)","J1234","O","O","Electronic"]
["BEACON OF LIFE (ACUTECARE)",65432,"O","O","Paper","P I"]
["BEALL'S INC / MIDWEST EMPLOYERS (MN, TX) WC ONLY","WC648W","O","O","Electronic"]
["BEAM (ERA ONLY)","Z96819",null,null,"Paper"]
["BEAVER MEDICAL GROUP",45967,"O","O","Electronic","P"]
["BECKET FAMILY OF SERVICES (EOBC)","R0244",null,null,"Paper"]
["BED BATH & BEYOND - CORVEL (ALL STATES) (WC ONLY)","J2167","O","O","Electronic"]
["BEHAVIORAL HEALTH SYSTEMS",63100,"O","O","Electronic"]
["BEHAVIORAL HEALTHCARE INC","BHI00","O",null,"Electronic","P"]
["BELLA VISTA MEDICAL GROUP","MPM10","O","O","Electronic","P I"]
["BENEBAY",23243,"O","O","Electronic","P I"]
["BENEFIT & RISK MANAGEMENT",99320,"O","O","Electronic"]
["BENEFIT ADMINISTRATION SERVICES LTD",41205,"O","O","Paper","P I"]
["BENEFIT ADMINISTRATIVE SYSTEMS",36149,"O","O","Electronic","P I"]
["BENEFIT ASSISTANCE CORPORATION",3199,null,null,"Paper"]
["BENEFIT COORDINATORS CORPORATION",25145,"O","O","Electronic","P I"]
["BENEFIT MANAGEMENT ADMINISTRATORS INC (REMITS ONLY)","Z95878",null,null,"Paper"]
["BENEFIT MANAGEMENT GROUP-NV",36459,"O","O","Electronic"]
["BENEFIT MANAGEMENT INC OF KS",48611,"O","O","Electronic","P I  "]
["BENEFIT MANAGEMENT LLC/VBA",88092,"O","O","Electronic","P I"]
["BENEFIT MANAGEMENT SERVICES",999,"O","O","Paper"]
["BENEFIT MANAGEMENT SERVICES",56139,"O","O","Electronic","P"]
["BENEFIT MANAGEMENT SERVICES",74266,"O","O","Electronic"]
["BENEFIT PLAN ADMINISTRATION OF WISCONSIN",11023,null,null,"Paper"]
["BENEFIT PLAN ADMINISTRATORS",19753,"O","O","Electronic"]
["BENEFIT PLAN ADMINISTRATORS (BPA)",88052,"O","O","Electronic","P I"]
["BENEFIT PLAN ADMINISTRATORS (EAU CLAIRE WI)",39081,"O","O","Electronic","P I"]
["BENEFIT PLAN ADMINISTRATORS INC (ROANOKE, VA)",37118,"O","O","Electronic","P"]
["BENEFIT PLAN ADMINISTRATORS OF COLORADO","Z96420",null,null,"Paper"]
["BENEFIT PLAN SERVICES","BPS77","O","O","Paper","P I"]
["BENEFIT PLAN SERVICES INC (BPSI)","95414E",null,null,"Paper"]
["BENEFIT SUPPORT INC",40459,"O","O","Electronic","P I"]
["BENEFITS ADMINISTRATION CORPORATION",44357,null,null,"Paper"]
["BENEFITS DESIGN GROUP INC (EOBC)","R27239",null,null,"Paper"]
["BENEFITS MANAGEMENT GROUP INC",20018,"O","O","Electronic","P"]
["BENESIGHT",87265,"O","O","Electronic"]
["BENESYS",37248,"O","O","Paper"]
["BENETECH (ALL STATES) (AUTO ONLY)","J4251A","O","O","Electronic","P I"]
["BENETECH (ALL STATES) (WC ONLY)","J4251","O","O","Electronic","P I"]
["BENICOMP GROUP (REMITS ONLY)",12699,null,null,"Paper"]
["BENMARK","BNMK1","O",null,"Electronic"]
["BENVEO",76255,"O","O","Paper","P I"]
["BERGEN RISK (NJ ONLY) (AUTO ONLY)","J3997A","O","O","Electronic"]
["BERGEN RISK (NJ ONLY) (WC ONLY)","J3997","O","O","Electronic","P I"]
["BERKLEY AGRIBUSINESS RISK SPECIALISTS (ALL STATES) (AUTO ONLY)","J2190A","O","O","Electronic"]
["BERKLEY AGRIBUSINESS RISK SPECIALISTS (ALL STATES) (WC ONLY)","J2190W","O","O","Electronic"]
["BERKLEY MID-ATLANTIC GROUP (ALL STATES) (AUTO ONLY)","J3863A","O","O","Electronic"]
["BERKLEY MID-ATLANTIC GROUP (ALL STATES) (WC ONLY)","J3863W","O","O","Electronic"]
["BERKLEY NATIONAL INSURANCE CO (ALL STATES) (AUTO ONLY)","J2192A","O","O","Electronic"]
["BERKLEY NATIONAL INSURANCE CO (ALL STATES) (WC ONLY)","J2192W","O","O","Electronic"]
["BERKLEY NET UNDERWRITERS LLC (ALL STATES) (WC ONLY)","J1523","O","O","Electronic"]
["BERKLEY REGIONAL INSURANCE CO (ALL STATES) (AUTO ONLY)","J2194A","O","O","Electronic"]
["BERKLEY REGIONAL INSURANCE CO (ALL STATES) (WC ONLY)","J2194W","O","O","Electronic"]
["BERKLEY RISK ADMINISTRATORS COMPANY (WC ONLY) (ALL STATES)","J1526","O","O","Electronic","P I"]
["BERKLEY RISK ADMINISTRATORS COMPANY, LLC","WR642W","O","O","Electronic"]
["BERKLEY SPECIALTY UNDERWRITERS (ALL STATES) (WC ONLY)","TP019","O","O","Electronic"]
["BERKLEY SPECIALTY UNDERWRITERS (MN, TX) WC ONLY","WC679W","O","O","Electronic"]
["BERKSHIRE HATHAWAY DIRECT INSURANCE (ALL STATES) (WC ONLY)","J1975","O","O","Electronic"]
["BERKSHIRE HATHAWAY HOMESTATE (BHHC) (CA IL LA NJ NC MN OR TN TX VA ONLY) (WC ONLY)","20044W","O","O","Electronic"]
["BERKSHIRE HATHAWAY HOMESTATE COMPANIES (BHHC)(WC ONLY)","WP984","O",null,"Electronic"]
["BERNER FOODS INC (EOBC)","R27836",null,null,"Paper"]
["BERWIND CORPORATION (MN, TX) WC ONLY","WC677W","O","O","Electronic"]
["BEST LIFE AND HEALTH INSURANCE COMPANY",95604,"O","O","Electronic","P"]
["BETTER HEALTH PLANS - THREE RIVERS ADMINISTRATIVE SERVICES (TRAS)",62183,null,null,"Paper"]
["BEVERLY ALIANZA IPA","NMM06","O","O","Paper","P I"]
["BEVERLY HOSPITAL BEVAHISP","MPM42","O","O","Electronic","P I"]
["BHM",13141,"X","X","Electronic"]
["BHSF INTERNATIONAL",67668,"O",null,"Electronic"]
["BIENVIVIR SENIOR HEALTH PLAN","BSHS1","O","O","Electronic","P I"]
["BIG 5 CORP (ALL STATES) (AUTO ONLY)","J1738A","O","O","Electronic"]
["BIG 5 CORP (ALL STATES) (WC ONLY)","J1738W","O","O","Electronic"]
["BIND",25463,"O","O","Electronic"," "]
["BITCO GENERAL INSURANCE CORP",20095,"O","O","Electronic"]
["BITCO NATIONAL INSURANCE CO",20109,"O","O","Electronic"]
["BITCO NATIONAL INSURANCE CO (ALL STATES) (AUTO ONLY)","J1691A","O","O","Electronic"]
["BITCO NATIONAL INSURANCE CO (ALL STATES) (WC ONLY)","J1691W","O","O","Electronic"]
["BITUMINOUS INSURANCE COMPANY (ALL STATES) (AUTO ONLY)","J1579A","O","O","Electronic"]
["BITUMINOUS INSURANCE COMPANY (ALL STATES) (WC ONLY)","J1579","O","O","Electronic"]
["BITUMINOUS INSURANCE COMPANY (WC ONLY)","20095W","O",null,"Paper"]
["BLACKHAWK","CB987","O","O","Electronic"]
["BLOCK VISION INC","Z0080","O",null,"Electronic"]
["BLOOMIN' BRANDS, INC. (ALL STATES) (WC ONLY)","J3725","O","O","Electronic","P I"]
["BLUE  SHIELD OF PENNSYLVANIA (PA)","CB865",null,null,"Paper"]
["BLUE ADVANTAGE OF LOUISIANA",72107,"O","O","Electronic","P I  "]
["BLUE ADVANTAGE SHARP (PAPER CLAIMS ONLY)","Z1216",null,"O","Electronic","I"]
["BLUE CHOICE HEALTH PLAN OF SOUTH CAROLINA","SB884","O","O","Electronic","P I "]
["BLUE CROSS AND BLUE SHIELD OF ALABAMA (AL)","CBAL1",null,null,"Paper"]
["BLUE CROSS AND BLUE SHIELD OF ARKANSAS (AR)","CBAR1",null,null,"Paper"]
["BLUE CROSS AND BLUE SHIELD OF COLORADO (CO)",84099,null,null,"Paper"]
["BLUE CROSS AND BLUE SHIELD OF ILLINOIS (IL)","CB621",null,null,"Paper"]
["BLUE CROSS AND BLUE SHIELD OF IOWA (FEP CLAIMS ONLY)","CBIA1",null,null,"Paper"]
["BLUE CROSS AND BLUE SHIELD OF IOWA (IA)","CBIA2",null,null,"Paper"]
["BLUE CROSS AND BLUE SHIELD OF KANSAS (KS)","CBKS1",null,null,"Paper"]
["BLUE CROSS AND BLUE SHIELD OF MICHIGAN (MI)","CBMI1",null,null,"Paper"]
["BLUE CROSS AND BLUE SHIELD OF NEVADA (NV)",84101,null,null,"Paper"]
["BLUE CROSS AND BLUE SHIELD OF NORTH DAKOTA (ND)","CX004","O",null,"Electronic","P"]
["BLUE CROSS AND BLUE SHIELD OF OREGON (OR)","CB850",null,null,"Paper"]
["BLUE CROSS AND BLUE SHIELD OF VIRGINIA TRIGON (VA)","BC923",null,null,"Paper"]
["BLUE CROSS BLUE SHIELD OF ARIZONA ADVANTAGE (DOS PRIOR TO 01/01/2020)",77078,"O","O","Electronic","P I  "]
["BLUE CROSS BLUE SHIELD OF IOWA (IA)",88856,null,null,"Paper"]
["BLUE CROSS CALIFORNIA","SB040","O","O","Electronic","P I "]
["BLUE CROSS CALIFORNIA (WITH ATTACHMENTS)","JSB040","O","O","Electronic","P I"]
["BLUE CROSS CALIFORNIA DENTAL (ELIGIBILITY ONLY)",47198,null,null,"Paper"]
["BLUE CROSS COMMUNITY CENTENNIAL BCBS OF NM","MC721","O","O","Electronic","P I"]
["BLUE CROSS COMMUNITY OPTION/66005","MCDIL","O","O","Electronic","P I "]
["BLUE CROSS COMPLETE HMO OF MICHIGAN (REMITS ONLY)",32002,null,null,"Paper"]
["BLUE CROSS OF ALABAMA","BCAL1",null,null,"Paper"]
["BLUE CROSS OF ALASKA AND WASHINGTON - PREMERA","SB930","O","O","Electronic","P I "]
["BLUE CROSS OF ALASKA AND WASHINGTON - PREMERA (SUBROGATION CLAIMS ONLY)","SB930S","O","O","Electronic"]
["BLUE CROSS OF CALIFORNIA (TELEMED)","SB040T","O",null,"Electronic","P"]
["BLUE CROSS OF IDAHO","ZBID0","O","O","Electronic","P I "]
["BLUE CROSS OF NEW MEXICO",10660,null,null,"Paper"]
["BLUE CROSS OF PENNSYLVANIA -CAPITAL BLUE CROSS",23045,"X","X","Electronic"]
["BLUE CROSS OF RHODE ISLAND (RI)","CB870",null,null,"Paper"]
["BLUE CROSS OF TENNESSEE (TN)","CBTN1",null,null,"Paper"]
["BLUE CROSS OF TEXAS (TX)","CB900",null,null,"Paper"]
["BLUE CROSS OF WASHINGTON AND ALASKA",47570,null,null,"Paper"]
["BLUE CROSS OF WASHINGTON AND ALASKA (MDCN CLAIMS ONLY)",84097,null,null,"Paper"]
["BLUE CROSS OF WASHINGTON AND ALASKA (NCAS)",10600,null,null,"Paper"]
["BLUE CROSS OF WASHINGTON HEALTH PLUS - PREMERA","ZBWA1","O",null,"Electronic"]
["BLUE CROSS OF WASHINGTON MSC - PREMERA","ZBWA2","O",null,"Electronic","P"]
["BLUE CROSS OF WISCONSIN (WI)","CB950",null,null,"Paper"]
["BLUE SHIELD CALIFORNIA","SB542","O","O","Electronic","P I "]
["BLUE SHIELD CALIFORNIA HMO (ENCOUNTERS ONLY)","HM007","O",null,"Electronic","P"]
["BLUE SHIELD OF CALIFORNIA PROMISE HEALTH PLAN",57115,"O","O","Electronic","P I"]
["BLUE SHIELD OF CALIFORNIA PROMISE HEALTH PLAN (ENCOUNTERS ONLY)","EC1CA","O","O","Paper"]
["BLUE SHIELD OF IDAHO (REGENCE)","ZBID1","O","O","Electronic","P I "]
["BLUE SHIELD WASHINGTON - REGENCE",7451,"O","O","Electronic","P I  "]
["BLUERIDE NON-EMERG TRANSPORTATION (DOS 04/01/2020 AND AFTER)","BLRDE","O",null,"Electronic","P"]
["BMS ACCESS SUPPORT","Z96431",null,null,"Paper"]
["BMW NORTH AMERICA (ALL STATES) (WC ONLY)","WP988","O",null,"Electronic"]
["BOEING COMPANY (CA IL LA NC MN OR TX) (AUTO ONLY)","J1964A","O","O","Electronic"]
["BOEING COMPANY (CA IL LA NC MN OR TX) (WC ONLY)","J1964","O","O","Electronic"]
["BOISE CASCADE COMPANY (ALL STATES) (AUTO ONLY)","J1801A","O","O","Electronic"]
["BOISE CASCADE COMPANY (ALL STATES) (WC ONLY)","J1801W","O","O","Electronic"]
["BOLLINGER INC","BOLL1","O","O","Electronic"]
["BONCURA HEALTH SOLUTIONS",66727,"O","O","Electronic"]
["BOON ADMINISTRATIVE SERVICE INC","BOONG","O","O","Electronic"," "]
["BOON-CHAPMAN BENEFIT ADMINISTRATORS INC",74238,"O","O","Paper","P I  "]
["BOSTON MEDICAL CENTER HEALTHNET",13337,"O","O","Electronic","P I "]
["BP AMERICA ","A0030","O",null,"Electronic"]
["BPS FIRST HEALTH",67707,"O","O","Electronic","P I"]
["BRAND NEW DAY","UC001","O","O","Paper","P I"]
["BRAND NEW DAY (ENCOUNTERS ONLY)","UC002","O","O","Paper","P I"]
["BRAVEN HEALTH",84367,"X","X","Electronic"," "]
["BRAVO HEALTH",52192,"O","O","Electronic","P I "]
["BREAST AND CERVICAL CANCER CONTROL PROGRAM (MI ONLY)","BCCCP","O","O","Electronic"]
["BREATHCO - PCA FAMILY HEALTH PLANS","BR103","O",null,"Electronic","P"]
["BREATHCO - PCA HEALTH PLAN","BR104","O",null,"Electronic","P"]
["BRECKPOINT","BRKPNT","O","O","Paper","P I"]
["BRENTWOOD SERVICES ADMINISTRATORS (ALL STATES) (WC ONLY)","J2297","O","O","Electronic"]
["BRIDGEFIELD EMPLOYERS INSURANCE COMPANY (ALL) WC ONLY","WB148W","O",null,"Electronic"]
["BRIDGESPAN","BRIDG","O","O","Electronic","P I "]
["BRIDGEWAY ARIZONA",68054,"O","O","Electronic","P I "]
["BRIGHT HEALTH MEDICARE ADVANTAGE (DOS 12/31/2021 AND PRIOR)","BRT01","O","O","Electronic"," "]
["BRIGHT HEALTH PLAN COMMERCIAL (DOS 12/31/2021 AND PRIOR)","CB186","O","O","Electronic","P I   "]
["BRIGHT HEALTHCARE","BRGHT","O","O","Electronic","P I  "]
["BRISTOL WEST (ALL STATES) (AUTO ONLY)","J1764","O","O","Electronic"]
["BRITCAY",22286,"O","O","Electronic"]
["BRITTON BENEFIT SERVICES LLC","BBS19","O","O","Electronic"]
["BROADSPIRE (ALL STATES) (AUTO ONLY)","C1056A","O","O","Electronic"]
["BROADSPIRE (ALL STATES) (AUTO ONLY)","TP021A","O","O","Electronic"]
["BROADSPIRE, A CRAWFORD COMPANY (ALL STATES) (WC ONLY)","TP021","O","O","Electronic","P I"]
["BROKERAGE CONCEPTS INC",51037,"O","O","Electronic","P I"]
["BROKERS NATIONAL - DENTAL (ELIGIBILITY ONLY)",10783,null,null,"Paper"]
["BROTHERHOOD MUTUAL INSURANCE (CA/LA/NC/NM/MN/OR/TN/TX) (AUTO ONLY)","J1445A","O","O","Electronic","P I "]
["BROTHERHOOD MUTUAL INSURANCE (CA/LA/NC/NM/MN/OR/TN/TX) (WC ONLY)","J1445","O","O","Electronic"]
["BROWARD INSURANCE GROUP (WC ONLY TX, MN","A0686W","O","O","Electronic"]
["BROWN & TOLAND MEDICAL GROUP",94316,"O","O","Electronic","P"]
["BROWN & TOLAND SUTTER","BTSS1","O","O","Electronic","P I"]
["BROWN AND TOLAND HEALTH SERVICES","BTHS1","O","O","Electronic"]
["BROWNYARD GROUP INC. (ARCH INSURANCE) (WC ONLY)",11150,"O","O","Electronic"]
["BRUNSWICK CORPORATION (MN, TX) WC ONLY","WC744W","O","O","Electronic"]
["BSI COMPANIES",25916,"O","O","Electronic","P I"]
["BUENAVENTURA AFFILIATED PHYSICIANS, INC.","BVAP1","O","O","Paper","P I"]
["BUILDERS GROUP OF MN (ALL STATES) (WC ONLY)","J1391W","O",null,"Electronic"]
["BUILDERS INSURANCE GROUP (GA ONLY)","WE078","O","O","Electronic"]
["BUILDERS INSURANCE GROUP (GA ONLY) (AUTO ONLY)","J3975A","O","O","Electronic","P I"]
["BUILDERS INSURANCE GROUP (GA ONLY) (WC ONLY)","J3975","O","O","Electronic","P I"]
["BUILDERS MUTUAL INSURANCE (ALL STATES) (AUTO ONLY)","J1968A","O","O","Electronic"]
["BUILDERS MUTUAL INSURANCE (ALL STATES) (WC ONLY)","J1968","O","O","Electronic"]
["BUNCH & ASSOC. INC (WC ONLY) (ALL STATES)","WC812W","O","O","Electronic"]
["BUNCH & ASSOCIATES - LOWES (LIMITED)","WB189","O",null,"Electronic"]
["BUNCH CARESOLUTIONS (CONDUENT WORK COMP SERVICES) (ALL STATES) (WC ONLY)","J1435","O","O","Electronic"]
["BURLINGTON COAT FACTORY WAREHO (MN, TX) WC ONLY","WC761W","O","O","Electronic"]
["BUSINESS ADMINISTRATORS & CONSULTANTS",49984,"O","O","Electronic"]
["BUSINESS MENS ASSURANCE",61492,null,null,"Paper"]
["BUSINESS MENS ASSURANCE (BMA)",10360,null,null,"Paper"]
["BUTLER AMERICA HOLDINGS INC - CORVEL (ALL STATES) (WC ONLY)","J3860W","O","O","Electronic"]
["BUTLER BENEFIT",42150,"O","O","Electronic","P I"]
["BYWATER LTD",12090,"O","O","Paper","P I"]
["C & O EMPLOYEES' HOSPITAL ASSOCIATION",23708,"O","O","Electronic"," "]
["CADENCE RX","R0148",null,null,"Paper"]
["CAL OPTIMA ICF","Z96389",null,"O","Electronic","I"]
["CAL OPTIMA LTC","Z96397",null,"O","Electronic","I"]
["CALIBER HOLDINGS CORPORATION (ALL STATES) (AUTO ONLY)","J1979A","O","O","Electronic"]
["CALIBER HOLDINGS CORPORATION (ALL STATES) (WC ONLY)","J1979W","O","O","Electronic"]
["CALIFORNIA CASUALTY (ALL STATES) (AUTO ONLY)","J3968A","O","O","Electronic","P I"]
["CALIFORNIA CASUALTY (ALL STATES) (WC ONLY)","J3968","O","O","Electronic","P I"]
["CALIFORNIA CASUALTY INDEMNITY EXCHANGE (REMITS ONLY)","Z96353",null,null,"Paper"]
["CALIFORNIA CHILDREN'S SERVICES (CCS)","MC051","X","X","Electronic"]
["CALIFORNIA CHILDREN'S SERVICES (CCS) (WITH ATTACHMENTS)","JMC051","O","O","Electronic"]
["CALIFORNIA EYE CARE","CEC01","O",null,"Electronic"]
["CALIFORNIA HEALTH & WELLNESS",68047,"O","O","Electronic","P I "]
["CALIFORNIA INSURANCE GUARANTEE ASSOCIATION (CIGA) (WC ONLY) (CA ONLY)","J1532","O","O","Electronic"]
["CALIFORNIA IPA (CAPITAL MSO)","CTPL1","O","O","Electronic","P I"]
["CALIFORNIA KIDS CARE","CKC01","O","O","Paper","P I"]
["CALIFORNIA PACIFIC MEDICAL CENTER",94056,"O","O","Electronic"]
["CALIFORNIA PACIFIC MEDICAL FOUNDATION","Z95679","O","O","Electronic","P I"]
["CALIFORNIA RURAL INDIAN HEALTH BOARD","CRIHB","O","O","Electronic","P I"]
["CAL-OPTIMA DIRECT","CALOP","O","O","Electronic","P I  "]
["CALOPTIMA LTC","COLTC",null,"O","Paper","I"]
["CALVOS SELECTCARE","CALSC","O","O","Electronic"]
["CAMBRIDGE INTEGRATED SERVICES (ALL STATES) (WC ONLY)","J1819W","O","O","Electronic"]
["CAMBRIDGE INTEGRATED SERVICES GROUP (ALL STATES) (WC ONLY)","WX163W","O","O","Electronic"]
["CAMBRIDGE ISG",59334,null,null,"Paper"]
["CAMERON & ASSOCIATES","Z1434","O",null,"Electronic"]
["CAMP LEJEUNE FAMILY MEMBER PROGRAM","CLFM1","O","O","Electronic"]
["CANNON COCHRAN MANAGEMENT SERVICES INC CCMSI",71057,"O","O","Electronic","P I"]
["CAPISTRANO UNIFIED SCHOOL DISTRICT (ALL STATES) (AUTO ONLY)","J1637A","O","O","Electronic"]
["CAPISTRANO UNIFIED SCHOOL DISTRICT (ALL STATES) (WC ONLY)","J1637W","O","O","Electronic"]
["CAPITAL DISTRICT PHYSICIAN'S HEALTH PLAN (CDPHP)","SX065","O","O","Electronic","P I "]
["CAPITAL HEALTH PARTNERS","CAHP1","O","O","Electronic","P I"]
["CAPITAL HEALTH PLAN",95112,"O","O","Electronic","P I  "]
["CAPITAL INTERNATIONAL MANAGEMENT SERVICES - TAMPA, FL",65067,"O",null,"Electronic"]
["CAPITOL ADMINISTRATORS",68011,"O","O","Electronic","P I "]
["CAPITOL INDEMNITY (ALL STATES) (WC ONLY)","J1262W","O","O","Electronic"]
["CAPITOL INSURANCE COMPANIES (ALL STATES) (AUTO ONLY)","J1809A","O","O","Electronic"]
["CAPITOL INSURANCE COMPANIES (ALL STATES) (WC ONLY)","J1809W","O","O","Electronic"]
["CAPROCK HEALTH PLANS-VERITY","CAPHP2","O","O","Paper","P I"]
["CAPROCK HEALTHPLANS","CAPHP","O","O","Paper","P I "]
["CARDINAL HEALTH (EOBC)","WC931",null,null,"Paper"]
["CARDINAL INNOVATIONS",6607,null,null,"Paper"]
["CARDIOVASCULAR CARE PROVIDERS","Z1228","O","O","Electronic","P"]
["CARDON OUTREACH","R6716","O","O","Electronic"]
["CARE AROUND THE CLOCK",57721,"O","O","Electronic"]
["CARE LOGIC (ALL STATES) (WC ONLY)","J3868W","O","O","Electronic"]
["CARE N CARE",66010,"O","O","Electronic","P I"]
["CARE PLUS ( TARGET/ DAYTON HUDSON CORP)","Z0002","O",null,"Electronic","P"]
["CARE TO CARE",41222,"O","O","Electronic"]
["CARE WISCONSIN HEALTH PLAN",27004,"O","O","Paper","P I"]
["CARE1ST HEALTH PLAN OF ARIZONA",57116,"O","O","Electronic","P I "]
["CAREACCESS PSN",65063,"O","O","Electronic","P I"]
["CARECENTRIX",11345,"O","O","Electronic"]
["CARECENTRIX BCBS MICHIGAN",11349,"O","O","Paper","P I"]
["CARECENTRIX FLORIDA BLUE",11347,"O","O","Paper","P I"]
["CARECENTRIX HORIZON",11348,"O","O","Paper","P I"]
["CARECENTRIX WELLCARE",11350,"O","O","Paper","P I"]
["CARECORE NATIONAL",14182,"O","O","Electronic"]
["CARECORE NATIONAL - AETNA RADIOLOGY",14179,"O","O","Electronic"]
["CARECORE NATIONAL - HEALTH NET NEW JERSEY",14185,"O","O","Electronic","P"]
["CARECORE NATIONAL - OXFORD",14180,"O","O","Electronic","P"]
["CARECORE NATIONAL / WELLCARE OF NY RADIOLOGY",14188,"O","O","Electronic","P I"]
["CAREFIRST ADMINISTATORS - MARYLAND (FORMERLY WILLSE')",52118,"O",null,"Electronic","P"]
["CAREFIRST ADMINISTRATORS/NCAS - CHARLOTTE",75191,"O","O","Electronic","P I"]
["CAREFIRST ADMINISTRATORS/NCAS - FAIRFAX, VA",75190,"O","O","Electronic","P I  "]
["CAREFIRST BLUECROSS BLUESHIELD COMMUNITY HEALTH PLAN DISTRICT OF COLUMBIA","L0230","O","O","Electronic"]
["CAREFIRST BLUECROSS BLUESHIELD COMMUNITY HEALTH PLAN MARYLAND",45281,"O","O","Paper","P I"]
["CAREFIRST BLUECROSS BLUESHIELD MEDICARE ADVANTAGE",45282,"O","O","Electronic","P I"]
["CAREINGTON BENEFIT SOLUTIONS",60601,null,null,"Paper"]
["CAREMORE","CARMO","O","O","Electronic","P I "]
["CAREOREGON","Z1060","O","O","Electronic","P I "]
["CAREPARTNERS OF CONNECTICUT",16307,"X","X","Paper"," "]
["CAREPLUS HEALTH PLAN",65031,"O","O","Electronic","P I "]
["CARESOURCE",325,null,null,"Paper"]
["CARESOURCE",26160,"O","O","Electronic"]
["CARESOURCE ARKANSAS","ARCS1","O","O","Electronic"]
["CARESOURCE GEORGIA","GACS1","O","O","Electronic","P I  "]
["CARESOURCE INDIANA","INCS1","O","O","Electronic","P I  "]
["CARESOURCE KY (HUMANA)","KYCS1","O","O","Electronic","P I "]
["CARESOURCE NORTH CAROLINA","NCCS1","O","O","Electronic","P I"]
["CARESOURCE OHIO",31114,"O","O","Electronic","P I "]
["CARESOURCE WEST VIRGINIA","WVCS1","O","O","Electronic","P I  "]
["CAREWORKS (OHIO BWC)","Z1167","O","O","Electronic","P I"]
["CAREWORKS CONSULTANTS (AKA CAREWORKS USA AND CCI) (OH ONLY) (WC ONLY)","J1866W","O","O","Electronic","P I"]
["CARHARTT (ALL STATES) (AUTO ONLY)","J1931A","O","O","Electronic"]
["CARHARTT (ALL STATES) (WC ONLY)","J1931W","O","O","Electronic"]
["CARISK IMAGING TO ALLSTATE INSURANCE (AUTO)","J2007A","O","O","Electronic"]
["CARISK IMAGING TO AMERICAN COMMERCE INSURANCE COMPANY (ALL STATES) (AUTO ONLY)","J2008A","O","O","Electronic","P"]
["CARISK IMAGING TO AMERIPRISE (AUTO)","J2010A","O","O","Electronic"]
["CARISK IMAGING TO BROADSPIRE (NY & NJ ONLY)(WC)","J3915","O","O","Electronic"]
["CARISK IMAGING TO CITY OF JERSEY CITY (NJ ONLY) (WC ONLY)","J3998","O","O","Electronic"]
["CARISK IMAGING TO COUNTRY WAY / AGWAY (AUTO)","J2021A","O","O","Electronic"]
["CARISK IMAGING TO CRC CLAIMS RESOLUTION CORP (NY ONLY)(WC)","J3916","O","O","Electronic"]
["CARISK IMAGING TO D&H ALTERNATIVE RISK SOLUTIONS (WC)","J3917","O","O","Electronic"]
["CARISK IMAGING TO ESURANCE INSURANCE (AUTO)","J2025A","O","O","Electronic"]
["CARISK IMAGING TO FARM FAMILY INSURANCE (AUTO)","J2026A","O","O","Electronic"]
["CARISK IMAGING TO GEICO (AUTO)","J2030A","O","O","Electronic"]
["CARISK IMAGING TO HARLEYSVILLE INSURANCE (AUTO)","J2033A","O","O","Electronic"]
["CARISK IMAGING TO HARTFORD INSURANCE (AUTO)","J2034A","O","O","Electronic"]
["CARISK IMAGING TO IDS PROPERTY CASUALTY (AUTO)","J2038A","O","O","Electronic"]
["CARISK IMAGING TO KEMPER SERVICES GROUP (AUTO)","J2041A","O","O","Electronic"]
["CARISK IMAGING TO MAPFRE (AUTO)","J2044A","O","O","Electronic"]
["CARISK IMAGING TO MERCURY INSURANCE (AUTO)","J2047A","O","O","Electronic"]
["CARISK IMAGING TO METLIFE (AUTO)","J2048A","O","O","Electronic"]
["CARISK IMAGING TO NATIONAL GENERAL INSURANCE CO (AUTO)","J2049A","O","O","Electronic"]
["CARISK IMAGING TO NATIONAL LIABILITY & FIRE INSURANCE CO (AUTO)","J2050A","O","O","Electronic"]
["CARISK IMAGING TO NATIONWIDE (AUTO)","J2051A","O","O","Electronic"]
["CARISK IMAGING TO NCA COMP (WC)","J3918","O","O","Electronic"]
["CARISK IMAGING TO NEW JERSEY SKYLANDS (ALL STATES) (AUTO ONLY)","J2052A","O","O","Electronic","P I"]
["CARISK IMAGING TO NEW YORK CITY LAW DEPARTMENT (WC)","J2053","O","O","Electronic"]
["CARISK IMAGING TO NJ-PLIGA (AUTO)","J2054A","O","O","Electronic"]
["CARISK IMAGING TO OHIO CASUALTY GROUP (AUTO)","J2058A","O","O","Electronic"]
["CARISK IMAGING TO PEERLESS INSURANCE (AUTO)","J2060A","O","O","Electronic"]
["CARISK IMAGING TO PRAETORIAN INSURANCE COMPANY (AUTO)","J2063A","O","O","Electronic"]
["CARISK IMAGING TO PROGRESSIVE INSURANCE (AUTO)","J2065A","O","O","Electronic"]
["CARISK IMAGING TO PURE (AUTO)","J2066A","O","O","Electronic"]
["CARISK IMAGING TO RIDER INSURANCE (ALL STATES) (AUTO ONLY)","J2068A","O","O","Electronic","P I"]
["CARISK IMAGING TO SAFE TPA, LLC  NY ONLY (WC)","J3919","O","O","Electronic"]
["CARISK IMAGING TO SAFECO INSURANCE (AUTO)","J2069A","O","O","Electronic"]
["CARISK IMAGING TO SEDGWICK AUTO INSURANCE (AUTO)","J2070A","O","O","Electronic"]
["CARISK IMAGING TO SELECTIVE INSURANCE (AUTO)","J2072A","O","O","Electronic"]
["CARISK IMAGING TO SENTRY INSURANCE (AUTO)","J2073A","O","O","Electronic"]
["CARISK IMAGING TO TOWER NATIONAL/TOWER GROUP COMPANIES (ALL STATES) (AUTO ONLY)","J2077A","O","O","Electronic","P I"]
["CARISK IMAGING TO UMR RISK MANAGEMENT-NY (WC)","J3920","O","O","Electronic"]
["CARISK IMAGING TO USAA (AUTO)","J2085A","O","O","Electronic"]
["CARISK IMAGING TO UTICA NATIONAL INSURANCE (AUTO)","J2086A","O","O","Electronic"]
["CARISK IMAGING TO ZURICH AUTO INSURANCE (AUTO)","J3921A","O","O","Electronic"]
["CAROLINA BEHAVIORAL HEALTH",56215,"O","O","Electronic","P I"]
["CAROLINA BENEFIT ADMINISTRATORS","SB888","O","O","Electronic","P I"]
["CAROLINA SENIORCARE",71499,"O","O","Electronic","P I"]
["CARPENTERS BENEFIT PLAN","CWSTL",null,null,"Paper"]
["CARPENTERS HEALTH AND WELFARE FUND OF PHILADELPHIA","CX101","O",null,"Electronic"]
["CARPENTERS HEALTH AND WELFARE TRUST FUND OF ST LOUIS",11161,null,null,"Paper"]
["CARPENTER'S HEALTH AND WELFARE TRUST FUND OF ST. LOUIS",12174,null,null,"Paper"]
["CASCADE COMPREHENSIVE CARE (DOS 01/01/18 AND AFTER)","Z96251","O","O","Electronic"]
["CASITAS MUNICIPAL WATER DISTRICT (ALL STATES) (AUTO ONLY)","J1630A","O","O","Electronic"]
["CASITAS MUNICIPAL WATER DISTRICT (ALL STATES) (WC ONLY)","J1630W","O","O","Electronic"]
["CASTLEPOINT INSURANCE COMPANY (TX, MN, CA, IL, LA, NJ, OR AND NC ONLY) (AUTO ONLY)","J3963A","O","O","Electronic","P I"]
["CASTLEPOINT INSURANCE COMPANY (TX, MN, CA, IL, LA, NJ, OR AND NC ONLY) (WC ONLY)","J3963","O","O","Electronic","P I"]
["CASTLEPOINT NATIONAL INSURANCE COMPANY (TX, MN, CA, IL, LA, NJ, OR AND NC ONLY) (AUTO ONLY)","J3964A","O","O","Electronic","P I"]
["CASTLEPOINT NATIONAL INSURANCE COMPANY (TX, MN, CA, IL, LA, NJ, OR AND NC ONLY) (WC ONLY)","J3964","O","O","Electronic","P I"]
["CATILIZE HEALTH (ERA ONLY)","Z96820",null,null,"Paper"]
["CAVE BRANCH MINING RETIREES (EOBC)","R37610",null,null,"Paper"]
["CBA BLUE/BLUE BENEFIT ADMINISTRATORS",3036,"O","O","Electronic","P I "]
["CCAI","CCAI","O","O","Electronic"]
["CC-DEVELOPMENT GROUP INC (ALL STATES) (AUTO ONLY)","J1900A","O","O","Electronic"]
["CCEA WELFARE BENEFIT TRUST",88020,null,null,"Paper"]
["CCMSI (ALL STATES) (WC ONLY)","J1010","O","O","Electronic"]
["CCMSI (TX, MN) (WC ONLY)","WR322W","O","O","Electronic"]
["CCSI/LUTHERAN PREFERRED","MP350","O","O","Electronic","P I"]
["CEDAR SINAI MEDICAL CENTER",95164,"O","O","Electronic"]
["CEDAR VALLEY COMMUNITY HEALTHCARE (CVCH)",42558,"O","O","Electronic"]
["CEDARS SINAI MEDICAL CENTER",33010,null,"O","Electronic"]
["CEDARS-SINAI MEDICAL NETWORK SERVICES (CLAIMS)",95166,"O","O","Electronic","P I"]
["CEDARS-SINAI MEDICAL NETWORK SERVICES (ENCOUNTERS)",95167,"O","O","Electronic","P I"]
["CELTIC INSURANCE",68063,"O","O","Electronic","P I "]
["CENDANT CORPORATION (CA, MN, TX ONLY) WC ONLY","WC783W","O","O","Electronic"]
["CENPATICO - TEXAS","CBHTX",null,null,"Paper"]
["CENPATICO BEHAVIORAL HEALTH",68068,"O","O","Electronic","P I "]
["CENPATICO- PENNSYLVANIA HEALTH AND WELLNESS PLAN ONLY","68069PA","O","O","Electronic"]
["CENTENE HEALTH PLANS",68069,"O","O","Electronic","P I "]
["CENTENE HEALTH PLANS (WITH ATTACHMENTS)","J68069","O","O","Electronic"]
["CENTENE MANAGEMENT COMPANY LLC (EOBC)","R28521",null,null,"Paper"]
["CENTENE TPA",42139,"O","O","Electronic"]
["CENTER FOR ELDERS INDEPENDENCE",94312,"O","O","Electronic"]
["CENTER IPA","POP01","O",null,"Electronic"]
["CENTERLIGHT HEALTHCARE",13360,"O","O","Electronic","P I"]
["CENTERS PLAN FOR HEALTHY LIVING","CPHL","O","O","Electronic"]
["CENTINELA VALLEY IPA","MPM03","O","O","Electronic"]
["CENTIVO",45564,"O","O","Electronic","P I"]
["CENTRACARE",66698,"O","O","Electronic"]
["CENTRAL CALIFORNIA ALLIANCE FOR HEALTH","SX169","O","O","Electronic"]
["CENTRAL COMPANIES (ALL STATES)","J1263W","O","O","Electronic"]
["CENTRAL CONTRA COSTA TRANSIT AUTHORITY (ALL STATES) (AUTO ONLY)","J1605A","O","O","Electronic"]
["CENTRAL CONTRA COSTA TRANSIT AUTHORITY (ALL STATES) (WC ONLY)","J1605W","O","O","Electronic"]
["CENTRAL DATA SERVICES","Z95910",null,null,"Paper"]
["CENTRAL GARDEN & PET COMPANY - CORVEL (ALL STATES) (AUTO ONLY)","J3737A","O","O","Electronic","P I"]
["CENTRAL GARDEN & PET COMPANY - CORVEL (ALL STATES) (WC ONLY)","J3737","O","O","Electronic","P I"]
["CENTRAL HEALTH MEDICARE PLAN","CHCPI","O","O","Electronic"]
["CENTRAL HOCKEY LEAGUE (MN, TX) WC ONLY","WC787W","O","O","Electronic"]
["CENTRAL LABORERS' WELFARE FUND (REMITS ONLY)","R35293",null,null,"Paper"]
["CENTRAL MASSACHUSETTS HEALTH LLC",86220,"O","O","Electronic","P I"]
["CENTRAL OHIO PRIMARY CARE SENIOR CARE ADVANTAGE","ALG02","O",null,"Electronic"]
["CENTRAL PENNSYLVANIA TEAMSTERS FUND",23626,"O","O","Paper"," "]
["CENTRAL RESERVE LIFE",34097,"O","O","Paper","P I"]
["CENTRAL RESERVE LIFE INS CO- MEDICARE SUPPLEMENT (ELIGIBILITY ONLY)","Z90023",null,null,"Paper"]
["CENTRAL STATES HEALTH & WELFARE FUNDS",36215,"O","O","Electronic","P I "]
["CENTRAL STATES HEALTH/LIFE CO OF OMAHA","Z96478",null,null,"Paper"]
["CENTRAL STATES INDEMNITY (ELIGIBILITY & REMITS ONLY)","Z95701",null,null,"Paper"," "]
["CENTRAL VALLEY MEDICAL GROUP (DOS 1/1/2020 AND AFTER)","CVH01","O","O","Paper","P I"]
["CENTRAL VALLEY MEDICAL PROVIDERS, CVMEDPRO","MPM59","O","O","Electronic","P I"]
["CENTRIC HEALTHCARE SERVICES (REMITS ONLY)","QCIPA",null,null,"Paper"]
["CENTURION",42140,"O","O","Paper","P I"]
["CENTURY PHO",36393,"O","O","Electronic"]
["CHAFFEY JOINT UNION H.S. DISTRICT (ALL STATES) (WC ONLY)","J1646W","O","O","Electronic"]
["CHAFFEY JOINT UNION H.S.DISTRICT (ALL STATES) (AUTO ONLY)","J1646A","O","O","Electronic"]
["CHAFFEY MEDICAL GROUP",49533,"O","O","Paper"]
["CHAMPION PAYER SOLUTIONS","CPS01","O","O","Electronic","P I"]
["CHAMPVA/VA-HAC",84146,"O","O","Electronic","P I "]
["CHARMING SHOPPES, INC. (MN, TX)  WC ONLY","WC788W","O","O","Electronic"]
["CHARTIS","26883W","O","O","Electronic"]
["CHARTIS PROPERTY CASUALTY CO (ALL STATES EXCEPT AK,HI,MT,WA) (WC ONLY)","19402W","O","O","Electronic"]
["CHARTIS SELECT INS CO. (WC ONLY)","10932W","O","O","Electronic"]
["CHAUTAUQUA COUNTY",16600,"O","O","Electronic","P"]
["CHCS (REMITS ONLY)","Z2800",null,null,"Paper"]
["CHCS SERVICES INC","Z10899",null,null,"Paper"]
["CHEROKEE NATION COMPREHENSIVE CARE AGENCY","CHERO","O","O","Paper","P I"]
["CHESAPEAKE INSURANCE (ALL STATES) (WC ONLY)","J1908","O","O","Electronic"]
["CHESTERFIELD RESOURCES INC",34154,"O","O","Electronic","P I"]
["CHESTERFIELD SERVICES INC (ALL STATES) (WC ONLY)","J1479","O","O","Electronic","P I"]
["CHICAGO CARPENTERS WELFARE FUND","R26506",null,null,"Paper"]
["CHICK-FIL-A ","A0037","O",null,"Electronic"]
["CHICOS FAS INC. (ALL STATES)(WC ONLY)","J2315","O","O","Electronic"]
["CHILD HEALTH AND DISABILITY PREVENTION PROGRAM","CDHP","X","X","Electronic"]
["CHILDRENS HOSPITAL ORANGE COUNTY (CHOC) HEALTH ALLIANCE","CHOC1","O","O","Electronic"]
["CHILDREN'S COMMUNITY HEALTH PLAN","251CC","O","O","Electronic","P I"]
["CHILDREN'S FIRST HEALTHCARE NETWORK",94321,"O","O","Electronic"]
["CHILDREN'S HOSPITAL OF ORANGE COUNTY HEALTH ALLIANCE (CHOC) ORANGE CA",33065,"O","O","Electronic","P"]
["CHILDREN'S MERCY PCN",10906,null,null,"Paper"]
["CHINESE COMMUNITY HEALTH PLAN",94302,"O","O","Electronic"]
["CHIROMETRICS","Z96250","O","O","Electronic"]
["CHIROPRACTIC HEALTH PLAN","Z1043","O",null,"Electronic","P"]
["CHOICE HOTELS INTERNATIONAL INC. (ALL STATES) (AUTO ONLY)","J4161A","O","O","Electronic"]
["CHOICE HOTELS INTERNATIONAL INC. (ALL STATES) (WC ONLY)","J4161","O","O","Electronic"]
["CHOICE MEDICAL GROUP","CMG01","O",null,"Electronic","P"]
["CHOICE PHYSICIANS NET COACHELLAMED","CPNCO","O","O","Paper"]
["CHOICE PHYSICIANS NET FIRST CHOICE","CPNFC","O","O","Electronic","P I"]
["CHOICE PHYSICIANS NETWORK","CPN01","O","O","Electronic","P I"]
["CHOICE PHYSICIANS NETWORK - AMADA HEALTH","CPNAH","O","O","Paper","P I"]
["CHOICE PHYSICIANS NETWORK (ANTELOPE VALLEY MEDICAL GROUP)","CPNAV","O","O","Electronic"]
["CHOICE PHYSICIANS NETWORK ALL UNITED MEDICAL GROUP","CPNAU","O","O","Electronic"]
["CHOICE PHYSICIANS NETWORK NIVANO PHYSICIANS","CPNNP","O","O","Electronic","P I"]
["CHOICEONE IPA","POP03","O",null,"Electronic"]
["CHP 3","CHP03","O",null,"Paper","P"]
["CHP DIRECT",10907,null,null,"Paper"]
["CHRISTIAN BROTHERS SERVICES",38308,"O","O","Paper","P I "]
["CHRISTIAN CARE MINISTRIES",59355,"O","O","Electronic"]
["CHRISTIAN HEALTH AID",98628,"O","O","Electronic","P I"]
["CHRISTIANA CARE VBR","VB002","O","O","Paper","P I"]
["CHRISTIE STUDENT HEALTH PLAN",75544,"O","O","Electronic"]
["CHRISTUS HEALTH MEDICARE ADVANTAGE",10629,"O","O","Paper","P I "]
["CHRISTUS HEALTH PLAN MEDICAID",45210,"O","O","Electronic","P I "]
["CHRISTUS HEALTH PLAN OF TEXAS AND LOUISIANA",52106,"O","O","Electronic","P I  "]
["CHUBB & SONS - FEDERAL INSURANCE (AUTO ONLY)","20281A","O",null,"Paper"]
["CHUBB & SONS - FEDERAL INSURANCE (WC ONLY)","20281W","O",null,"Paper"]
["CHUBB (LEGACY CHUBB & SON) (ALL STATES) (WC ONLY)","J1554","O","O","Electronic"]
["CHUBB SERVICES (ALL STATES) (WC ONLY)","J1561","O","O","Electronic"]
["CHURCH MUTUAL INSURANCE COMP (ALL STATES)(WC ONLY)","J1265W","O","O","Electronic"]
["CHURCH MUTUAL INSURANCE COMPANY (ALL STATES)","WX051",null,"O","Electronic"]
["CHURCH MUTUAL INSURANCE COMPANY (ALL STATES) (AUTO ONLY)","18767A","O","O","Electronic"]
["CHURCH MUTUAL INSURANCE COMPANY (ALL STATES) (LIAB ONLY)","J1266","O","O","Electronic"]
["CHURCH MUTUAL INSURANCE COMPANY (ALL STATES) (WC ONLY)","18767W","O","O","Electronic"]
["CIGNA (CONNECTICUT GENERAL, EQUICOR, EQUITABLE)",62308,"O","O","Electronic","P I "]
["CIGNA (CONNECTICUT GENERAL, EQUICOR, EQUITABLE) (SUBROGATION CLAIMS ONLY)","62308S","O","O","Electronic","I"]
["CIGNA (MN, TX,CA ONLY) (WC ONLY)","A0368W","O","O","Electronic"]
["CIGNA BEHAVIORAL HEALTH","SX071","O","O","Electronic","P  "]
["CIGNA DENTAL HEALTH",10050,null,null,"Paper"]
["CIGNA ENCOUNTERS (CA & TX ENCOUNTERS FOR CIGNA COMMERCIAL (HMO & HMO/POS) BUSINESS ONLY)",99139,null,"O","Electronic"]
["CIGNA FLEXCARE",47001,null,null,"Paper"]
["CIGNA GLOBAL INSURANCE COMPANY LIMITED (EOBC)","R25929",null,null,"Paper"]
["CIGNA HEALTHCARE FOR SENIORS - AZ MEDICARE",86033,"O","O","Electronic","P I  "]
["CINCINNATI INSURANCE (ALL STATES) (WC ONLY)","J1562","O","O","Electronic"]
["CINCINNATI INSURANCE (MN, NJ, NY AND OR ONLY) (AUTO ONLY)","C1103A","O","O","Electronic","P I"]
["CITIZENS INSURANCE COMPANY OF AMERICA (ALL STATES) (AUTO ONLY)","J1582A","O","O","Electronic"]
["CITIZENS INSURANCE COMPANY OF AMERICA (ALL STATES) (WC ONLY)","J1582W","O","O","Electronic"]
["CITIZENS SECURITY LIFE INSURANCE CO","CSLIC",null,null,"Paper"]
["CITRUS HEALTH",10207,"O","O","Electronic","P I"]
["CITRUS VALLEY HEALTH PARTNERS (ALL STATES) (AUTO ONLY)","J1613A","O","O","Electronic"]
["CITRUS VALLEY HEALTH PARTNERS (ALL STATES) (WC ONLY)","J1613W","O","O","Electronic"]
["CITRUS WORLD INC (ALL STATES) (AUTO ONLY)","J1945A","O","O","Electronic"]
["CITRUS WORLD INC (ALL STATES) (WC ONLY)","J1945W","O","O","Electronic"]
["CITY & COUNTY OF SAN FRANCISCO (WC ONLY)","WX076W",null,"O","Electronic"]
["CITY AND COUNTY OF DENVER (WC ONLY)","J3340","O","O","Electronic","P I"]
["CITY AND COUNTY OF SAN FRANCISCO (CCSF) (CA ONLY) (WC ONLY)","J1885","O","O","Electronic"]
["CITY OF ADELANTO (ALL STATES) (AUTO ONLY)","J3867A","O","O","Electronic"]
["CITY OF ADELANTO (ALL STATES) (WC ONLY)","J3867W","O","O","Electronic"]
["CITY OF BANNING (CA) (ALL STATES) (AUTO ONLY)","J1792A","O","O","Electronic","P I"]
["CITY OF BANNING (CA) (ALL STATES) (WC ONLY)","J1792W","O","O","Electronic","P I"]
["CITY OF BARSTOW (CA)","J1793A","O","O","Electronic"]
["CITY OF BARSTOW (CA)","J1793W","O","O","Electronic"]
["CITY OF BLYTHE (CA) (ALL STATES) (AUTO ONLY)","J1794A","O","O","Electronic","P I"]
["CITY OF BLYTHE (CA) (ALL STATES) (WC ONLY)","J1794W","O","O","Electronic","P I"]
["CITY OF DALLAS (ALL STATES) (WC ONLY)","J1441W","O","O","Electronic"]
["CITY OF DESERT HOT SPRINGS (CA)","J1799A","O","O","Electronic"]
["CITY OF DESERT HOT SPRINGS (CA)","J1799W","O","O","Electronic"]
["CITY OF DUBLIN (EOBC)","R37099",null,null,"Paper"]
["CITY OF EL PASO (WC ONLY) (TX, MN,CA ONLY)","WP857","O","O","Electronic"]
["CITY OF FORT LAUDERDALE (ALL STATES)(WC ONLY)","J2266","O","O","Electronic","P I"]
["CITY OF FORT WORTH (ALL STATES) (AUTO ONLY)","J1680A","O","O","Electronic"]
["CITY OF FORT WORTH (ALL STATES) (WC ONLY)","J1680W","O","O","Electronic"]
["CITY OF GLENDALE (AZ) (ALL STATES) (AUTO ONLY)","J1800A","O","O","Electronic","P I"]
["CITY OF GLENDALE (AZ) (ALL STATES) (WC ONLY)","J1800W","O","O","Electronic","P I"]
["CITY OF HAYWARD (EOBC)","R09599",null,null,"Paper"]
["CITY OF JACKSONVILLE","J1504W","O","O","Electronic"]
["CITY OF LA MESA 11 (ALL STATES) (AUTO ONLY)","J1711A","O","O","Electronic"]
["CITY OF LA MESA 11 (ALL STATES) (WC ONLY)","J1711W","O","O","Electronic"]
["CITY OF LAKE CHARLES (ALL STATES) (AUTO ONLY)","J1981A","O","O","Electronic"]
["CITY OF LAKE CHARLES (ALL STATES) (WC ONLY)","J1981W","O","O","Electronic"]
["CITY OF LAKELAND (FL)","E1677","O","O","Electronic"]
["CITY OF MARGATE (FL) (ALL STATES)(WC ONLY)","J3301","O","O","Electronic","P I"]
["CITY OF MIAMI BEACH (FL) (ALL STATES) (AUTO ONLY)","J1946A","O","O","Electronic"]
["CITY OF MIAMI BEACH (FL) (ALL STATES) (WC ONLY)","J1946W","O","O","Electronic"]
["CITY OF MILPITAS (EOBC)","R09380",null,null,"Paper"]
["CITY OF MINNEAPOLIS (ALL STATES) (WC ONLY)","J1269","O","O","Electronic"]
["CITY OF MINNEAPOLIS (MN ONLY) (EOBC)","A0287",null,null,"Paper"]
["CITY OF MURIETA (CA)","J1797A","O","O","Electronic"]
["CITY OF MURIETA (CA)","J1797W","O","O","Electronic"]
["CITY OF NEW ROCHELLE (EOBC)","R21159",null,null,"Paper"]
["CITY OF ODESSA (ODESSA TX)",75600,"O","O","Electronic","P I"]
["CITY OF OMAHA (NE) (ALL STATES) (AUTO ONLY)","J1721A","O","O","Electronic"]
["CITY OF OMAHA (NE) (ALL STATES) (WC ONLY)","J1721W","O","O","Electronic"]
["CITY OF PERRIS (CA) (ALL STATES) (AUTO ONLY)","J1795A","O","O","Electronic","P I"]
["CITY OF PERRIS (CA) (ALL STATES) (WC ONLY)","J1795W","O","O","Electronic","P I"]
["CITY OF PLANO (CA, TX, MN) WC ONLY","WC172W","O","O","Electronic"]
["CITY OF POMONA (EOBC)","R30819",null,null,"Paper"]
["CITY OF POMPANO BEACH (FL) (ALL STATES) (AUTO ONLY)","J1947A","O","O","Electronic"]
["CITY OF POMPANO BEACH (FL) (ALL STATES) (WC ONLY)","J1947W","O","O","Electronic"]
["CITY OF REDDING (CA) (ALL STATES) (AUTO ONLY)","J1617A","O","O","Electronic"]
["CITY OF REDDING (CA) (ALL STATES) (WC ONLY)","J1617W","O","O","Electronic"]
["CITY OF RICHMOND (EOBC)","R20984",null,null,"Paper"]
["CITY OF ROCHESTER (EOBC)","R22485",null,null,"Paper"]
["CITY OF SAN ANGELO (MN, TX) [WC ONLY]","WC152","O","O","Electronic"]
["CITY OF SAN DIEGO (WC ONLY)","J1497","O","O","Electronic"]
["CITY OF SAN JACINTO (CA) (ALL STATES) (AUTO ONLY)","J1796A","O","O","Electronic","P I"]
["CITY OF SAN JACINTO (CA) (ALL STATES) (WC ONLY)","J1796W","O","O","Electronic","P I"]
["CITY OF SAN JOSE","J1528","O","O","Electronic"]
["CITY OF SAN MATEO (CA) (ALL STATES) (AUTO ONLY)","J1727A","O","O","Electronic"]
["CITY OF SAN MATEO (CA) (ALL STATES) (WC ONLY)","J1727W","O","O","Electronic"]
["CITY OF ST PAUL (MN) (ALL STATES) (AUTO ONLY)","J1602A","O","O","Electronic"]
["CITY OF ST PAUL (MN) (ALL STATES) (WC ONLY)","J1602","O","O","Electronic"]
["CITY OF ST. PAUL (MN)","J1602W","O","O","Electronic"]
["CITY OF ST. PAUL (WC ONLY)","E0257W","O",null,"Paper"]
["CITY OF STANTON (CA) (ALL STATES) (AUTO ONLY)","J1636A","O","O","Electronic"]
["CITY OF STANTON (CA) (ALL STATES) (WC ONLY)","J1636W","O","O","Electronic"]
["CITY OF STOCKTON (CA) (ALL STATES) (AUTO ONLY)","J1664A","O","O","Electronic"]
["CITY OF STOCKTON (CA) (ALL STATES) (WC ONLY)","J1664W","O","O","Electronic"]
["CITY OF TOPEKA (KS) (ALL STATES) (AUTO ONLY)","J1607A","O","O","Electronic"]
["CITY OF TOPEKA (KS) (ALL STATES) (WC ONLY)","J1607W","O","O","Electronic"]
["CITY OF TORRANCE (ALL STATES) (AUTO ONLY)","J3872A","O","O","Electronic"]
["CITY OF TORRANCE (ALL STATES) (WC ONLY)","J3872W","O","O","Electronic"]
["CITY OF TUCSON (ALL STATES) (AUTO ONLY)","J1982A","O","O","Electronic"]
["CITY OF TUCSON (ALL STATES) (WC ONLY)","J1982W","O","O","Electronic"]
["CITY OF UPLAND (CA) (ALL STATES) (AUTO ONLY)","J1645A","O","O","Electronic"]
["CITY OF UPLAND (CA) (ALL STATES) (WC ONLY)","J1645W","O","O","Electronic"]
["CITY OF VIRGINIA BEACH (VA) - CORVEL (ALL STATES) (WC ONLY)","J3861W","O","O","Electronic"]
["CITY OF WEST PALM BEACH (FL) (ALL STATES) (AUTO ONLY)","J1948A","O","O","Electronic"]
["CITY OF WEST PALM BEACH (FL) (ALL STATES) (WC ONLY)","J1948W","O","O","Electronic"]
["CLACKAMAS COUNTY MENTAL HEALTH","CCMMH","O","O","Electronic","P I"]
["CLAIMCHOICE","Z96479",null,null,"Paper"]
["CLAIMCHOICE ADMINISTRATORS",38219,"O","O","Electronic","P"]
["CLAIMCHOICE ADMINISTRATORS, LLC",83063,"O","O","Electronic","P I"]
["CLAIMS ADMINISTRATIVE SERVICES (CAS) (LA NM OK TX) (WC ONLY)","J1271W","O","O","Electronic"]
["CLAIMS DEVELOPMENT CORPORATION",43056,"O",null,"Electronic"]
["CLAIMSBRIDGE HIGH PERFORMANCE NETWORK",11752,"O","O","Electronic"]
["CLASSIC RESIDENCE BY HYATT (MN, TX) WC ONLY","WC790W","O","O","Electronic"]
["CLEAR HEALTH ALLIANCE","CLEAR","O","O","Electronic"," "]
["CLEAR HEALTH ALLIANCE (WITH ATTACHMENTS)","JCLEAR","O","O","Electronic"]
["CLEAR SPRING HEALTH",85468,"O","O","Paper","P I  "]
["CLEAR SPRING HEALTH OF ILLINOIS (EOBC)",66009,null,null,"Paper"]
["CLEARCHOICE HEALTH PLAN/COIHS (BEND OR)",77201,"O",null,"Paper","P"]
["CLEVELAND BROWNS (EOBC)","R23182",null,null,"Paper"]
["CLEVER CARE HEALTH PLAN",84227,"O","O","Electronic","P I"]
["CLINICAL SPECIALTIES INC","CSI001","O","O","Electronic"]
["CLINICAS DEL CAMINO REAL","CDCR1","O","O","Electronic","P I"]
["CLOVER HEALTH (DOS PRIOR TO 1/1/23)",77023,null,null,"Paper"," "]
["CLOVER HEALTH LLC",13285,"O","O","Paper","P I  "]
["CM ADMINISTRATORS INC",56211,"O","O","Electronic"]
["CNA INSURANCE (ALL STATES) (WC ONLY)","J20443","O","O","Electronic"]
["COACH USA (ALL STATES) (WC ONLY)","J1272W","O",null,"Electronic"]
["COACHELLA VALLEY WATER DISTRICT (CA) (ALL STATES) (AUTO ONLY)","J1902A","O","O","Electronic"]
["COACHELLAMED","COMG1","O","O","Paper"]
["COASTAL ADMINISTRATIVE SERVICES","05802E",null,null,"Paper"]
["COASTAL ADMINISTRATIVE SERVICES",74120,"O","O","Electronic","P I"]
["COASTAL CARE SERVICES INC",47394,"O","O","Electronic"]
["COASTAL COMMUNITIES PHYSICIAN NETWORK (CCPN1)","Z1391","O","O","Electronic"]
["COASTAL TPA INC",77052,"O","O","Paper","P I"]
["COCA-COLA ENTERPRISES (TX, MN, CA ONLY) (WC ONLY)","A0565W","O","O","Electronic"]
["COEUR",98653,"O","O","Paper","P I"]
["COEUR PLAN SERVICES, LLC",11854,"O","O","Electronic","P I"]
["COFINITY - GROUP RESOURCES",42049,"O","O","Paper","P I"]
["COLLECTIVE HEALTH","Z95796","O",null,"Electronic"]
["COLLECTIVE HEALTH ADMINISTRATORS",36479,null,null,"Paper"," "]
["COLLEGE HEALTH IPA","CHIPA","O",null,"Electronic","P"]
["COLONIAL MEDICAL (BERMUDA)",22284,"O","O","Electronic","P I"]
["COLONIAL MEDICAL INSURANCE COMPANY (EASTERN CARIBBEAN)",22287,"O","O","Paper","P I"]
["COLONIAL PENN LIFE INSURANCE (REMITS AND ELIGIBILITY ONLY)",62065,null,null,"Paper"," "]
["COLORADO ACCESS (DENVER, CO)",84129,"O","O","Electronic","P "]
["COLORADO CASUALTY (WC ONLY) (ALL STATES)","J1428W","O","O","Electronic"]
["COLORADO COMMUNITY HEALTH ALLIANCE","COCHA","O","O","Electronic"]
["COLORADO COMMUNITY HEALTH ALLIANCE (WITH ATTACHMENTS)","JCOCHA","O","O","Electronic"]
["COLORADO HEALTH INSURANCE COOPERATIVE INC",49718,"O","O","Electronic","P I"]
["COLUMBIA SUSSEX CORPORATION (TX, MN) (WC ONLY)","WC792W","O","O","Electronic"]
["COLUMBINE HEALTH PLAN","CHP02","O",null,"Electronic"]
["COMMERCE AND INDUSTRY INSURANCE CO",5380,null,null,"Paper"]
["COMMERCIAL HOLDINGS LLC (EOBC)","R30023",null,null,"Paper"]
["COMMERCIAL TRAVELERS/PHX",88091,"O","O","Electronic","P I"]
["COMMON GROUND HEALTHCARE COOPERATIVE",77170,"O","O","Electronic","P I  "]
["COMMONWEALTH CARE ALLIANCE",14315,"O","O","Electronic","P I"]
["COMMONWEALTH CARE ALLIANCE MEDICARE ADVANTAGE",14316,"O","O","Electronic"]
["COMMONWEALTH HEALTH ALLIANCE (CHA)",23171,"O","O","Electronic","P I"]
["COMMUNICARE ADVANTAGE",34525,"O","O","Paper","P I"]
["COMMUNITY CARE ASSOCIATES",17902,"O",null,"Electronic","P"]
["COMMUNITY CARE BHO",23282,"O","O","Electronic","P I"]
["COMMUNITY CARE IPA (EFFECTIVE 5/1/19)","MPM48","O","O","Electronic","P I"]
["COMMUNITY CARE MANAGED HEALTH CARE PLANS OF OKLAHOMA",73143,"O","O","Electronic","P I  "]
["COMMUNITY CARE ORGANIZATION",39126,"O","O","Electronic","P I"]
["COMMUNITY CARE PLAN (BROWARD HEALTH PPUC)","BHPP1","O",null,"Electronic","P"]
["COMMUNITY CARE PLAN (FLORIDA HEALTHY KIDS)","FHKC1","O","O","Electronic"]
["COMMUNITY CARE PLAN (PALM BEACH DISTRICT)","PBHD1","O","O","Electronic","P I"]
["COMMUNITY CHOICE OF MICHIGAN",38325,"O","O","Electronic"]
["COMMUNITY CLAIMS ADMINISTRATION",26231,"O",null,"Electronic","P"]
["COMMUNITY DEVELOPMENT COMMISSION (ALL STATES) (AUTO ONLY)","J1655A","O","O","Electronic"]
["COMMUNITY DEVELOPMENT COMMISSION (ALL STATES) (WC ONLY)","J1655W","O","O","Electronic"]
["COMMUNITY EYE CARE","CECVP","O",null,"Electronic"]
["COMMUNITY FAMILY CARE IPA","NMM05","O","O","Electronic","P I"]
["COMMUNITY FIRST HEALTH PLAN","COMMF","O","O","Electronic","P I  "]
["COMMUNITY HEALTH ALLIANCE",35193,"O","O","Electronic","P I"]
["COMMUNITY HEALTH CENTER NETWORK - CHCN","CHCN1","O",null,"Paper","P"]
["COMMUNITY HEALTH CHOICE",48145,"O","O","Electronic","P I  "]
["COMMUNITY HEALTH CHOICE TEXAS HIM",60495,"O","O","Paper","P I  "]
["COMMUNITY HEALTH GROUP OF SD","Z1700","O","O","Electronic","P I"]
["COMMUNITY HEALTH GROUP OF SD (ENCOUNTERS ONLY)",66171,"O","O","Electronic"]
["COMMUNITY HEALTH PLAN OF WASHINGTON","CHPWA","O","O","Electronic","P I  "]
["COMMUNITY HEALTHFIRST MEDICARE (CHF MEDICARE ADVANTAGE)",10421,null,null,"Paper"]
["COMMUNITY MEDICAL GROUP OF THE WEST VALLEY","CMGWV","O","O","Electronic","P"]
["COMP WEST (ALL STATES) (WC ONLY)","J1925","O","O","Electronic"]
["COMP WEST (ALL STATES) [WC ONLY]","WX214","O","O","Electronic"]
["COMPANION LIFE DENTAL (REMITS ONLY)",48005,null,null,"Paper"]
["COMPANION LIFE INSURANCE COMPANY (REMITS ONLY)",1361,null,null,"Paper"]
["COMPASS GROUP USA INC (TX, MN) (WC ONLY)","J1040W","O",null,"Electronic"]
["COMPASS GROUP USA, INC. (MN, TX) [WC ONLY]","WC793",null,"O","Electronic"]
["COMPASS HEALTH ADMINISTRATORS",45687,null,null,"Paper"]
["COMPDENT","CX021",null,null,"Paper"]
["COMPLEMENTARY HEALTHCARE PLANS",93101,"O",null,"Electronic"]
["COMPLETE TEMP LABOR (ALL STATES)","J1273W","O","O","Electronic"]
["COMPMANAGEMENT HEALTH",15243,"O","O","Electronic"]
["COMPREHENSIVE CARE MANAGEMENT CORP.","Z1152","O","O","Electronic","P I"]
["COMPREHENSIVE MEDICAL AND DENTAL PROGRAM",86600,"O",null,"Electronic"]
["COMPSYCH",37363,"O","O","Electronic"," "]
["COMPUSYS INC","COMPU","O",null,"Electronic"]
["CONCENTRIX INSURANCE SOLUTIONS","Z95754","O","O","Electronic"]
["CONCORDIA CARE INCORPORATED",33632,"O","O","Electronic"]
["CONIFER (ALL STATES) (WC ONLY)","J1774","O","O","Electronic"]
["CONIFER HEALTH SOLUTIONS","CAPMN","O","O","Electronic","P I"]
["CONNECTED SENIOR CARE ADVANTAGE","AGL03","O","O","Electronic"]
["CONNECTICARE - MEDICARE",78375,"O","O","Electronic","P I "]
["CONNECTICARE INC",6105,"O","O","Electronic","P I "]
["CONNECTICUT BLUECARE FAMILY PLAN (MEDICAID)","Z0078","O","O","Electronic","I"]
["CONNECTICUT INDEMNITY COMPANY (TX AND MN ONLY) (AUTO ONLY)","J3965A","O","O","Electronic","P I"]
["CONNECTICUT INDEMNITY COMPANY (TX AND MN ONLY) (WC ONLY)","J3965","O","O","Electronic","P I"]
["CONNECTICUT MEDICARE BLUE",3420,"O",null,"Electronic","P"]
["CONSOCIATE GROUP",37135,"O","O","Electronic","P"]
["CONSOLIDATED ASSOCIATES RAILROAD",75284,"O","O","Electronic","P I  "]
["CONSOLIDATED HEALTH PLANS",87843,"O","O","Electronic","P I"]
["CONSTELLATION HEALTH","L0260","O","O","Electronic"," "]
["CONSTITUTION LIFE INSURANCE COMPANY (REMITS ONLY)","Z95882",null,null,"Paper"]
["CONSTITUTION STATE - TRAVELERS","Z96249","O",null,"Electronic"]
["CONSTITUTION STATES (ST. PAUL TRAVELERS) WC ONLY","WB102W","O","O","Electronic"]
["CONSUMER MUTUAL INSURANCE OF MICHIGAN",11051,null,null,"Paper"]
["CONSUMERS CHOICE HEALTH SC",45321,"O","O","Electronic","P I"]
["CONTAINER GRAPHICS CORPORATION",8680,"O","O","Electronic"]
["CONTECH CONSTRUCTION PRODUCTS (TX, MN) (WC ONLY)","WC803W","O","O","Electronic"]
["CONTESSA HEALTH","CH201","O","O","Electronic"]
["CONTESSA HEALTH - SECURITY HEALTH PLAN","CH101","O","O","Electronic"]
["CONTINENAL INSURANCE COMPANY (WC ONLY)","35289W","O",null,"Electronic"]
["CONTINENTAL AIRLINES (TX, MN) (WC ONLY)","WC813W","O","O","Electronic"]
["CONTINENTAL GENERAL INS CO MEDICARE SUPPLEMENT",10540,null,null,"Paper"]
["CONTINENTAL GENERAL INSURANCE COMPANY - MEDICARE SUPPLEMENT",13193,"O","O","Electronic","P I "]
["CONTINENTAL GENERAL INSURANCE COMPANY (NON-MEDICARE SUPPLEMENT)",71404,"O","O","Paper","P I"]
["CONTINENTAL WESTERN INS CO (ALL STATES) (WC ONLY)","A0609W","O","O","Electronic","P I"]
["CONTINENTAL WESTERN INS CO (MN, TX) [WC ONLY]","A0609",null,"O","Electronic"]
["CONTINENTAL WESTERN INSURANCE (CWG) (ALL STATES) (WC ONLY)","J1274","O","O","Electronic","I"]
["CONTINUUM HEALTH SOLUTIONS LLC",46478,"O","O","Electronic"]
["CONTINUUM HEALTH SOLUTIONS WC (W/O ATTACHMENTS)",59557,"O","O","Electronic"]
["CONTRA COSTA BEHAVIORAL HEALTH PLAN","CCMHP","O",null,"Electronic","P"]
["CONTRA COSTA COUNTY SCHOOLS INSURANCE GROUP (CCCSIG) (WC ONLY) (ALL STATES)","J1715W","O","O","Electronic"]
["CONTRA COSTA HEALTH PLAN (CCHS)","Z1800","O","O","Electronic"," "]
["CONTRACT CLAIMS SERVICES (CCS)(CITY OF FORT WORTH ONLY) (TX ONLY) (WC ONLY)","J1414W","O","O","Electronic"]
["CONTRACTORS, LABORERS, TEAMSTERS & ENGINEERS (LOCAL 14B)",47046,"O","O","Electronic"]
["CONVERGYS CORPORATION (ALL STATES) (WC ONLY)","J1043W","O","O","Electronic"]
["CON-WAY INC (ALL STATES) (AUTO ONLY)","J1844A","O","O","Electronic"]
["CON-WAY INC (ALL STATES) (WC ONLY)","J1844W","O","O","Electronic"]
["COOK CHILDREN'S HEALTH PLAN","CCHP1","O","O","Electronic","P I "]
["COOK CHILDREN'S STAR PLAN","CCHP9","O","O","Electronic","P I "]
["COOK GROUP HEALTH PLAN",35149,"O","O","Electronic","P I"]
["COOK GROUP SOLUTIONS",82347,"O","O","Electronic"]
["COOK MEDICAL GROUP",60065,"O","O","Electronic"]
["COOPERATIVE BENEFIT ADMINISTRATORS (CBA)",10500,null,null,"Paper"]
["COOPERATIVE MUTUAL (ALL STATES)","J1275W","O","O","Electronic"]
["CO-ORDINATED BENEFIT PLANS LLC",14829,"O","O","Electronic","P I"]
["COPPERPOINT MUTUAL INSURANCE (ALL STATES) (AUTO ONLY)","J2093A","O","O","Electronic"]
["COPPERPOINT MUTUAL INSURANCE (ALL STATES) (WC ONLY)","J2093W","O","O","Electronic"]
["CORE BENEFITS INC.","COR01",null,null,"Paper"]
["CORE MANAGEMENT RESOURCES GROUP INC",58231,"O","O","Electronic","P I"]
["CORECIVIC",55962,"O","O","Paper","I"]
["CORESOURCE (NC & IN)",35180,null,null,"Paper"]
["CORESOURCE DETROIT FKA NGS AMERICAN",38225,"O","O","Electronic","P I"]
["CORIZON HEALTH INC","CORIZ","O","O","Paper","P I"]
["CORNERSTONE BENEFIT ADMINISTRATORS",35202,"O","O","Electronic","P I"]
["CORNERSTONE CLAIMS LLC",95557,"O","O","Electronic","P I"]
["CORNERSTONE PREFERRED RESOURCES","CB268","O","O","Electronic"]
["CORPORATE BENEFIT SERVICE",10590,null,null,"Paper"]
["CORPORATE BENEFITS SERVICE INC",56116,"O","O","Paper","P I  "]
["CORPORATE PLAN MANAGEMENT INC.",64270,"O","O","Electronic"]
["CORPORATE SERVICES (ALL STATES)","J1276W","O","O","Electronic"]
["CORRECT CARE INTEGRATED HEALTH","CCIH","O","O","Electronic","P I"]
["CORRECT CARE SOLUTIONS",20994,null,null,"Paper"]
["CORRECTCARE (GEORGIA CORRECTIONAL HEALTHCARE ADULT HEALTH)","GCHCAH","O","O","Electronic","P I"]
["CORRECTCARE INTEGRATED HEALTH (NON-LOUISIANA JAILS)","CCIHJAIL","O","O","Electronic","P I"]
["CORRECTION HEALTH PARTNERS","PHPMC","O","O","Electronic","P I"]
["CORRECTIONAL MANAGEMENT SERVICE (WC ONLY) (TX,MN ONLY)","J1044","O","O","Electronic"]
["CORRECTIONAL MEDICAL SERVICES",43160,"O","O","Electronic"]
["CORRECTIONS CORP OF AMERICA (TX, MN) (WC ONLY)","WC899W","O","O","Electronic"]
["CORRECTIONS CORPORATION OF AMERICA (CCA) (ALL STATES) (AUTO ONLY)","J1942A","O","O","Electronic"]
["CORRECTIONS CORPORATION OF AMERICA (CCA) (ALL STATES) (WC ONLY)","J1942W","O","O","Electronic"]
["CORVEL - ALL PAYERS (ALL STATES) (AUTO ONLY)","J4110A","O","O","Electronic"]
["CORVEL - ALL PAYERS (ALL STATES) (WC ONLY)","J4110","O","O","Electronic"]
["COTTINGHAM & BUTLER CLAIM SERVICES INC (MN ONLY) (AUTO ONLY)","J1683","O","O","Electronic"]
["COTTINGHAM & BUTLER CLAIM SERVICES INC (MN ONLY) (WC ONLY)","J1683W","O","O","Electronic"]
["COTTINGHAM & BUTLER CLAIM SERVICES, INC (AUTO ONLY)","T2124A","O",null,"Paper"]
["COTTINGHAM & BUTLER CLAIM SERVICES, INC (WC ONLY)(ALL STATES)","T2124W","O",null,"Paper"]
["COTTINGHAM AND BUTLER (EQUIAN) (ALL STATES) (WC ONLY)","J2089","O","O","Electronic"]
["COUNTRY CASUALTY INSURANCE COMP (CA MN TX ONLY) (AUTO ONLY)","J1684A","O","O","Electronic"]
["COUNTRY CASUALTY INSURANCE COMPANY (AUTO ONLY)","20982A","O",null,"Paper"]
["COUNTRY FINANCIAL","Z95705",null,null,"Paper"]
["COUNTRY FINANCIAL (TX, MN, CA, NC) (AUTO ONLY)","J1712A","O","O","Electronic"]
["COUNTRY FINANCIAL (TX, MN, CA, NC) (WC ONLY)","J1712W","O","O","Electronic"]
["COUNTRY FINANCIAL (WC ONLY)","23655W","O",null,"Paper"]
["COUNTRY FINANCIAL \\ COUNTRY CASUALTY INS (CA IL MN NC OR TX ONLY) (WC ONLY)","J1684W","O","O","Electronic","P"]
["COUNTRY INSURANCE \\ MODERN SERVICE CASUALTY INSUR CO (AUTO ONLY)","23655A","O",null,"Paper","P"]
["COUNTRY INSURANCE \\ MSI PREFERRED INSURANCE (TX MN CA OR IL NC) (AUTO ONLY)","J1591A","O","O","Electronic","P"]
["COUNTRY INSURANCE \\ MSI PREFERRED INSURANCE (TX. MN, CA, OR, IL, NC) (WC ONLY)","J1591","O","O","Electronic","P I"]
["COUNTRY INSURANCE \\ MSI PREFERRED INSURANCE COMPANY (WC ONLY)","42951W","O",null,"Paper"]
["COUNTRY LIFE INSURANCE COMPANY (ELIGIBILITY ONLY)",62553,null,null,"Paper"]
["COUNTRY MUTUAL INSURANCE CO (CA NC MN OR TX ONLY) (AUTO ONLY)","J1702A","O","O","Electronic"]
["COUNTRY MUTUAL INSURANCE CO (CA NC MN OR TX ONLY) (WC ONLY)","J1702W","O","O","Electronic"]
["COUNTRY MUTUAL INSURANCE COMPANY (AUTO ONLY)(MN,TX ONLY)","20990A","O",null,"Paper"]
["COUNTRY MUTUAL INSURANCE COMPANY (WC ONLY)","20990W","O",null,"Paper"]
["COUNTRY PREFERRED INSURANCE CO (CA NC MN OR TX ONLY) (WC ONLY)","J1705W","O","O","Electronic"]
["COUNTRY PREFERRED INSURANCE COMPANY (AUTO ONLY)","21008A","O",null,"Paper"]
["COUNTY CARE",6541,"O","O","Electronic","P I "]
["COUNTY CARE - BEHAVIORAL",42138,"O","O","Electronic","P I"]
["COUNTY MEDICAL SERVICES PROGRAM (CMSP)","AMM15","O","O","Electronic"]
["COUNTY OF FRESNO","AMM21","O","O","Paper","P I"]
["COUNTY OF HUMBOLDT (ALL STATES) (AUTO ONLY)","J1603A","O","O","Electronic"]
["COUNTY OF HUMBOLDT (ALL STATES) (WC ONLY)","J1603W","O","O","Electronic"]
["COUNTY OF KERN (ALL STATES) (WC ONLY)","J1935","O","O","Electronic"]
["COUNTY OF KERN (ALL STATES)(AUTO ONLY)","J1935A","O","O","Electronic","P I"]
["COUNTY OF LOS ANGELES (1000) (ALL STATES) (AUTO ONLY)","J1625A","O","O","Electronic"]
["COUNTY OF LOS ANGELES (1000) (ALL STATES) (WC ONLY)","J1625W","O","O","Electronic"]
["COUNTY OF LOS ANGELES (2000) (ALL STATES) (WC ONLY)","J1722W","O","O","Electronic"]
["COUNTY OF LOS ANGELES (2000) (AUTO ONLY) (CLAIMS STARTING WITH 2000)","J1722A","O","O","Electronic"]
["COUNTY OF LOS ANGELES (3000) (ALL STATES) (AUTO ONLY)","J1967A","O","O","Electronic"]
["COUNTY OF LOS ANGELES (3000) (ALL STATES) (WC ONLY)","J1967W","O","O","Electronic"]
["COUNTY OF LOS ANGELES (4000/5000) (ALL STATES) (WC ONLY)","J1723W","O","O","Electronic"]
["COUNTY OF LOS ANGELES (4000/5000) (AUTO ONLY)","J1723A","O","O","Electronic"]
["COUNTY OF LOS ANGELES (CA)","E4708","O","O","Electronic"]
["COUNTY OF ORANGE","WX292","O",null,"Electronic"]
["COUNTY OF SACRAMENTO - EMSF","AMM20","O","O","Electronic"]
["COUNTY OF SACRAMENTO (EOBC)","WX305",null,null,"Paper"]
["COUNTY OF SAN DIEGO (CA ONLY) (WC ONLY)","J1513","O","O","Electronic"]
["COUNTY OF SANTA BARBARA EWC (ALL STATES) (AUTO ONLY)","J1631A","O","O","Electronic"]
["COUNTY OF SHASTA (CA) (ALL STATES) (AUTO ONLY)","J1616A","O","O","Electronic"]
["COUNTY OF SHASTA (CA) (ALL STATES) (WC ONLY)","J1616W","O","O","Electronic"]
["COUNTY OF TULARE (CA) (ALL STATES) (AUTO ONLY)","J1666A","O","O","Electronic"]
["COUNTY OF TULARE (CA) (ALL STATES) (WC ONLY)","J1666W","O","O","Electronic"]
["COVENANT ADMINISTRATORS INC (ATLANTA GA)",58102,"O","O","Electronic","P I  "]
["COVENANT MGMT SYSTEMS EMPLOYEE BENEFIT PLAN","CMSEB","O","O","Electronic","P"]
["COVENTRY HEALTH CARE NATIONAL NETWORK (FIRST HEALTH DIRECT)",87043,"O",null,"Electronic"]
["COWORX STAFFING (ALL STATES) (WC ONLY)","WC901W","O","O","Electronic"]
["COX HEALTH PLAN",19,"O","O","Electronic","P I  "]
["CPL-MINUTE MAN (ALL STATES)","J1277W","O","O","Electronic"]
["CPR SHARE PLANS","CB695","O","O","Electronic","P I"]
["CRACKER BARREL (ALL STATES)(AUTO ONLY)","J1278A","O","O","Electronic"]
["CRACKER BARREL (EOBC)","A0292",null,null,"Paper"]
["CRAFTWORKS HOLDINGS - CORVEL (ALL STATES) (WC ONLY)","J3862W","O","O","Electronic"]
["CREATE","CREA8","O","O","Electronic"]
["CREATIVE MEDICAL SYSTEMS",64068,"O","O","Electronic","P"]
["CREATIVE PLAN ADMINISTRATORS",37320,"O","O","Electronic","P I"]
["CREATIVE RISK FUNDING (EOBC)","Z96000",null,null,"Paper"]
["CREATIVE RISK SOLUTIONS (ALL STATES) (WC ONLY)","TP038W","O","O","Electronic"]
["CREDIT SYSTEMS INTERNATIONAL INC (CSII)","Z96816",null,null,"Paper"]
["CRESCENT HEALTH SOLUTIONS",56213,"O","O","Electronic"]
["CRESCENT HEALTH SOLUTIONS (SUBROGATION CLAIMS ONLY)","56213S","O","O","Electronic"]
["CRETE TOWNSHIP (ALL STATES)","J1280W","O","O","Electronic"]
["CROSSLAND COOL RISK (ALL) AUTO ONLY","A0349A","O","O","Electronic"]
["CROSSLAND COOL RISK (ALL) WC ONLY","A0349W","O","O","Electronic"]
["CROSSWAY HEALTHSHARE",33213,"O","O","Paper","P I"]
["CROWN CITY MEDICAL GROUP (CCMG)","MPM35","O","O","Electronic"]
["CRUM & FORSTER INDEMNITY CO (WC ONLY) (ALL STATES)",31348,"O","O","Electronic","P I"]
["CRUM & FORSTER MEDICARE SUPPLEMENT","Z96618",null,null,"Paper"]
["CRUM & FORSTER-MORRISTOWN (AUTO ONLY) (CA, MN, LA, & TX)","A0471","O","O","Electronic"]
["CSAA INSURANCE COMPANY (NJ ONLY) (AUTO ONLY)","C1090A","O","O","Electronic"]
["CSI LIFE INSURANCE COMPANY (ELIGIBILITY & REMITS ONLY)","Z95707",null,null,"Paper"," "]
["CSI NETWORK SERVICES",34186,"O","O","Electronic"]
["CTI ADMINISTRATORS INC",42141,"O","O","Electronic"]
["CUMBERLAND INSURANCE GROUP (AUTO - NJ ONLY)","C1091A","O","O","Paper","P I"]
["CURAECHOICE","CC304","O","O","Electronic","P I"]
["CURE AUTO INSURANCE FOR NJ AUTO (AUTO - NJ ONLY)","C1092A","O","O","Paper","P I"]
["CUSTODY MEDICAL SERVICES","Z95402","O",null,"Electronic"]
["CUSTOM BENEFIT ADMINISTRATORS",88461,"O","O","Paper","P I"]
["CUSTOM DESIGN BENEFITS INC",82056,"O","O","Paper","P I"]
["CVS PHARMACY (CAREMARK) (ALL STATES) (WC ONLY)","J3973","O","O","Electronic","P I"]
["CVS PHARMACY (CAREMARK) (AUTO ONLY)","WP151A","O","O","Electronic"]
["CVS PHARMACY (CAREMARK) (WC ONLY)","WP151W","O","O","Electronic"]
["CVS/CAREMARK/MINUTE CLINIC","J1457W","O","O","Electronic"]
["CYPRESS BENEFIT ADMINISTRATORS (ELIGIBILITY ONLY)",13113,null,null,"Paper"]
["CYPRESS CARE (WC ONLY)","J1432","O",null,"Electronic"]
["DAKOTACARE",96598,"O","O","Electronic","P I  "]
["DALLAS COUNTY SCHOOLS (ALL) (WC ONLY)","WC127","O",null,"Electronic"]
["DALLAS INDEPENDENT SCHOOL DISTRICT (WC ONLY) (TX ONLY)","J1494","O","O","Electronic"]
["DAMERON HOSPITAL ASSOCIATION","DHA17","O","O","Electronic"]
["DANAHER CORPORATION (TX, MN)(WC ONLY)","WP441W","O","O","Electronic"]
["DARIGOLD (ALL STATES) (WC ONLY)","J1936","O","O","Electronic"]
["DARIGOLD (ALL STATES)(AUTO ONLY)","J1936A","O","O","Electronic","P I"]
["DAVEY TREE EXPERT COMPANY (EOBC)","R38946",null,null,"Paper"]
["DAVIS VISION","V0QJA","O",null,"Electronic"]
["DAWSON ISD (ALL STATES) (AUTO ONLY)","J3929A","O","O","Paper","P I"]
["DAWSON ISD (ALL STATES) (WC ONLY)","J3929W","O","O","Paper","P I"]
["DC RISK SOLUTIONS","DCRSS","O","O","Electronic","P I"]
["DCHS MEDICAL FOUNDATION","VMF01","O",null,"Paper","P"]
["DE BARTOLOS, INC (TX, MN) (WC ONLY)","WX037W","O","O","Electronic"]
["DEAN HEALTH PLAN",39113,"O","O","Electronic","P I "]
["DEARBORN NATIONAL",36123,null,null,"Paper"]
["DECENT","DECENT","O","O","Electronic"]
["DEDUCTIBLE GUARD",36491,"O","O","Electronic","P I"]
["DEL TACO LLC (ALL STATES) (AUTO ONLY)","J1681A","O","O","Electronic"]
["DEL TACO LLC (ALL STATES) (WC ONLY)","J1681W","O","O","Electronic"]
["DELANO IPA",77124,"O","O","Paper","P I"]
["DELL CHILDRENS HEALTH PLAN",38261,"O","O","Electronic","P I"]
["DELL CHILDRENS HEALTH PLAN (DOS 08/31/22 AND PRIOR)",74272,null,null,"Paper"]
["DELL CHILDREN'S HEALTH PLAN (WITH ATTACHMENTS)","J74272","O","O","Electronic","P I"]
["DELL INC (ALL STATES) (AUTO ONLY)","J1983A","O","O","Electronic"]
["DELL INC (ALL STATES) (WC ONLY)","J1983W","O","O","Electronic"]
["DELTA COUNTY INDIGENT HEALTH CARE (EOBC)","R41996",null,null,"Paper"]
["DELTA DENTAL  - NEVADA",10715,null,null,"Paper"]
["DELTA DENTAL - ALABAMA (ELIGIBILITY ONLY)",10709,null,null,"Paper"]
["DELTA DENTAL - WEST VIRGINIA (ELIGIBILITY ONLY)",31096,null,null,"Paper"]
["DELTA DENTAL INS. CO. - FLORIDA",10710,null,null,"Paper"]
["DELTA DENTAL INS. CO. - GEORGIA",10711,null,null,"Paper"]
["DELTA DENTAL INS. CO. - LOUISIANA",10712,null,null,"Paper"]
["DELTA DENTAL INS. CO. - MONTANA",10714,null,null,"Paper"]
["DELTA DENTAL INS. CO. - TEXAS",10716,null,null,"Paper"]
["DELTA DENTAL OF ARIZONA (AZ)",86027,null,null,"Paper"," "]
["DELTA DENTAL OF ARKANSAS (AR)","CDAR1",null,null,"Paper"," "]
["DELTA DENTAL OF CALIFORNIA",10705,null,null,"Paper"]
["DELTA DENTAL OF CO",55875,null,null,"Paper"]
["DELTA DENTAL OF COLORADO (ELIGIBILITY ONLY)",84056,null,null,"Paper"," "]
["DELTA DENTAL OF CONNECTICUT",10719,null,null,"Paper"]
["DELTA DENTAL OF DE","DDLDE",null,null,"Paper"]
["DELTA DENTAL OF DELAWARE",10720,null,null,"Paper"]
["DELTA DENTAL OF DELAWARE (DE)",51022,null,null,"Paper"]
["DELTA DENTAL OF HAWAII (HI)",99010,null,null,"Paper"]
["DELTA DENTAL OF HI","DDLHI",null,null,"Paper"]
["DELTA DENTAL OF ID",47791,null,null,"Paper"]
["DELTA DENTAL OF ILLINOIS (IL)",47589,null,null,"Paper"]
["DELTA DENTAL OF INDIANA (IN)","CDIN1",null,null,"Paper"," "]
["DELTA DENTAL OF INDIANA (IN)","DELTA",null,null,"Paper"]
["DELTA DENTAL OF IOWA (IA)","CDIA1",null,null,"Paper"," "]
["DELTA DENTAL OF KANSAS (KS)","CDKS1",null,null,"Paper"," "]
["DELTA DENTAL OF KENTUCKY (KY)","CDKY1",null,null,"Paper"]
["DELTA DENTAL OF MAINE (ME)","DDLME",null,null,"Paper"]
["DELTA DENTAL OF MARYLAND",10723,null,null,"Paper"]
["DELTA DENTAL OF MASSACHUSETTS (MA)","DDLMA",null,null,"Paper"]
["DELTA DENTAL OF MD","DDLMD",null,null,"Paper"]
["DELTA DENTAL OF MICHIGAN (ELIGIBILITY ONLY)","CDMI0",null,null,"Paper"," "]
["DELTA DENTAL OF MINNESOTA",10725,null,null,"Paper"]
["DELTA DENTAL OF MINNESOTA (MN)","CDMN1",null,null,"Paper"]
["DELTA DENTAL OF MISSOURI (MO)",43090,null,null,"Paper"]
["DELTA DENTAL OF MO",55697,null,null,"Paper"]
["DELTA DENTAL OF NC","DDLNC",null,null,"Paper"]
["DELTA DENTAL OF NEBRASKA (NB)","CDNE1",null,null,"Paper"]
["DELTA DENTAL OF NEW JERSEY",10727,null,null,"Paper"]
["DELTA DENTAL OF NEW MEXICO (NM)",85022,null,null,"Paper"]
["DELTA DENTAL OF NEW YORK",10729,null,null,"Paper"]
["DELTA DENTAL OF NEW YORK (NY)",11198,null,null,"Paper"]
["DELTA DENTAL OF NJ",55085,null,null,"Paper"]
["DELTA DENTAL OF NM",47287,null,null,"Paper"]
["DELTA DENTAL OF NORTH CAROLINA",10730,null,null,"Paper"]
["DELTA DENTAL OF NORTH CAROLINA (NC)",56101,null,null,"Paper"," "]
["DELTA DENTAL OF NORTH DAKOTA",10731,null,null,"Paper"]
["DELTA DENTAL OF OHIO",10732,null,null,"Paper"]
["DELTA DENTAL OF OHIO (OH)","CDOH1",null,null,"Paper"]
["DELTA DENTAL OF OK","DELOK",null,null,"Paper"]
["DELTA DENTAL OF OKLAHOMA",11175,null,null,"Paper"]
["DELTA DENTAL OF OKLAHOMA (OK)","CDOK1",null,null,"Paper"]
["DELTA DENTAL OF OREGON (OR)","CDOR1",null,null,"Paper"]
["DELTA DENTAL OF PA","DDLPA",null,null,"Paper"]
["DELTA DENTAL OF PENNSYLVANIA",10733,null,null,"Paper"]
["DELTA DENTAL OF RHODE ISLAND",10734,null,null,"Paper"]
["DELTA DENTAL OF RHODE ISLAND (RI)",55301,null,null,"Paper"]
["DELTA DENTAL OF SC","DDLSC",null,null,"Paper"]
["DELTA DENTAL OF SOUTH CAROLINA (SC)",43091,null,null,"Paper"]
["DELTA DENTAL OF SOUTH DAKOTA (SD)",54097,null,null,"Paper"]
["DELTA DENTAL OF TENNESSEE",10735,null,null,"Paper"]
["DELTA DENTAL OF TENNESSEE (TN)","CDTN1",null,null,"Paper"]
["DELTA DENTAL OF TN",54526,null,null,"Paper"]
["DELTA DENTAL OF VA",55611,null,null,"Paper"]
["DELTA DENTAL OF VIRGINIA",10736,null,null,"Paper"]
["DELTA DENTAL OF VIRGINIA (VA)",54084,null,null,"Paper"]
["DELTA DENTAL OF WASHINGTON (STATE OF WA)",91062,null,null,"Paper"]
["DELTA DENTAL OF WASHINGTON D.C. (DC)",52147,null,null,"Paper"]
["DELTA DENTAL OF WASHINGTON DC",10737,null,null,"Paper"]
["DELTA DENTAL OF WASHINGTON DC (DC)","DDLDC",null,null,"Paper"]
["DELTA DENTAL OF WASHINGTON STATE",10738,null,null,"Paper"]
["DELTA DENTAL OF WI",54046,null,null,"Paper"]
["DELTA DENTAL OF WISCONSIN (WI)",39069,null,null,"Paper"]
["DELTA DENTAL OF WYOMING (WY)","CDWY1",null,null,"Paper"]
["DELTA HEALTH SYSTEMS",94235,"O","O","Electronic","P I"]
["DELTACARE USA - CLAIMS",10740,null,null,"Paper"]
["DELTACARE USA - ENCOUNTERS",10741,null,null,"Paper"]
["DENTAL BENEFIT PROVIDERS",47040,null,null,"Paper"]
["DENTAL BENEFIT PROVIDERS","Z96290",null,null,"Paper"]
["DENTAL HEALTH SERVICES",90807,null,null,"Paper"]
["DENTAL MANAGEMENT ADMINISTRATORS INC","CX112",null,null,"Paper"]
["DENTAQUEST DENTAL (ELIGIBILITY ONLY)","CX014",null,null,"Paper"]
["DENTAQUEST VISION",63740,"O","O","Electronic"]
["DENTI-CAL","MDDCA",null,null,"Paper"]
["DENVER HEALTH AND HOSPITAL AUTHORITY",84133,"O","O","Electronic","P I"]
["DENVER HEALTH AND HOSPITAL AUTHORITY - INDIGENT CARE",84134,"O","O","Electronic","P"]
["DENVER HEALTH MEDICAL PLAN",84135,"O","O","Electronic","P I "]
["DENVER HEALTH MEDICAL PLAN","DHH",null,null,"Paper"]
["DENVER HEALTH MEDICAL PLAN - MEDICARE CHOICE",84131,"O","O","Electronic","P I"]
["DENVER HEALTH MEDICAL PLAN INC - COFINITY",65456,"O","O","Paper","P I"]
["DEPARTMENT OF ENERGY",77103,"O","O","Electronic"]
["DEPARTMENT OF ENERGY (WC ONLY) (ALL STATES)","J1449W","O","O","Electronic"]
["DEPARTMENT OF LABOR (WC ONLY) (ALL STATES)","J1438W","O","O","Electronic"]
["DEPARTMENT OF LABOR BLACK LUNG",77104,"O","O","Electronic"]
["DEPARTMENT OF LABOR BLACK LUNG (ALL STATES) (WC ONLY)","J1448W","O","O","Electronic"]
["DEPARTMENT OF LABOR FECA",77044,"O","O","Electronic"]
["DEPARTMENT OF WATER AND POWER OF THE CITY OF LOS ANGELES (LADWP) (WC ONLY)(CA ONLY)","J1514","O","O","Electronic"]
["DESERT MEDICAL GROUP","DESRT","O","O","Electronic","P I"]
["DESERT OASIS HEALTHCARE",44006,"O",null,"Paper","P"]
["DESERT VALLEY MEDICAL GROUP","DVMC1","O","O","Paper","P I"]
["DETEGO HEALTH",62599,"O","O","Electronic","P I"]
["DEVON HEALTH",43471,"O","O","Electronic","P I"]
["DEVOTED HEALTH PLANS","DEVOT","O","O","Electronic"," "]
["DEVOTED HEALTH PLANS (ENCOUNTERS ONLY)","DVOTE","O",null,"Electronic","P"]
["DIALYSIS TPA",82435,"O","O","Paper","P I"]
["DIGNITY GLOBAL","MPM27","O","O","Electronic"]
["DIGNITY HCLA","MPM28","O","O","Electronic"]
["DIGNITY HEALTH MEDICAL FOUNDATION FOR MERCY MEDICAL GROUP OR WOODLAND CLINIC MEDICAL GROUP","PROH1","O","O","Electronic","P I"]
["DIGNITY HEALTH MEDICAL GROUP - INLAND EMPIRE (DOS ON OR AFTER 07/01/2014)","DHFIE","O","O","Paper","P I"]
["DIGNITY HEALTH PLAN (DOS 1/1/23 AND AFTER)","RP088","O","O","Electronic","P"]
["DIGNITY HEALTH PLAN (HMO) (DOS PRIOR TO 1/1/23)",83247,"O","O","Electronic"]
["DIGNITY MEDICAL FOUNDATION PROFESSIONAL CAPITATED NON-PAYMENT","PROHC","O","O","Electronic","P I"]
["DIPLOMA JOINT INSURANCE FUND (SEL) (WC - NJ ONLY)","J3934W","O","O","Paper","P I"]
["DIRECT CARE ADMINISTRATION","DCA62","O","O","Electronic"]
["DIRECT PAY PROVIDER NETWORK (INSTITUTIONAL WC ONLY)","J4155",null,"O","Electronic","I"]
["DIRECT PAY PROVIDER NETWORK (PROFESSIONAL WC ONLY)","J4156","O",null,"Electronic","P"]
["DIRECTORY DISTRIBUTING ASSOC. (TX, MN) (WC ONLY)","WX039W","O","O","Electronic"]
["DISCOUNT TIRE (ALL STATES) (AUTO ONLY)","J1611A","O","O","Electronic"]
["DISCOUNT TIRE (ALL STATES) (WC ONLY)","J1611W","O","O","Electronic"]
["DISCOVER RE (BURGER KING) (TX, MN) (WC ONLY)","WX040W","O","O","Electronic"]
["DISCOVERY INSURANCE (ALL)","J1285W","O","O","Electronic"]
["DISNEYLAND RESORTS (BUNCH) (ALL STATES) (WC ONLY)","J1933","O","O","Electronic"]
["DISTRICT NO. 9, I.A. OF M. & A. W. WELFARE TRUST",11098,null,null,"Paper"]
["DIVERSIFIED ADMINISTRATION",6102,"O","O","Electronic","P I  "]
["DIVERSIFIED BENEFIT ADMINISTRATION","DBA20","O","O","Electronic"]
["DMBA (DESERET MUTUAL BENEFIT ADMINISTRATORS [SX105]","Z1013","X","X","Electronic","P "]
["DME MAC A","DMEA","X",null,"Electronic","P"]
["DME MAC B","DMEB","X",null,"Electronic","P"]
["DME MAC C","DMEC","X",null,"Electronic","P"]
["DME MAC D","DMED","X",null,"Electronic","P"]
["DOCTORS HEALTHCARE PLANS","DRHCP","O","O","Electronic"," "]
["DOCTORS MANAGED IPA","DMIPA","O","O","Electronic","P I"]
["DOLTON MEDICAL GROUP","DOLMG","O",null,"Electronic"]
["DORAL DENTAL PLAN WI",10780,null,null,"Paper"]
["DOUBLEBEE (ALL)","J1287W","O","O","Electronic"]
["DPC CORE INC",23212,"O","O","Electronic","I"]
["DREYER MEDICAL GROUP","DREYR","O",null,"Electronic"]
["DRISCOLL CHILDRENS HEALTH PLAN","DCHCH","O","O","Electronic","P I "]
["DSW INC (ALL STATES) (WC ONLY)","J2273","O","O","Electronic"]
["DSW INC (ALL STATES)(AUTO ONLY)","J2273A","O","O","Electronic","P I"]
["DSW INC. (CORVEL)","E1319","O","O","Electronic"]
["DUNN AND ASSOCIATES BENEFITS ADMINISTRATORS INC",35186,"O","O","Electronic","P I"]
["DUNN-EDWARDS CORPORATION (MN, TX) (WC ONLY)","WX042W","O","O","Electronic"]
["DUNN-EDWARDS CORPORATION (WC ONLY) (TX,MN ONLY)","J1061","O",null,"Electronic"]
["DUREX INDUSTRIES (EOBC)","R39554",null,null,"Paper"]
["DURHAM COUNTY NC (ALL STATES) (AUTO ONLY)","J1994A","O","O","Electronic"]
["DURHAM COUNTY NC (ALL STATES) (WC ONLY)","J1994W","O","O","Electronic"]
["DUSTROL (MN,TX,WI) (WC ONLY)","WX570W","O","O","Electronic"]
["DYNAMEX, INC. (TX, MN)(WC ONLY)","WX043W","O","O","Electronic"]
["EAPPEAL SOLUTIONS",65009,"O","O","Electronic","P"]
["EARLY INTERVENTION CENTRAL BILLING",36434,"O",null,"Electronic","P"]
["EAST BAY MEDICAL NETWORK",94318,"O",null,"Electronic","P"]
["EAST BOSTON NEIGHBORHOOD HEALTH CENTER","Z96204","O","O","Electronic","P I"]
["EAST CAROLINA BEHAVIORAL HEALTH",56089,"O","O","Electronic"]
["EAST LA DOCTORS HOSPITAL (MEDPOINT)","MPM13","O","O","Electronic","P I"]
["EASTERN ALLIANCE (EA)","LS249","O","O","Electronic"]
["EASTERN ALLIANCE (EA) (ALL STATES) (WC ONLY)","J2143","O","O","Electronic"]
["EASTERN IOWA COMMUNITY HEALTHCARE (EICH)",23861,"O","O","Electronic"]
["EASTLAND MEDICAL GROUP IPA","EMG11","O","O","Paper","P I"]
["EASTMAN KODAK COMPANY (ALL STATES) (AUTO ONLY)","J1903A","O","O","Electronic"]
["EASTPOINTE BEHAVIORAL HEALTH (NC MEDICAID MCO)",8044,"X","X","Electronic"]
["EASY ACCESS CARE IPA","EAIPA","O","O","Electronic","P I"]
["EASY CARE MSO LLC","ECMSO","O","O","Electronic","P I"]
["EASY CHOICE HEALTH PLAN","Z95605","O","O","Electronic"]
["EASY CHOICE HEALTH PLAN OF CALIFORNIA (ENCOUNTERS ONLY) - ECHP","ECHP1","O","O","Electronic","P I"]
["EATON CORPORATION (MN, TX) (AUTO ONLY)","A0577A","O","O","Electronic"]
["EBERLE VIVIAN","EV001","O",null,"Electronic"]
["EBERLE VIVIAN (ALL STATES) (WC ONLY)","J2199","O","O","Electronic"]
["EBIX HEALTH ADMINISTRATION EXCHANGE",55069,"O","O","Electronic","I"]
["ECHO HEALTH REMITS ONLY (ALL PAYERS)",58379,null,null,"Paper"]
["EDWARDS CLAIMS ADMINISTRATION (TX ONLY) (WC ONLY)","J1204","O","O","Electronic"]
["EL CAMINO HEALTH ALLIANCE","ECL01","O","O","Electronic"]
["EL PASO COMMUNITY COLLEGE (ALL STATE) (WC ONLY)","WC329","O","O","Electronic","P I"]
["EL PASO FIRST - CHIP","12T27","O","O","Electronic","P I  "]
["EL PASO HEALTH ADVANTAGE DUAL SNP","EPF07","O","O","Electronic"]
["EL PASO WATER UTIL TX JUR (ALL STATES) (WC ONLY)","WC351","O","O","Electronic","P I"]
["EL POLLO LOCO (ALL STATES) (AUTO ONLY)","J1737A","O","O","Electronic"]
["EL POLLO LOCO (ALL STATES) (WC ONLY)","J1737W","O","O","Electronic"]
["EL PROYECTO DE BARRIO","MPM04","O","O","Electronic","P I"]
["ELDER SERVICE PLAN OF THE NORTH SHORE",4326,"O","O","Electronic","P I"]
["ELDERHAUS INC.",64192,"O","O","Paper"]
["ELDERPLAN",31625,"O","O","Electronic","P I "]
["ELDERSERVE HEALTH INC",5178,"O","O","Paper","P I"]
["ELDERWOOD HEALTH",3964,"O","O","Paper","P I"]
["ELECTRIC INSURANCE COMPANY (AUTO - MN, NJ ONLY)","C1093A","O","O","Paper","P I"]
["ELECTRIC INSURANCE COMPANY (MN, TX) [WC ONLY]","WX574","O",null,"Electronic"]
["ELECTRIC INSURANCE/GENERAL ELECTRIC (AUTO ONLY)","WX587A","O",null,"Electronic"]
["ELECTRICAL WELFARE TRUST","Z96127",null,null,"Paper"]
["ELECTRICAL WELFARE TRUST FUND (EWTF)",30506,"O","O","Electronic","I"]
["ELECTRICAL WORKERS HEALTH AND WELFARE TRUST FUND",6654,null,null,"Paper"]
["ELECTRICAL WORKERS INSURANCE FUND LOCAL 5800",93235,"O","O","Electronic"]
["ELIPS LIFE INSURANCE COMPANY (REMITS ONLY)","Z96801",null,null,"Paper"]
["ELITE LABOR SERVICES - SELF (ALL)","J1291W","O","O","Electronic"]
["ELITE LABOR SERVICES (ALL)","J1290W","O","O","Electronic"]
["EMANATE HEALTH MED CENTER ALTAMED","MPM45","O","O","Electronic","P I"]
["EMANATE HEALTH MED CENTER NMM","MPM46","O","O","Electronic","P I"]
["EMANATE HEALTH MED CENTER PDT MSO","MPM47","O","O","Electronic","P I"]
["EMC (ALL STATES EXCEPT CA,NM,NV) (WC ONLY)",21415,"O","O","Electronic"]
["EMC PROPERTY AND CASUALTY (AUTO ONLY) (MN OR ONLY)","JC1029A","O","O","Electronic"]
["EMC RISK SERVICES (ALL STATES EXCEPT CA, NM, NV (WC ONLY)","J1118W","O","O","Electronic"]
["EMCASCO INSURANCE CO - WC ONLY (EXCEPT CA, NM, NV)","WC157","O","O","Electronic"]
["EMCASCO INSURANCE CO (ALL STATES EXCEPT CA,NM,NV) (WC ONLY)","21407W","O","O","Electronic","P I"]
["EMERALD HEALTH NETWORK INC (ALL PPO BUSINESS)",34167,"O","O","Electronic","P"]
["EMERGENCY MEDICAL SERVICES FUND","Z95401","O",null,"Electronic"]
["EMERITUS CORPORATION","J1679WC","O","O","Electronic"]
["EMERITUS CORPORATION (ALL STATES) (AUTO ONLY)","J1679","O","O","Electronic"]
["EMHS EMPLOYEE HEALTH PLAN",16565,"O","O","Electronic"]
["EMI HEALTH","CX079",null,null,"Paper"]
["EMI HEALTH","Z1011","O","O","Electronic","P I  "]
["EMI-KP AMBULANCE CLAIMS FOR KAISER PERMANENTE MEMBERS",59299,"O",null,"Electronic","P"]
["EMI-KP AMBULANCE CLAIMS FOR KAISER PERMANENTE MEMBERS (FOR ATTACHMENTS ONLY)","J59299","X",null,"Electronic"]
["EMPIRE HEALTHCARE IPA","EHI01","O","O","Electronic"]
["EMPIRE PHYSICIANS MEDICAL GROUP","EMP01","O",null,"Electronic"]
["EMPLOY AMERICA (ALL)","J1292W","O","O","Electronic"]
["EMPLOYEE BENEFIT CONCEPTS (FARMINGTON HILLS, MI)",38241,"O","O","Electronic","P I"]
["EMPLOYEE BENEFIT CONCEPTS INC","EBC18","O","O","Electronic","P I"]
["EMPLOYEE BENEFIT CONSULTANTS",37257,"O","O","Electronic","P I"]
["EMPLOYEE BENEFIT LOGISTICS",92135,"O","O","Electronic"]
["EMPLOYEE BENEFIT MANAGEMENT CORP (EBMC)",31074,"O","O","Electronic","P I  "]
["EMPLOYEE BENEFIT MANAGEMENT SERVICES INC (EBMS)",81039,"O","O","Electronic"," "]
["EMPLOYEE BENEFIT SERVICES - DENTAL",10784,null,null,"Paper"]
["EMPLOYEE BENEFIT SERVICES ( SAN ANTONIO ONLY)","EBSSA","O",null,"Electronic","P"]
["EMPLOYEE BENEFIT SERVICES INC (DBA KEY BENEFIT ADMINISTRATORS)","SB886","O","O","Electronic"]
["EMPLOYEE BENEFIT SERVICES INC (EBSI)",60221,"O","O","Electronic"]
["EMPLOYEE BENEFIT SYSTEMS",42149,"O","O","Electronic"]
["EMPLOYEE BENEFITS ADMINISTRATION AND MANAGEMENT EBA&M",22262,"O","O","Electronic","P"]
["EMPLOYEE BENEFITS ADMINISTRATORS (EBA)","EBA42","O","O","Paper","P I"]
["EMPLOYEE BENFIT MA",10960,null,null,"Paper"]
["EMPLOYEE GROUP SERVICES (EGS) ","CX022",null,null,"Paper"]
["EMPLOYEE PLANS LLC",35112,"O","O","Electronic","P"]
["EMPLOYEE RESOURCE MANAGEMENT TPA: KEMPTON GROUP",29979,"O","O","Electronic"]
["EMPLOYEE SECURITY",10570,null,null,"Paper"]
["EMPLOYEE SECURITY INC",54098,null,null,"Paper"]
["EMPLOYER DIRECT HEALTH PLANS","EDHP1","O","O","Paper","P I"]
["EMPLOYER DIRECT HEALTHCARE",48888,"O","O","Electronic"]
["EMPLOYER HEALTH NETWORK","IHS07","O","O","Paper"]
["EMPLOYER INSURANCE GROUP (EIG) (WC ONLY)(ALL STATES)","J1232","O","O","Electronic"]
["EMPLOYER INSURANCE GROUP (EIG) (WC ONLY)(ALL STATES)","J1232W","O","O","Electronic"]
["EMPLOYERS ASSURANCE COMPANY (WC ONLY)(ALL STATES)","J1232WC","O","O","Electronic"]
["EMPLOYER'S CLAIM SERVICE, INC - CITY OF NAPERVILLE","J1559W","O","O","Electronic"]
["EMPLOYER'S DIRECT HEALTH",75232,"O","O","Electronic","P I"]
["EMPLOYER'S DIRECT HEALTH - EMPLOYEE PLAN",75236,"O","O","Electronic","P I"]
["EMPLOYER'S DIRECT HEALTH - FULLY INSURED",75235,"O","O","Electronic","P I"]
["EMPLOYER'S DIRECT HEALTH - SELF FUNDED",75233,"O","O","Electronic","P I"]
["EMPLOYERS GENERAL INSURANCE GROUP (AUTO ONLY)","24147A","O",null,"Paper"]
["EMPLOYERS GENERAL INSURANCE GROUP (AUTO ONLY) (ALL STATES)",24147,"O","O","Electronic"]
["EMPLOYERS GENERAL INSURANCE GROUP (WC ONLY)(ALL STATES)","24147W","O",null,"Paper"]
["EMPLOYERS INSURANCE (BUNCH) (ALL STATES) (WC ONLY)","J1912","O","O","Electronic","P I"]
["EMPLOYERS INSURANCE CORP (HENDERSON) (MN, TX, CA, LA) [WC ONLY]","WC151","O","O","Electronic"]
["EMPLOYERS MUTUAL CASUALTY - WC ONLY - (EXCEPT CA, NM, NV)","WX614","O",null,"Electronic","P"]
["EMPLOYERS MUTUAL INC (FL)",59298,"O","O","Electronic","P"]
["EMPLOYERS MUTUAL INC (STUART, FLORIDA)",59331,"O","O","Electronic","P"]
["EMPOWER 360","IHS01","O","O","Electronic","P I"]
["ENABLECOMP MVA","L0241","O","O","Electronic","P I"]
["ENABLECOMP OOS MEDICAID","L0243","O","O","Electronic","P I"]
["ENABLECOMP VET","L0242","O","O","Electronic","P I"]
["ENABLECOMP, LLC","L0240","O","O","Electronic","I"]
["ENCOMPASS (SUBSIDIARY OF ALLSTATE) (ALL STATES) (AUTO ONLY)","C1049","O","O","Electronic","P I"]
["ENCOMPASS INSURANCE BRAND (AUTO ONLY) (ALL STATES)","WB279","O","O","Electronic"]
["ENCOMPASS SPECIALTY SURGICAL NETWORK","Z96455",null,null,"Paper"]
["ENCORE UNLIMITED (ALL)","J1293W","O","O","Electronic"]
["ENCOVA INSURANCE (ALL STATES EXCEPT PA) (WC ONLY)","J1761","O","O","Electronic"]
["ENCOVA INSURANCE (ALL STATES EXCEPT PA) (WC ONLY)","SX067","O","O","Electronic"]
["ENSTAR (ALL STATES) (WC ONLY)","J1499W","O","O","Electronic"]
["ENTERPRISE GROUP PLANNING","EGPIN","O","O","Electronic","P"]
["ENTRUST",36878,"O","O","Electronic","P I"]
["ENVIROSOURCE (TX, MN) (WC ONLY)","WX045W","O","O","Electronic"]
["ENVOLVE BENEFIT OPTIONS",56190,"O",null,"Electronic","P"]
["EPIC ASSISTANCE",49578,"O","O","Electronic"]
["EPSI, INC",11011,null,null,"Paper"]
["EQUIAN (ALL STATES) (WC ONLY)","J2090","O","O","Electronic","P I"]
["EQUITABLE LIFE & CASUALTY INSURANCE CO MEDICARE SUPPLEMENT (REMITS ONLY)",62952,null,null,"Paper"]
["EQUITABLE PLAN SERVICES",73126,"O","O","Electronic"]
["ERGON INC (ALL STATES) (AUTO ONLY)","J1952A","O","O","Electronic"]
["ERGON INC (ALL STATES) (WC ONLY)","J1952W","O","O","Electronic"]
["ERIE FAMILY LIFE INSURANCE COMPANY (ELIGIBILITY ONLY)",13284,null,null,"Paper"]
["ERIE INSURANCE (AUTO ONLY) (ALL STATES)","J1734A","O","O","Electronic","P I"]
["ERIE INSURANCE (MEDICARE SUPPLEMENT)","Z96486",null,null,"Paper"]
["ERIE INSURANCE (WC ONLY) (ALL STATES)","J1734","O","O","Electronic","P I"]
["ERIE INSURANCE (WC ONLY) ANY STATE","WB169W","O","O","Electronic"]
["ERISA ADMINISTRATIVE SERVICES",74234,"O","O","Electronic","P"]
["ERMC (TX, MN) (WC ONLY)","WR894W","O","O","Electronic"]
["ES BEVERIDGE AND ASSOCIATES",34108,"O","O","Electronic","P I"]
["ESIS (ALL STATES) (WC ONLY)","JTP043","O","O","Electronic"]
["ESIS (FIRST AMERICAN INSURANCE CO) (ALL STATES) (WC ONLY)","J1064W","O","O","Electronic"]
["ESIS (FIRST AMERICAN INSURANCE CO) (ALL STATES) (WC ONLY)","WX046W","O","O","Electronic"]
["ESIS AUTO (ALL STATES)","C1080A","O","O","Paper","P I"]
["ESIS INSURANCE","CQ200","O","O","Electronic"]
["ESPERANZA IPA","EIPA8","O","O","Electronic","P"]
["ESSENCE HEALTHCARE",20818,"O","O","Electronic","P I "]
["ESSENTIAL HEALTH PARTNERS","EHPSC","O","O","Electronic","P I"]
["ESSENTIAL HEALTH PARTNERS IPA","EIPA9","O","O","Paper","P I"]
["ESURANCE INSURANCE COMPANY (ALL STATES) (AUTO ONLY)","25712A","O","O","Electronic"]
["ESURANCE INSURANCE COMPANY (ALL STATES) (AUTO ONLY)","WA057A","O","O","Electronic"]
["EVERENCE",35605,"O","O","Electronic"," "]
["EVEREST (REMITS ONLY)","Z96529",null,null,"Paper"]
["EVEREST NATIONAL INSURANCE (ALL STATES) (WC ONLY)","WX666","O",null,"Electronic"]
["EVEREST REINSURANCE COMPANY",11164,null,null,"Paper"]
["EVERGREEN HEALTH COOPERATIVE (DOS AFTER 11/1/15)",93240,null,null,"Paper"]
["EVERSANA LIFE SCIENCE SERVICES LLC",64300,"O","O","Electronic"]
["EVICORE",62160,"O","O","Electronic","P"]
["EVOLENT SOMOS ANTHEM NY",81508,"O","O","Electronic","P I"]
["EVOLUTION INSURANCE COMPANY","WX048","O","O","Electronic"]
["EVOLUTION INSURANCE COMPANY (ALL STATES) (WC ONLY)","J1065W","O","O","Electronic"]
["EVOLUTION STAFFING (ALL STATES)","J1295W","O","O","Electronic"]
["EVOLUTIONS HEALTHCARE SYSTEMS (NEW PORT RICHEY FL)",59313,"O","O","Electronic"]
["EVRY HEALTH","EH001","O","O","Electronic","P I  "]
["EXCEEDENT LLC",22344,"O","O","Electronic"]
["EXCLUSIVE CARE","EC999","X","X","Electronic","P I"]
["EXEMPLAR HEALTH BENEFITS ADMINISTRATOR",83383,"O","O","Electronic"]
["EXEMPLAR HEALTH INSURANCE COMPANY",54096,"O","O","Electronic"]
["EXPRESS, LLC","E1669W","O","O","Electronic"]
["EXXON/MOBILE  (WC ONLY)","E1008W","O",null,"Paper"]
["EXXONMOBIL CORPORATION (ALL STATES) (AUTO ONLY)","J1606A","O","O","Electronic"]
["EXXONMOBIL CORPORATION (ALL STATES) (WC ONLY)","J1606W","O","O","Electronic"]
["EYE SPECIALIST OF AZ","BVES1","O",null,"Electronic","P"]
["EYECARE 2020","2020E","O",null,"Electronic"]
["EYEMED",31165,"X",null,"Electronic"]
["FABCON (ALL STATES) (WC ONLY)","J2209W","O","O","Electronic"]
["FABOH (FOND DU LAC AREA BUS ON HLTH)",39112,"O","O","Electronic","P I"]
["FACEY MEDICAL FOUNDATION (MISSION HILLS CA)",95432,"O",null,"Electronic","P"]
["FACS GROUP",37300,"O","O","Paper","P I"]
["FACTORY 2 U (MN, TX) WC ONLY","WC431W","O","O","Electronic"]
["FAIR PRICE",62956,"O","O","Electronic","P I"]
["FAIRCHILD FASTENERS (ALL STATES) (AUTO ONLY)","J1624A","O","O","Electronic"]
["FAIRCHILD FASTENERS (ALL STATES) (WC ONLY)","J1624W","O","O","Electronic"]
["FAIRFAX COUNTY GOVERNMENT (VA)","E8809","O","O","Electronic"]
["FAIRVIEW HEALTH SERVICES (ALL STATES) (WC ONLY)","J1618A","O","O","Electronic"]
["FAIRVIEW HEALTH SERVICES (ALL STATES) (WC ONLY)","J1618W","O","O","Electronic"]
["FAIRVIEW HEALTH SERVICES (WC ONLY)(ALL STATES)","E3110W","O",null,"Paper"]
["FALLING COLORS (BHSD STAR)","FCC20","O","O","Electronic"]
["FALLON COMMUNITY HEALTH PLAN","SX072","O","O","Electronic","P I "]
["FALLON TRANSPLANT CLAIMS","FT254","O","O","Electronic","P I"]
["FAMILY CARE",60995,"O","O","Electronic","P I"]
["FAMILY CARE MEDICAID (DOS 08/01/12 AND LATER)","Z1323","O","O","Electronic","P I"]
["FAMILY CARE SPECIALISTS (FCS)","MPM40","O","O","Electronic"]
["FAMILY MEDICAL NETWORK (CHICAGO IL)",36396,"O","O","Electronic","P I"]
["FAMILY PRACTICE MEDICAL GROUP FPMG",10145,"O","O","Paper"]
["FAMSA INC (ALL STATES) (AUTO ONLY)","J1807A","O","O","Electronic"]
["FAMSA INC (ALL STATES) (WC ONLY)","J1807W","O","O","Electronic"]
["FARM BUREAU HEALTH PLANS",62045,null,null,"Paper"," "]
["FARM BUREAU HEALTH PLANS MAPD","RP061","O","O","Electronic"]
["FARM BUREAU MICHIGAN (ALL STATES) (AUTO ONLY)","J4167A","O","O","Electronic"]
["FARM BUREAU MICHIGAN (ALL STATES) (WC ONLY)","J4167","O","O","Electronic"]
["FARM BUREAU MUTUAL INSURANCE CO OF MICHIGAN","R22774",null,null,"Paper"]
["FARM BUREAU MUTUAL INSURANCE COMPANY (MN ONLY) (AUTO ONLY)","J1853A","O","O","Electronic"]
["FARM BUREAU MUTUAL INSURANCE COMPANY (MN ONLY) (WC ONLY)","J1853W","O","O","Electronic"]
["FARM FAMILY(ALBANY NY)",14140,"O","O","Electronic","P I"]
["FARMERS (MID-CENTURY INSURANCE COMPANY) (WC CLAIMS FOR ALL STATES)","J1710","O","O","Paper"]
["FARMERS \\ CIVIC PROPERTY AND CASUALTY CO (ALL STATES) (AUTO ONLY)","J1687A","O","O","Electronic"]
["FARMERS \\ CIVIC PROPERTY AND CASUALTY CO (ALL STATES) (WC ONLY)","J1687W","O","O","Electronic"]
["FARMERS \\ EXACT PROPERTY AND CASUALTY CO (ALL STATES) (AUTO ONLY)","J1703A","O","O","Electronic"]
["FARMERS \\ EXACT PROPERTY AND CASUALTY CO (ALL STATES) (WC ONLY)","J1703W","O","O","Electronic"]
["FARMERS \\ FIRE INSURANCE EXCHANGE (ALL STATES) (AUTO ONLY)","J1706A","O","O","Electronic"]
["FARMERS \\ FIRE INSURANCE EXCHANGE (ALL STATES) (WC ONLY)","J1706W","O","O","Electronic"]
["FARMERS \\ MID-CENTURY INSURANCE CO (ALL STATES) (WC ONLY)","J1710W","O","O","Electronic"]
["FARMERS \\ MID-CENTURY INSURANCE COMPANY (AUTO ONLY)","J1710A","O","O","Electronic"]
["FARMERS \\ NEIGHBORHOOD SPIRIT PROPERTY AND CASUALTY CO (ALL STATES) (AUTO ONLY)","J1701A","O","O","Electronic"]
["FARMERS \\ NEIGHBORHOOD SPIRIT PROPERTY AND CASUALTY CO (ALL STATES) (WC ONLY)","J1701W","O","O","Electronic"]
["FARMERS \\ TRUCK INSURANCE EXCHANGE (ALL STATES) (AUTO ONLY)","J1713A","O","O","Electronic"]
["FARMERS \\ TRUCK INSURANCE EXCHANGE (ALL STATES) (WC ONLY)","J1713W","O","O","Electronic"]
["FARMERS INSURANCE (ALL STATES) (AUTO ONLY)","C1025","O","O","Electronic"]
["FARMERS INSURANCE (ALL STATES) (AUTO ONLY)","WX722A","O","O","Electronic","P I"]
["FARMERS INSURANCE COMMERCIAL (COMMERCIAL ONLY) (AUTO ONLY) (MN ONLY)","C1034A","O","O","Electronic"]
["FARMERS INSURANCE EXCHANGE (WC ONLY)","J1563W","O","O","Electronic"]
["FARMERS INSURANCE EXCHANGE-CORVEL (ALL STATES) (WC ONLY)","J1563","O","O","Electronic","P I"]
["FARMERS INSURANCE GROUP (MN ONLY) (AUTO ONLY)","87726A","O","O","Electronic"]
["FARMERS WORKPLACE SOLUTIONS (NJ ONLY) (AUTO ONLY)","C1100A","O","O","Electronic","P I"]
["FARMLAND MUTUAL INS CO (ALL STATES) (WC ONLY)","J1551","O","O","Electronic"]
["FARMLAND MUTUAL INSURANCE (ALL STATES) (WC ONLY)","A0758","O","O","Electronic"]
["FCCI (ALL STATES) (WC ONLY)","J1830","O","O","Electronic"]
["FCE BENEFIT ADMINISTRATORS INC",33033,"O","O","Electronic","P I"]
["FCS ADMINISTRATORS (WC - NY ONLY)","J3933W","O","O","Paper","P I"]
["FEDERAL MOGUL - CORVEL (ALL STATES) (AUTO ONLY)","J2361A","O","O","Electronic","P I"]
["FEDERAL MOGUL - CORVEL (ALL STATES) (WC ONLY)","J2361","O","O","Electronic","P I"]
["FEDERATED CLAIMS SERVICE CORP (MACY'S)","J1297","O","O","Electronic"]
["FEDERATED CLAIMS SERVICE CORP. (ALL) (WC ONLY)","J1297W","O",null,"Electronic"]
["FEDERATED MUTUAL INSURANCE COMPANY (ALL STATES) (AUTO ONLY)","13935A","O","O","Electronic"]
["FEDERATED MUTUAL INSURANCE COMPANY (WC ONLY) (ALL STATES)","J13935W","O","O","Electronic"]
["FEDERATED RURAL ELECTRIC INS (CA, LA NC, NM, MN, TN,TX) (WC ONLY)","11118W","O","O","Electronic"]
["FEDERATED SERVICES INSURANCE COMPANY (ALL STATES) (AUTO ONLY)","28304A","O","O","Electronic"]
["FEDERATED SERVICES INSURANCE COMPANY (ALL STATES) (WC ONLY)","28304W","O","O","Electronic"]
["FEDERATED SERVICES INSURANCE COMPANY (WC ONLY) (ALL STATES)","J28304W","O","O","Electronic","P I"]
["FENIX MEDICAL GROUP",60818,"O","O","Paper"]
["FFVA MUTUAL INSURANCE (ALL STATES) (AUTO ONLY)","J1909A","O","O","Electronic"]
["FFVA MUTUAL INSURANCE (ALL STATES) (WC ONLY)","J1909","O","O","Electronic","P I"]
["FIDELIS CARE NEW YORK",11315,"O","O","Electronic","P I "]
["FIDELITY NATIONAL INFORMATION SERVICES (MN, TX) [AUTO ONLY]","A0562","O",null,"Electronic"]
["FIDELITY SECURITY LIFE INSURANCE","FSL01","O","O","Electronic","P I"]
["FINCOR (ALL STATES) (WC ONLY)","J2200","O","O","Electronic","P I"]
["FIRE DEPARTMENT CITY OF NEW YORK",40043,"O","O","Paper","P I"]
["FIRE DEPARTMENT CITY OF NEW YORK WORLD TRADE CENTER HEALTH","FDNYP","O",null,"Electronic"]
["FIREFLY HEALTH","FRFLY","O","O","Electronic","P"]
["FIREMAN'S FUND INSURANCE (NOVATO, CA)","WX780","O","O","Electronic"]
["FIREMAN'S FUND INSURANCE COMPANY (ALL STATES) (WC ONLY)","21873W","O","O","Electronic","P I"]
["FIREMAN'S FUND INSURANCE COMPANY (MN ONLY)(AUTO ONLY)","C1019A","O","O","Electronic"]
["FIREMENS INSURANCE COMPANY (ALL STATES) (WC ONLY)","J2196W","O","O","Electronic"]
["FIRST AGENCY","FSTAG","O","O","Paper"]
["FIRST AMERITAS OF NEW YORK",10232,null,null,"Paper"]
["FIRST CAROLINA CARE (COMMERCIAL)","FCC01","O","O","Electronic","P I  "]
["FIRST CHOICE HEALTH NETWORK (AKA SOUND HEALTH)",91131,"O","O","Electronic","P"]
["FIRST CHOICE MA PLANS","FCMA1","O","O","Paper","P I"]
["FIRST CHOICE MEDICAL GROUP/MERITAGE","FC001","O","O","Electronic","P I"]
["FIRST CHOICE NEXT - PRODUCT OF SELECT HEALTH OF SOUTH CAROLINA",57103,"O","O","Electronic","P I"]
["FIRST CHOICE OF MIDWEST (PPO)",75138,"O","O","Electronic","P"]
["FIRST CHOICE VIP CARE (SC - DSNP)",32456,"O","O","Electronic","P I"]
["FIRST CHOICE VIP CARE PLUS",77009,"O","O","Electronic","P I"]
["FIRST COMMUNITY HEALTH PLAN",11222,null,null,"Paper"]
["FIRST HEALTH NETWORK",73159,"O","O","Electronic","P I"]
["FIRST INSURANCE FUNDING (EOBC)","R20008",null,null,"Paper"]
["FIRST MANAGED CARE OPTION, INC (ALL STATES) (AUTO ONLY)","J3839A","O","O","Electronic"]
["FIRST MANAGED CARE OPTION, INC (ALL STATES) (WC ONLY)","J3839W","O","O","Electronic","P I"]
["FIRST MANAGED CARE OPTIONS",40270,"O","O","Electronic"]
["FIRST MEDICAL HEALTH PLAN (REFORM)","Z96252","X","X","Electronic"]
["FIRST MEDICAL NETWORK","Z96298",null,null,"Paper"]
["FIRST MEDICAL NETWORK (MRN)",58203,"O","O","Electronic"]
["FIRST RELIANCE STANDARD",68381,null,null,"Paper"]
["FIRST RESPONDER JOINT INSURANCE FUND (WC - NJ ONLY)","J3935W","O","O","Electronic","P I"]
["FIRST STAFF SERVICES (ALL)","J1298W","O","O","Electronic"]
["FIRST UNITED AMERICAN LIFE INSURANCE COMPANY",74101,null,null,"Paper"," "]
["FIRSTCARE","TH003","O","O","Electronic","P I  "]
["FIRSTCARE STAR MEDICAID",94998,"O","O","Electronic","P I  "]
["FIRSTCAROLINACARE (MEDCOST)",56196,null,null,"Paper"]
["FIRSTCOMP  (WC ONLY)","WX798W","O","O","Electronic"]
["FIRSTCOMP (ALL STATES) (WC ONLY)","J1011W","O","O","Electronic"]
["FIRSTCOMP (WC ONLY) (ALL STATES)","J1011","O","O","Electronic"]
["FIRSTNATION HEALTH",65418,"O","O","Electronic"]
["FISERV WAUSAU",11068,null,null,"Paper"]
["FKI INDUSTRIES, INC. (TX, MN) (WC ONLY)","WP068W","O","O","Electronic"]
["FL MCO PHC/PHP",95411,"O","O","Electronic"]
["FLEX COMPENSATION - DENTAL",10799,null,null,"Paper"]
["FLORIDA BLUE MEDICARE","FBM01","O","O","Electronic","P I"]
["FLORIDA COMBINED LIFE - DENTAL",10811,null,null,"Paper"]
["FLORIDA COMMUNITY CARE","FLCCR","O","O","Electronic","P I"]
["FLORIDA COMPLETE CARE","FLCPC","O","O","Electronic","P I"]
["FLORIDA FRUIT AND VEGETABLE ASSOCIATION (ALL STATES) (WC ONLY)","J1910W","O","O","Electronic","P I"]
["FLORIDA HEALTH ADMINISTRATORS",86753,"O","O","Electronic"]
["FLORIDA HEALTHCARE PLAN",59322,"O","O","Electronic","P "]
["FLORIDA HOSPITAL VBR","VB001","O",null,"Paper","P"]
["FLORIDA HOSPITAL WATERMAN",48116,"O","O","Electronic","P I"]
["FLORIDA INSURANCE ALLIANCE (ALL STATES)(WC ONLY)","J3306","O","O","Electronic","P I"]
["FLORIDA PACE CENTERS","FLPAC","O","O","Electronic","P I"]
["FLORIST MUTUAL INSURANCE (ALL STATES) (WC ONLY)","J1299W","O","O","Electronic"]
["FLUME HEALTH, INC.","FH205","O","O","Paper","P I"]
["FOOD EMPLOYERS & BAKERY WORKERS BENEFIT",10776,null,null,"Paper"]
["FORD DEVELOPMENT CORP (EOBC)","R2539",null,null,"Paper"]
["FORD MOTOR COMPANY (ALL STATES) (AUTO ONLY)","J3793A","O","O","Electronic"]
["FORD MOTOR COMPANY (ALL STATES) (WC ONLY)","J3793W","O","O","Electronic"]
["FOREMOST (CA, MN ONLY) (AUTO ONLY)","11185A","O","O","Electronic"]
["FOREST COUNTY POTAWATOMI INSURANCE",25059,"O","O","Electronic"]
["FORGE INDUSTRIAL STAFFING","J1529","O","O","Electronic"]
["FORTE, INC. (WC ONLY)","WX692W","O",null,"Electronic"]
["FORTIS INSURANCE CO",69477,null,null,"Paper"]
["FORTIS SELF FUNDED",10580,null,null,"Paper"]
["FOUNDATION FOR MEDICAL CARE OF TULARE & KINGS COUNTY","TKFMC","O","O","Paper","P I"]
["FOUNTAIN VALLEY (DOS PRIOR TO 05/01/2020)","FVIPA","O","O","Electronic"]
["FOX VALLEY MEDICINE","FVMCH","O","O","Electronic","P"]
["FOX-EVERETT INC",64069,"O","O","Electronic","P I"]
["FRANCHISE GROUP INC. (ALL STATES) (AUTO ONLY)","J4363A","O","O","Electronic"]
["FRANCHISE GROUP INC. (ALL STATES) (WC ONLY)","J4363","O","O","Electronic"]
["FRANCISCAN ALLIANCE (ALL STATES) (AUTO ONLY)","J1883A","O","O","Electronic"]
["FRANCISCAN ALLIANCE (ALL STATES) (WC ONLY)","J1883W","O","O","Electronic"]
["FRANK GATES / ATTENTA (MN, TX) [WC ONLY]","WX856","O","O","Electronic"]
["FRANKENMUTH MUTUAL (ALL STATES) (AUTO ONLY)","J1440A","O","O","Electronic"]
["FRANKENMUTH MUTUAL (ALL STATES) (WC ONLY)","J1440","O","O","Electronic"]
["FRANKLIN MUTUAL (NJ ONLY) (WC ONLY)","J3297","O","O","Electronic","P I"]
["FREEDOM CLAIMS MANAGEMENT",67136,"O","O","Electronic"]
["FREEDOM HEALTH PLAN",41212,"O","O","Electronic","P I  "]
["FREEDOM LIFE INSURANCE COMPANY",62324,"O","O","Electronic","P I"]
["FRESENIUS HEALTH PARTNERS",43197,"O","O","Electronic"]
["FRESNO PACE",99660,"O","O","Electronic","P I"]
["FRESNO POLICE OFFICERS ASSOCIATION","WP982","O",null,"Electronic"]
["FRIDAY HEALTH PLANS","H0657","O","O","Electronic","P I"]
["FRIEDKIN COMPANIES INC (ALL STATES) (AUTO ONLY)","J1984A","O","O","Electronic"]
["FRIEDKIN COMPANIES INC (ALL STATES) (WC ONLY)","J1984W","O","O","Electronic"]
["FRINGE BENEFIT GROUP FKA EMPLOYER PLAN SERVICES HOUSTON",74212,"O","O","Electronic","P I"]
["FRINGE BENEFIT GROUP MEC PLAN",93158,"O","O","Electronic","P I"]
["FRINGE BENEFITS",11069,null,null,"Paper"]
["FRINGE BENEFITS COORDINATORS",59204,"O","O","Electronic","P I"]
["FRONTPATH HEALTH COALITION",34171,"O","O","Electronic","P I"]
["FSL ADMIN BY KBA",11052,null,null,"Paper"]
["FUTURE CARE MEDICAL ASSOCIATES",5851,"O",null,"Electronic"]
["G.M.P. EMPLOYERS RETIREE TRUST",11144,null,null,"Paper"]
["GAB ROBBINS, INC. (CA, MN, TX) (WC ONLY)","WX907W","O","O","Electronic"]
["GAB ROBBINS, INC. (TX, MN)","JTP117","O","O","Electronic"]
["GAB ROBINS (FOR VAN TUYL ONLY) (ALL STATES) (WC ONLY)","TP117","O","O","Electronic"]
["GALLAGHER BASSETT","TP057","O","O","Electronic"]
["GALLAGHER BASSETT (ALL) (WC ONLY)","JTP057","O","O","Electronic"]
["GALLAGHER BASSETT (SACRAMENTO) (WC ONLY)","WX913W","O","O","Electronic"]
["GALVESTON COUNTY INDIGENT HEALTH CARE",30005,"O","O","Electronic","P I"]
["GARDEN GROVE UNIFIED SCHOOL DISTRICT (ALL STATES) (WC ONLY)","J1519","O","O","Electronic","P I"]
["GARY COMMUNITY SCHOOLS (ALL)","J1301W","O","O","Electronic"]
["GASTROENTEROLOGY DIVISION OF MT (EOBC)","R42078",null,null,"Paper"]
["GATEGOURMET #836 (ALL) (WC ONLY)","WX929W","O","O","Electronic"]
["GATES CORP DBA GATES RUBBER CO (TX, MN) (WC ONLY)","WX052W","O","O","Electronic"]
["GATEWAY HEALTH PLAN - MEDICARE ASSURED",60550,"O","O","Electronic","P I "]
["GATEWAY HEALTH PLAN MEDICAID PA",25169,"O","O","Electronic","P I "]
["GATEWAY HEALTH PLAN OHIO-MEDICARE ASSURED (PITTSBURG PA)",91741,"O","O","Electronic","P I  "]
["GATEWAY TO BETTER HEALTH - ENCOUNTERS",43175,"O",null,"Electronic"]
["GATEWAY TO BETTER HEALTH - FFS","4317M","O","O","Electronic","P I"]
["GE AUTO (ALL STATES) (AUTO ONLY)","J1557","O","O","Electronic","P I"]
["GE AUTO (ALL STATES) (WC ONLY)","J1557W","O","O","Electronic"]
["GEHA (GOVERNMENT EMPLOYEE HEALTH ASSOCIATION)",57254,"O","O","Electronic"," "]
["GEICO (ALL STATES) (AUTO ONLY)","J1747","O","O","Electronic","P I"]
["GEISINGER HEALTH PLAN",75273,"O","O","Electronic","P I "]
["GEMCARE HEALTH PLAN","MCS03","O","O","Electronic","P I  "]
["GEMCARE IPA",27133,"O","O","Electronic"]
["GENERAL CASUALTY - FARMERS' UNION (ALL) [WC ONLY]","A0632","O","O","Electronic"]
["GENERAL CASUALTY CO OF WISCONSIN (WC ONLY)","24414W","O",null,"Electronic"]
["GENERAL MOTORS CORPORATION (MN, TX,CA ONLY) (WC ONLY) (EOBC)","A0546",null,null,"Paper"]
["GENERAL PARTS INTERNATIONAL (ALL STATES) (AUTO ONLY)","J1678A","O","O","Electronic"]
["GENERAL PARTS INTERNATIONAL (ALL STATES) (WC ONLY)","J1678W","O","O","Electronic"]
["GENERATIONS HEALTHCARE",46050,"O","O","Electronic","P"]
["GENERATIONS-HILLCREST",46051,"O","O","Paper","P I"]
["GENEX CARE FOR OHIO (ALL STATES) (WC ONLY)","J1895","O","O","Electronic","P I"]
["GEO (ALL STATES) (WC ONLY)","J1461W","O","O","Electronic"]
["GEORGIA CASUALTY & SURETY CO (ALL STATES) (WC ONLY)","J1304W","O","O","Electronic"]
["GEORGIA HEALTH ADVANTAGE",31140,"O","O","Electronic","P I"]
["GEORGIA-PACIFIC LIABILITY ","A0059","O",null,"Electronic"]
["GETTYSBURG HEALTH ADMINISTRATORS INC",23274,"O","O","Electronic","P I"]
["GHA ORTHOPEDIC PROVIDERS INC","GHAOP","O","O","Electronic"]
["GHI HMO",25531,"O","O","Electronic","P I "]
["GILLETTE CHILDREN'S SPECIALTY HEALTHCARE (ALL STATES) (WC ONLY)","J1927","O","O","Electronic"]
["GILLETTE CHILDREN'S SPECIALTY HEALTHCARE (ALL STATES)(AUTO ONLY)","J1927A","O","O","Electronic","P I"]
["GILSBAR INC",7205,"O","O","Paper","P I "]
["GLOBAL 1 COLORADO","G1COL","O","O","Electronic"]
["GLOBAL BENEFITS GROUP",68251,"O","O","Paper","P I"]
["GLOBAL CARE INC",7689,"O","O","Electronic","P I"]
["GLOBAL CARE MEDICAL GROUP IPA","MPM05","O","O","Electronic","P I"]
["GLOBAL EXCEL MANAGEMENT","GEM01","O","O","Electronic"]
["GLOBAL HEALTH","GHOKC","O","O","Electronic","P I "]
["GLOBAL HEALTH ARIZONA","GHAZ0","O","O","Electronic","P I"]
["GLOBAL HEALTH TEXAS","GHTX0","O","O","Electronic","P I"]
["GLOBAL HEALTHCARE ALLIANCE","Z96737",null,"O","Electronic"]
["GLOBAL MEDICAL MANAGEMENT INC","GMICC","O","O","Paper","P I"]
["GLOBAL WOMENS HEALTH PROVIDERS INC","GHAWH","O","O","Electronic","P I"]
["GLOBALONEVENTURES","GLOBAL1","O","O","Electronic"]
["GLOBE LIFE & ACCIDENT INSURANCE COMPANY","Z96300",null,null,"Paper"]
["GLOBE LIFE AND ACCIDENT INSURANCE COMPANY (REMITS ONLY)",91472,null,null,"Paper"]
["GMAC INSURANCE \\ INTEGON NATIONAL INSURANCE COMPANY (AUTO ONLY)","29742A","O",null,"Paper"]
["GMAC INSURANCE \\ NATIONAL GENERAL INSURANCE COMPANY (WC ONLY)","23728W","O",null,"Paper"]
["GMMI FEP","GMFEP","O","O","Electronic","P I"]
["GMP EMPLOYERS RETIREE TRUST",23641,"O",null,"Electronic"]
["GMR HEALTHCARE",85664,"O","O","Paper","P I"]
["GMS",47083,"O","O","Electronic","P I"]
["GOLD COAST HEALTH PLAN",77160,"O","O","Paper","P I"]
["GOLD KIDNEY HEALTH PLAN","A6865","O","O","Electronic","P I"]
["GOLDEN BAY HEALTH PLAN BY NEMS","GBHP","O","O","Electronic"]
["GOLDEN COAST MSO","GCMSO","O","O","Electronic","P I"]
["GOLDEN CORRAL CORPORATION (TX, MN) (WC ONLY)","WP553W","O","O","Electronic"]
["GOLDEN PHYSICIANS MEDICAL GROUP","MPM43","O","O","Electronic"]
["GOLDEN RULE INSURANCE (SUBROGATION CLAIMS ONLY)","37602S","O","O","Electronic"]
["GOLDEN RULE INSURANCE COMPANY",37602,"O","O","Electronic"," "]
["GOLDEN SHORE MEDICAL GROUP (GSMG)","NMM03","O","O","Electronic"]
["GOLUB CORPORATION (ALL STATES) (WC ONLY)","J4322","O","O","Electronic"]
["GONZABA MEDICAL GROUP","GMGSA","O","O","Paper","P I "]
["GOOD SAMARITAN HOSPITAL","GSH01","O","O","Electronic"]
["GOOD SAMARITAN MEDICAL PRACTICE ASSOCIATION","GSMPA","O","O","Electronic","P I"]
["GOOD SHEPHERD HOSPICE INC",76923,"O","O","Electronic"]
["GOOD2GO INSURANCE (AKA PERSONAL SERVICE INSURANCE) (AUTO - NJ ONLY)","C1094A","O","O","Paper","P I"]
["GOODRICH (ALL STATES) (WC ONLY)","J1462W","O","O","Electronic"]
["GOODWILL INDUSTRIES (SAN DIEGO) (CA ONLY) (AUTO ONLY)","J1621","O","O","Electronic"]
["GOODWILL INDUSTRIES (SAN DIEGO) (CA ONLY) (WC ONLY)","J1621W","O","O","Electronic"]
["GOVERNMENT EMPLOYEES HEALTH ASSOCIATION (GEHA)",44054,"O","O","Electronic"]
["GRAND RIVER INSURANCE (ALL STATES) (AUTO ONLY)","C1038A","O","O","Electronic"]
["GRAND RIVER INSURANCE (WC ONLY)","J1566WC","O","O","Electronic"]
["GRAND VALLEY HEALTH PLAN",95453,"O","O","Electronic"]
["GRANGE MUTUAL CASUALTY COMPANY (ALL STATES) (WC ONLY)","14060W","O","O","Electronic"]
["GRANGE MUTUAL CASUALTY COMPANY (MN ONLY) (AUTO ONLY)","10322A","O","O","Electronic","P I"]
["GRANGE WC (WC ONLY) (ALL STATES)",14060,"O","O","Electronic"]
["GRAPHIC ARTS MUTUAL (ALL STATES) (WC ONLY)",25984,"O","O","Electronic","P I"]
["GRAVIE ADMINISTRATIVE SERVICES (DOS ON OR AFTER 10/1/2022)","GRV01","O","O","Electronic","P I"]
["GRAVIE ADMINISTRATIVE SERVICES (DOS PRIOR TO 10/1/2022)","GRAVI","O","O","Paper","P I"]
["GRAY INSURANCE CO. (MN, TX) (WC ONLY)","WC134W","O","O","Electronic"]
["GREAT AMERICAN ALLIANCE INS CO (ALL STATES) (WC ONLY)","26832W","O","O","Electronic","P I"]
["GREAT AMERICAN ASSURANCE CO (ALL STATES) (WC ONLY)","26344W","O","O","Electronic","P I"]
["GREAT AMERICAN ASSURANCE CO. (WC ONLY) (MN,TX,CA ONLY)",26344,"O","O","Electronic"]
["GREAT AMERICAN INS CO (ALL STATES) (WC ONLY)","16691W","O","O","Electronic","P I"]
["GREAT AMERICAN INS CO OF NY (ALL STATES) (WC ONLY)","22136W","O","O","Electronic"]
["GREAT AMERICAN INS. CO. OF N.Y. (WC ONLY) (TX,MN,CA ONLY)",22136,"O",null,"Electronic"]
["GREAT AMERICAN LIFE INS CO- MEDICARE SUPPLEMENT (ELIGIBILITY ONLY)","Z90024",null,null,"Paper"]
["GREAT CENTRAL (ALL)","J1308W","O","O","Electronic"]
["GREAT CENTRAL INSURANCE GROCERY & RETAIL (ALL STATES) (WC ONLY)","J4116","O","O","Electronic","P I"]
["GREAT DIVIDE INSURANCE (ALL STATES) (WC ONLY)","WC156","O","O","Electronic"]
["GREAT HEALTH ( ST LOUIS)",63665,"O","O","Electronic","P"]
["GREAT LAKES PACE",39640,"O","O","Electronic"]
["GREAT PLAINS MEDICARE ADVANTAGE (ND)(PRIOR TO 1/1/2022)","GPND1","O","O","Electronic"]
["GREAT PLAINS MEDICARE ADVANTAGE (NE)(PRIOR TO 1/1/2022)","GPNE1","O","O","Electronic"]
["GREAT PLAINS MEDICARE ADVANTAGE (SD)(PRIOR TO 1/1/2022)","GPSD1","O","O","Electronic","P I"]
["GREAT RIVER INSURANCE CO (MN, TX) WC ONLY","WC154W","O","O","Electronic"]
["GREAT SOUTHERN LIFE INSURANCE COMPANY","Z96477",null,null,"Paper"]
["GREAT STATES HEALTH IICT","GSHTX","O","O","Electronic","P I"]
["GREAT WEST CASUALTY (ALL STATES) (WC ONLY)","J1820W","O","O","Electronic"]
["GREAT WEST HEALTHCARE",80705,"O","O","Electronic","P I "]
["GREATER COVINA MEDICAL GROUP","GCMG1","O","O","Electronic"]
["GREATER NEWPORT PHYSICIANS","GNPMG","O","O","Electronic"]
["GREATER OREGON BEHAVIORAL HEALTH","GOBHI","O",null,"Electronic"]
["GREEK CATHOLIC UNION (REMITS ONLY)",56693,null,null,"Paper"]
["GREEN DIAMOND WA (ALL STATES) (AUTO ONLY)","J1642A","O","O","Electronic"]
["GREEN DIAMOND WA (ALL STATES) (WC ONLY)","J1642W","O","O","Electronic"]
["GREEN DIAMOND WA (ALL STATES)(WC ONLY)","J1642","O","O","Electronic","P I"]
["GRINNELL REINSURANCE COMPANY (AUTO ONLY)","14117A","O",null,"Paper","P"]
["GRINNELL REINSURANCE COMPANY (TX, MN, IL) (AUTO ONLY)","J1571A","O","O","Electronic"]
["GRINNELL REINSURANCE COMPANY (TX, MN, IL) (WC ONLY)","J1571W","O","O","Electronic"]
["GRINNELL SELECT (AUTO ONLY)","16144A","O",null,"Paper"]
["GRINNELL SELECT (TX AND MN ONLY) (WC ONLY)","J1541","O","O","Electronic"]
["GRINNELL SELECT (TX AND MN ONLY)(AUTO ONLY)","J1541A","O","O","Electronic","P I"]
["GROUP ADMINISTRATORS LTD (SCHAUMBURG, ILLINOIS)",36338,"O","O","Electronic","P I"]
["GROUP AND PENSION ADMINISTRATORS",48143,"O","O","Electronic","P I "]
["GROUP BENEFIT SERVICES",80241,"O","O","Electronic"]
["GROUP BENEFIT SERVICES","CB951","O","O","Electronic"]
["GROUP BENEFITS ADMINISTRATORS INC (GBA) (REMITS ONLY)",88054,null,null,"Paper"]
["GROUP HEALTH COOPERATIVE OF EAU CLAIRE",95192,"O","O","Electronic","P I"]
["GROUP HEALTH COOPERATIVE OF EAU CLAIRE - MEDICAID CLAIMS","Z1049","O",null,"Electronic","P"]
["GROUP HEALTH COOPERATIVE OF SOUTH CENTRAL WISCONSIN",39167,"O","O","Electronic","P I"]
["GROUP HEALTH INSURANCE (GHI) OF NY",13551,"O","O","Electronic","P I "]
["GROUP HEALTH MANAGERS",38194,"O","O","Electronic","P I"]
["GROUP HOSPITALIZATION AND MEDICAL SERVICES",10964,null,null,"Paper"]
["GROUP INSURANCE SERVICE CENTER (PEMBROKE MA)",37276,"O","O","Electronic","P I"]
["GROUP LINK  (IN INDIANAPOLIS, INDIANA)","CX015","O","O","Paper","P I"]
["GROUP MANAGEMENT SERVICES (ERA ONLY)","Z95880",null,null,"Paper"]
["GROUP MANAGEMENT SERVICES, INC.","OBA16","O","O","Electronic","P I"]
["GROUP MARKETING SERVICES INC",66701,"O","O","Electronic","P I"]
["GROUP RESOURCES",28680,"O","O","Electronic"]
["GROUPLINK, INC.",10910,null,null,"Paper"]
["GSE LINING TECHNOLOGY, INC. (TX, MN) (WC ONLY)","WX093W","O","O","Electronic"]
["GUARANTEE TRUST LIFE INSURANCE COMPANY (REMITS ONLY)",6684,null,null,"Paper"]
["GUARANTY FUND MANAGEMENT SERVICES (ALL STATES)( WC ONLY)","J3386","O","O","Electronic","P I"]
["GUARD INSURANCE GROUP (WC ONLY) ANY STATE","A0706A","O","O","Electronic"]
["GUARDIAN LIFE INSURANCE CO. OF AMERICA DENTAL",10788,null,null,"Paper"]
["GUARDIAN LIFE INSURANCE COMPANY OF AMERICA",64246,"O","O","Electronic","P I"]
["GUIDEONE ELITE INSURANCE (ALL STATES) (AUTO ONLY)","J1590A","O","O","Electronic"]
["GUIDEONE ELITE INSURANCE (ALL STATES) (WC ONLY)","J1590","O","O","Electronic"]
["GUIDEONE ELITE INSURANCE (WC ONLY)","42803W","O",null,"Paper"]
["GUIDEONE MUTUAL INS CO. (WC ONLY)","15032W","O",null,"Paper"]
["GUIDEONE MUTUAL INSURANCE (ALL STATES) (AUTO ONLY)","J1574A","O","O","Electronic"]
["GUIDEONE MUTUAL INSURANCE (ALL STATES) (WC ONLY)","J1574","O","O","Electronic"]
["GULF GUARANTY EMPLOYEE BENEFIT SERVICES (REMITS ONLY)","Z96421",null,null,"Paper"]
["GULF GUARANTY/MEDPLUS",99943,"O","O","Electronic","P I"]
["GULF SOUTH RISK SERVICES",60652,"O","O","Electronic"]
["GULF SOUTH RISK SERVICES (A1)",60389,"O","O","Electronic"]
["GULF STREAM-GENERAL DYNAMICS","CB624","O","O","Electronic"]
["GULFQUEST RENNAISSANCE","RENGQ","O",null,"Electronic","P"]
["GUT MANAGEMENT - CAC UNITED","GT104","O",null,"Electronic","P"]
["GUT MANAGEMENT - CARE FLORIDA","GT103","O",null,"Electronic","P"]
["GUT MANAGEMENT - CIGNA","GT102","O",null,"Electronic","P"]
["GUT MANAGEMENT - HEALTH OPTIONS","GT101","O",null,"Electronic","P"]
["GUT MANAGEMENT - HIP OF FLORIDA","GT105","O",null,"Electronic","P"]
["GUT MANAGEMENT - PCA FAMILY HEALTH PLANS","GT106","O",null,"Electronic"]
["GUT MANAGEMENT - PCA HEALTH PLAN","GT107","O",null,"Electronic","P"]
["GUY YOCOMO CONSTRUCTION (ALL STATES) (WC ONLY)","J3927W","O","O","Paper","P I"]
["H & R BLOCK (ALL STATES) (AUTO ONLY)","J1672A","O","O","Electronic"]
["H & R BLOCK (ALL STATES) (WC ONLY)","J1672W","O","O","Electronic"]
["H.E.R.E.I.U. WELFARE PENSION FUNDS",37114,"O","O","Electronic","P"]
["HAA PREFERRED PARTNERS",65101,"O","O","Electronic","P I"]
["HALCYON BEHAVIORAL HEALTH","HALCY","O","O","Electronic"]
["HAMASPIK CHOICE",47738,"O","O","Electronic","P I"]
["HAMMERMAN & GAINER",97258,"O","O","Electronic"]
["HANA HOU MEDICAL GROUP","HHMG1","O","O","Paper"]
["HANOVER INSURANCE CO (TX, MN & CA) (WC ONLY)","WP927W","O","O","Electronic"]
["HANOVER INSURANCE COMPANY (ALL STATES) (AUTO ONLY)","J1693A","O","O","Electronic"]
["HANOVER INSURANCE COMPANY (ALL STATES) (WC ONLY)","J1693W","O","O","Electronic"]
["HANOVER LLOYDS INSURANCE COMPANY (ALL STATES) (AUTO ONLY)","J1588A","O","O","Electronic"]
["HANOVER LLOYDS INSURANCE COMPANY (ALL STATES) (WC ONLY)","J1588W","O","O","Electronic"]
["HAP MIDWEST HEALTH PLAN - MI (DOS PRIOR TO 7/1/19)","MHP77",null,null,"Paper"]
["HARLANDALE ISD (EOBC)","A0060",null,null,"Paper"]
["HARLEYSVILLE INSURANCE COMPANY (WC ONLY)","J1595W","O","O","Electronic"]
["HARLEYSVILLE INSURANCE COMPANY (WC ONLY)(ALL STATES)","53804W","O",null,"Paper"]
["HARMONY HEALTH PLAN",10514,null,null,"Paper"]
["HARMONY, A WELLCARE COMPANY ENCOUNTERS ONLY (ENCOUNTERS ONLY) (DOS 1/1/19 AND AFTER)","E13189","O",null,"Electronic"]
["HARPETH IPA - AMERIVANTAGE",75126,"O",null,"Electronic"]
["HARRINGTON HEALTH - KANSAS",62061,"O","O","Electronic","P I"]
["HARRINGTON HEALTH NON-EPO",59143,"O","O","Electronic"]
["HARTFORD - SRS (WC ONLY)","WB109W","O","O","Electronic"]
["HARTFORD ACCIDENT AND INDEMNITY COMP (ALL STATES) (AUTO ONLY)","C1046A","O","O","Electronic"]
["HARTFORD CASUALTY INSURANCE COMPANY (ALL STATES) (AUTO ONLY)","C1041A","O","O","Electronic"]
["HARTFORD FIRE INSURANCE COMPANY (ALL STATES) (AUTO ONLY)","C1040A","O","O","Electronic"]
["HARTFORD INSURANCE COMPANY OF THE MIDWEST (ALL STATES) (AUTO ONLY)","C1043A","O","O","Electronic"]
["HARTFORD INSURANCE COMPANY OF THE MIDWEST (ALL) (ADVANCED DISPOSAL SERVICES ONLY)","J1313W","O",null,"Electronic"]
["HARTFORD INSURANCE COMPANY OF THE MIDWEST (ALL) (ALLIANT TECH SYSTEMS ONLY)","J1314W","O",null,"Electronic"]
["HARTFORD INSURANCE COMPANY OF THE MIDWEST (ALL) (AMERICOLD LOGISTICS ONLY) (WC ONLY)","J1315W","O",null,"Electronic"]
["HARTFORD INSURANCE COMPANY OF THE MIDWEST (ALL) (KNOWLEDGE LEARNING CORPORATION ONLY) (WC ONLY)","J1316W","O",null,"Electronic"]
["HARTFORD INSURANCE COMPANY OF THE MIDWEST (ALL) (SCOTTSDALE HEALTHCARE CORP ONLY)","J1312W","O",null,"Electronic"]
["HARTFORD INSURANCE COMPANY OF THE MIDWEST (PFIZER, INC. ONLY) (ALL) (WC ONLY)","J1317W","O",null,"Electronic"]
["HARTFORD INSURANCE COMPANY OF THE MIDWEST (PUBLIX ONLY) (ALL)","J1318W","O",null,"Electronic"]
["HARTFORD INSURANCE COMPANY OF THE MIDWEST (QCS ONLY) (ALL) (WC ONLY)","J1319W","O",null,"Electronic"]
["HARTFORD INSURANCE COMPANY OF THE MIDWEST (RUBY TUESDAY ONLY) (ALL STATES) (WC ONLY)","J1320W","O",null,"Electronic"]
["HARTFORD INSURANCE COMPANY OF THE MIDWEST (STERICYCLE ONLY) (ALL STATES) (WC ONLY)","J1321W","O",null,"Electronic"]
["HARTFORD INSURANCE COMPANY OF THE MIDWEST (WELLS FARGO ONLY) (ALL STATES) (WC ONLY)","J1322W","O",null,"Electronic"]
["HARTFORD INSURANCE COMPANY OF THE MIDWEST (WENDYS ARBYS GROUP ONLY) (WC ONLY)","J1323W","O",null,"Electronic"]
["HARTFORD LIFE AND ACCIDENT INSURANCE COMP (ALL STATES) (AUTO ONLY)","C1044A","O","O","Electronic"]
["HARTFORD LIFE AND ANNUITY INSURANCE COMP (ALL STATES) (AUTO ONLY)","C1047A","O","O","Electronic"]
["HARTFORD LIFE INSURANCE COMP (ALL STATES) (AUTO ONLY)","C1045A","O","O","Electronic"]
["HARTFORD UNDERWRITERS INSURANCE COMP (ALL STATES) (AUTO ONLY)","C1042A","O","O","Electronic"]
["HARVARD COMMUNITY HEALTH PLAN",4245,"O","O","Electronic","P I"]
["HARVARD MAINTENANCE CORVEL (ALL STATES) (WC ONLY)","J2388","O","O","Electronic"]
["HARVARD PILGRIM HEALTH CARE",4271,"O","O","Electronic","P I "]
["HASTING MUTUAL","R12345",null,null,"Paper"]
["HAWAII ELECTRICIANS HEALTH AND WELFARE FUND (EOBC)","R14736",null,null,"Paper"]
["HAWAII EMPLOYERS MUTUAL INSURANCE HEMIC (WC ONLY)","J3907","O","O","Electronic","P I"]
["HAWAII MANAGEMENT ALLIANCE ASSOCIATION (HONOLULU)",48330,"O","O","Paper","P I"]
["HAWAII QUEST","Z96388","X","X","Electronic"]
["HAWKEYE (ALL STATES) (WC ONLY)","J1426W","O","O","Electronic"]
["HCA-HOSPTIAL CORPORATION OF AMERICA (ALL STATES) (WC ONLY)","J1450","O","O","Electronic"]
["HCAS LLC DBA ALIVI TECHNOLOGY","AFLEX","O",null,"Electronic"]
["HCC MEDICAL SERVICES","HCCMI","O","O","Paper","P I"]
["HCMEDNET/PHC","Z0007","O","O","Electronic","P I"]
["HEALTH 2 BUSINESS",55213,"O","O","Paper","P I"]
["HEALTH ALLIANCE MEDICAL PLANS OF ILLINOIS",77950,"O","O","Electronic","P I "]
["HEALTH ALLIANCE PLAN OF MICHIGAN",38224,"O","O","Electronic","I "]
["HEALTH BENEFITS PLAN (EOBC)",11026,null,null,"Paper"]
["HEALTH CARE FACILITIES OF MISSOURI, INC. (ALL STATES) (WC ONLY)","J3959","O","O","Electronic","P I"]
["HEALTH CARE LA IPA","MPM06","O","O","Electronic","P I"]
["HEALTH CARE NETWORK OF WISCONSIN (HCN)",42102,"O","O","Electronic","I"]
["HEALTH CARE PARTNERS- AZ","HCP02","O","O","Electronic"]
["HEALTH CHOICE GENERATIONS UTAH",13054,"O","O","Electronic","P I"]
["HEALTH CHOICE PATHWAY",62180,"O","O","Electronic","P I"]
["HEALTH CHOICE UTAH",45399,"O","O","Electronic"]
["HEALTH CLAIMS SERVICE",82018,"O","O","Electronic","P"]
["HEALTH COST SOLUTIONS",62111,"O","O","Electronic","P I  "]
["HEALTH DESIGN PLUS (HUDSON, OH)",34158,"O","O","Electronic","P I"]
["HEALTH FIRST HEALTH PLANS - NATIONAL",95019,"O","O","Electronic","P I "]
["HEALTH FIRST HEALTH PLANS - OSCAR","RP039","O","O","Electronic"]
["HEALTH FIRST INSURANCE",10674,null,null,"Paper"]
["HEALTH FUTURE LLC",30946,"O","O","Electronic","P I"]
["HEALTH INSURANCE PLAN OF GREATER NY (HIP)",55247,"O","O","Electronic","P I "]
["HEALTH NET NATIONAL","Z1378",null,null,"Paper"]
["HEALTH NET OF ARIZONA (DOS 9/30/18 AND PRIOR)",38309,null,null,"Paper"]
["HEALTH NET OF CALIFORNIA AND OREGON",95567,"O","O","Electronic","P I "]
["HEALTH NET OF THE NORTHEAST (ELIGIBILITY ONLY)",6108,null,null,"Paper"]
["HEALTH NETWORK ONE",65062,"O","O","Electronic","P I"]
["HEALTH NETWORK SOLUTIONS (HNS) - ABSOLUTE TOTAL CARE SC","HAT02","O",null,"Paper","P"]
["HEALTH NETWORK SOLUTIONS (HNS) - BCBS NC","HBC01","O",null,"Paper","P"]
["HEALTH NETWORK SOLUTIONS (HNS) - CIGNA NC","HCI01","O",null,"Paper","P"]
["HEALTH NETWORK SOLUTIONS (HNS) - CIGNA SC","HCI02","O",null,"Paper","P"]
["HEALTH NETWORK SOLUTIONS (HNS) - HEALTHSPRING NC","HHS01","O",null,"Paper","P"]
["HEALTH NETWORK SOLUTIONS (HNS) - HEALTHSPRING SC","HHS02","O",null,"Paper","P"]
["HEALTH NETWORK SOLUTIONS (HNS) - LIBERTY ADVANTAGE","HLA01","O",null,"Paper","P"]
["HEALTH NETWORK SOLUTIONS (HNS) - MEDCOST NC","HMC01","O",null,"Paper","P"]
["HEALTH NETWORK SOLUTIONS (HNS) - MEDCOST SC","HMC02","O",null,"Paper","P"]
["HEALTH NETWORK SOLUTIONS (HNS) - SELECT HEALTH SC","HSH02","O",null,"Paper","P"]
["HEALTH NETWORK SOLUTIONS (HNS) HEALTHTEAM ADVANTAGE NC","HCC01","O",null,"Electronic","P"]
["HEALTH NEW ENGLAND",4286,"O","O","Paper","P I "]
["HEALTH OPTIONS OF FLORIDA HMO",3417,"O","O","Electronic","P I"]
["HEALTH PARTNERS - MINNESOTA","SX009","X","X","Electronic","P I "]
["HEALTH PARTNERS OF MINNESOTA","CX009",null,null,"Paper"]
["HEALTH PARTNERS OF MINNESOTA","CX010",null,null,"Paper"]
["HEALTH PARTNERS PA",80142,"O","O","Electronic","P I "]
["HEALTH PAYMENT SYSTEMS, INC.",20270,"O","O","Paper","P I"]
["HEALTH PLAN OF SAN JOAQUIN",68035,"O","O","Electronic","P I "]
["HEALTH PLAN OF SAN MATEO (CA MEDICAID MCO)","HPSM1","O","O","Paper"]
["HEALTH PLAN OF UPPER OHIO VALLEY","HPOUV","O","O","Electronic","P I  "]
["HEALTH PLANS INC",44273,"O","O","Electronic","P I  "]
["HEALTH PLUS PHYSICIANS ORGANIZATION",63363,"O","O","Paper","P I"]
["HEALTH RIGHT",52201,"O","O","Electronic"]
["HEALTH RISK MANAGEMENT (HRM) CLAIMS MANAGEMENT",10130,null,null,"Paper"]
["HEALTH SERVICES FOR CHILDREN WITH SPECIAL NEEDS",37290,"O","O","Electronic","P I  "]
["HEALTH SERVICES MANAGEMENT  HSM",41150,"O",null,"Electronic"]
["HEALTH SHARE OF OREGON",10823,null,null,"Paper"]
["HEALTH SHARE OF OREGON CCO-MENTAL HEALTH",77120,"O","O","Paper","P I"]
["HEALTH SMART-LUBBOCK (MN, TX) (WC ONLY)","A0503W","O","O","Electronic"]
["HEALTH SOURCE MSO","HSMSO","O","O","Paper","P I"]
["HEALTH SPECIAL RISK INCORPORATED",65449,"O","O","Electronic"]
["HEALTH SPRING, INC",63092,"O","O","Electronic","P I "]
["HEALTH TEXAS MEDICAL GROUP","HTHTX","O",null,"Electronic"]
["HEALTH TRADITION HEALTH PLAN","HLTHT","O","O","Electronic"]
["HEALTH WEST ADMINISTRATORS","U7876","O","O","Electronic","P I"]
["HEALTHBRIDGE",74853,"O","O","Electronic"]
["HEALTHCARE HIGHWAYS","HCH01","O","O","Electronic"," "]
["HEALTHCARE HIGHWAYS HEALTH PLAN (DOS ON OR AFTER 1/1/2020)","HCHHP","O","O","Electronic","P I"]
["HEALTHCARE IN ACTION","MPM56","O","O","Electronic"]
["HEALTHCARE MANAGEMENT ADMIN (HMA)","HMA01","O","O","Electronic","P I  "]
["HEALTHCARE OPTIONS","EPF37","O","O","Electronic","P I"]
["HEALTHCARE PARTNERS IPA /HERITAGE NEW YORK MEDICAL GROUP",11328,"O","O","Electronic","P I"]
["HEALTHCARE PARTNERS OF NEVADA",20501,"O","O","Electronic","P I"]
["HEALTHCARE RESOURCES NW",56731,"O","O","Electronic","P I"]
["HEALTHCARE RISK MANAGEMENT SOLUTIONS (ALL STATES)(WC ONLY)","J3300","O","O","Electronic","P I"]
["HEALTHCARE SERVICE GROUP INC (EOBC)","R36596",null,null,"Paper"]
["HEALTHCARE SOLUTIONS GROUP (MUSKOGEE OK)",73147,"O","O","Electronic","P I"]
["HEALTHCARE STRATEGIC INITIATIVES","HSICS","O","O","Electronic","P I"]
["HEALTHCHOICE OF AZ",62179,"O","O","Electronic","P I "]
["HEALTHCHOICE OKLAHOMA (DOS ON OR AFTER 01/01/18)",71064,"O","O","Electronic","P I  "]
["HEALTHCOMP INC",85729,"O","O","Paper","P I "]
["HEALTHCOSMOS MEDICAL GROUP LLC","COSAZ","O","O","Electronic","P I"]
["HEALTHCOSMOS OF NEVADA PLLC","COSNV","O","O","Electronic","P I"]
["HEALTHCOSMOS OF NEW MEXICO LLC","COSNM","O","O","Paper","P I"]
["HEALTHE EXCHANGE",10597,null,null,"Paper"]
["HEALTHEDGE ADMINISTRATORS (BAKERSFIELD, CA)",95213,"O","O","Electronic","P I"]
["HEALTHEOS","HEOS","O","O","Electronic","P I"]
["HEALTHEQUITY INC (REMITS ONLY)",43700,null,null,"Paper"]
["HEALTHFIRST - TYLER, TX",75234,"O","O","Electronic","P I"]
["HEALTHFIRST ABSOLUTECARE FIDA","Z96445","O","O","Electronic"]
["HEALTHFIRST NEW JERSEY",10438,null,null,"Paper"]
["HEALTHFIRST OF AUSTIN",75289,"O","O","Electronic","P I"]
["HEALTHFIRST OF NEW YORK",80141,"O","O","Electronic","P I "]
["HEALTHFIRST TPA",34185,"O","O","Electronic"]
["HEALTHGRAM INC (FKA PRIMARY PHYSICIANCARE INC)",56144,"O","O","Electronic","P "]
["HEALTHLINK HMO",96475,"O","O","Electronic","P"]
["HEALTHLINK PPO/NATIONAL CAPITAL PREFERRED PROVIDER ORGANIZATION (NCPPO)",90001,"O","O","Electronic","P I"]
["HEALTHMED IPA","MLHMI","O","O","Electronic"]
["HEALTHNOW NY [55204]","Z1093","O","O","Electronic","P  "]
["HEALTHPARTNERS (TX, MN) (WC ONLY)","44547W","O","O","Electronic"]
["HEALTHPLAN OF NEVADA",10804,null,null,"Paper"]
["HEALTHPLEX INC",10110,null,null,"Paper"]
["HEALTHSCOPE",40026,"O","O","Electronic","P I"]
["HEALTHSCOPE BENEFITS",71084,"O","O","Electronic","P I"]
["HEALTHSCOPE BENEFITS - EHC REPRICING",52429,"O","O","Electronic","P I"]
["HEALTHSCOPE BENEFITS INC",71063,"O","O","Electronic","P I  "]
["HEALTHSHARE OF OREGON CCO - MULTNOMAH","VMMH1","O","O","Electronic","P I"]
["HEALTHSMART (ALL STATES) (WC ONLY)","J1481","O","O","Electronic"]
["HEALTHSMART ACCEL",75237,"O","O","Electronic","P I"]
["HEALTHSMART BENEFIT SOLUTIONS (FORMERLY AMERICAN ADMIN/GALLAGHER BENEFIT)",37283,"O","O","Electronic","P I "]
["HEALTHSMART BENEFIT SOLUTIONS (FORMERLY JSL ADMINISTRATORS)",37272,"O","O","Electronic","P I"]
["HEALTHSMART BENEFIT SOLUTIONS (FORMERLY MAA-OKLAHOMA)",37256,"O","O","Electronic","P I"]
["HEALTHSMART BENEFIT SOLUTIONS (FORMERLY PITTMAN AND ASSOCIATES)",37224,"O","O","Electronic","P I "]
["HEALTHSMART BENEFIT SOLUTIONS (KLAIS AND COMPANY)",34145,"O","O","Electronic","P I"]
["HEALTHSMART BENEFIT SOLUTIONS (WELLS FARGO)",87815,"O","O","Electronic","P I "]
["HEALTHSMART MSO","HSM01","O","O","Electronic","P I"]
["HEALTHSMART PREFERRED CARE INC",75250,"O","O","Electronic","P I"]
["HEALTHSPAN INTEGRATED CARE FKA KAISER OF OHIO","HLTSPN",null,null,"Paper"]
["HEALTHSUN","HESUN","O","O","Electronic","P I"]
["HEALTHTEAM ADVANTAGE HMO DIABETES AND HEARTCARE PLAN",88350,"O","O","Electronic","P I"]
["HEALTHTEAM ADVANTAGE PPO",88250,"O","O","Electronic"]
["HEALTHWAYS WHOLEHEALTH NETWORKS",58213,"O",null,"Paper","P"]
["HEALTHWORX",98654,"O",null,"Electronic"]
["HEALTHY BLUE DUAL ADVANTAGE LOUISIANA",551,"O","O","Electronic","P I  "]
["HEALTHY BLUE DUAL ADVANTAGE LOUISIANA (WITH ATTACHMENTS)","J00551","O","O","Electronic","P I"]
["HEALTHY BLUE LOUISIANA",58532,"O","O","Electronic","P I  "]
["HEALTHY BLUE LOUISIANA (WITH ATTACHMENTS)","J58532","O","O","Electronic","P I"]
["HEALTHY BLUE MISSOURI",541,"O","O","Electronic","P I"]
["HEALTHY BLUE MISSOURI (WITH ATTACHMENTS)","J00541","O","O","Electronic","P I"]
["HEALTHY BLUE NEBRASKA",544,"O","O","Electronic","P I  "]
["HEALTHY BLUE NEBRASKA (WITH ATTACHMENTS)","J00544","O","O","Electronic","P I"]
["HEALTHY BLUE NORTH CAROLINA",602,"O","O","Electronic","I"]
["HEALTHY BLUE NORTH CAROLINA (WITH ATTACHMENTS)","J00602","O","O","Electronic","P I"]
["HEALTHY BLUE SOUTH CAROLINA","Z1248","O","O","Electronic","P I "]
["HEALTHY BLUE SOUTH CAROLINA (WITH ATTACHMENTS)","JZ1258","O","O","Electronic","P"]
["HEALTHY INDIANA PLAN (HIP)","Z95667","O","O","Electronic","I"]
["HEALTHY PALM BEACHES",95827,"O","O","Electronic","P I"]
["HEALTHY VALLEY PROVIDER NETWORK","HVPNI","O","O","Electronic"]
["HEALTHY YORK NETWORK",22251,"O","O","Electronic"]
["HEARTLAND EXPRESS (ALL STATES) (AUTO ONLY)","J1677A","O","O","Electronic"]
["HEARTLAND EXPRESS (ALL STATES) (WC ONLY)","J1677W","O","O","Electronic"]
["HEARTLAND EXPRESS AUTO ONLY (ANY STATE)","A0306","O","O","Electronic"]
["HEARTLAND EXPRESS WC ONLY ANYSTATE","A0306W","O","O","Electronic"]
["HEARTLAND HEALTH AND WELLNESS FUND",31604,null,null,"Paper"]
["HEARTLAND NATIONAL LIFE INSURANCE COMPANY","Z96312",null,null,"Paper"]
["HEB GROCERY COMPANY (ALL STATES) (WC ONLY)","J2223","O","O","Electronic"]
["HELMSMAN MANAGEMENT SERVICES (MN, TX) [WC, AUTO]","WZ119","O",null,"Electronic"]
["HELP AT HOME HOLDINGS (ALL STATES) (WC ONLY)","J1985W","O","O","Electronic"]
["HEMET COMMUNITY MEDICAL GROUP","HCMG1","O","O","Electronic"]
["HENNEPIN COUNTY CLAIMS ADMIN (ALL STATES)(AUTO ONLY)","J4085A","O","O","Electronic","P I"]
["HENNEPIN COUNTY CLAIMS ADMIN (ALL STATES)(WC ONLY)","J4085","O","O","Electronic","P I"]
["HENNEPIN HEALTH",60058,"O","O","Electronic","P I  "]
["HEREFORD ISD (ALL STATES) (WC ONLY)","J2342","O","O","Electronic","P I"]
["HERITAGE CONSULTANTS",59230,"O",null,"Electronic","P"]
["HERITAGE GROUP (ALL STATES) (WC ONLY)","J1069W","O","O","Electronic"]
["HERITAGE VICTOR VALLEY MEDICAL GROUP","VVMG1","O","O","Electronic","P"]
["HERITAGE VISION PLANS",96462,"O",null,"Electronic"]
["HERNANDO PASCO HOSPICE",17929,"O","O","Electronic"]
["HERTZ RENT A CAR (ALL STATES) [WC ONLY]","WZ140","O",null,"Electronic"]
["HETRICK-DRAKE ASSOCIATES (ALL STATES)","J1326W","O","O","Electronic"]
["HFN INC",36335,"O","O","Electronic","P I"]
["HIGH DESERT MEDICAL GROUP","HDMDG","O","O","Electronic","P I"]
["HIGHLINE MEDICAL SERVICE ORGANIZATION-MOLINA (HMSO)",91164,"O","O","Electronic","P I"]
["HIGHMARK BCBSD HEALTH OPTIONS",47181,"O","O","Electronic"," "]
["HIGHMARK CASUALTY INSURANCE AUTO","CB653A","O","O","Electronic"]
["HIGHMARK CASUALTY INSURANCE WC","CB653W","O","O","Electronic"]
["HIGHMARK SENIOR HEALTH COMPANY",15460,"X","X","Electronic","P I "]
["HILL PHYSICIANS AETNA PPO","HLPAE","O",null,"Electronic"]
["HILL PHYSICIANS BLUE CROSS PPO","HLPBC","O",null,"Electronic","P"]
["HILL PHYSICIANS BLUE SHIELD PPO","HLPBS","O","O","Electronic"]
["HILL PHYSICIANS CIGNA PPO","HLPCG","O",null,"Electronic","P"]
["HILL PHYSICIANS HEALTH NET PPO","HLPHN","O","O","Electronic"]
["HILL PHYSICIANS MEDICAL GROUP",46,"O","O","Electronic","I"]
["HILL PHYSICIANS UNITED HEALTHCARE PPO","HLPUH","O",null,"Electronic"]
["HILLSHIRE BRANDS (ALL STATES) (AUTO ONLY)","J1959A","O","O","Electronic"]
["HILLSHIRE BRANDS (ALL STATES) (WC ONLY)","J1959W","O","O","Electronic"]
["HILMAR CHEESE COMPANY (ALL STATES)(WC ONLY)","J1833","O","O","Electronic","P I"]
["HINSDALE MEDICARE ADVANTAGE","MAHIN","O",null,"Electronic"]
["HIPP TEMPORARY SKILLS (ALL STATES)","J1327W","O","O","Electronic"]
["HISPANIC PHYSICIANS IPA","HPIPA","O",null,"Electronic","P"]
["HISPANIC PHYSICIANS IPA (FEE FOR SERVICE ONLY)","HPFFS","O",null,"Electronic"]
["HM CARE ADVANTAGE ADMIN BY KBA",11053,null,null,"Paper"]
["HMA HAWAII",86066,"O","O","Electronic","P I  "]
["HMC HEALTHWORKS",75318,"O","O","Electronic"]
["HMO LOUISIANA INC (DOS 12/31/2020 AND PRIOR) (EOBC)",84555,null,null,"Paper"]
["HMSHOST - CORVEL (ALL STATES) (AUTO ONLY)","J1612A","O","O","Electronic","P I"]
["HMSHOST - CORVEL (ALL STATES) (WC ONLY)","J1612","O","O","Electronic","P I"]
["HOAG CLINIC (HOAG PHYSICIAN PARTNERS)","HPPZZ","O","O","Paper","P I"]
["HOCKENBERG EQUIPMENT",59573,"O","O","Electronic"]
["HOLISTA","HLSTA","O","O","Paper","P I"]
["HOLLY FARMS CORP. (TX, MN) (WC ONLY)","WX104W","O","O","Electronic"]
["HOLLYWOOD PRES GLOBAL","MPM29","O","O","Electronic","P I"]
["HOLLYWOOD PRESBYTERIAN MEDICAL CENTER - PREFERRED (HPMC - PMG)","AMM18","O","O","Electronic"]
["HOLLYWOOD PRESBYTERIAN MEDICAL CENTER - SAN JUDAS IPA (HPMC - SJM)","AMM17","O","O","Electronic"]
["HOLLYWOOD PRESBYTERIAN MEDICAL CENTER - ST. VINCENT'S IPA (HPMC - SVI)","AMM19","O","O","Electronic"]
["HOLLYWOOD PRESBYTERIAN SAN JUDAS","MPM49","O","O","Electronic"]
["HOME HEALTH - MEDICARE REGION IV GULF COAST AND MIDWEST","Z0076",null,"X","Electronic"]
["HOME HEALTH MEDICARE REGION VII","IMMO1",null,"X","Electronic"]
["HOMELAND SECURITY","VAICE","O","O","Electronic","P I"]
["HOMELINK",30750,"O","O","Electronic"]
["HOMELINK (ALL STATES) (AUTO ONLY)","J3932A","O","O","Electronic"]
["HOMELINK (ALL STATES) (WC ONLY)","J3932","O","O","Electronic"]
["HOMELINK HEALTHPARTNERS",55744,"O",null,"Electronic"]
["HOMETOWN HEALTH PLAN NEVADA",88023,"O","O","Electronic","P I "]
["HOPKINS HEALTH ADVANTAGE",66003,"O","O","Electronic","P I  "]
["HORACE MANN LIFE INSURANCE","HMLIC","O","O","Electronic","P"]
["HORIZON CASUALTY SERVICES (NJ ONLY) (WC ONLY)","J4007","O","O","Electronic","P I"]
["HORIZON NJ HEALTH",22326,"O","O","Electronic","P I "]
["HORIZON PACE","R4569","O","O","Electronic","P I"]
["HORIZON VALLEY MEDICAL GROUP","HVMG1","O",null,"Electronic"]
["HORTICA FLORIST MUTUAL INSURANCE ALL STATES) (WC ONLY)","13978W","O","O","Electronic"]
["HOSPITAL HOUSEKEEPING SYSTEMS (HHS) (ALL STATES) (WC ONLY)","J2274","O","O","Electronic"]
["HOUSEHOLD MERCH NNI (TX, MN) (WC ONLY)","J1071","O","O","Electronic"]
["HOWARD COUNTY GOVERNMENT (MD) (ALL STATES) (AUTO ONLY)","J1888A","O","O","Electronic"]
["HOWARD COUNTY GOVERNMENT (MD) (ALL STATES) (WC ONLY)","J1888W","O","O","Electronic"]
["HPMC - ALTA MED CLINICS (HPMC - AMC)",38828,"O","O","Paper","P I"]
["HSA HEALTH PLAN","U7632","O","O","Electronic"]
["HSBS WORLD TRADE CENTER HEALTH PROGRAM",31172,"O","O","Electronic"]
["HSHS MEDICAL GROUP IPA",37137,"O","O","Electronic","P I"]
["HUGHES RESOURCES (ALL STATES)","J1328W","O","O","Electronic"]
["HUGHES TOOL COMPANY (TX, MN) (WC ONLY)","WX106W","O","O","Electronic"]
["HUMAN BEHAVIOR INSTITUTE","HBI01","O",null,"Electronic","P"]
["HUMANA (AND SUBSIDIARIES) CLAIMS",61101,"O","O","Electronic","P I  "]
["HUMANA (AND SUBSIDIARIES) CLAIMS (SUBROGATION CLAIMS ONLY)","61101S","O","O","Electronic","P I"]
["HUMANA (AND SUBSIDIARIES) CLAIMS (WITH ATTACHMENTS)","J61101","O","O","Electronic"]
["HUMANA (PUERTO RICO)","Z90019","O","O","Electronic","P I"]
["HUMANA DENTAL",73288,null,null,"Paper"]
["HUMANA ENCOUNTERS (NO PAYMENT)",61102,"O","O","Electronic","P I"]
["HUMANA OF FLORIDA","FLHUMA",null,null,"Paper"," "]
["HUMANA, INC. (WC ONLY)","J1918","O","O","Electronic"]
["HUMBOLDT DEL NORTE FOUNDATION IPA",94154,"O","O","Paper","P I"]
["HURON VALLEY PACE",54750,"O","O","Electronic","P I"]
["HURST-EULESS-BEDFORD ISD (EOBC)","A0064",null,null,"Paper"]
["HUTCHINSON TECHNOLOGY (TX MN ONLY) (AUTO ONLY)","J1626A","O","O","Electronic"]
["HUTCHINSON TECHNOLOGY (TX MN ONLY) (WC ONLY)","J1626W","O","O","Electronic"]
["HUTCHINSON TECHNOLOGY (WC ONLY)","E4889W","O",null,"Paper"]
["I E SHAFFER AND CO",22174,"O","O","Electronic","P"]
["IAC LIFE",30360,"O","O","Electronic"]
["IBA SELF FUNDED GROUP",38234,"O","O","Electronic","P I"]
["IBEW LOCAL 309 HEALTH AND WELFARE FUND",9751,null,null,"Paper"]
["IBEW LOCAL 347","Z96324","O","O","Electronic"]
["IBEW LOCAL ONE HEALTH AND WELFARE (MENTAL HEALTH)",44602,"O","O","Electronic"]
["IBG ADMINISTRATORS LLC",81810,"O","O","Paper","P I"]
["IBM BUSINESS TOISC",19028,"O","O","Electronic"]
["ICARE HEALTH OPTIONS (FL OPTOMETRIC PHYS)",26054,"O",null,"Electronic"]
["ICHAHN AUTOMOTIVE GROUP (PEP BOYS & AUTOPLUS) (ALL STATES) (AUTO ONLY)","J3747A","O","O","Electronic","P I"]
["ICHAHN AUTOMOTIVE GROUP (PEP BOYS & AUTOPLUS) (ALL STATES) (WC ONLY)","J3747","O","O","Electronic","P I"]
["ICIRCLE CARE","ICRCL","O","O","Electronic","P I"]
["ICIRCLE OF NEW YORK",33884,null,null,"Paper"]
["ICW (INSURANCE CO OF THE WEST) (ALL STATES) (WC ONLY)",27847,"O","O","Electronic"]
["ICW GROUP (NV ONLY)","WP976","O","O","Electronic"]
["IDENTITYMSO","Z96574",null,null,"Paper"]
["IEC GROUP - AMERIBEN",97661,"O","O","Electronic"]
["IHG DIRECT",75274,"O","O","Paper","P I"]
["IL FORNAIO (AMERICA) CORP (ALL STATES) (WC ONLY)","WZ250W","O","O","Electronic"]
["ILLINOIS CASUALTY (ALL STATES) (WC ONLY)","J1575W","O","O","Electronic"]
["ILLINOIS CASUALTY (WC ONLY)(MN,TX ONLY)","15571W","O",null,"Paper"]
["ILLINOIS HEALTH PARTNERS","TH088","O","O","Electronic","P I"]
["ILLINOIS MEDICAID","SKIL0","O","O","Electronic","P I "]
["ILLINOIS MIDWEST INSURANCE (EOBC)","WZ251",null,null,"Paper"]
["ILLINOIS PHYSICIANS ALLIANCE IPA","IPA99","O","O","Electronic","P I"]
["IMA INC BIC LINE OF BUSINESS [64556]","Z96149","O","O","Electronic"]
["IMAGINE HEALTH",43123,"O","O","Electronic"]
["IMCARE",41600,"O","O","Electronic","P I"]
["IMPACT HEALTH SHARE INC","IH400","O","O","Electronic","P I"]
["IMPERIAL HEALTH HOLDINGS MEDICAL GROUP","IHHMG","O","O","Electronic"]
["IMPERIAL HEALTH PLAN OF CALIFORNIA INC","IHP01","O","O","Electronic","P I"]
["IMPERIAL INSURANCE COMPANIES","IICTX","O","O","Electronic"]
["IMS - TRIALCARD",56155,"O","O","Electronic"]
["IMS TPA",56132,"O","O","Electronic"]
["IMT (WC - ALL STATES)","J3930W","O","O","Paper","P I"]
["IMX EASY",86070,"O","O","Electronic","P"]
["IN PHYSICIAN ASSOCIATES","INPA1","O","O","Paper","P I"]
["IN PHYSICIAN ASSOCIATES - ACTY","INP12","O","O","Electronic","P I"]
["INCENTICARE",18151,"O","O","Paper","P I"]
["INDECS CORPORATION",40585,"O","O","Paper","P I"]
["INDEPENDENCE ADMINISTRATORS","NTA720","O",null,"Electronic"]
["INDEPENDENCE ADMINISTRATORS","TA720","O","O","Electronic"]
["INDEPENDENCE AMERICAN INSURANCE COMPANY","CB231","O","O","Electronic"]
["INDEPENDENCE BLUE CROSS PERSONAL CHOICE/BLUE CARD",54704,"X","X","Electronic","P I "]
["INDEPENDENCE BLUE CROSS PERSONAL CHOICE/BLUE CARD (ENCOUNTERS ONLY)","W54704","X","X","Electronic","P I"]
["INDEPENDENCE MEDICAL GROUP","MHM01","O",null,"Electronic","P"]
["INDEPENDENT CARE HEALTH PLAN","Z1044","O","O","Electronic","P I"]
["INDEPENDENT HEALTH","SX073","X","X","Electronic"]
["INDIAN HEALTH SERVICES","SX171","O","O","Electronic"]
["INDIANA DEPARTMENT OF HEALTH - CHILDREN'S HEALTH","Z1352","X","X","Electronic","P I"]
["INDIANA FARMERS MUTUAL (ALL STATES) (WC ONLY)","J3960","O","O","Electronic","P I"]
["INDIANA INSURANCE (ALL STATES) (WC ONLY)","J1425","O","O","Electronic"]
["INDIANA LUMBERMEN (INDIANAPOLIS) (ALL STATES) (WC ONLY)","J1330W","O","O","Electronic"]
["INDIANA PROHEALTH NETWORK",35161,"O","O","Electronic","P I  "]
["INDIANA UNIVERSITY HEALTH PLAN (COMMERCIAL IUHPLNS)",26212,"O","O","Paper","P I  "]
["INDIANA UNIVERSITY HEALTH PLAN (MEDICARE)",95444,"O","O","Electronic","I  "]
["INDIVIDUAL ASSURANCE COMPANY",75094,null,null,"Paper"]
["INFINITY PHYSICIAN ASSOCIATES","INFIN","O","O","Paper"]
["INGHAM HEALTH PLAN CORPORATION",38343,"O","O","Electronic","P I"]
["INGLES MARKETS (ALL STATES) (WC ONLY)","J1907","O","O","Electronic"]
["INJURED WORKERS INSURANCE FUND",52212,"O",null,"Electronic"]
["INLAND EMPIRE HEALTH PLAN [IEHP1]","IEHP2","O","O","Electronic","P I  "]
["INLAND FACULTY MEDICAL GROUP","MVMM1","O","O","Electronic"]
["INLAND FACULTY MEDICAL GROUP (ENCOUNTERS ONLY)","MVMM2","O",null,"Electronic","P"]
["INLAND HEALTH ORGANIZATION (IHO)","IHORG","O",null,"Electronic"]
["INNOVATION HEALTH",40025,"O","O","Paper","P I  "]
["INNOVATION HEALTH (WITH ATTACHMENTS)","J40025","O","O","Electronic"]
["INNOVATIVE CLAIM SOLUTIONS (ICS) RANCHO CORDOVA (ALL STATES) (WC ONLY)","J1599W","O","O","Electronic"]
["INNOVATIVE CLAIM SOLUTIONS (ICS) RANCHO CORDOVA (ALL STATES)(AUTO ONLY)","J1599A","O","O","Electronic"]
["INNOVATIVE CLAIM SOLUTIONS (ICS) SAN RAMON (ALL STATES) (AUTO ONLY)","J1601A","O","O","Electronic"]
["INNOVATIVE CLAIM SOLUTIONS (ICS) SAN RAMON (ALL STATES) (WC ONLY)","J1601W","O","O","Electronic"]
["INNOVATIVE PHYSICIAN ASSOCIATES",80087,"O","O","Electronic"]
["INSERVCO (ALL STATES) (AUTO ONLY)","J3948A","O","O","Electronic","P I"]
["INSERVCO (ALL STATES) (WC ONLY)","J3948","O","O","Electronic","P I"]
["INSERVCO INSURANCE SERVICES (WC ONLY) (ALL STATES)","CB619","O","O","Electronic"]
["INSILCO CORP (TX, MN) (WC ONLY)","WX107W","O","O","Electronic"]
["INSTAMED INTEGRATED REMITS (ALL PAYERS)","INSTA",null,null,"Paper"]
["INSURANCE ADMINISTRATIVE SOLUTIONS - ICL/VPAY STACK (PAY PLUS)","ZP1071",null,null,"Paper"]
["INSURANCE ADMINISTRATORS OF AMERICA INC (IAA)",37279,"O","O","Electronic","P I"]
["INSURANCE COMPANY OF THE WEST (ICW) (WC ONLY) (ALL STATES)","WZ291W","O","O","Electronic","P I"]
["INSURANCE COMPANY STATE OF PENNSYLVANIA (ALL STATES)","J1331W","O","O","Electronic"]
["INSURANCE DESIGN ADMINISTRATORS",13315,"O","O","Paper","P I"]
["INSURANCE MANAGEMENT ADMINISTRATORS (IMA OF LA)",72091,"O","O","Paper","P I"]
["INSURANCE MANAGEMENT SERVICES (AMARILLO, TX)",15688,"O","O","Paper","P I"]
["INSURANCE PROGRAM MANAGERS GROUP (IPMG)",36342,"O","O","Electronic","P I"]
["INSURANCE SERVICES OF LUBBOCK","TH012","O",null,"Electronic","P"]
["INSURANCE SYSTEMS INC [11889]","Z4402","O","O","Electronic"]
["INSURANCE TPA",39182,"O","O","Electronic","P I"]
["INSURERS ADMINISTRATIVE CORPORATION",86304,"O","O","Electronic","P I  "]
["INTEGON NATIONAL INSURANCE CO (NJ, MN ONLY) (AUTO ONLY)","C1028","O","O","Electronic"]
["INTEGRA ADMINISTRATIVE GROUP (DE)",51020,"O","O","Electronic","P  "]
["INTEGRA GROUP",31127,"O","O","Paper","P I "]
["INTEGRA GROUP - CHA",31129,"O",null,"Electronic","P"]
["INTEGRA GROUP HOME",31128,null,"O","Electronic"]
["INTEGRA MLTC, INC.","Z3001","O","O","Paper"]
["INTEGRANET HEALTH","INET1","O","O","Electronic","P I"]
["INTEGRATED BEHAVIORAL HEALTH DBA UPRISE HEALTH",63103,"O","O","Electronic","P I"]
["INTEGRATED HEALTH PARTNERS (IHP)","MPM26","O","O","Electronic","P I"]
["INTEGRATED HOME HEALTH SERVICES","IHCS1","O","O","Paper"]
["INTEGRATED MEDICAL SOLUTIONS",20050,"O","O","Electronic"]
["INTEGRITY ADMINISTRATORS (CHAMPION CHEVROLET)",99795,"O","O","Electronic"]
["INTEGRITY ADMINISTRATORS (REMITS ONLY)",6495,null,null,"Paper"]
["INTEGRITY MUTUAL INSURANCE COMPANY (ALL STATES) (WC ONLY)","14303W","O","O","Electronic"]
["INTER VALLEY HEALTH PLAN (FEE-FOR-SERVICE ONLY)",95325,"O","O","Electronic"," "]
["INTERACTIVE MEDICAL SYSTEMS",87765,"O","O","Electronic"]
["INTERCARE (WC ONLY) (ALL STATES)","J1542","O","O","Electronic"]
["INTERCARE INSURANCE SERVICES (CA, NV, TX, WA) (WC ONLY)","WZ299W","O","O","Electronic"]
["INTERFACE EAP (IEAP)",60280,"O","O","Electronic","P"]
["INTERGROUP SERVICES CORPORATION",23287,"O","O","Electronic","P I"]
["INTERINSURANCE EXCHANGE AUTOMOBILE CLUB (ALL STATES) (AUTO ONLY)","J1810A","O","O","Electronic"]
["INTERINSURANCE EXCHANGE AUTOMOBILE CLUB (ALL STATES) (WC ONLY)","J1810W","O","O","Electronic"]
["INTERLINK HEALTH SERVICES",93116,"O","O","Electronic"]
["INTERLOCK (METAL SALES) (ALL STATES)","J1332W","O","O","Electronic"]
["INTERMOUNTAIN HEALTHCARE (ALL STATES) (AUTO ONLY)","J2243A","O","O","Electronic"]
["INTERMOUNTAIN HEALTHCARE (ALL STATES) (WC ONLY)","J2243W","O","O","Electronic"]
["INTERNATIONAL BENEFIT ADMINISTRATION [11329]",12277,"O","O","Electronic"]
["INTERNATIONAL BROTHERHOOD OF BOILERMAKERS (FORMERLY BOILERMAKERS NATIONAL HEALTH & WELFARE FUND)",36609,"O","O","Paper","P I"]
["INTERNATIONAL CASING GROUP (ALL STATES)","J1333W","O","O","Electronic"]
["INTERNATIONAL MEDICAL CARD",66053,"X","X","Electronic"]
["INTERNATIONAL MEDICAL GROUP","IMGIN","O","O","Electronic","P I"]
["INTERNATIONAL PAPER (WC ONLY)","WZ317","O",null,"Electronic"]
["INTERNATIONAL UNION OF OPERATORS ENGINEERS LOCAL 15, 15A, 15C, & 15D AFL-CIO",37269,"O","O","Electronic"]
["INTERWEST HEALTH",84137,"O","O","Electronic"]
["INVICTA HEALTH SOLUTIONS",40753,"O","O","Electronic","P I"]
["IOWA HEALTH ADVANTAGE","RP075","O","O","Electronic","P I"]
["IOWA HEALTH SOLUTIONS",86068,"O","O","Electronic"]
["IOWA HOLDINGS (ALL STATES)","J1334W","O","O","Electronic"]
["IOWA SCREENING PROGRAM","HSMBS","O","O","Electronic"]
["IPMG CLAIMS MANAGEMENT SERVICES","JJ1887","O","O","Electronic"]
["IPMG CLAIMS MANAGEMENT SERVICES (INSURANCE PROGRAM MANAGERS GROUP)","J1887","O","O","Electronic"]
["IREX CORPORATION (TX, MN) (WC ONLY)","WX108W","O","O","Electronic"]
["IRON ROAD HEALTHCARE FKA UPREHS",87042,"O","O","Electronic","P I "]
["IRONWORKING CONTRACT I.P. (TX, MN) (WC ONLY)","WX109W","O","O","Electronic"]
["ISLAND HOME INSURANCE COMPANY",85502,"O","O","Electronic"," "]
["ISO - INTERNATIONAL STUDENT INSURANCE","ISOSH","O","O","Electronic","P"]
["ISURITY (ALL STATES) (WC ONLY)","J1911","O",null,"Electronic"]
["IU HEALTH TRANSPLANT EVALUATION PROGRAM",47262,"O","O","Electronic","P I"]
["J B HUNT TRANSPORT INC. (MN, TX, CA ONLY) WC ONLY","WC327W","O","O","Electronic"]
["J12 PART A REGIONAL REMITS (MD, DC & NJ)",12001,null,null,"Paper"]
["JADE HEALTH CARE MEDICAL GROUP","NMM07","O","O","Electronic","P I"]
["JAI MEDICAL SYSTEMS","JAI01","O","O","Electronic","P I  "]
["JARDINE DELPHI",10150,null,null,"Paper"]
["JARDINE GROUP SERVICES CORP.",14168,null,null,"Paper"]
["JENCARE MEDICAL","JCARE","O","O","Electronic"]
["JERICHO SHARE","IHS02","O","O","Electronic"]
["JFP BENEFIT MANAGEMENT INC",3519,null,null,"Paper"]
["JI SPECIALTIES","TH033","O",null,"Electronic"]
["JI SPECIALTY SERVICES (ALL STATES) (WC ONLY)","J1006W","O","O","Electronic","P I"]
["JI SPECIALTY SERVICES (TX ONLY) (WC ONLY)","WA044W","O","O","Electronic"]
["JLS FAMILY ENTERPRISES","JLSFE","O","O","Electronic","P I"]
["JMS & ASSOCIATES SBM","SBMCO","O","O","Electronic","P I"]
["JOBSMART (ALL STATES)","J1335W","O","O","Electronic"]
["JOHN MORRELL COMPANY CO AHPBA",38310,"O","O","Electronic","P I"]
["JOHN MUIR TRAUMA PHYSICIANS",68013,"O",null,"Electronic","P"]
["JOHN MUIR/TAPESTRY",78036,"O","O","Electronic"]
["JOHNS EASTERN COMPANY, INC. (REMITS ONLY)",524291,null,null,"Paper"]
["JOHNS HOPKINS HEALTHCARE",52189,"O","O","Electronic","P I  "]
["JOHNS HOPKINS HEALTHCARE (USFHP)",52123,"O","O","Electronic","P I  "]
["JOHNS HOPKINS HOME CARE GROUP","JHHCG","O",null,"Electronic"]
["JONES TRUCK LINES,INC. (TX, MN) (WC ONLY)","WX110W","O","O","Electronic"]
["JOPLIN CLAIMS",43178,"O","O","Electronic","P I"]
["JP FARLEY CORPORATION",34136,"O","O","Electronic","P I"]
["JP SPECIALTIES","12T47",null,"O","Electronic"]
["JUVENILE JAIL FACILITY MANAGEMENT (TX, MN) (WC ONLY)","WX111W","O","O","Electronic"]
["JVHL - AETNA BETTER HEALTH OF MI COVENTRY/OMNI (LAB CLAIMS ONLY","Z1280","X","X","Electronic","I"]
["JVHL - AETNA BETTER HEALTH PREMIER PLAN","000M5","X","X","Electronic","P I"]
["JVHL - AETNA U.S. HEALTHCARE (LAB CLAIMS ONLY)","Z1281","X","X","Electronic"]
["JVHL - AMERIHEALTH CARITAS VIP CARE PLUS (JVHL NETWORK) (LAB CLAIMS ONLY)","Z96239","X","X","Paper","P I"]
["JVHL - BCBS MI MEDICARE PLUS BLUE (LAB CLAIMS ONLY)","000KC","X","X","Electronic","P I"]
["JVHL - BCN CRITICAL ACCESS SMALL VOLUME","000MJ","X","X","Electronic"]
["JVHL - BLUE CARE NETWORK (BCN COMM LABS) (LAB CLAIMS ONLY","Z1277","X","X","Electronic"]
["JVHL - BLUE CARE NETWORK (LAB CLAIMS ONLY)","Z1279","X","X","Electronic"]
["JVHL - BLUE CARE NETWORK (REIMBURSABLE LABS) (LAB CLAIMS ONLY)","Z1298","X","X","Electronic"]
["JVHL - BLUE CROSS COMPLETE (JVHL NETWORK) (LAB CLAIMS ONLY)","Z96231","X","X","Paper","P I"]
["JVHL - CIGNA (HEALTH PARTNERS) (LAB CLAIMS ONLY)","Z96238","X","X","Electronic","P I"]
["JVHL - CIGNA (NON-HAP AND CIGNA-HAP) (LAB CLAIMS ONLY)","Z96234","X","X","Electronic","P I"]
["JVHL - COMMUNITY CARE ASSOCIATES (HEALTHCHOICE) (LAB CLAIMS ONLY)","Z1297","X","X","Electronic","I"]
["JVHL - GENESEE COUNTY HEALTH PLAN (LAB CLAIMS ONLY)","Z1295","X","X","Electronic"]
["JVHL - HAP EMPOWERED MIDWEST (LAB CLAIMS ONLY)","Z1285","X","X","Electronic","I"]
["JVHL - HEALTH ALLIANCE PLAN (CAPITATED CONTRACTS) (LAB CLAIMS ONLY))","Z1290","X","X","Electronic","I"]
["JVHL - HEALTH ALLIANCE PLAN FFS (LAB CLAIMS ONLY)","Z1356","X","X","Electronic","I"]
["JVHL - HUMANA (JVHL NETWORK) (LAB CLAIMS ONLY)","Z96232","X","X","Electronic","P I"]
["JVHL - MCLAREN HEALTH PLAN) (LAB CLAIMS ONLY)","Z96233","X","X","Electronic","P I"]
["JVHL - MERIDIAN HEALTH PLAN OF MI/HEALTH PLAN MI (LAB CLAIMS ONLY)","Z1292","X","X","Electronic","I"]
["JVHL - MOLINA HEALTHCARE OF MICHIGAN NON-PAR (LAB CLAIMS ONLY)","Z1276","X","X","Electronic","P I"]
["JVHL - MOLINA HEALTHCARE OF MICHIGAN PAR (LAB CLAIMS ONLY)","Z1275","X","X","Electronic","I"]
["JVHL - PRIORITY HEALTH (LAB CLAIMS ONLY)","Z1296","X","X","Electronic","I"]
["JVHL - RELIANCE HMO (LAB CLAIMS ONLY)","000MK","O","O","Paper","P I"]
["JVHL - THE WELLNESS PLAN (LAB CLAIMS ONLY)","Z1286","X",null,"Electronic"]
["JVHL - UNITED HEALTHCARE (GOLDEN RULE MEMBERS) (LAB CLAIMS ONLY)","Z96236","X","X","Electronic","P I"]
["JVHL - UNITED HEALTHCARE (NON-GOLDEN RULE MEMBERS) (LAB CLAIMS ONLY)","Z1293","X","X","Electronic"]
["JVHL - UNITED HEALTHCARE COMMUNITY PLAN/GLHP (LAB CLAIMS ONLY)","Z1294","X","X","Electronic","I"]
["JVHL - WELLCARE (LAB CLAIMS ONLY)","000MM","X","X","Electronic"]
["JWF SPECIALTY (ALL STATES) (AUTO ONLY)","J3800A","O","O","Electronic"]
["JWF SPECIALTY (ALL STATES) (WC ONLY)","J3800W","O","O","Electronic"]
["KAISER - SELF FUNDED",94320,"O","O","Electronic"]
["KAISER FOUNDATION HEALTH PLAN (MN,TX,CA) (WC ONLY)","A0066W","O","O","Electronic"]
["KAISER FOUNDATION HEALTH PLAN OF COLORADO",277,"O","O","Electronic","P I "]
["KAISER FOUNDATION HEALTH PLAN OF GEORGIA",21313,"O","O","Electronic","P I "]
["KAISER FOUNDATION HEALTH PLAN OF HAWAII",94123,"O","O","Electronic"]
["KAISER FOUNDATION HEALTH PLAN OF HAWAII (DHMO CHOICE)",10676,null,null,"Paper"]
["KAISER FOUNDATION HEALTH PLAN OF NORTHERN CA REGION",94135,"O","O","Electronic"," "]
["KAISER FOUNDATION HEALTH PLAN OF SOUTHERN CA REGION",94134,"O","O","Electronic","P I "]
["KAISER FOUNDATION HEALTH PLAN OF THE MID-ATLANTIC STATES",52095,"O","O","Electronic","P I "]
["KAISER FOUNDATION HEALTH PLAN OF WASHINGTON",91051,"O","O","Electronic","P I "]
["KAISER FOUNDATION OF THE NORTHWEST (OR & WA ONLY)",93079,"O","O","Electronic","P I  "]
["KAISER PERMANENTE KPIC","KPIC1","O","O","Electronic"]
["KALOS HEALTH",40137,"O","O","Paper","P I"]
["KAMG HOSPITAL","GSH02",null,"O","Electronic"]
["KANE COUNTY HARMONY MEDICAID","IPAK1","O","O","Electronic"]
["KANE COUNTY IPA","KCIPA","O","O","Electronic"]
["KANSAS CITY LIFE INSURANCE (REMITS ONLY)",44030,null,null,"Paper"]
["KANSAS CONSTRUCTION TRADES FRINGE BENEFIT FUND","R0066",null,null,"Paper"]
["KANSAS HEALTH ADVANTAGE",71066,"O","O","Electronic"]
["KATY MEDICAL CLAIMS",81812,"O","O","Electronic"]
["KAWEAH DELTA HC DISTRICT EMPLOYEES PLAN","IP085","O","O","Paper","P I"]
["KAWEAH DELTA MEDICARE ADVANTAGE","IP084","O","O","Electronic","P I"]
["KB MEDICAL PRACTICE PC - EMPIRE MEDICAL PRACTICE PC",35463,"O","O","Electronic","P"]
["KCI HOLDINGS USA (ALL STATES) (WC ONLY)","J1078W","O","O","Electronic"]
["KEENAN & ASSOCIATES","KEE01","O","O","Electronic","P I"]
["KEENAN & ASSOCIATES (CA ONLY) [WC, AUTO]","WZ437","O","O","Electronic"]
["KEENAN & ASSOCIATES TORRANCE (AUTO ONLY)","WZ437A","O",null,"Electronic"]
["KEENAN AND ASSOCIATES (ALL STATES) (WC ONLY)","J1498","O","O","Electronic"]
["KEENAN ASSOCIATES (CA)",95279,"O","O","Electronic"]
["KELLOGG COMPANIES (ALL STATES) (AUTO ONLY)","J1803A","O","O","Electronic"]
["KELLOGG COMPANIES (ALL STATES) (WC ONLY)","J1803W","O","O","Electronic"]
["KELLY SERVICES (ESIS) (WC ONLY)","J1451W","O","O","Electronic"]
["KELSEY-SEYBOLD","KELSE","O","O","Electronic","P I"]
["KEMPER HEALTH/UNITED INSURANCE COMPANY OF AMERICA","Z96554",null,null,"Paper"]
["KEMPTON COMPANY",73100,"O","O","Paper","P I"]
["KEN DAVIS INDUSTRIES INC. (TX, MN) (WC ONLY)","WX113W","O","O","Electronic"]
["KENOSHA COUNTY (WMMIC) (ALL STATES)","J1336W","O","O","Electronic"]
["KENT COUNTY HEALTH PLAN","KENT1","O","O","Electronic"]
["KENTUCKY EMPLOYERS MUTUAL INSURANCE - KEMI (ALL STATES)(AUTO ONLY)","J3680A","O","O","Electronic"]
["KENTUCKY EMPLOYERS MUTUAL INSURANCE - KEMI (ALL STATES)(WC ONLY)","J3680W","O","O","Electronic"]
["KENTUCKY HEALTH ADMINISTRATORS (KHA)",82357,"O","O","Electronic"]
["KENTUCKY NATIONAL (ALL STATES)","J1337W","O","O","Electronic"]
["KERN COUNTY CDCR",28021,"O","O","Electronic"]
["KERN HEALTH CARE NETWORK",22149,"O","O","Electronic","P I"]
["KERN HEALTH SYSTEMS",77039,"O","O","Electronic","P"]
["KERN LEGACY HEALTH PLAN",89890,"O","O","Electronic"]
["KERRY HOLDING CO.(ALL STATES)(AUTO ONLY)","J2275A","O","O","Electronic","P"]
["KERRY HOLDING CO.(ALL STATES)(WC ONLY)","J2275","O","O","Electronic","P"]
["KEY BENEFIT ADMINISTRATORS (INDIANAPOLIS, IN)",37217,"O","O","Electronic"]
["KEY GAP",35317,"O","O","Electronic","P I"]
["KEY HEALTH MEDICAL SOLUTIONS INC",95460,"O",null,"Electronic"]
["KEY HEALTHY PARTNERS",11044,null,null,"Paper"]
["KEY MEDICAL GROUP","Z1338","O","O","Electronic"]
["KEY MEDICAL GROUP- MEDICARE ADVANTAGE","IP083","O","O","Paper","P I"]
["KEY RISK MANAGEMENT SERVICES LLC (ALL STATES) (WC ONLY)","J1521","O","O","Electronic"]
["KEY SELECT",37321,"O","O","Electronic","P I"]
["KEY SOLUTION",37323,"O","O","Electronic"]
["KEYCARE (MD)","KCMD1","O","O","Paper","P I"]
["KEYSTONE FIRST (FKA KEYSTONE MERCY)",23284,"O","O","Electronic","P I "]
["KEYSTONE FIRST COMMUNITY HEALTHCHOICES",42344,"O","O","Electronic"," "]
["KEYSTONE FIRST VIP CHOICE",77741,"O","O","Electronic","P I "]
["KEYSTONE HEALTH PLAN CENTRAL",7415,"X",null,"Electronic"]
["KEYSTONE HEALTH PLAN EAST",7417,"X","X","Electronic","P I"]
["KG ADMINISTRATIVE SERVICES","KGA15","O","O","Electronic"]
["KIDZPARTNERS",14797,null,null,"Paper"]
["KING COUNTY BLUE SHEILD CLALLAM",93213,null,null,"Paper"]
["KING COUNTY BLUE SHIELD",93200,null,null,"Paper"]
["KING COUNTY BLUE SHIELD GRAYS HARBOR",93207,null,null,"Paper"]
["KING COUNTY BLUE SHIELD LEWIS",93210,null,null,"Paper"]
["KING COUNTY BLUE SHIELD THURSTON",93211,null,null,"Paper"]
["KING COUNTY BLUE SHIELD YAKIMA ",93214,null,null,"Paper"]
["KINGDOM LEGACY BENEFITS (KLB)",59184,"O","O","Electronic","P I"]
["KIRKLAND'S INC","E1061","O",null,"Electronic"]
["KIRKLAND'S INC (ALL STATES)(WC ONLY)","J1614","O","O","Electronic","P"]
["KISX CARD LLC",83313,"O","O","Electronic","P I"]
["KITSAP PHYSICIAN SERVICES (ELIGIBILITY ONLY)",10341,null,null,"Paper"]
["KOAN RISK SOLUTIONS",65871,"O","O","Paper","P I"]
["KOCH FOODS INC (ALL STATES) (AUTO ONLY)","J1986A","O","O","Electronic"]
["KOCH FOODS INC (ALL STATES) (WC ONLY)","J1986W","O","O","Electronic"]
["KOVA HEALTHCARE INC","KOVA1","O","O","Electronic"]
["KROGER CO (CA IL LA NC MN OR TX) (WC ONLY)","A0518","O","O","Electronic","P I"]
["KSKJ LIFE (REMITS AND ELIGIBILITY ONLY)","Z95791",null,null,"Paper"]
["KUSPUK SCHOOL DISTRICT",57610,"O","O","Electronic"]
["LA CARE HEALTH PLAN (LOS ANGELES CARE HEALTH PLAN)","LACAR","O","O","Electronic","P I "]
["LACH HEALTHNET BY MEDPOINT","MPM19","O","O","Electronic"]
["LADEGAST & HEFFENER CLAIMS SERVICE","Z96813",null,null,"Paper"]
["LAKE COUNTY PHYSICIANS ASSOCIATION",37116,"O","O","Electronic","P"]
["LAKES AREA COMMUNITY HEALTHPLAN (LACH)",52511,"O","O","Electronic"]
["LAKESIDE COMPREHENSIVE HEALTHCARE",66127,"O","O","Electronic","P I"]
["LAKESIDE HEALTH SERVICES","LMG11","O","O","Paper","P"]
["LAKESIDE MEDICAL GROUP","LMG01","O","O","Electronic","P I"]
["LANCASTER GENERAL HOSPITAL",16109,"O","O","Electronic","P I"]
["LANDIN (ALL STATES)(WC ONLY)","J3808","O","O","Electronic"]
["LANDMARK HEALTHCARE","Z1067","O",null,"Electronic","P"]
["LANDRY'S (ALL STATES) (AUTO ONLY)","J1889A","O","O","Electronic"]
["LANDRY'S (ALL STATES) (WC ONLY)","J1889W","O","O","Electronic"]
["LANDSTAR BCO WC PROGRAM (ALL STATES) (WC ONLY)","WX125","O","O","Electronic"]
["LANE COUNTY (OR ONLY) (AUTO ONLY)","J1987A","O","O","Electronic"]
["LANE COUNTY (OR) (WC ONLY)","J1987W","O","O","Electronic"]
["LAS VEGAS FIREFIGHTERS HEALTH & WELFARE TRUST",77684,"O","O","Electronic","P I"]
["LASALLE MEDICAL ASSOCIATES","NMM02","O","O","Electronic","P I"]
["LASSO HEALTHCARE","Z96441","O","O","Electronic"]
["LAWNDALE CHRISTIAN HEALTH PLAN",36333,"O","O","Paper","P I"]
["LCTA (LOUISIANA COMMERCE & TRADE ASSOC) (ALL STATES) (WC ONLY)","J1998","O","O","Electronic"]
["LEAGUE OF MINNESOTA CITIES INSURANCE TRUST (ALL STATES) (WC ONLY)","J1527W","O","O","Electronic","P I"]
["LEGGETT AND PLATT",75279,null,null,"Paper"]
["LEGION HEALTH PLAN (EOBC)","R40242",null,null,"Paper"]
["LEISURE WORLD MANAGED CARE","LWMC1","O",null,"Paper","P"]
["LEON HEALTH PLANS","A3565","O","O","Electronic","P I"]
["LEON MEDICAL CENTER HEALTH PLAN",37316,"O","O","Electronic","P I "]
["LFP CORPORATION (ALL STATES) (AUTO ONLY)","J1650A","O","O","Electronic"]
["LFP CORPORATION (ALL STATES) (WC ONLY)","J1650W","O","O","Electronic"]
["LHI WORLD TRADE CENTER",74851,"O","O","Electronic","P I"]
["LHS GOVERNMENT OPERATIONS",17380,"O","O","Paper","P I"]
["LIBERTY ADVANTAGE","LIB01","O","O","Electronic"]
["LIBERTY DENTAL PLAN","CX083",null,null,"Paper"," "]
["LIBERTY HEALTH ADVANTAGE",87071,"O","O","Electronic","P I"]
["LIBERTY MUTUAL (ALL STATES) (AUTO ONLY)","C1058","O","O","Electronic"]
["LIBERTY MUTUAL (WC ONLY)","J33600W","O","O","Electronic"]
["LIBERTY MUTUAL (WC ONLY) (ALL STATES)",5974,null,"O","Electronic"]
["LIBERTY MUTUAL (WC ONLY) W/O ATTACH","WZ635W","O","O","Electronic"]
["LIBERTY MUTUAL FIRE INSURANCE CO (MN,TX) (WC ONLY)","WZ626W","O","O","Electronic"]
["LIBERTY MUTUAL INSURANCE COMPANY (WC ONLY) (ALL STATES)","33600W","O","O","Electronic"]
["LIBERTY NATIONAL LIFE INSURANCE COMPANY",65331,null,null,"Paper"]
["LIFE & HEALTH INS CO OF AMERICA (NFL PLAN ONLY)","Z0069","O",null,"Electronic","P"]
["LIFE GIFT CARDS","33LGC","O","O","Electronic"]
["LIFE INVESTORS INSURANCE","TH120","O","O","Electronic"]
["LIFE INVESTORS OF AMERICA - LONG TERM CARE","TH093","O","O","Electronic"]
["LIFE PITTSBURGH",25181,"O","O","Electronic"]
["LIFE TIME, INC. - CORVEL (ALL STATES) (WC ONLY)","J4101","O","O","Electronic"]
["LIFE TRAC",41136,"O","O","Electronic","P"]
["LIFECARE ASSURANCE COMPANY",11170,null,null,"Paper"]
["LIFECIRCLES PACE",71498,"O","O","Electronic"]
["LIFEMAP","RLH01","O","O","Electronic"]
["LIFEPATH HOSPICE INC",76870,"O","O","Electronic"]
["LIFESHIELD NATIONAL INSURANCE CO.",47865,"O","O","Electronic","P I"]
["LIFESTYLE/MEDOVA HEALTH PLANS",27005,null,null,"Paper"]
["LIFETIME BENEFIT SOLUTIONS","EBSRM",null,null,"Paper"]
["LIFEWELL HEALTH PLANS",8940,null,null,"Paper"]
["LIFEWISE - A PREMERA HEALTH PLAN (OR ONLY)",93093,"O","O","Electronic","P I "]
["LIFEWISE ARIZONA",10843,null,null,"Paper"]
["LIFEWORKS ADVANTAGE","LWA01","O","O","Paper","P I"]
["LIMITED BENEFIT GROUP SUPPLEMENTAL",89486,"O","O","Electronic","P"]
["LINCOLN FINANCIAL","Z96304",null,null,"Paper"]
["LINCOLN HERITAGE","Z95717",null,null,"Paper"]
["LINCOLN NATIONAL OF WI",65676,null,null,"Paper"]
["LINE CONSTRUCTION BENEFIT FUND (REMITS ONLY)",1616,null,null,"Paper"]
["LINEAGE LOGISTICS HOLDINGS LLC (ALL STATES) (AUTO ONLY)","J2172A","O","O","Electronic","P I"]
["LINEAGE LOGISTICS HOLDINGS LLC (ALL STATES) (WC ONLY)","J2172","O","O","Electronic"]
["LINK SNACKS (JACKS LINKS) (ALL STATES) (WC ONLY)","J2133W","O","O","Electronic"]
["LINKIA - AETNA","Z1428","X",null,"Electronic","P"]
["LINKIA - CIGNA","Z1416","X",null,"Electronic","P"]
["LINKIA - HEALTHNET OF CA","Z1500","X",null,"Electronic","P"]
["LINKIA - UHC","Z96075","X",null,"Electronic","P"]
["LINKIA - UHC - COMMUNITY","Z96161","X",null,"Electronic","P"]
["LINKIA - UHC - OXFORD","Z96160","X",null,"Electronic","P"]
["LITTLE COMPANY OF MARY","LCM10","O","O","Electronic","P I"]
["LOCAL 137 OPERATING ENGINEERS WELFARE FUND",84041,"O","O","Electronic"]
["LOCAL 371 AMALGAMATED WELFARE TRUST FUND",3321,null,null,"Paper"]
["LOCAL 670 ENGINEERS",67011,"O","O","Paper","P I"]
["LOCAL 670 ENGINEERS VIP",67022,"O","O","Paper","P I"]
["LOCKARD & WILLIAMS","CB752","O","O","Paper","P I"]
["LOCKHEED MARTIN CORPORATION (ALL STATES) (WC ONLY)","J1454W","O","O","Electronic"]
["LOMA LINDA UNIVERSITY ADVENTIST HLTH SCIENCES CTR",37267,"O","O","Electronic","P I"]
["LOMA LINDA UNIVERSITY HEALTHCARE - MANAGEDCARE CLAIMS",33036,"O","O","Electronic"]
["LOMA LINDA UNIVERSITY MEDICAL CENTER (LLUMC)",95352,"O","O","Paper","P I"]
["LONE STAR MEDICAL GROUP","LNSTR","O","O","Paper"]
["LONE STAR TPA",45289,"O","O","Electronic"]
["LONESTAR TPA","Z96303",null,null,"Paper"]
["LONG BEACH UNIFIED SCHOOL DISTRICT (ALL STATES) (WC ONLY)","J1515","O","O","Electronic"]
["LONG PHERSON ASSOC (ALL STATES)","J1340W","O","O","Electronic"]
["LONGEVITY HEALTH PLAN OF COLORADO","LCO01","O","O","Paper","P I"]
["LONGEVITY HEALTH PLAN OF FLORIDA","LFL01","O","O","Paper","P I  "]
["LONGEVITY HEALTH PLAN OF ILLINOIS","LIL01","O","O","Electronic","P I  "]
["LONGEVITY HEALTH PLAN OF MICHIGAN","LMI01","O","O","Paper","P I"]
["LONGEVITY HEALTH PLAN OF NEW JERSEY","LNJ01","O","O","Paper","P I  "]
["LONGEVITY HEALTH PLAN OF NEW YORK","LNY01","O","O","Paper","P I  "]
["LONGEVITY HEALTH PLAN OF NORTH CAROLINA","LNC01","O","O","Paper","P I  "]
["LONGEVITY HEALTH PLAN OF OKLAHOMA","LOK01","O","O","Paper","P I  "]
["LONGS DRUGS (WC ONLY) (ALL STATES)","J1464W","O","O","Electronic"]
["LOUISIANA DEPARTMENT OF CORRECTIONS","LADOC","O","O","Electronic","P I"]
["LOUISIANA HEALTH EXCHANGE",10830,null,null,"Paper"]
["LOUISIANA STATE UNIVERSITY (ALL STATES) (AUTO ONLY)","J1953A","O","O","Electronic"]
["LOUISIANA STATE UNIVERSITY (ALL STATES) (WC ONLY)","J1953W","O","O","Electronic"]
["LOUISIANA WORKERS' COMPENSATION CORP (LWCC) (ALL STATES) (WC ONLY)","J1547","O","O","Electronic","P I"]
["LOWER KUSOKWIM SCHOOL DISTRICT",56756,"O","O","Electronic"]
["LOWE'S (CA IL LA NC MN OR TX) (WC ONLY)","J1465W","O","O","Electronic"]
["LOYAL AMERICAN LIFE INS CO- MEDICARE SUPPLEMENT (ELIGIBILITY ONLY)","Z90025",null,null,"Paper"]
["LOYAL CHRISTIAN BENEFIT ASSOCIATION",11159,null,null,"Paper"]
["LOYOLA PHYSICIAN PARTNERS",37175,"O","O","Paper"]
["LSG SKY CHEFS INTERNATIONAL (TX, MN) (WC ONLY)","WX127W","O","O","Electronic"]
["LUBA CASUALTY INSURANCE COMP (LA TX) (WC ONLY)","J1341","O","O","Electronic"]
["LUBA CASUALTY INSURANCE COMPANY (WC ONLY)","WB237W","O","O","Electronic"]
["LUMBERMEN'S UNDERWRITING ALL STATES",23108,"O","O","Electronic"]
["LUMBERMEN'S UNDERWRITING ALLIANCE (ALL STATES) (AUTO ONLY)","J1899A","O","O","Electronic","P"]
["LUMBERMEN'S UNDERWRITING ALLIANCE (ALL STATES) (WC ONLY)","J1899","O","O","Electronic"]
["LUMBERMEN'S UNDERWRITING ALLIANCE (WC ONLY) (TX,MN,CA,IL,LA ONLY)","J1540","O","O","Electronic"]
["LUMICO LIFE INSURANCE COMPANY (ELIGIBILITY AND REMITS ONLY)","Z96364",null,null,"Paper"]
["LUTHER CARE","CB212","O","O","Electronic"]
["LUTHERAN PREFERRED","MP330","O","O","Electronic"]
["LUTHERANADVANCED PPO",89643,"O","O","Electronic"]
["LWP CLAIMS SOLUTION INC (ALL STATES) (WC ONLY)","J2322","O","O","Electronic"]
["LYNX (ALL STATES) (AUTO ONLY)","J1949A","O","O","Electronic"]
["LYNX (ALL STATES) (WC ONLY)","J1949W","O","O","Electronic"]
["M&M TRANSPORT","J1342W","O","O","Electronic"]
["MAC J3 REGIONAL REMITS - PART A ONLY   (AZ, MT, ND, SD, UT, WY)","Z1348",null,null,"Paper"]
["MACKINAW OAKLAND COUNTY","J1344W","O","O","Electronic"]
["MACNEAL HEALTH PROVIDERS- CHS",36334,"O","O","Electronic","P I"]
["MACYS (DALY CITY) (WC ONLY)","J1345W","O",null,"Electronic"]
["MACYS (NEWPORT BEACH) (WC ONLY)","J1346W","O",null,"Electronic"]
["MACY'S CORPORATE SERVICE INC (ALL STATES) (WC ONLY)","J1347","O",null,"Electronic"]
["MACYS CORPORATE SERVICES (ALL STATES) (WC ONLY)","J1347W","O","O","Electronic","P I"]
["MADISON GAS & ELECTRIC (ALL STATES)","J1348W","O","O","Electronic"]
["MAGELLAN BEHAVIORAL HEALTH","MBH11","O","O","Electronic","P I "]
["MAGELLAN COMPLETE CARE OF VIRGINIA DSNP","MCC02","O","O","Electronic","P  "]
["MAGELLAN RX MANAGEMENT (REMITS ONLY)","Z96553",null,null,"Paper"]
["MAGNA CARTA (ALL STATES) (AUTO ONLY)","J2173A","O","O","Electronic","P I"]
["MAGNA CARTA (ALL STATES) (WC ONLY)","J2173","O","O","Electronic","P I"]
["MAGNACARE",11303,"O","O","Electronic","P I "]
["MAGNETIC IMAGING SERVICE, INC. (MIS) (ALL STATES) (AUTO ONLY)","J3976A","O","O","Electronic","P I"]
["MAGNETIC IMAGING SERVICE, INC. (MIS) (ALL STATES) (WC ONLY)","J3976","O","O","Electronic","P I"]
["MAGNOLIA HEALTH PLAN",68062,"O","O","Electronic"]
["MAIN STREET AMERICA GROUP / MAIN STREET AMERICA ASSURANCE (ALL STATES) (AUTO ONLY)","J1837A","O","O","Electronic"]
["MAIN STREET AMERICA GROUP / MAIN STREET AMERICA ASSURANCE (ALL STATES) (WC ONLY)","J1837W","O","O","Electronic"]
["MAIN STREET AMERICA GROUP / MSA INSURANCE PROTECTION (ALL STATES) (AUTO ONLY)","J1838A","O","O","Electronic"]
["MAIN STREET AMERICA GROUP / MSA INSURANCE PROTECTION (ALL STATES) (WC ONLY)","J1838W","O","O","Electronic"]
["MAIN STREET AMERICA GROUP / MSAIC SURPLUS/NON-ADMITTED (ALL STATES) (AUTO ONLY)","J1839A","O","O","Electronic"]
["MAIN STREET AMERICA GROUP / MSAIC SURPLUS/NON-ADMITTED (ALL STATES)(WC ONLY)","J1839W","O","O","Electronic"]
["MAIN STREET AMERICA GROUP / OLD DOMINION INS CO (ALL STATES) (AUTO ONLY)","J1841A","O","O","Electronic"]
["MAIN STREET AMERICA GROUP / OLD DOMINION INS CO (ALL STATES) (WC ONLY)","J1841W","O","O","Electronic"]
["MAIN STREET AMERICA GROUP / SPRING VALLEY MUTUAL (ALL STATES) (AUTO ONLY)","J1842A","O","O","Electronic"]
["MAIN STREET AMERICA GROUP / SPRING VALLEY MUTUAL (ALL STATES) (WC ONLY)","J1842W","O","O","Electronic"]
["MAINE COMMUNITY HEALTH OPTIONS",45341,"O","O","Electronic","P I "]
["MAJOR LEAGUE BASEBALL 8 (ALL STATES) (WC ONLY)","J1082W","O","O","Electronic"]
["MANAGED CARE OF NORTH AMERICA MCNA",14317,null,null,"Paper"," "]
["MANAGED CARE SERVICES LLC",35162,"O","O","Paper","P I"]
["MANAGED CARE SYSTEMS (DELANO)","MCS02","O",null,"Electronic","P"]
["MANAGED CARE SYSTEMS (GEMCARE)","MCS01","O","O","Paper","P I  "]
["MANAGED CARE SYSTEMS CDCR","MCS04","O",null,"Electronic","P"]
["MANAGED DENTAL CARE NETWORK",10610,null,null,"Paper"]
["MANAGED HEALTH SERVICES INDIANA (MEDICAID HMO)",39186,"O","O","Electronic","P I "]
["MANAGED HEALTH SERVICES WISCONSIN",39187,"O","O","Electronic","P I "]
["MANAGED HEALTHCARE ASSOC (MHCA)",36312,"O","O","Electronic","P I"]
["MANHATTAN LIFE (ELIGIBILITY ONLY)","MNHTN",null,null,"Paper"]
["MANUFACTURING TECHNOLOGY MUTUAL INC CO",21471,null,null,"Paper"]
["MANULIFE, W.J. SUTTON CO. OF TORONTO, ONTARIO",98010,"O","O","Electronic","P I"]
["MAPFRE",5251,"X","X","Electronic"," "]
["MAPFRE INSURANCE (AUTO - NJ ONLY)","C1086A","O","O","Paper","P I"]
["MARCH VISION CARE","Z1407","O",null,"Electronic"]
["MARICOPA HEALTH PLAN, MANAGED BY UPH",9908,"O","O","Electronic","P I "]
["MARION POLK COMMUNITY HEALTH PLAN (MPCHP) (DOS PRIOR TO 01/01/2020)","Z1349","O","O","Electronic"]
["MARION POLK COMMUNITY HEALTH PLAN ADVANTAGE","MPCHA","O",null,"Electronic"]
["MARION POLK COMMUNITY HEALTH PLAN ADVANTAGE","Z1350","O","O","Electronic"]
["MARKEL (ALL STATES) (AUTO ONLY)","J2321A","O","O","Electronic"]
["MARKEL (ALL STATES) (WC ONLY)","J2321W","O","O","Electronic"]
["MARRICK MEDICAL FINANCE",20805,"O","O","Electronic"]
["MARRIOTT (ALL STATES) (WC ONLY)","J1431","O","O","Electronic"]
["MARRIOTT CLAIMS SERVICE","WZ787","O",null,"Electronic"]
["MARTEN TRANSPORT (ALL STATES)","J1349W","O","O","Electronic"]
["MARTINS POINT HEALTH CARE",53275,"O","O","Paper","P I  "]
["MARTINS POINT HEALTH CARE USFHP/GENERATIONS ADV","Z1379","O","O","Electronic","P I"]
["MARY WASHINGTON HEALTH PLAN",83269,"O","O","Paper","P I  "]
["MARYLAND HEALTH PARTNERS","SX069","O",null,"Electronic"]
["MARYLAND PHYSICIANS CARE MPC",76498,"O","O","Electronic"," "]
["MARYLAND UNINSURED EMPLOYER'S FUND (ALL STATES) (AUTO ONLY)","J3744A","O","O","Electronic","P I "]
["MARYLAND UNINSURED EMPLOYER'S FUND (ALL STATES) (WC ONLY)","J3744","O","O","Electronic","P I "]
["MASHANTUCKET PEQUOT TRIBAL NATION",37121,"O","O","Electronic","P I"]
["MASONRY WELFARE TRUST FUND",13253,null,null,"Paper"]
["MASSACHUSETTS BAY INSURANCE CO (ALL STATES) (AUTO ONLY)","J1689A","O","O","Electronic","P I"]
["MASSACHUSETTS BAY INSURANCE CO (ALL STATES) (WC ONLY)","J1689W","O","O","Electronic","P I"]
["MASSACHUSETTS LABORERS BENEFIT FUNDS (REMITS ONLY)","ZP3729",null,null,"Paper"]
["MASSAMONT INSURANCE (ALL STATES)","J1350W","O","O","Electronic"]
["MASTER MATES AND PILOT PLAN","MMPHB","O","O","Electronic","P I"]
["MATHIS ISD (ALL STATES) (WC ONLY)","J3871W","O","O","Electronic","P I"]
["MATRIX ABSENCE MANAGEMENT","TP075","O",null,"Electronic"]
["MATRIX ABSENCE MANAGEMENT (AUSTIN, TX)","WX817","O","O","Electronic"]
["MATRIX ABSENCE MANAGEMENT (WC ONLY) (ALL STATES)","TP075W","O","O","Electronic"]
["MAXIM CRANE WORKS (ALL STATES) (WC ONLY)","J1083W","O","O","Electronic"]
["MAXORPLUS LTD (REMITS ONLY)","Z95671",null,null,"Paper"]
["MAYO CLINIC FL/GA",88090,"O","O","Paper","P I"]
["MAYO CLINIC/RECOVERY AND CLAIMS SERVICES (RCS)  (WC ONLY) (TX/MN/CA/LA ONLY)","41193W","O","O","Electronic"]
["MAYO CLINIC/RECOVERY AND CLAIMS SERVICES (WC ONLY) (ALL STATES)",41193,"O","O","Electronic"]
["MBA BENEFIT ADMINISTRATORS",83028,"O","O","Electronic"]
["MBA TPA",52682,"O","O","Electronic","P I"]
["MCA ADMINISTRATORS INC",25160,"O","O","Electronic","P I  "]
["MCCLANCY SEASONING",25649,"O","O","Electronic"]
["MCDONALD'S-MCOPCO (TX, MN) (WC ONLY)","WX155W","O","O","Electronic"]
["MCIT (MN, TX) (AUTO ONLY)","J1351A","O","O","Electronic"]
["MCKESSON SPECIALTY ARIZONA INC","R02672",null,null,"Paper"]
["MCKINLEY MEDICAL GROUP","MHM02","O",null,"Electronic"]
["MCLAREN ADVANTAGE (HMO SNP)","3833R","O","O","Electronic"]
["MCLAREN HEALTH ADVANTAGE","3833A","O","O","Electronic"]
["MCLAREN HEALTH PLAN",38338,"O","O","Electronic","P I  "]
["MCLAREN HEALTH PLAN MEDICAID","3833C","O","O","Electronic"," "]
["MCMC (REMITS ONLY)",2320,null,null,"Paper"]
["MD CARE HEALTH PLAN","MDC01","O",null,"Electronic"]
["MD PARTNERS IPA","MLMDP","O","O","Electronic"]
["MDA HEALTH PLAN (EOBC)","R29422",null,null,"Paper"]
["MDWISE HEALTHY INDIANA PLAN (DOS 1/1/19 AND AFTER)","3135M","O","O","Electronic"]
["MDWISE HOOSIER HEALTHWISE (DOS 1/1/19 AND AFTER)","3519M","O","O","Electronic"]
["MDWISE MEDICARE ADVANTAGE","MDADV","O","O","Electronic","P I"]
["MDX HAWAII","MDXHI","O","O","Electronic"]
["MEADOWBROOK INSURANCE (ALL STATES) (AUTO ONLY)","WR778A","O","O","Electronic"]
["MEADOWBROOK INSURANCE GROUP (ALL STATES) (WC ONLY)","J1478","O","O","Electronic"]
["MEADOWBROOK INSURANCE GROUP (WC ONLY) (ALL STATES)","WR778","O","O","Electronic"]
["MED PAY",88058,"O","O","Electronic"]
["MEDADMIN SOLUTIONS",58202,"O","O","Electronic","P"]
["MEDCO FOR NCPDP REMITS","Z1460",null,null,"Paper"]
["MEDCOM",59231,"O","O","Electronic","P I"]
["MEDCORE HEALTH PLAN","MDCOR","O","O","Electronic"]
["MEDCORE HP",31057,"O","O","Electronic","P I"]
["MEDCOST / LIBERTY HEALTH SHARE",90753,"O","O","Electronic"]
["MEDCOST BENEFITS SERVICES",56205,"O","O","Electronic","P I "]
["MEDCOST PREFERRED",56162,"O","O","Electronic","P I"]
["MEDCOST PREFERRED (SUBROGATION CLAIMS ONLY)","56162S","O","O","Electronic","P I"]
["MEDDIRECT",38353,"O",null,"Electronic"]
["MEDEQUIP INC","MQ027","O",null,"Electronic"]
["MEDFOCUS",95321,"O",null,"Electronic","P"]
["MEDICA HEALTH PLAN - FEE FOR SERVICE",94265,"O","O","Electronic","P I "]
["MEDICA HEALTH PLAN SOLUTIONS",71890,"O","O","Electronic","P I  "]
["MEDICA MEDICARE ADVANTAGE (EFFECTIVE 1/1/2021)","MEDM1","O","O","Electronic","P I  "]
["MEDICA2 IFB","Z95382","O","O","Electronic","P I "]
["MEDICAID ALABAMA","SKAL0","O","O","Electronic","P I "]
["MEDICAID ALABAMA - EDS FEDERAL - OUTPATIENT",5587,null,"O","Electronic","I"]
["MEDICAID ALABAMA - OUTPATIENT","SKAL1",null,"O","Electronic","I"]
["MEDICAID ALASKA","SKAK0","X","X","Electronic"]
["MEDICAID ARIZONA (AHCCCS)","SKAZ0","O","O","Electronic","P I "]
["MEDICAID ARKANSAS","SKAR0","O","O","Electronic","P I "]
["MEDICAID ARKANSAS (ENCOUNTERS ONLY)","SKAR1","O","O","Electronic","P I"]
["MEDICAID CALIFORNIA","SKCA0","X","X","Electronic","P I "]
["MEDICAID CALIFORNIA (WITH ATTACHMENTS)","JSKCA0","O","O","Electronic"]
["MEDICAID COLORADO","SKCO0","O","O","Electronic","P I "]
["MEDICAID CONNECTICUT","SKCT0","O","O","Electronic","P I "]
["MEDICAID DELAWARE","SKDE0","O","O","Electronic","P I "]
["MEDICAID DELAWARE (DEPT OF SERVICES CHILDREN YOUTH & THEIR FAMILIES)","DSCYF","O","O","Electronic","P I"]
["MEDICAID DISTRICT OF COLUMBIA (DC)","SKDC0","X","X","Electronic","P I "]
["MEDICAID FLORIDA","SKFL0","X","X","Electronic","P I "]
["MEDICAID GEORGIA","SKGA0","O","O","Electronic"]
["MEDICAID HAWAII","SKHI0","X","X","Electronic"]
["MEDICAID IDAHO","ZKID0","X","X","Electronic"]
["MEDICAID INDIANA","SKIN0","O","O","Electronic","I "]
["MEDICAID IOWA","SKIA0","X","X","Electronic","P I"]
["MEDICAID KANSAS","SKKS0","O","O","Electronic","I "]
["MEDICAID KENTUCKY","SKKY0","X","X","Electronic","P I "]
["MEDICAID LOUISIANA - ADULT DAY HEALTH CARE [.ADC]","SKLA7",null,"X","Electronic","I"]
["MEDICAID LOUISIANA - AMBULANCE TRANSPORTATION [.TRA]","Z1057","X",null,"Electronic","P "]
["MEDICAID LOUISIANA - DURABLE MEDICAL EQUIPMENT [.DME]","Z1050","X",null,"Electronic","P "]
["MEDICAID LOUISIANA - HOME HEALTH [.HOM]","SKLA2",null,"X","Electronic","I"]
["MEDICAID LOUISIANA - HOSPITAL IP/OP [.UB9]","SKLA6",null,"X","Electronic","I"]
["MEDICAID LOUISIANA - LTC, ICF/DD, SNF, HOSPICE [.LTC]","SKLA3",null,"X","Electronic","I"]
["MEDICAID LOUISIANA - MEDICARE ADVANTAGE PART A [.XXA]","SKLAA",null,"X","Electronic","I"]
["MEDICAID LOUISIANA - MEDICARE ADVANTAGE PART B [.XXB]","SKLAB","X",null,"Electronic","P"]
["MEDICAID LOUISIANA - NON-EMERGENCY TRANSPORTATION [.NAM]","SKLA05","X",null,"Electronic","P "]
["MEDICAID LOUISIANA - PHYSICIANS, PEDIATRIC DAY HEALTHCARE [.PHY]","SKLA0","X",null,"Electronic","P "]
["MEDICAID LOUISIANA - REHABILITATION [.REH]","SKLA4","X",null,"Electronic","P "]
["MEDICAID MAINE","SKME1","X","X","Electronic","P I "]
["MEDICAID MARYLAND","SKMD0","X","X","Electronic"]
["MEDICAID MASSACHUSETTS","SKMA0","X","X","Electronic"]
["MEDICAID MICHIGAN","SKMI0","X","X","Electronic","P I "]
["MEDICAID MINNESOTA","SKMN0","X","X","Electronic","P I "]
["MEDICAID MISSISSIPPI","SKMS0","O","O","Electronic","P I "]
["MEDICAID MISSISSIPPI (MEDICARE ADVANTAGE)","SKMS0MA",null,"O","Electronic","I"]
["MEDICAID MISSISSIPPI (MEDICARE ADVANTAGE)","SKMS0MB","O",null,"Electronic","P"]
["MEDICAID MISSOURI","SKMO0","O","O","Electronic","P I "]
["MEDICAID MONTANA","SKMT0","O","O","Electronic"]
["MEDICAID NEBRASKA","SKNE0","X","X","Electronic"]
["MEDICAID NEVADA","SKNV0","X","X","Electronic","P I "]
["MEDICAID NEW HAMPSHIRE","SKNH0","X","X","Electronic","P I "]
["MEDICAID NEW JERSEY","SKNJ0","X","X","Electronic","P I "]
["MEDICAID NEW MEXICO","SKNM0","O","O","Electronic","P I "]
["MEDICAID NEW YORK","SKNY1","X",null,"Electronic","P "]
["MEDICAID NEW YORK CATEGORY OF SERVICE 0160/0 INSTITUTIONAL","SKNY5",null,"X","Electronic","I"]
["MEDICAID NEW YORK CATEGORY OF SERVICE 0160/0287",3529,null,"O","Electronic","I"]
["MEDICAID NEW YORK INPATIENT - INSTITUTIONAL","SKNY4",null,"X","Electronic","I"]
["MEDICAID NEW YORK OUTPATIENT - INSTITUTIONAL","SKNY6",null,"X","Electronic","I"]
["MEDICAID NEW YORK TITLE X1X INSTITUTIONAL","SKNY3",null,"X","Electronic"]
["MEDICAID NORTH CAROLINA","SKNC0","X","X","Electronic","P I  "]
["MEDICAID NORTH CAROLINA (CAROLINA ACCESS ONLY)","SKNC1","X",null,"Electronic","P"]
["MEDICAID NORTH DAKOTA","SKND0","O","O","Electronic","P I "]
["MEDICAID OF CONNECTICUT (CT)","CKCT1",null,null,"Paper"]
["MEDICAID OF MISSOURI (MO)","CKMO1",null,null,"Paper"]
["MEDICAID OF MN",22234,null,null,"Paper"]
["MEDICAID OF OKLAHOMA (OK)","CKOK1",null,null,"Paper"]
["MEDICAID OF RHODE ISLAND (RI)","CKRI1",null,null,"Paper"]
["MEDICAID OF UTAH (UT)","CKUT1",null,null,"Paper"]
["MEDICAID OHIO","SKOH0","O","O","Electronic","P I "]
["MEDICAID OHIO - AMERIHEALTH CARITAS OHIO",35374,"O","O","Electronic","P I "]
["MEDICAID OHIO - AMERIHEALTH CARITAS OHIO - TRANSPORTATION ONLY",42435,"O","O","Electronic","P I"]
["MEDICAID OHIO - AMERIHEALTH CARITAS OHIO RADIOLOGY ONLY",84243,null,null,"Paper"]
["MEDICAID OHIO - ANTHEM DENTAQUEST DENTAL","SKOH14",null,null,"Paper"]
["MEDICAID OHIO - ANTHEM EYEMED VISION","SKOH10","O","O","Electronic","P I"]
["MEDICAID OHIO - ANTHEM OHIO MEDICAID","SKOH5","O","O","Electronic","P I "]
["MEDICAID OHIO - BUCKEYE ENVOLVE DENTAL","SKOH11",null,null,"Paper"]
["MEDICAID OHIO - BUCKEYE ENVOLVE VISION","SKOH7","O","O","Electronic","P I"]
["MEDICAID OHIO - BUCKEYE OHIO MEDICAID","SKOH3","O","O","Electronic","P I "]
["MEDICAID OHIO - CARESOURCE OHIO - DENTAL","SKOH1",null,null,"Paper"]
["MEDICAID OHIO - CARESOURCE OHIO - VISION","SKOH6","O","O","Electronic","P I "]
["MEDICAID OHIO - CARESOURCE OHIO MEDICAID","SKOH2","O","O","Electronic","P I "]
["MEDICAID OHIO - HUMANA DENTAQUEST","SKOH13",null,null,"Paper"]
["MEDICAID OHIO - HUMANA EYEMED","SKOH9","O","O","Electronic","P I "]
["MEDICAID OHIO - HUMANA OHIO MEDICAID",61103,"O","O","Electronic","P I "]
["MEDICAID OHIO - MOLINA MARCH VISION","SKOH8","O","O","Electronic","P I"]
["MEDICAID OHIO - MOLINA OHIO MEDICAID","SKOH4","O","O","Electronic","P I "]
["MEDICAID OHIO - MOLINA SKYGEN (DENTAL)","SKOH12",null,null,"Paper"]
["MEDICAID OHIO - OHIORISE - AETNA BETTER HEALTH OF OHIO",45221,"O","O","Electronic","P I  "]
["MEDICAID OHIO - UNITED HEALTHCARE OH MEDICAID",88337,"O","O","Electronic","P I "]
["MEDICAID OHIO - UNITED HEALTHCARE OH MEDICAID - DENTAL",83244,null,null,"Paper"]
["MEDICAID OHIO - UNITED HEALTHCARE OH MEDICAID - VISION",83572,"O","O","Electronic","P I"]
["MEDICAID OKLAHOMA","SKOK0","O","O","Electronic","P I "]
["MEDICAID OREGON","SKOR0","X","X","Electronic","P I "]
["MEDICAID PAPER","PCAID","O",null,"Electronic"]
["MEDICAID PENNSYLVANIA","SKPA0","O","O","Electronic","P I "]
["MEDICAID RHODE ISLAND",7421,"O","O","Electronic","P I"]
["MEDICAID SOUTH CAROLINA","SKSC0","X","X","Electronic","P I  "]
["MEDICAID SOUTH DAKOTA","SKSD0","X","X","Electronic"]
["MEDICAID TENNESSEE","SKTN1","O","O","Paper","P I "]
["MEDICAID TEXAS","SKTX0","O","O","Electronic","P I "]
["MEDICAID TEXAS (LONG TERM CARE)","SKTX2","X","X","Electronic"]
["MEDICAID TEXAS (NON-ENROLLED TMHP MCO-EVV)","SKTX4","O","O","Electronic"]
["MEDICAID UTAH","SKUT0","X","X","Electronic"]
["MEDICAID UTAH - CROSSOVER CLAIMS","SKUT1","X","X","Electronic"]
["MEDICAID UTAH ATYPICAL PROVIDERS ONLY","SKUT3","X","X","Electronic"]
["MEDICAID VERMONT","SKVM0","X","X","Electronic","P I "]
["MEDICAID VERMONT (OUTPATIENT CLAIMS)","Z96390",null,"X","Electronic","I"]
["MEDICAID VIRGIN ISLANDS (HOSPITAL/INSTITUTIONAL ONLY)","12K39",null,"O","Electronic"]
["MEDICAID VIRGINIA","SKVA0","O","O","Electronic","P I "]
["MEDICAID WASHINGTON - WASHINGTON APPLE HEALTH","SKWA0","O","O","Electronic","P I "]
["MEDICAID WEST VIRGINIA","SKWV0","O","O","Electronic","P I "]
["MEDICAID WISCONSIN","SKWI0","O","O","Electronic","P I  "]
["MEDICAID WYOMING","SKWY0","X","X","Electronic"]
["MEDICAL ASSOCIATES HEALTH PLANS/HEALTH CHOICES [MAHC1]","Z1269","O","O","Electronic"]
["MEDICAL BENEFIT ADMINISTRATION, INC (GRASS VALLEY CA)",68041,"O",null,"Electronic","P"]
["MEDICAL BENEFIT ADMINISTRATORS(NEWARK, OH)","CX024",null,null,"Paper"]
["MEDICAL BENEFITS COMPANIES (NEWARK, OH)",74323,"O","O","Electronic","P I "]
["MEDICAL CARD SYSTEM","Z1419","X","X","Paper"]
["MEDICAL MUTUAL OF OHIO (MMO)","SX057","O","O","Electronic","P I "]
["MEDICAL MUTUAL OF OHIO (MMO) (ENCOUNTERS ONLY)","SX057E","O","O","Electronic","I"]
["MEDICAL OUTCOME INDICATORS INC (MOI)","R35617",null,null,"Paper"]
["MEDICAL REIMBURSEMENTS OF AMERICA",62177,"O","O","Electronic","I"]
["MEDICAL SAFETY NET","AMM13","O","O","Electronic"]
["MEDICAL SERVICES FOR INDIGENTS","AMM02","O","O","Paper","P I"]
["MEDICAL SERVICES INITIATIVE","Z95400","O","O","Electronic"]
["MEDICARE A - (FQHC) ONLY - NOT FOR AZ, MT, ND, SD, UT, WY (WITH ATTACHMENTS)","JZ1051",null,"X","Electronic","I"]
["MEDICARE A - FEDERALLY QUALIFIED HEALTH CENTERS (FQHC) ONLY - NOT FOR AZ, MT, ND, SD, UT, WY","Z1051",null,"X","Electronic","I"]
["MEDICARE A - RHHI - HOME HEALTH HOSPICE (REGION D, WI, MI, NY, NJ, MN, PR, VI)","Z1052",null,"X","Electronic","I"]
["MEDICARE A - RHHI - HOME HEALTH HOSPICE (REGION D, WI, MI, NY, NJ, MN, PR, VI) (WITH ATTACHMENTS)","JZ1052",null,"X","Electronic","I"]
["MEDICARE A & B ELIGIBILITY (ALL STATES)","Z1073",null,null,"Paper"," "]
["MEDICARE A ALABAMA","IMAL0",null,"X","Electronic"]
["MEDICARE A ALASKA","IMAK0",null,"X","Electronic","I"]
["MEDICARE A ARIZONA","IMAZ0",null,"X","Electronic","I"]
["MEDICARE A ARKANSAS","IMAR0",null,"X","Electronic","I"]
["MEDICARE A CALIFORNIA","IMCA0",null,"X","Electronic"]
["MEDICARE A COLORADO","IMCO0",null,"X","Electronic","I"]
["MEDICARE A CONNECTICUT","IMCT0",null,"X","Electronic"]
["MEDICARE A CONNECTICUT (WITH ATTACHMENTS)","JIMCT0",null,"X","Electronic"]
["MEDICARE A DELAWARE","IMDE0",null,"X","Electronic","I"]
["MEDICARE A DISTRICT OF COLUMBIA (DC)","IMDC0",null,"X","Electronic","I"]
["MEDICARE A FLORIDA","IMFL0",null,"X","Electronic","I"]
["MEDICARE A GEORGIA","IMGA0",null,"X","Electronic","I"]
["MEDICARE A HAWAII","IMHI0",null,"X","Electronic"]
["MEDICARE A IDAHO","IMID0",null,"X","Electronic","I"]
["MEDICARE A ILLINOIS","IMIL0",null,"X","Electronic"]
["MEDICARE A ILLINOIS (WITH ATTACHMENTS)","JIMIL0",null,"X","Electronic"]
["MEDICARE A INDIANA","IMIN0",null,"X","Electronic","I"]
["MEDICARE A IOWA -","IMIA1",null,"X","Electronic"]
["MEDICARE A J5 (IA, KS, MO, NE REMITS ONLY)","Z1314",null,null,"Paper"]
["MEDICARE A KANSAS","IMKS0",null,"X","Electronic","I"]
["MEDICARE A KENTUCKY","IMKY0",null,"X","Electronic","I"]
["MEDICARE A LOUISIANA","IMLA0",null,"X","Electronic","I"]
["MEDICARE A MAINE/HH & H (CT, MA, ME, NH, RI, AND VT)","IMME0",null,"X","Electronic","I"]
["MEDICARE A MAINE/HH & H (CT, MA, ME, NH, RI, AND VT) (WITH ATTACHMENTS)","JIMME0",null,"X","Electronic","I"]
["MEDICARE A MARYLAND","IMMD0",null,"X","Electronic","I"]
["MEDICARE A MASSACHUSETTS","IMMA0",null,"X","Electronic","I"]
["MEDICARE A MASSACHUSETTS (WITH ATTACHMENTS)","JIMMA0",null,"X","Electronic","I"]
["MEDICARE A MI, VA, WV, WI, FQHC, RHHI REMITS","Z1341",null,null,"Paper"]
["MEDICARE A MICHIGAN","IMMI0",null,"X","Electronic","I"]
["MEDICARE A MINNESOTA","IMMN0",null,"X","Electronic","I"]
["MEDICARE A MINNESOTA (WITH ATTACHMENTS)","JIMMN0",null,"X","Electronic","I"]
["MEDICARE A MISSISSIPPI","IMMS0",null,"X","Electronic","I"]
["MEDICARE A MISSOURI","IMMO0",null,"X","Electronic","I"]
["MEDICARE A MONTANA","IMMT0",null,"X","Electronic","I"]
["MEDICARE A NEBRASKA","IMNE0",null,"X","Electronic","I"]
["MEDICARE A NEVADA","IMNV0",null,"X","Electronic"]
["MEDICARE A NEW HAMPSHIRE","IMNH0",null,"X","Electronic","I"]
["MEDICARE A NEW HAMPSHIRE & VERMONT (WITH ATTACHMENTS)","JIMNH0",null,"X","Electronic","I"]
["MEDICARE A NEW JERSEY","IMNJ0",null,"X","Electronic","I"]
["MEDICARE A NEW MEXICO","IMNM0",null,"X","Electronic","I"]
["MEDICARE A NEW YORK","IMNY0",null,"X","Electronic"]
["MEDICARE A NEW YORK (WITH ATTACHMENTS)","JIMNY0",null,"X","Electronic"]
["MEDICARE A NORTH CAROLINA","IMNC0",null,"X","Electronic","I"]
["MEDICARE A NORTH DAKOTA","IMND0",null,"X","Electronic","I"]
["MEDICARE A OHIO","IMOH0",null,"X","Electronic","I"]
["MEDICARE A OKLAHOMA","IMOK0",null,"X","Electronic","I"]
["MEDICARE A OREGON","IMOR0",null,"X","Electronic","I"]
["MEDICARE A PENNSYLVANIA","IMPA0",null,"X","Electronic","I"]
["MEDICARE A PUERTO RICO",46010,null,"X","Electronic"]
["MEDICARE A RHHI - REGION B","IMIA0",null,"X","Electronic","I"]
["MEDICARE A RHODE ISLAND","IMRI0",null,"X","Electronic"]
["MEDICARE A RHODE ISLAND (WITH ATTACHMENTS)","JIMRI0",null,"X","Electronic"]
["MEDICARE A SOUTH DAKOTA","IMSD0",null,"X","Electronic","I"]
["MEDICARE A TENNESSEE","IMTN0",null,"X","Electronic","I"]
["MEDICARE A TEXAS","IMTX0",null,"X","Electronic","I"]
["MEDICARE A UTAH","IMUT0",null,"X","Electronic","I"]
["MEDICARE A VERMONT","Z96396",null,"X","Electronic"]
["MEDICARE A VIRGINIA","IMVA0",null,"X","Electronic","I"]
["MEDICARE A WASHINGTON","IMWA0",null,"X","Electronic","I"]
["MEDICARE A WEST VIRGINIA","IMWV0",null,"X","Electronic","I"]
["MEDICARE A WISCONSIN","IMWI0",null,"X","Electronic"]
["MEDICARE A WISCONSIN (WITH ATTACHMENTS)","JIMWI0",null,"X","Electronic"]
["MEDICARE A WYOMING","IMWY0",null,"X","Electronic","I"]
["MEDICARE ADVANTAGE - PENNSYLVANIA","Z96299",null,null,"Paper"]
["MEDICARE ADVANTAGE- MT, OK, TX, IL, NM (BC)",66006,"O","O","Electronic"]
["MEDICARE B ALABAMA","SMAL0","X",null,"Electronic","P"]
["MEDICARE B ALASKA","SMAK0","X",null,"Electronic","P"]
["MEDICARE B ARIZONA","SMAZ0","X",null,"Electronic","P"]
["MEDICARE B ARKANSAS","SMAR0","X",null,"Electronic","P"]
["MEDICARE B CALIFORNIA NORTHERN","SMCA1","X",null,"Electronic","P"]
["MEDICARE B CALIFORNIA SOUTHERN","SMCA2","X",null,"Electronic","P"]
["MEDICARE B COLORADO","SMCO0","X",null,"Electronic","P"]
["MEDICARE B CONNECTICUT","SMCT0","X",null,"Electronic","P"]
["MEDICARE B CONNECTICUT (WITH ATTACHMENTS)","JSMCT0","X",null,"Electronic","P"]
["MEDICARE B DELAWARE","SMDE0","X",null,"Electronic","P"]
["MEDICARE B DISTRICT OF COLUMBIA (DC)","SMDC0","X",null,"Electronic","P"]
["MEDICARE B FLORIDA","SMFL0","X",null,"Electronic","P"]
["MEDICARE B GEORGIA","SMGA0","X",null,"Electronic","P"]
["MEDICARE B HAWAII","SMHI0","X",null,"Electronic"]
["MEDICARE B IDAHO","SMID0","X",null,"Electronic","P"]
["MEDICARE B ILLINOIS","SMIL0","X",null,"Electronic","P"]
["MEDICARE B ILLINOIS (WITH ATTACHMENTS)","JSMIL0","X",null,"Electronic"]
["MEDICARE B INDIANA","SMIN0","X",null,"Electronic","P"]
["MEDICARE B IOWA","SMIA0","X",null,"Electronic","P"]
["MEDICARE B KANSAS","SMKS0","X",null,"Electronic","P"]
["MEDICARE B KENTUCKY","SMKY0","X",null,"Electronic","P"]
["MEDICARE B LOUISIANA","SMLA0","X",null,"Electronic","P"]
["MEDICARE B MAINE","SMME0","X",null,"Electronic","P"]
["MEDICARE B MAINE (WITH ATTACHMENTS)","JSMME0","X",null,"Electronic","P"]
["MEDICARE B MARYLAND","SMMD0","X",null,"Electronic","P"]
["MEDICARE B MASSACHUSETTS","SMMA0","X",null,"Electronic","P"]
["MEDICARE B MASSACHUSETTS (WITH ATTACHMENTS)","JSMMA0","X",null,"Electronic","P"]
["MEDICARE B MICHIGAN","SMMI0","X",null,"Electronic","P"]
["MEDICARE B MINNESOTA","SMMN0","X",null,"Electronic","P"]
["MEDICARE B MINNESOTA (WITH ATTACHMENTS)","JSMMN0","X",null,"Electronic"]
["MEDICARE B MISSISSIPPI","SMMS0","X",null,"Electronic","P"]
["MEDICARE B MISSOURI","SMMO0","X",null,"Electronic","P"]
["MEDICARE B MISSOURI (JOHNSON & WYANDOTTE COUNTY ONLY)","SMMO2","X",null,"Electronic","P"]
["MEDICARE B MONTANA","SMMT0","X",null,"Electronic","P"]
["MEDICARE B NEBRASKA","SMNE0","X",null,"Electronic","P"]
["MEDICARE B NEVADA","SMNV0","X",null,"Electronic"]
["MEDICARE B NEW HAMPSHIRE","SMNH0","X",null,"Electronic","P"]
["MEDICARE B NEW HAMPSHIRE (WITH ATTACHMENTS)","JSMNH0","X",null,"Electronic","P"]
["MEDICARE B NEW JERSEY","SMNJ0","X",null,"Electronic"]
["MEDICARE B NEW MEXICO","SMNM0","X",null,"Electronic","P"]
["MEDICARE B NEW YORK - EMPIRE","SMNY0","X",null,"Electronic","P"]
["MEDICARE B NEW YORK - EMPIRE (WITH ATTACHMENTS)","JSMNY0","X",null,"Electronic","P"]
["MEDICARE B NEW YORK - GROUP HEALTH INC","SMNY2","X",null,"Electronic","P"]
["MEDICARE B NEW YORK - GROUP HEALTH INC (WITH ATTACHMENTS)","JSMNY2","X",null,"Electronic","P"]
["MEDICARE B NEW YORK UPSTATE","SB807","X",null,"Electronic","P"]
["MEDICARE B NEW YORK UPSTATE (WITH ATTACHMENTS)","JSB807","X",null,"Electronic","P"]
["MEDICARE B NORTH CAROLINA","SMNC0","X",null,"Electronic","P"]
["MEDICARE B NORTH DAKOTA","SMND0","X",null,"Electronic","P"]
["MEDICARE B OHIO","SMOH0","X",null,"Electronic","P"]
["MEDICARE B OKLAHOMA","SMOK0","X",null,"Electronic","P"]
["MEDICARE B OREGON","SMOR0","X",null,"Electronic","P"]
["MEDICARE B PENNSYLVANIA","SMPA0","X",null,"Electronic","P"]
["MEDICARE B PUERTO RICO","SMPR0","X",null,"Electronic","P"]
["MEDICARE B RHODE ISLAND","SMRI0","X",null,"Electronic","P"]
["MEDICARE B RHODE ISLAND (WITH ATTACHMENTS)","JSMRI0","X",null,"Electronic","P"]
["MEDICARE B SOUTH CAROLINA","SMSC0","X",null,"Electronic","P"]
["MEDICARE B SOUTH DAKOTA","SMSD0","X",null,"Electronic","P"]
["MEDICARE B TENNESSEE","SMTN0","X",null,"Electronic","P"]
["MEDICARE B TEXAS","SMTX0","X",null,"Electronic","P "]
["MEDICARE B UTAH","SMUT0","X",null,"Electronic","P"]
["MEDICARE B VERMONT","SMVT0","X",null,"Electronic","P"]
["MEDICARE B VERMONT (WITH ATTACHMENTS)","JSMVT0","X",null,"Electronic","P"]
["MEDICARE B VIRGIN ISLANDS","SMVI0","X",null,"Electronic","P"]
["MEDICARE B VIRGINIA","SMVA0","X",null,"Electronic","P"]
["MEDICARE B WASHINGTON","SMWA0","X",null,"Electronic","P"]
["MEDICARE B WEST VIRGINIA","SMWV0","X",null,"Electronic","P"]
["MEDICARE B WISCONSIN","SMWI0","X",null,"Electronic","P"]
["MEDICARE B WISCONSIN (WITH ATTACHMENTS)","JSMWI0","X",null,"Electronic"]
["MEDICARE B WYOMING","SMWY0","X",null,"Electronic","P"]
["MEDICARE HOME HEALTH & HOSPICE (J14 - NHIC) (WITH ATTACHMENTS)","J12HHA",null,"X","Electronic","I"]
["MEDICARE HOME HEALTH & HOSPICE (J14)","12HHA",null,"X","Electronic","I"]
["MEDICARE MUCHO MAS","Z1262",null,null,"Paper"]
["MEDICARE NORTHWEST PART A REMITS (AK, ID, OR, WA)","Z1321",null,null,"Paper"]
["MEDICARE PLUS BLUE (MICHIGAN)","Z0058","X",null,"Electronic"]
["MEDICARE PLUS BLUE OF MICHIGAN INSTITUTIONAL","Z0083",null,"X","Electronic"]
["MEDICARE RHHI JURISDICTION M AND SOUTH CAROLINA PART A","Z1048",null,"X","Electronic","I"]
["MEDICARE Y MUCHO MAS (MMM)","L0210","O","O","Paper","P I "]
["MEDICHOICE IPA","AMM11","O","O","Electronic"]
["MEDICO LIFE AND HEALTH INSURANCE COMPANY","HDM04","O","O","Paper","P I  "]
["MEDIGOLD HEALTH PLANS",95655,"O","O","Electronic","P I "]
["MEDIGOLD PPO",13123,"O","O","Electronic","P I"]
["MEDIMPACT","Z95672",null,null,"Paper"]
["MEDIVIEW CURATIVE","CURTV","O","O","Electronic"]
["MEDIVIEW UTMB CARE","RUTMB","O","O","Electronic"]
["MEDLOGIX MSO - ALLIED HEALTH SOLUTIONS","MLAHS","O","O","Electronic"]
["MEDLOGIX MSO - AMERICO IPA","MLAMR","O","O","Electronic","P I"]
["MEDPARTNERS ADMIN SERVICES","412MP","O","O","Electronic"]
["MEDPARTNERS ADMIN SERVICES (IN)","441MP","O","O","Electronic"]
["MED-PAY",7480,"O","O","Electronic"," "]
["MEDPOINT MANAGEMENT (EOBC)","Z96404",null,null,"Paper"]
["MEDRISK (ALL STATES) (WC ONLY)","J1956","O","O","Electronic"]
["MEDSOLUTIONS POST ACCUTE CARE",15395,"O","O","Electronic"]
["MEDSTAR DC","RP062","O","O","Electronic","P I"]
["MEDSTAR FAMILY CHOICE",39190,null,null,"Paper"]
["MEDSTAR FAMILY CHOICE","RP063","O","O","Electronic"]
["MEDSTAR PHYSICIAN PARTNERS",243,"O",null,"Electronic","P"]
["MEDVIEW",41203,"O",null,"Electronic","P"]
["MEGA LIFE & HEALTH OKLAHOMA CITY",59227,"O","O","Electronic","P"]
["MEIJER STORES (ALL STATES) (WC ONLY)","J1930W","O","O","Electronic"]
["MEMBER INSURANCE AGENCY  INC.","J1353W","O","O","Electronic"]
["MEMIC CASUALTY COMPANY (ALL STATES) (AUTO ONLY)","14164A","O","O","Electronic"]
["MEMIC CASUALTY COMPANY (ALL STATES) (WC ONLY)","14164W","O","O","Electronic"]
["MEMIC INDEMNITY COMPANY","M11030","O","O","Electronic"]
["MEMIC INDEMNITY COMPANY (ALL STATES) (AUTO ONLY)","11030A","O","O","Electronic"]
["MEMIC INDEMNITY COMPANY (ALL STATES) (WC ONLY)","11030W","O","O","Electronic"]
["MEMORIAL HERMANN HEALTH NETWORK PROVIDERS","MHHNP","O","O","Paper","P I"]
["MEMORIAL HOSPITAL OF GARDENA","MPM12","O","O","Electronic","P I"]
["MEMORIAL MEDICAL CENTER",87166,"O","O","Electronic"]
["MEMORIALCARE MEDICAL FOUNDATION","MMFMC","O","O","Electronic","P I"]
["MEMORIALCARE MEDICAL FOUNDATION CAPITATION SERVICES","MMFCS","O","O","Electronic","P I"]
["MEMORIALCARE MEDICAL FOUNDATION UCI","MMFUC","O","O","Electronic","P I"]
["MEMORIALCARE SELECT HEALTH PLAN",46187,"O","O","Electronic","P I"]
["MEMORIALCARE SELECT HEALTH PLAN (ENCOUNTERS ONLY)","E4618","O","O","Electronic","P I"]
["MENDOTA INSURANCE COMPANY (MN ONLY) (AUTO ONLY)","33650A","O","O","Electronic"]
["MENTAL HEALTH CONSULTANTS INC",37050,"O","O","Paper","P I"]
["MERCHANTS BENEFIT ADMINISTRATION",86087,"O","O","Electronic"]
["MERCHANTS INSURANCE GROUP (NJ ONLY)(AUTO ONLY)","C1095A","O","O","Electronic","P I"]
["MERCURY (NJ, NY ONLY) (AUTO ONLY)","C1087A","O","O","Electronic","P I"]
["MERCY ACCOUNTABLE CARE PLAN",71804,"O","O","Electronic"]
["MERCY BENEFIT ADMINISTRATORS",37264,"O","O","Electronic","P I"]
["MERCY CARE (AHCCCS)",86052,"O","O","Electronic","P I "]
["MERCY CARE HEALTH PLAN",340,null,null,"Paper"]
["MERCY MARICOPA INTEGRATED CARE",33628,"O","O","Electronic"," "]
["MERCY MEDICAL GROUP","HOSH1","O","O","Paper","P I"]
["MERCY PROVIDER NETWORK",43185,"O","O","Electronic"]
["MERCYCARE",39114,"O","O","Electronic","P I"]
["MERIDIAN COMPLETE OF MICHIGAN (EFFECTIVE 1/1/2021)","MHPMI","O","O","Electronic","P I  "]
["MERIDIAN HEALTH PLAN OF ILLINOIS","MHPIL","O","O","Electronic","P I "]
["MERIDIAN HEALTH PLAN OF ILLINOIS (DOS 6/30/2021 AND PRIOR)",13189,"O","O","Electronic","P I "]
["MERIDIAN HEALTH PLAN OF MICHIGAN (DOS 3/31/2022 AND PRIOR)","Z1054","O","O","Electronic","P I "]
["MERIDIAN MANAGEMENT SERVICES LLC (ALL STATES)(WC ONLY)","J2379","O","O","Electronic","P I"]
["MERITAGE FIRST CHOICE","FC002","O","O","Paper","P I"]
["MERITAGE MEDICAL NETWORK","IP097","O","O","Paper","P I"]
["MERITAIN HEALTH MINNEAPOLIS",41124,"O","O","Electronic","P I "]
["MERITAIN HEALTH/AGENCY SERVICES INC",64158,"O","O","Electronic","P"]
["METLIFE DENTAL (REMITS ONLY)",65978,null,null,"Paper"]
["METLIFE DENTAL FAMILY",10134,null,null,"Paper"]
["METROPLUS HEALTH PLAN",13265,"O","O","Electronic","P I "]
["METROPOLITAN COUNCIL (ALL STATES) (AUTO ONLY)","J1355A","O","O","Electronic"]
["METROPOLITAN COUNCIL (ALL STATES) (WC ONLY)","J1355W","O","O","Electronic"]
["METROPOLITAN COUNCIL (ALL STATES) (WC ONLY) W/O ATTACH","J1355","O","O","Electronic"]
["METROPOLITAN PROPERTY AND CASUALTY INSURANCE COMPANY/MET LIFE (MN ONLY) (AUTO ONLY)","C1011A","O","O","Electronic"]
["METROPOLITAN TRANSIT AUTHORITY OF HARRIS COUNTY (TX ONLY) (WC ONLY)","J1238W","O","O","Electronic"]
["METROWEST HEALTH PLAN PREFERRED","MWP01","O",null,"Electronic"]
["METTLER - TOLEDO (ALL STATES EXCEPT ND, WA WY) (WC ONLY)","E1673W","O","O","Electronic"]
["MHN-MANAGED HEALTH NETWORK (RICHMOND CA)",22771,"O","O","Electronic","P I "]
["MIAMI BEHAVIORAL HEALTH",92579,"O",null,"Paper","P"]
["MIAMI CHILDREN'S HEALTH PLAN (REMITS ONLY)",82832,null,null,"Paper"]
["MICHIGAN BLUE CROSS FEP",3531,null,"X","Electronic"]
["MICHIGAN CONFERENCE OF TEAMSTERS WELFARE FUND (REMITS ONLY)","ZP1401",null,null,"Paper"]
["MICHIGAN MEDICAID PENDING","SKMI2",null,null,"Paper"]
["MICHIGAN MICHILD",10138,null,null,"Paper"]
["MICHIGAN MILLERS MUTUAL (ALL STATES) (WC ONLY)","J1988","O","O","Electronic"]
["MID COAST CARE",77012,"O","O","Electronic"]
["MID-AMERICA ASSOCIATES INC",37281,"O","O","Electronic","P"]
["MID-AMERICAN BENEFITS",22823,"O","O","Electronic"]
["MID-AMERICAN TPA: AAI, INC. (UCS)",12251,"O","O","Electronic"]
["MIDLAND CARE CONNECTION INC (EOBC)","R0319",null,null,"Paper"]
["MIDLAND NATIONAL LIFE INS CO (NFIC PLAN ONLY)","Z0067","O",null,"Electronic","P"]
["MIDLANDS CHOICE INC",47080,"O","O","Electronic","P I"]
["MID-VALLEY BEHAVIORAL HEALTH NETWORK (DOS PRIOR TO 01/01/2020)","MVBCN","O",null,"Electronic"]
["MIDWEST BUILDERS (TX, MN) (WC ONLY)","J3939","O","O","Electronic","P I"]
["MIDWEST DRYWALL (TX, MN) (WC ONLY)","WX605W","O","O","Electronic"]
["MIDWEST FAMILY MUTUAL (WC ONLY)(ALL STATES)",23574,"O",null,"Electronic","P"]
["MIDWEST FAMILY MUTUAL INSURANCE CO","J1685A","O","O","Electronic"]
["MIDWEST FAMILY MUTUAL INSURANCE CO (MN TX ONLY) (WC ONLY)","J1685W","O","O","Electronic"]
["MIDWEST GROUP BENEFITS","Z95655",null,null,"Paper"]
["MIDWEST GROUP BENEFITS ","MGB01","O",null,"Electronic"]
["MIDWEST HEALTH PARTNERS",76079,"O","O","Electronic","P I"]
["MIDWEST INSURANCE CO (ALL STATES) (AUTO ONLY)","10895A","O","O","Electronic"]
["MIDWEST INSURANCE CO (ALL STATES) (WC ONLY)","10895W","O","O","Electronic"]
["MIDWEST OPERATING ENGINEERS WELFARE FUND",45979,"O","O","Electronic"]
["MIDWESTERN INSURANCE ALLIANCE",2946,null,null,"Paper"]
["MIDWESTERN INSURANCE ALLIANCE (ALL STATES) (AUTO ONLY)","J4243A","O","O","Electronic"]
["MIDWESTERN INSURANCE ALLIANCE (ALL STATES) (WC ONLY)","J4243","O","O","Electronic"]
["MILITARY DELI & BAKERY (WC ONLY)","WR003W","O","O","Electronic"]
["MILLARD REFRIGERATED (ALL STATES) (WC ONLY)","J1482","O","O","Electronic"]
["MILLS PENINSULA MEDICAL GROUP (SPS - SUTTER)(DOS AFTER 4/1/2014)","SC050","O","O","Electronic","P I"]
["MILLS PENINSULA MEDICAL GROUP( FOR CLAIMS WITH DOS PRIOR TO 4/1/2014)","MPMG1","O",null,"Electronic","P"]
["MINNEAPOLIS PUBLIC SCHOOL (ALL STATES)(AUTO ONLY)","J2890A","O","O","Electronic"]
["MINNEAPOLIS PUBLIC SCHOOL (ALL STATES)(WC ONLY)","J2890","O","O","Electronic"]
["MINNEAPOLIS PUBLIC SCHOOLS (MN)(ALL STATES)(WC ONLY)","E1859","O","O","Electronic"]
["MINNESOTA COUNTIES INS TRUST (MCIT)","A0322","O","O","Electronic"]
["MINNESOTA COUNTIES INS TRUST (MCIT) (ALL STATES) (WC ONLY)","J1351","O","O","Electronic"]
["MINNESOTA COUNTIES INS TRUST (MCIT) (WC ONLY) (TX ONLY)","J1351W","O","O","Electronic"]
["MINNESOTA INSURANCE GUARANTY ASSOCIATION (MIGA)","I9736","O","O","Electronic"]
["MINNESOTA INSURANCE GUARANTY ASSOCIATION (MIGA) (MN ONLY) (AUTO ONLY)","J2094A","O","O","Electronic"]
["MINNESOTA INSURANCE GUARANTY ASSOCIATION (MIGA) (MN ONLY) (WC ONLY)","J2094W","O","O","Electronic"]
["MINUTEMAN HEALTH (MA, NH)",1776,"O","O","Electronic","P I"]
["MISSION COMMUNITY IPA","PHM10","O",null,"Paper","P"]
["MISSISSIPPI CHILDREN'S HEALTH INSURANCE PROGRAM",10140,null,null,"Paper"]
["MISSISSIPPI PHYSICIANS CARE NETWORK",64084,"O","O","Electronic","P"]
["MISSOULA COUNTY MEDICAL BENEFITS PLAN",37275,"O","O","Electronic","P I"]
["MISSOURI BLUE CROSS - KANSAS CITY, MO","Z1072",null,"O","Electronic"]
["MISSOURI CARE",10702,null,null,"Paper"]
["MISSOURI CARE  (SCHALLER ANDERSON)",10695,null,null,"Paper"]
["MITCHELL ENERGY & DEVEL (ALL STATES) (WC ONLY)","J1085","O","O","Electronic","P I"]
["MITSUI SUMITOMO INSURANCE CO (ALL STATES) (AUTO ONLY)","J1692A","O","O","Electronic"]
["MITSUI SUMITOMO INSURANCE CO (ALL STATES) (WC ONLY)","J1692","O","O","Electronic"]
["MITSUI SUMITOMO INSURANCE GROUP","20362A","O",null,"Paper"]
["MITSUI SUMITOMO INSURANCE GROUP","20362W","O",null,"Paper"]
["MITSUI SUMITOMO INSURANCE USA INC (ALL STATES) (AUTO ONLY)","J1694A","O","O","Electronic","P I"]
["MITSUI SUMITOMO INSURANCE USA INC (ALL STATES) (WC ONLY)","J1694W","O","O","Electronic"]
["MITSUI SUMITOMO INSURANCE USA INC. (WC ONLY)","22551W","O",null,"Paper"]
["ML HEALTHCARE",26097,"O","O","Electronic"]
["MMIC (ALL STATES) (AUTO ONLY)","J1622A","O","O","Electronic"]
["MMIC (ALL STATES) (WC ONLY)","J1622W","O","O","Electronic"]
["MMM FLORIDA","MMMFL","O","O","Electronic"," "]
["MMM MEDICARE Y MUCHO MAS","Z60055","X","X","Paper"]
["MMM MULTIHEALTH (REFORM)","Z96648","X","X","Paper","P I"]
["MN DEPARTMENT OF LABOR","Z96184",null,null,"Paper"]
["MN DEPT OF HEALTH","MNDH1","O","O","Electronic","P I"]
["MN-DEPARTMENT OF LABOR (ALL STATES) (WC ONLY)","J1436W","O","O","Electronic"]
["MODA HEALTH",13350,"O","O","Electronic","P I "]
["MOLINA COMPLETE CARE OF ARIZONA","MCC01","O","O","Electronic","P I  "]
["MOLINA COMPLETE CARE OF VIRGINIA (DOS PRIOR TO 7/1/2022)","MCCVA","O","O","Electronic","P  "]
["MOLINA HEALTHCARE OF CA - ENCOUNTERS ONLY",33373,"O","O","Electronic"]
["MOLINA HEALTHCARE OF CALIFORNIA",38333,"O","O","Electronic","P I "]
["MOLINA HEALTHCARE OF FLORIDA",51062,"O","O","Electronic","P I "]
["MOLINA HEALTHCARE OF IDAHO",61799,"O","O","Electronic"]
["MOLINA HEALTHCARE OF ILLINOIS",20934,"O","O","Electronic"]
["MOLINA HEALTHCARE OF MICHIGAN","Z1007","O","O","Electronic","P I "]
["MOLINA HEALTHCARE OF MISSISSIPPI",77010,"O","O","Electronic","P I  "]
["MOLINA HEALTHCARE OF NEVADA","MLNNV","O","O","Electronic","P I"]
["MOLINA HEALTHCARE OF NEW MEXICO","TH059","O","O","Electronic","P I  "]
["MOLINA HEALTHCARE OF NEW YORK",16146,"O","O","Electronic","P I  "]
["MOLINA HEALTHCARE OF OHIO",20149,"O","O","Electronic","P I "]
["MOLINA HEALTHCARE OF SOUTH CAROLINA",46299,"O","O","Electronic","P I "]
["MOLINA HEALTHCARE OF TEXAS","Z1161","O","O","Electronic","P I "]
["MOLINA HEALTHCARE OF TEXAS (COMMERCIAL CLAIMS ONLY)","Z96210","O","O","Electronic","P I"]
["MOLINA HEALTHCARE OF UTAH","Z1014","O","O","Electronic","P I "]
["MOLINA HEALTHCARE OF WASHINGTON",38336,"O","O","Electronic","P I "]
["MOLINA HEALTHCARE OF WASHINGTON (ENCOUNTERS ONLY)",43174,"O","O","Electronic"]
["MOLINA HEALTHCARE OF WISCONSIN","ABRI1","O","O","Electronic","P I "]
["MOLINA SCI",4423,"O","O","Electronic","P I"]
["MONARCH",7748,null,null,"Paper"]
["MONARCH HEALTHCARE IPA","IP095","O","O","Electronic","P I"]
["MONITOR LIFE","Z98244",null,null,"Paper"]
["MONITOR LIFE INSURANCE","Z90016","O","O","Electronic"]
["MONTEFIORE CONTRACT MANAGEMENT ORGANIZATION",13174,"O","O","Electronic","P I "]
["MONTEFIORE HMO",46161,"O","O","Electronic"]
["MONTGOMERY (ALL STATES) (WC ONLY)","J1424W","O","O","Electronic"]
["MONTGOMERY COUNTY SELF-INSURANCE PROGRAM (MD) (ALL STATES) (AUTO ONLY)","J1890A","O","O","Electronic"]
["MONTGOMERY COUNTY SELF-INSURANCE PROGRAM (MD) (ALL STATES) (WC ONLY)","J1890W","O","O","Electronic"]
["MONTGOMERY COUNTY TEXAS (ALL STATES) (WC ONLY)","A0179W","O","O","Electronic"]
["MORECARE",65465,"O","O","Paper","P I  "]
["MORONGO BASIN TRANSIT AUTHORITY (ALL STATES) (AUTO ONLY)","J1651A","O","O","Electronic"]
["MORONGO BASIN TRANSIT AUTHORITY (ALL STATES) (WC ONLY)","J1651W","O","O","Electronic"]
["MORRIS ASSOCIATES",35092,"O","O","Electronic","P I"]
["MORRIS MATERIAL HANDLING (ALL STATES) (WC ONLY)","WX166W","O","O","Electronic","P I"]
["MORRISON HEALTH CARE, INC. (TX, MN) (WC ONLY)","WX216W","O","O","Electronic"]
["MORSELIFE HOME CARE (EOBC)","R31362",null,null,"Paper"]
["MOUNTAIN STATE FREEDOMBLUE MEDICARE ADVANTAGE",15459,"X","X","Electronic","P I "]
["MPE EMPLOYEE BENEFIT SERVICES INC/MPEEBT",37233,"O","O","Electronic","P I"]
["MPM PROSPECT","MPM16","O","O","Electronic","P I"]
["MPOWER FFS","MPWR01","O","O","Electronic"]
["MR BULTS INC (WC ONLY)","J1357W","O","O","Electronic"]
["MSA CAREGUARD",20572,"O","O","Electronic"]
["MSH REIMBURSEMENT",5587,"O","O","Electronic","P I"]
["MSO (EOBC)","Z96612",null,null,"Paper"]
["MSO INC OF SOUTHERN CALIFORNIA","Z96474",null,null,"Paper"]
["MTS (ALL STATES) (AUTO ONLY)","J1641A","O","O","Electronic"]
["MTS (ALL STATES) (WC ONLY)","J1641W","O","O","Electronic"]
["MTS STAFFING","J1358W","O","O","Electronic"]
["MULTICARE CONNECTED CARE","RP036","O","O","Electronic"]
["MULTICARE PACE","R3457","O","O","Electronic","P"]
["MULTIPLAN WISCONSIN PREFERRED PROVIDER NETWORK","Z1192","O","O","Electronic"]
["MULTIPLAN/BASIC PLUS",41204,"O","O","Electronic"]
["MULTNOMAH COUNTY OTHER","MLTOT","O",null,"Electronic"]
["MUNFORD, INC. (TX, MN) (WC ONLY)","WX248W","O","O","Electronic"]
["MUNICIPAL HEALTH BENEFIT FUND",81883,"O","O","Electronic","P I "]
["MUNICIPAL POOLING AUTHORITY (ALL STATES) (WC ONLY)","J2141W","O","O","Electronic"]
["MUNICIPAL RISK MGMT POOLED TRUST (EOBC)","A0721A",null,null,"Paper"]
["MUSKEGON CARE","A1681","O",null,"Electronic"]
["MUTUAL HEALTH SERVICES",9736,null,null,"Paper"]
["MUTUAL HEALTH SERVICES",34192,"O","O","Electronic","P I "]
["MUTUAL OF OMAHA INSURANCE COMPANY",71412,"O","O","Paper","P I "]
["MUTUAL OF OMAHA MEDICARE",52280,null,"X","Electronic","I"]
["MUTUAL OF OMAHA MEDICARE (CA, NV, HI ONLY)","Z1374",null,"X","Electronic"]
["MUTUAL OF OMAHA MEDICARE (CO, NM, OK, TX ONLY)",4901,null,"X","Electronic"]
["MUTUAL OF OMAHA MEDICARE (DE, MD, NJ, PA, DC ONLY)",12901,null,"X","Electronic"]
["MUTUAL OF OMAHA MEDICARE ADVANTAGE",82275,"O","O","Electronic"," "]
["MVP HEALTH CARE",14165,"O","O","Electronic","P I "]
["MY CHOICE IPA","MPM21","O",null,"Electronic"]
["MY FAMILY MEDICAL GROUP",33020,"O",null,"Electronic"]
["MYDECISION HEALTHSMART",18840,"O","O","Electronic"]
["MYNEXUS AETNA HOME HEALTH",34010,null,"O","Electronic","I"]
["MYNEXUS ANTHEM",34009,"O","O","Paper","P I"]
["MYTRUADVANTAGE","MTAMA","O","O","Electronic","P I"]
["NAHGA INC",67788,"O","O","Electronic"]
["NAMCI/GLOBAL CARE","L0110","O","O","Electronic"]
["NAP TOOLS (TX, MN) (WC ONLY)","WX608W","O","O","Electronic"]
["NAPHCARE",58182,"O","O","Electronic"]
["NASCENTIA HEALTH (MEDICAID)",31626,"O","O","Electronic"]
["NASCENTIA HEALTH (MEDICARE)",45529,"O","O","Electronic"]
["NATIONAL ALLIED WORKERS UNION LOCAL 831","CB148","O","O","Electronic"]
["NATIONAL AMERICAN INS CO (NAICO) (CA NC MN OR TX ONLY) (AUTO ONLY)","J1695A","O","O","Electronic"]
["NATIONAL AMERICAN INS CO (NAICO) (CA NC MN OR TX ONLY) (WC ONLY)","J1695W","O","O","Electronic"]
["NATIONAL AMERICAN INSURANCE CO (NAICO) (AUTO ONLY)","23663A","O",null,"Paper"]
["NATIONAL AMERICAN INSURANCE CO (NAICO) (WC ONLY)","23663W","O",null,"Paper"]
["NATIONAL ASBESTOS WORKERS MEDICAL FUND",16228,"O","O","Paper","P I"]
["NATIONAL ASSOCIATION OF LETTER CARRIERS",10200,null,null,"Paper"]
["NATIONAL ASSOCIATION OF LETTER CARRIERS (NALC)",53011,"O","O","Electronic","P I "]
["NATIONAL CHIROPRACTIC NETWORK",58204,"O","O","Electronic","P"]
["NATIONAL ELEVATOR INDUSTRY HEALTH BENEFIT PLAN","CX045",null,null,"Paper"]
["NATIONAL FINANCIAL INSURANCE COMPANY",90956,"O","O","Electronic","P"]
["NATIONAL FOUNDATION LIFE INSURANCE COMPANY",98205,"O","O","Electronic","P"]
["NATIONAL GENERAL","ASHC1","O","O","Electronic"]
["NATIONAL GUARDIAN LIFE INSURANCE",65415,"O","O","Paper","P I"]
["NATIONAL HEALTH BENEFITS CORPORATION-NHBC-AUXIANT-MPC",88050,"O","O","Electronic","P I "]
["NATIONAL IMAGING ASSOCIATES","SX190","O","O","Paper","P"]
["NATIONAL INTERSTATE (ALL STATES) (AUTO ONLY)","32620A","O","O","Electronic"]
["NATIONAL INTERSTATE (ALL STATES) (WC ONLY)",32620,"O","O","Electronic","P I"]
["NATIONAL INTERSTATE (ALL STATES) (WC ONLY)","32620W","O","O","Electronic"]
["NATIONAL INTERSTATE (MN, TX) [WC, AUTO]","WC169","O",null,"Electronic"]
["NATIONAL INTERSTATE INSURANCE (AUTO ONLY)","WR096A","O","O","Electronic"]
["NATIONAL VISION","NVADM","O","O","Electronic"]
["NATIONWIDE - PREVIOUSLY HARLEYSVILLE INS COMP (ALL STATES) (AUTO ONLY)","J1595A","O","O","Electronic"]
["NATIONWIDE AUTO (MN, NJ ONLY) (AUTO ONLY)","C1062","O","O","Electronic","P I"]
["NATIONWIDE INSURANCE-GAINESVILLE (MN,TX) (AUTO ONLY)","A0505A","O",null,"Electronic"]
["NATIONWIDE MUTUAL INSURANCE COMPANY (ALL STATES) (WC ONLY)","J1552","O","O","Electronic","P I"]
["NATIVE CARE HEALTH (REMITS ONLY)",19191,null,null,"Paper"]
["NBC UNIVERSAL (ALL STATES) (WC ONLY)","J1359W","O",null,"Electronic"]
["NBSIA-NORTH BAY SCHOOLS INSURANCE AUTHORITY (ALL STATES) (WC ONLY)","J1549","O","O","Electronic"]
["NC DEPARTMENT OF PUBLIC INSTRUCTION","J1660A","O","O","Electronic"]
["NC DEPARTMENT OF PUBLIC INSTRUCTION","J1660W","O","O","Electronic"]
["NCA COMP (AUTO ONLY)","J4250A","O","O","Electronic","P I"]
["NCA COMP (WC ONLY)","J4250","O","O","Electronic","P I"]
["NCLM - NORTH CAROLINA LEAGUE OF MUNICIPALITIES (ALL STATES) (WC ONLY)","J1772W","O","O","Electronic"]
["NEBA NATIONAL EMPLOYEE BENEFITS ADMINISTRATORS","R22140",null,null,"Paper"]
["NEIGHBORHOOD HEALTH PARTNERSHIP",95123,"O","O","Paper","P I "]
["NEIGHBORHOOD HEALTH PLAN OF RHODE ISLAND",5047,"O","O","Paper","P I "]
["NEIGHBORHOOD HEALTH PLAN RI - EXCHANGE, UNITY, INTEGRITY",96240,"O","O","Electronic","P I "]
["NEIGHBORHOOD HEALTHCARE PACE","R3456","O","O","Electronic","P I"]
["NETCARE LIFE & HEALTH INSURANCE",66055,"O","O","Electronic","P"]
["NETWORK HEALTH INSURANCE CORP-MEDICARE",77076,"O","O","Electronic","P I  "]
["NETWORK HEALTH PLAN OF WISCONSIN INC",39144,"O","O","Electronic","P I "]
["NETWORK HEALTH PPO","AMS01","O",null,"Electronic"]
["NETWORK MEDICAL MANAGEMENT","NMM01","O","O","Electronic","P I"]
["NETWORK SOLUTIONS IPA","NSIPA","O","O","Electronic"]
["NEUEHEALTH","NEUEH","O","O","Electronic","P I"]
["NEVADA PREFERRED-GEHA","GEHA9","O","O","Electronic"]
["NEVADACARE",86067,"O","O","Electronic","P"]
["NEW AVENUES INC",95998,"O","O","Electronic"]
["NEW CENTURY HEALTH - ARIZONA INTEGRATED PHYSICIANS RADIATION","NCHOR","O",null,"Paper","P"]
["NEW CENTURY HEALTH - CAC CENTERS","NCHCA","O",null,"Paper"]
["NEW CENTURY HEALTH - CALIFORNIA EYE CARE","Z1361","O",null,"Electronic","P"]
["NEW CENTURY HEALTH - CAREPLUS CARDIOLOGY","Z1362","O",null,"Electronic","P"]
["NEW CENTURY HEALTH - CAREPLUS DERMATOLOGY","Z1363","O",null,"Electronic","P"]
["NEW CENTURY HEALTH  CIGNA MEDICAL GROUP AZ","NCHON","O",null,"Paper","P"]
["NEW DIRECTIONS BEHAVIORAL HEALTH","NDX99","O","O","Paper","P I"]
["NEW DIRECTIONS BEHAVIORAL HEALTH UB","UDX99","O",null,"Electronic"]
["NEW ENGLAND HEALTH CARE EMPLOYEES WELFARE FUND",9390,null,null,"Paper"]
["NEW ERA LIFE - EMPLOYEE BENEFIT PLANS",96396,"O","O","Paper","P I"]
["NEW ERA LIFE INSURANCE COMPANY",98798,"O","O","Electronic"," "]
["NEW JERSEY CARPENTERS HEALTH FUND",22603,"O","O","Electronic","P I"]
["NEW JERSEY CHARITY CARE INPATIENT","Z96391",null,"X","Electronic","I"]
["NEW JERSEY CHARITY CARE OUTPATIENT","Z96392",null,"X","Electronic","I"]
["NEW JERSEY MANUFACTURING (ALL STATES) (AUTO ONLY)","C1048A","O","O","Electronic"]
["NEW JERSEY MANUFACTURING (WC ONLY) (ALL STATES)",12122,"O","O","Electronic"]
["NEW JERSEY MANUFACTURING (WC ONLY) (ALL STATES)","12122W","O","O","Electronic"]
["NEW MEXICO MUTUAL (ALL STATES)(WC ONLY)","J2147","O","O","Electronic"]
["NEW WEST HEALTH SERVICES","SX164","O",null,"Paper"]
["NEW YORK BLACK CAR FUND (NYBCF) (ALL STATES) (AUTO ONLY)","J3309A","O","O","Electronic","P I"]
["NEW YORK BLACK CAR FUND (NYBCF) (ALL STATES) (WC ONLY)","J3309","O","O","Electronic","P I"]
["NEW YORK HOTEL FUND","Z4410","O",null,"Electronic"]
["NEW YORK HOTEL FUNDS MHAP","HTLFD","O",null,"Paper","P"]
["NEW YORK LIFE LONG TERM CARE","NYL11","O",null,"Electronic"]
["NEW YORK MEDICAL INDEMNITY FUND","NYDFS","O","O","Electronic"]
["NEW YORK NETWORK MANAGEMENT",11334,"O",null,"Electronic","P"]
["NEW YORK STATE INSURANCE (NY ONLY) (WC ONLY)","J45052W","O","O","Electronic"]
["NEXT LEVEL ADMINISTRATION (ALL STATES) (WC ONLY)","J2331","O","O","Electronic","P I"]
["NEXTBLUE OF NORTH DAKOTA",55892,"O","O","Electronic","P I  "]
["NHC ADVANTAGE","NHC01","O","O","Electronic","P I"]
["NHI BILLING SERVICES INC",14043,"O","O","Electronic"]
["NIKE, INC (ALL STATES) (WC ONLY)","J2175","O","O","Electronic"]
["NIPPON LIFE INSURANCE COMPANY OF AMERICA",81264,"O","O","Electronic","P I  "]
["NIVANO PHYSICIANS IPA","MBA01","O","O","Electronic","P I"]
["NJ PROPERTY-LIABILITY INS GUARANTY (NJPLIGA) ALL STATES (WC ONLY)","J3926W","O","O","Electronic","P I"]
["NJ PROPERTY-LIABILITY INS GUARANTY ASSOC (NJPLIGA) ALL STATES (AUTO ONLY)","J3926A","O","O","Electronic","P I"]
["NOMI HEALTH",66066,"O",null,"Paper"]
["NONPROFIT INSURANCE TRUST","I1206","O","O","Electronic"]
["NONPROFIT INSURANCE TRUST (ALL STATES) (AUTO ONLY)","J1845A","O","O","Electronic"]
["NONPROFIT INSURANCE TRUST (ALL STATES) (WC ONLY)","J1845W","O","O","Electronic"]
["NORDSTROM INC (ALL STATES) (WC ONLY)","J1360W","O",null,"Electronic"]
["NORFOLK & DEDHAM GROUP(NJ ONLY)(AUTO ONLY)","C1096A","O","O","Electronic","P I"]
["NORTH AMERICA ADMINISTRATORS NAA",65085,"O","O","Paper","P I"]
["NORTH AMERICAN INSURANCE COMPANY DBA OXFORD LIFE (REMITS ONLY)",76112,null,null,"Paper"]
["NORTH AMERICAN MEDICAL MANAGEMENT","IP079","O","O","Electronic","P"]
["NORTH AMERICAN RISK SERVICES (NARS) (REMITS ONLY)","Z96560",null,null,"Paper"]
["NORTH CAROLINA DEPARTMENT OF PUBLIC SAFETY","NCDPS","O","O","Electronic"]
["NORTH CAROLINA FARM BUREAU INSURANCE GROUP (EOBC)","R0424",null,null,"Paper"]
["NORTH DAKOTA WORKFORCE SAFETY","Z1246","O","O","Electronic"]
["NORTH EAST MEDICAL SERVICES","NEMS","O","O","Electronic"]
["NORTH IOWA COMMUNITY HEALTHCARE (NICH)",78353,"O","O","Electronic"]
["NORTH SHORE - LIJ",17516,"O","O","Electronic"]
["NORTH STAR MUTUAL INSURANCE COMPANY",14850,"O","O","Electronic"]
["NORTHCOAST HEALTH CARE MANAGEMENT","RP089","O","O","Electronic","P I"]
["NORTHCOAST(HOSPICE AND HOME HEALTH CLAIMS ONLY)","Z90080","X","X","Electronic"]
["NORTHEAST DELTA",2027,null,null,"Paper"]
["NORTHERN CA SHEET METAL WORKERS HEALTH CARE PLAN",38238,"O","O","Electronic","P I"]
["NORTHERN CALIFORNIA ADVANTAGE MEDICAL GROUP","NCA01","O","O","Electronic"]
["NORTHERN ILLINOIS HEALTH PLAN (FREEPORT, IL)",36347,"O","O","Electronic","P I"]
["NORTHERN KENTUCKY UNIVERSITY (ALL STATES) (AUTO ONLY)","J1943A","O","O","Electronic"]
["NORTHERN KENTUCKY UNIVERSITY (ALL STATES) (WC ONLY)","J1943W","O","O","Electronic"]
["NORTHERN NEVADA TRUST FUND",88027,"O","O","Electronic","P I"]
["NORTHLAND AUTO (MN AND NJ ONLY) (AUTO ONLY)","C1031","O","O","Electronic"]
["NORTHRIDGE MEDICAL GROUP","NMG01","O",null,"Electronic","P"]
["NORTHSHORE PHYSICIAN ASSOCIATES",48026,"O","O","Electronic"]
["NORTHWEST ADMINISTRATORS INC","NWADM","O","O","Electronic","P I  "]
["NORTHWEST CARPENTERS TRUSTS (REMITS ONLY)",92971,null,null,"Paper"]
["NORTHWEST COMMUNITY HEALTH PARTNERS","NWCHP","O","O","Paper","P I"]
["NORTHWEST INSURANCE (WC ONLY)","WZ646W","O","O","Electronic"]
["NORTHWEST LIFE","PH018","O",null,"Electronic"]
["NORTHWEST PHYSICIAN'S NETWORK (DOS 12/31/2020 AND PRIOR)","NPN11","O","O","Electronic","P I"]
["NORTHWEST SUBURBAN IPA ILLINOIS",36346,"O","O","Electronic","P I"]
["NORTHWESTERN MEDICINE PHYSICIANS NETWORK","NWEST","O","O","Paper","P I"]
["NORTHWESTERN UNIVERSITY (WC ONLY)","J1362W","O","O","Electronic"]
["NORTHWOOD","NWOOD","O",null,"Electronic"]
["NORWOOD (MN AND TX ONLY) (WC ONLY)","WX283W","O","O","Electronic"]
["NOVA HEALTHCARE ADMINISTRATORS INC. (GRAND ISLAND, NY)",16644,"O","O","Electronic","P I "]
["NOVA PRO RISK SOLUTIONS (ALL STATES) (WC ONLY)","J1056","O","O","Electronic"]
["NOVA PRO RISK SOLUTIONS (CA,MN,TX) (WC ONLY)","WR152W","O","O","Electronic"]
["NOVA PRO RISK SOLUTIONS (SAN DIEGO) (MN AND TX ONLY)(WC ONLY)","WR153W","O","O","Electronic"]
["NOVA SAIPH RE (ALL STATES) (WC ONLY)","J3881W","O","O","Electronic","P I"]
["NOVANET",6226,"O","O","Electronic"]
["NOVASYS HEALTH NETWORK (LITTLE ROCK, AR)",71080,"O","O","Electronic","P I "]
["NP PHP COMMERCIAL","PHMD1","O",null,"Electronic"]
["NP PHP MEDICARE","PHMD2","O",null,"Electronic"]
["NP PHP OHP","PHMD3","O",null,"Electronic"]
["NP YAMHILL COUNTY CCO","PHMD4","O",null,"Electronic"]
["NTCA NATIONAL TELECOMMUNICATIONS COOPERATIVE ASSN",52103,"O","O","Electronic","I "]
["NTCA STAFF MEMBERS",52104,"O","O","Electronic","P I"]
["NX HEALTH NETWORK",44412,"O","O","Electronic"]
["NY LUMBERMAN'S INSURANCE TRUST FUND (ALL STATES) (WC ONLY)","J4240","O","O","Electronic"]
["NYC LAW DEPARTMENT (ALL STATES) (WC ONLY)","J4253","O","O","Electronic"]
["NYHART",37299,"O","O","Electronic","P I"]
["NYLCARE ETHIX NORTHWEST",91135,null,null,"Paper"]
["NYLCARE HEALTH PLANS NORTHWEST",91166,null,null,"Paper"]
["OAK HILL ASSOCIATES","J1363W","O","O","Electronic"]
["OAK STREET HEALTH","OAKST","O","O","Electronic"]
["OAK WEST PHYSICIAN ASSOCIATION",36400,"O","O","Electronic","P I"]
["OCCUPATIONAL EYEWEAR NETWORK",50653,"O",null,"Electronic"]
["OCEAN COUNTY JOINT INSURANCE FUN (NJ ONLY) (WC ONLY)","J4004","O","O","Electronic"]
["OCHSNER HEALTH PLAN","A5236","O","O","Electronic","P I  "]
["OCULAR BENEFITS","L0140","O","O","Electronic"]
["OGDEN BENEFITS ADMINISTRATION","OBA18","O","O","Electronic"]
["OHIO BCMH (BUREAU FOR CHILDREN WITH MEDICAL HANDICAPS)","Z90014","O","O","Electronic"]
["OHIO CASUALTY GROUP (ALL STATES) (WC ONLY)","J24074W","O","O","Electronic"]
["OHIO CASUALTY GROUP (WC ONLY) (TX,MN ONLY)",24074,"O","O","Electronic"]
["OHIO DEPARTMENT OF AGING","CSS","X",null,"Electronic"]
["OHIO DEPARTMENT OF AGING","PAA1","X",null,"Electronic"]
["OHIO DEPARTMENT OF AGING","PAA10A","X",null,"Electronic"]
["OHIO DEPARTMENT OF AGING","PAA10B","X",null,"Electronic"]
["OHIO DEPARTMENT OF AGING","PAA11","X",null,"Electronic"]
["OHIO DEPARTMENT OF AGING","PAA2","X",null,"Electronic"]
["OHIO DEPARTMENT OF AGING","PAA3","X",null,"Electronic"]
["OHIO DEPARTMENT OF AGING","PAA4","X",null,"Electronic"]
["OHIO DEPARTMENT OF AGING","PAA5","X",null,"Electronic"]
["OHIO DEPARTMENT OF AGING","PAA6","X",null,"Electronic"]
["OHIO DEPARTMENT OF AGING","PAA7","X",null,"Electronic"]
["OHIO DEPARTMENT OF AGING","PAA8","X",null,"Electronic"]
["OHIO DEPARTMENT OF AGING","PAA9","X",null,"Electronic"]
["OHIO DEPARTMENT OF REHAB & CORRECTIONS (ODRC)","SODRC","O","O","Electronic"]
["OHIO FARMERS CORVEL","WZ885","O","O","Electronic"]
["OHIO FARMERS INSURANCE COMPANY - NATIONAL ","A0080","O",null,"Electronic"]
["OHIO HEALTH CHOICE PPO",34189,"O","O","Electronic","P I"]
["OHIO PPO CONNECT",74431,"O","O","Electronic","P I"]
["OKLAHOMA DRS DOC (DOS ON OR AFTER 01/01/18)",71065,"O","O","Electronic","P I"]
["OLD REPUBLIC INSURANCE CO (ALL STATES) (WC ONLY)","Z96430","O","O","Electronic"]
["OLD REPUBLIC INSURANCE CO (MN AND TX ONLY)(WC ONLY)","WX285W","O","O","Electronic"]
["OLD SURETY LIFE INSURANCE COMPANY (REMITS ONLY)",29237,null,null,"Paper"]
["OLYMPUS MANAGED HEALTH CARE",65074,"O","O","Electronic"]
["OMAHA GROUP SERVICES",91412,null,null,"Paper"]
["OMNI ADMINISTRATORS","OMNIA","O",null,"Electronic","P"]
["OMNI IPA",36090,"O","O","Electronic","P I"]
["OMNI/MEDICORE HP",68037,"O","O","Electronic","P I"]
["OMNICARE MEDICAL GROUP","IP088","O",null,"Electronic","P"]
["ON LOK SENIOR HEALTH SERVICES",99485,"O","O","Electronic"]
["ONCOLOGY NETWORK OF ORANGE COUNTY","ONOCI","O",null,"Paper","P"]
["ONE BEACON (ALL STATES) (WC ONLY)","20621W","O","O","Electronic","P I"]
["ONE BEACON (ALL STATES) (WC ONLY)","WC526","O","O","Electronic"]
["ONE BEACON INSURANCE - AUTO (TX ONLY) AUTO ONLY","WC526A","O","O","Electronic"]
["ONE CALL DIAGNOSTICS",22321,"O","O","Electronic","P I"]
["ONE CALL EQUIPMENT AND DEVICES",80019,"O","O","Electronic"]
["ONE CALL MEDICAL - DIAGNOSTIC (ALL STATES) (WC ONLY)","J3941","O","O","Electronic","P I"]
["ONE CALL PHYSICAL THERAPY (ALL STATES) (WC ONLY)","J1716","O","O","Electronic"]
["ONE HOMECARE SOLUTIONS","ONEHC","O","O","Electronic"]
["OPERATING ENGINEERS LOCAL 139 HEALTH BENEFIT FUND",66771,"O","O","Electronic"]
["OPERATING ENGINEERS LOCAL 478 (REMITS ONLY)","R36051",null,null,"Paper"]
["OPERATING ENGINEERS LOCAL NO. 428","Z96296",null,null,"Paper"]
["OPERATING ENGINEERS TRUST FUNDS (REMITS ONLY)","R1729",null,null,"Paper"]
["OPTICARE OF UTAH","OPCAU","O",null,"Electronic"]
["OPTIMED HEALTH",96277,"O","O","Electronic"]
["OPTIMUM CHOICE OF THE CAROLINAS INC (OCCI)",52152,"O",null,"Electronic","P"]
["OPTIMUM HEALTHCARE",20133,"O","O","Electronic","P I"]
["OPTUM CARE NETWORK","OCN01","O","O","Electronic","P I"]
["OPTUM CARE NETWORK OF CONNECTICUT","E3287","O","O","Paper","P I"]
["OPTUM CATAMARANRX","Z96016",null,null,"Paper"]
["OPTUM MARYLAND BEHAVIORAL HEALTH","OMDBH","O","O","Electronic","P I"]
["OPTUM SAN DIEGO PUBLIC SECTOR","OSDPS","O","O","Electronic"]
["OPTUM SKYGEN UHCD GOVERNMENT (REMITS ONLY)","GP133",null,null,"Paper"]
["OPTUMCARE","LIFE1","O","O","Electronic","P I  "]
["OPTUMHEALTH",41194,"O","O","Electronic","P I"]
["OPTUMHEALTH CARE SOLUTIONS INC",41161,"O","O","Electronic","P"]
["OPTUMHEALTH SALT LAKE COUNTY","U6885","X","X","Electronic","P"]
["OPTUMRX (REMITS ONLY)","SXCA7",null,null,"Paper"]
["OPUS HEALTH","Z96180",null,null,"Paper"]
["ORANGE COUNTY FIRE AUTHORITY",10951,null,null,"Paper"]
["ORANGE COUNTY HEALTH CARE AGENCY",65021,"O","O","Electronic"]
["ORANGE COUNTY HEALTH SERVICES - RYAN WHITE PROGRAM",69879,"O","O","Electronic","P I"]
["ORANGE COUNTY HEALTH SERVICES DEPT CORRECTIONS HEALTH",77125,"O","O","Electronic"]
["ORANGE COUNTY MEDICAL CLINIC","DB497","O","O","Paper","P I"]
["OREGON STATE ACCIDENT INSURANCE FUND (SAIF) (ALL STATES) (WC ONLY)","J1720WC","O","O","Electronic","P I"]
["OREGON'S HEALTH CO-OP",11124,null,null,"Paper"]
["O'REILLY AUTO PARTS","E9697","O",null,"Electronic"]
["O'REILLY AUTO PARTS (ALL STATES) (AUTO ONLY)","J1670A","O","O","Electronic"]
["O'REILLY AUTO PARTS (ALL STATES) (WC ONLY)","J1670W","O","O","Electronic"]
["ORICA, INC. (MN AND TX ONLY)(WC ONLY)","WX287W","O","O","Electronic"]
["ORTHONET (AETNA)",13383,"O","O","Electronic","P I"]
["ORTHONET (UNIFORMED SERVICES FAMILY HEALTH PLAN)",13382,"O",null,"Electronic","P"]
["OSCAR HEALTH","OSCAR","O","O","Electronic","P I "]
["OSF CARE ADVANTAGE","OSFMC","O",null,"Electronic"]
["OSF HEALTHCARE CENTRAL","OSFC9","O","O","Electronic"]
["OSF HEALTHCARE EAST","OSFE9","O","O","Paper","P I"]
["OSI GROUP LLC (ALL STATES) (AUTO ONLY)","J1904A","O","O","Electronic"]
["OSU SOONER CARE",76619,"X",null,"Electronic"]
["OUR LADY OF THE LAKE REGIONAL MEDICAL CENTER","OLRMC","O","O","Electronic","P I"]
["OVATIONS BRAND (ALL STATES) (WC ONLY)","J1501W","O","O","Electronic"]
["OXFORD HEALTH PLANS",6111,"O","O","Electronic","P I "]
["P2P:  AW HOLDINGS LLC DBA BENCHMARK - WC",10162,"X",null,"Electronic"]
["P2P:  CITY AND COUNTY OF DENVER - WC",11654,"X",null,"Electronic","P"]
["P2P:  COPPERPOINT MUTUAL INSURANCE (WORKERS COMP)",30342,"X",null,"Electronic"]
["P2P:  COTTINGHAM & BUTLER (EQUIAN) - WC",30272,"X",null,"Electronic"]
["P2P:  ENCOMPASS INSURANCE BRAND - WC",11260,"X",null,"Electronic"]
["P2P:  NEXT LEVEL ADMINISTRATION - WC",30270,"X",null,"Electronic"]
["P2P:  NON-PROFIT INSURANCE TRUST - WC",11262,"X",null,"Electronic"]
["P2P:  NORTH STAR MUTUAL INS CO - WC",30268,"X",null,"Electronic"]
["P2P:  RAM MUTUAL INSURANCE CO - WC",11261,"X",null,"Paper","P"]
["P2P:  STATE AUTO MUTUAL INS CO - WC",30269,"X",null,"Electronic"]
["P2P:  STATE OF TENNESSEE (WORK COMP)",30271,"X",null,"Paper"]
["P2P: AAA MINNESOTA & IOWA (WORK COMP)",30107,"X",null,"Electronic"]
["P2P: ACCIDENT FUND INS CO OF AMERICA-WC",11075,"X",null,"Paper"]
["P2P: ACE FIRE UNDERWRITERS INS CO - WC",10456,"X",null,"Electronic"]
["P2P: ACUITY A MUTUAL INS CO (WORK COMP)",10600,"X",null,"Paper"]
["P2P: AIG - CHARTIS (WORKERS COMP)","WCAS24101","X",null,"Paper"]
["P2P: ALASKA NATIONAL (WORKERS COMP)",10544,"X",null,"Paper"]
["P2P: ALIGN NETWORKS - (WORKERS COMP)",11226,"X",null,"Electronic"]
["P2P: ALLIANZ (WORK COMP)",10607,"X",null,"Electronic"]
["P2P: ALLIED MUTUAL AUTO (WORKERS COMP)",10189,"X",null,"Paper"]
["P2P: ALLSTATE INS PROP CAS IND FIRE (WC)",11147,"X",null,"Paper"]
["P2P: AMCO INS CO (WORKERS COMP)",10192,"X",null,"Paper"]
["P2P: AMERICA FIRST LMAC (WORKERS COMP)",30005,"X",null,"Paper"]
["P2P: AMERICAN CASUALTY CO - WC",10458,"X",null,"Electronic"]
["P2P: AMERICAN CLAIMS MANAGEMENT - WC",10171,"X",null,"Paper"]
["P2P: AMERICAN GUARANTEE (WORKERS COMP)",10459,"X",null,"Paper"]
["P2P: AMERICAN HOME ASSURANCE - WC",10127,"X",null,"Electronic"]
["P2P: AMERICAN MINING INS GROUP - WC",30119,"X",null,"Electronic"]
["P2P: AMERICAN MOTORISTS INS CO - WC",10336,"X",null,"Electronic"]
["P2P: AMERICAN NAT PROP & CAS INS - WC",10545,"X",null,"Paper"]
["P2P: AMERIPRISE AUTO & HOME INS - WC",10546,"X",null,"Electronic"]
["P2P: AMERISAFE (WORKERS COMP)",30143,"X",null,"Electronic"]
["P2P: AMERISURE INS (MN & TX) WORK COMP",10172,"X",null,"Paper"]
["P2P: AMERISURE PARTNERS INS CO - WC",10173,"X",null,"Paper"]
["P2P: AMICA MUTUAL INS CO (WORK COMP)",10547,"X",null,"Paper"]
["P2P: AMTRUST INSURANCE CO OF KANSAS - WC",10338,"X",null,"Paper"]
["P2P: ANOKA HENNEPIN-ISD 11 (WORK COMP)",10193,"X",null,"Electronic"]
["P2P: ARCH INSURANCE COMPANY - WC",10465,"X",null,"Electronic"]
["P2P: ARGENT (WORKERS COMP)",30206,"X",null,"Paper"]
["P2P: ARGONAUT INSURANCE CO -WORKERS COMP",10468,"X",null,"Paper"]
["P2P: ATHENS ADMINISTRATORS - WC",11316,"X",null,"Electronic","P"]
["P2P: AUTO OWNERS INS (CORVEL) WORK COMP",11133,"X",null,"Paper"]
["P2P: AUTO-OWNERS INSURANCE CO - WC",30176,"X",null,"Electronic"]
["P2P: BANCINSURE INC (WORKERS COMP)",10472,"X",null,"Paper"]
["P2P: BART - SAN FRANCISCO BAY AREA RAPID TRANSIT - WC",30248,"X",null,"Electronic","P"]
["P2P: BEACON MUTUAL - (WORKERS COMP)",30019,"X",null,"Paper"]
["P2P: BERKLEY NET UNDERWRITERS LLC - WC",30045,"X",null,"Paper"]
["P2P: BERKLEY RISK ADMIN (WORKERS COMP)",10199,"X",null,"Paper"]
["P2P: BERKLEY SPECIALTY UNDERWRITERS - WC",10644,"X",null,"Electronic"]
["P2P: BERKSHIRE HATHAWAY (WORKERS COMP)",30089,"X",null,"Paper"]
["P2P: BERKSHIRE HATHAWAY DIRECT INS  - WC",30229,"X",null,"Electronic"]
["P2P: BITUMINOUS INS COMP (WORKERS COMP)",11191,"X",null,"Paper"]
["P2P: BRICKSTREET (WORK COMP)",30157,"X",null,"Paper"]
["P2P: BRISTOL WEST (WORK COMP)",30246,"X",null,"Electronic"]
["P2P: BROADSPIRE (AUTO & P&C BILLS) - WC",11223,"X",null,"Electronic"]
["P2P: BROADSPIRE MN & TX ONLY (WORK COMP)",10041,"X",null,"Paper"]
["P2P: BROADSPIRE WORKERS COMP BILLS ONLY",11224,"X",null,"Paper"]
["P2P: BROTHERHOOD MUTUAL INS (WORK COMP)",30085,"X",null,"Paper"]
["P2P: BRUNSWICK CORPORATION - WC",10656,"X",null,"Electronic"]
["P2P: BUILDERS GROUP OF MN (WC)",11016,"X",null,"Paper"]
["P2P: BURLINGTON COAT FACTORY - WC",10658,"X",null,"Electronic"]
["P2P: CALFARM INS COMP (WORKERS COMP)",10202,"X",null,"Paper"]
["P2P: CAMBRIDGE INT SRV GRP (WORK COMP)",10030,"X",null,"Electronic"]
["P2P: CAREWORKS CONSULTANTS (WORK COMP)",30204,"X",null,"Paper"]
["P2P: CCMSI CANNON COCHRAN MGMT - WC",10551,"X",null,"Paper"]
["P2P: CCMSI CANNON COCHRAN MGMT WORK COMP",10175,"X",null,"Paper"]
["P2P: CHUBB & SON",11155,"X",null,"Paper"]
["P2P: CHUBB SERVICES",30108,"X",null,"Paper"]
["P2P: CHURCH MUTUAL INS CO (WORK COMP)",30111,"X",null,"Electronic"]
["P2P: CINCINNATI INSURANCE COMPANY - WC",11142,"X",null,"Paper"]
["P2P: CITY AND COUNTY OF SAN FRANCISCO (CCSF) - WC",30253,"X",null,"Electronic"]
["P2P: CITY OF FORT WORTH TX (WORK COMP)",30194,"X",null,"Paper"]
["P2P: CITY OF MINNEAPOLIS (WORKERS COMP)",10115,"X",null,"Paper"]
["P2P: CITY OF ST. PAUL - CORVEL (WC)",11157,"X",null,"Paper"]
["P2P: CLAIMS ADMIN SERVICES (CAS) - WC",10550,"X",null,"Paper"]
["P2P: CNA INSURANCE (WORKERS COMP)",10024,"X",null,"Paper"]
["P2P: COMMERCE & INDUSTRY INSURANCE (WC)",10113,"X",null,"Paper"]
["P2P: CONTRACOSTA CNTY SCHOOLS INS GROUP",11221,"X",null,"Electronic"]
["P2P: CONTRACOSTA RSK MGMT (WORKERS COMP)",11220,"X",null,"Electronic"]
["P2P: CONTRACOSTA WATER DISTRICT WC",11222,"X",null,"Electronic"]
["P2P: COTTINGHAM AND BUTLER (WORK COMP)",11135,"X",null,"Electronic"]
["P2P: COUNTRY FINANCIAL MOD SVC CORVEL-WC",11159,"X",null,"Electronic"]
["P2P: COUNTY OF LOS ANGELES (CA) (3000) - WC",10498,"O",null,"Electronic"]
["P2P: CREATIVE RISK SOLUTIONS (WORK COMP)",11146,"X",null,"Paper"]
["P2P: CRESTBROOK INSURANCE COMPANY - WC",10350,"X",null,"Paper"]
["P2P: CRUM & FORSTER MN & TX (WORK COMP)",10040,"X",null,"Paper"]
["P2P: DEPOSITORS INSURANCE CO - WC",10218,"X",null,"Paper"]
["P2P: DEPT OF ENERGY (WORKERS COMP)","WCAS15103","X",null,"Electronic"]
["P2P: DEPT OF LABOR (WORKERS COMP)","WCAS15101","X",null,"Paper"]
["P2P: DEPT OF LABOR BLACK LUNG -WORK COMP","WCAS15102","X",null,"Paper"]
["P2P: EASTERN ALLIANCE (WORKERS COMP)",11239,"X",null,"Paper"]
["P2P: EDWARDS CLAIM ADMINISTRATION - WC",30054,"X",null,"Paper"]
["P2P: EMC PROPERTY AND CASUALTY MN AND OR (WC)",30103,"X",null,"Paper"]
["P2P: EMC PROPERTY AND CASUALTY WORK COMP",30012,"X",null,"Paper"]
["P2P: EMPLOYERS ASSURANCE COMP WORK COMP",30025,"X",null,"Electronic"]
["P2P: EMPLOYERS COMPENSATION INS CO - WC",10482,"X",null,"Electronic"]
["P2P: EMPLOYERS INSURANCE (BUNCH) - WC","WCAS99461","X",null,"Paper"]
["P2P: ESIS - ALL STATES (WORKERS COMP)",10060,"X",null,"Paper"]
["P2P: ESIS (LOCKHEED MARTIN CORP) - WC",30062,"X",null,"Electronic"]
["P2P: ESURANCE INSURANCE CO (WORK COMP)",10559,"X",null,"Electronic"]
["P2P: FABCON (WORKERS COMP)",11244,"X",null,"Paper"]
["P2P: FAIRVIEW HEALTH SVR (CORVEL) - WC",11136,"X",null,"Paper"]
["P2P: FARM BUREAU MUTUAL INS (WC) MN",11248,"X",null,"Paper"]
["P2P: FARM BUREAU MUTUAL INSURANCE (WC) CO, IA, KS, NE, NM, SD, UT",10225,"X",null,"Paper"]
["P2P: FARMERS INS AUTO ONLY (WC)",30106,"X",null,"Paper"]
["P2P: FARMERS INSURANCE EXCHANGE - WC",11198,"O",null,"Electronic"]
["P2P: FARMLAND MUTUAL (MN & TX) WORK COMP",10354,"X",null,"Paper"]
["P2P: FCCI (WORKERS COMP)",30227,"X",null,"Electronic"]
["P2P: FEDERATED CLAIMS SVR CORP WORK COMP",10765,"X",null,"Paper"]
["P2P: FEDERATED DEPARTMENT STORES - WC",30027,"X",null,"Electronic"]
["P2P: FEDERATED MUTUAL (WORKERS COMP)",30068,"X",null,"Paper"]
["P2P: FEDERATED RURAL ELECTRIC (TX) - WC",10054,"X",null,"Electronic"]
["P2P: FEDERATED SERVICES INS CO - WC",30066,"X",null,"Electronic"]
["P2P: FIREMANS FUND INS COMP (WORKERS COMP)",10178,"X",null,"Paper"]
["P2P: FIREMANS FUND INS DALLAS TX - WC",10357,"X",null,"Paper"]
["P2P: FIREMENS INSURANCE CO (WORK COMP)",10348,"X",null,"Paper"]
["P2P: FIRSTCOMP (WORKERS COMP)",10028,"X",null,"Electronic"]
["P2P: FOREMOST (WORKERS COMP)",30099,"X",null,"Electronic"]
["P2P: FRANKENMUTH (WORKERS COMP)","WCAS71101","X",null,"Paper"]
["P2P: GAB ROBBINS MN & TX (WORKERS COMP)",10039,"X",null,"Paper"]
["P2P: GALLAGHER BASSETT (WORKERS COMP)",10023,"X",null,"Paper"]
["P2P: GEICO INSURANCE (WORKERS COMP)",11225,"X",null,"Paper"]
["P2P: GENERAL CASUALTY EDEN PRAIRIE - WC",10361,"X",null,"Paper"]
["P2P: GENEX CARE OF OHIO (WORKERS COMP)",30205,"X",null,"Paper"]
["P2P: GRANGE INSURANCE (WORKERS COMP)",10790,"X",null,"Paper"]
["P2P: GRANGE MUTUAL CASUALTY (WC)",10563,"X",null,"Electronic"]
["P2P: GREAT AMERICAN ASSURANCE CO - WC",10793,"X",null,"Electronic"]
["P2P: GREAT AMERICAN INS CO OF NY - WC",10795,"X",null,"Electronic"]
["P2P: GREAT AMERICAN INSURANCE COMP - WC",10794,"X",null,"Electronic"]
["P2P: GREAT WEST CASUALTY CO WORKERS COMP",10799,"X",null,"Paper"]
["P2P: GRINNELL REINSURANCE (WORK COMP)",11165,"X",null,"Electronic"]
["P2P: GUARD INSURANCE - (WORKERS COMP)",30021,"X",null,"Paper"]
["P2P: GUIDEONE ELITE (CORVEL) (WORK COMP)",11199,"X",null,"Paper"]
["P2P: GUIDEONE MUTUAL INS (WORKERS COMP)",11200,"X",null,"Paper"]
["P2P: HANOVER INSURANCE (CORVEL) - WC",11166,"X",null,"Paper"]
["P2P: HANOVER LLOYDS INS (CORVEL) - WC",11167,"X",null,"Paper"]
["P2P: HARLEYSVILLE INS (CORVEL) WORK COMP",11202,"X",null,"Paper"]
["P2P: HARTFORD (WORKERS COMP)","WCCA12101","X",null,"Paper"]
["P2P: HARTFORD ACCIDENT & INDEMNITY - WC",10492,"X",null,"Electronic"]
["P2P: HAWKEYE (LMAC) - (WORKERS COMP)",30004,"X",null,"Paper"]
["P2P: HEB GROCERY COMPANY (WORKERS COMP)",11255,"X",null,"Electronic"]
["P2P: ICW GROUP (WORKERS COMP)",10565,"X",null,"Paper"]
["P2P: ILLINOIS CASUALTY (WORKERS COMP)",30243,"X",null,"Paper"]
["P2P: INDEMINITY INS NORTH AMERICA (WC)",10497,"X",null,"Paper"]
["P2P: INDIANA INSURANCE (LMAC) - WC",11076,"X",null,"Paper"]
["P2P: INGLES MARKETS (WORKERS COMP)",30257,"X",null,"Electronic"]
["P2P: INSURANCE CO OF NORTH AMERICA - WC",10373,"X",null,"Electronic"]
["P2P: INTEGRITY MUTUAL INS CO - WORK COMP",30031,"X",null,"Paper"]
["P2P: ISURITY (WORKERS COMP)","WCAS99460","X",null,"Electronic"]
["P2P: JI SPECIALTY SERVICES (WORK COMP)",10170,"X",null,"Paper"]
["P2P: KEENAN & ASSOC EXCLUDE PASADENA WC",30069,"X",null,"Paper"]
["P2P: KELLOGG COMPANIES - WC",10847,"X",null,"Electronic","P"]
["P2P: KEMPER PREFERRED (WORK COMP)",30102,"X",null,"Electronic"]
["P2P: KEY RISK MGMT SVCS LLC WORKERS COMP",30046,"X",null,"Paper"]
["P2P: LCTA (WORKERS COMP)",30212,"X",null,"Paper"]
["P2P: LEAGUE OF MN CITIES INS TRUST - WC",30044,"X",null,"Paper"]
["P2P: LIBERTY MUTUAL (WORKERS COMP)","WCAS46101","X",null,"Electronic"]
["P2P: LIBERTY MUTUAL WAUSAU NW HELMSMAN",30110,"X",null,"Paper"]
["P2P: LINK SNACKS INC (WC)",11253,"X",null,"Paper"]
["P2P: LOUISIANA WORKERS COMP CORP LWCC",30059,"X",null,"Paper"]
["P2P: LUBA CASUALTY INS CO (WORKERS COMP)",10164,"X",null,"Paper"]
["P2P: LUMBERMENS UNDERWRITING (CORVEL)-WC",11172,"X",null,"Paper"]
["P2P: MACKINAW ADMINISTRATORS - WC",30238,"X",null,"Electronic"]
["P2P: MACYS (EK HEALTH) - WC",11238,"X",null,"Electronic"]
["P2P: MACYS CORPORATE SERVICES INC - WC",30020,"X",null,"Electronic"]
["P2P: MAINE EMPLOYERS MUTUAL INS CO - WC",30018,"X",null,"Paper"]
["P2P: MANPOWER (WORKERS COMP)",10381,"X",null,"Paper"]
["P2P: MARRIOTT CLAIMS SERVICES CORP - WC",10870,"X",null,"Electronic"]
["P2P: MATRIX ABSENCE MGMT (WORK COMP)",10572,"X",null,"Paper"]
["P2P: MAYO CLINIC RECOVERY CLAIMS - WC",10120,"X",null,"Paper"]
["P2P: MCIT (WORKERS COMP)",10874,"X",null,"Paper"]
["P2P: MEADOWBROOK INSURANCE COMPANY - WC",11145,"X",null,"Paper"]
["P2P: MEADOWBROOK PROCENTURY CORVEL - WC",11175,"X",null,"Paper"]
["P2P: MEDRISK (WORKERS COMP)","WCAS18103","X",null,"Electronic"]
["P2P: MENDOTA INSURANCE COMPANY - WC",10573,"X",null,"Electronic"]
["P2P: MERIDIAN RAIL - (WORKERS COMP)",10882,"X",null,"Paper"]
["P2P: METROPOLITAN COUNCIL - (WORK COMP)",10383,"X",null,"Paper"]
["P2P: METROPOLITAN PROPERTY & CASUALTY-WC",10574,"X",null,"Electronic"]
["P2P: MIDWEST FAMILY MUTUAL (CORVEL) - WC",11177,"X",null,"Paper"]
["P2P: MIDWEST INSURANCE (WORKERS COMP)",10029,"X",null,"Paper"]
["P2P: MINNESOTA DEPT LABOR INDUSTRY - WC",11078,"X",null,"Paper"]
["P2P: MINNESOTA INSURANCE GUARANTY (WC)",30211,"X",null,"Paper"]
["P2P: MINNESOTA NONPROFITS EMPLOYERS (WC)",10252,"X",null,"Electronic"]
["P2P: MITSUI SUMITOMO INS GROUP - (WC)",11207,"X",null,"Paper"]
["P2P: MITSUI SUMITOMO INS USA INC - (WC)",11208,"X",null,"Paper"]
["P2P: MUNICIPAL POOLING AUTHORITY - WC",11235,"X",null,"Paper"]
["P2P: NATIONAL INTERSTATE (WORK COMP)",30087,"X",null,"Electronic"]
["P2P: NATIONWIDE (MN ONLY) WORKERS COMP",10036,"X",null,"Paper"]
["P2P: NATIONWIDE AGRIBUSINESS (WORK COMP)",10396,"X",null,"Paper"]
["P2P: NATIONWIDE MUTUAL AUTO (WORK COMP)",11218,"X",null,"Electronic"]
["P2P: NEW JERSEY MANUFACTURING -AUTO ONLY",30201,"X",null,"Paper"]
["P2P: NEW JERSEY MANUFACTURING WORK COMP",30035,"X",null,"Paper"]
["P2P: NORDSTROM INC (WORKERS COMP)",10905,"X",null,"Electronic"]
["P2P: OLD REPUBLIC INS (WORKERS COMP)",10513,"X",null,"Paper"]
["P2P: ONE BEACON (FORMERLY CGU) - WC",10915,"X",null,"Paper"]
["P2P: PA MANUFACTURING (WORKERS COMP)","WCAS99204","X",null,"Paper"]
["P2P: PACIFIC GAS & ELECTRIC DEFINITI-WC",11254,"X",null,"Paper"]
["P2P: PALADIN MANAGED CARE SVCS INC - WC",30061,"X",null,"Paper"]
["P2P: PAPER OVERFLOW (WC & AUTO)","PM1111111","X",null,"Electronic"]
["P2P: PARADIGM (WORKERS COMP)",30015,"X",null,"Paper"]
["P2P: PARK DISTRICT RISK MGMT ASSOCIATION",10142,"X",null,"Paper"]
["P2P: PORT OF OAKLAND CA (WORKERS COMP)",30150,"X",null,"Paper"]
["P2P: PROGRESSIVE CASUALTY (WORKERS COMP)",10037,"X",null,"Paper"]
["P2P: PROGRESSIVE INSURANCE (WORK COMP)",10272,"X",null,"Paper"]
["P2P: PROGRESSIVE NORTHWESTERN INSURANCE",10275,"X",null,"Paper"]
["P2P: PROTECTIVE INSURANCE (CORVEL) - WC",11138,"X",null,"Paper"]
["P2P: QBE- GENERAL CASUALTY - SUN PRAIRIE",10366,"X",null,"Paper"]
["P2P: RAMSEY COUNTY CORVEL - WORKERS COMP",11181,"X",null,"Paper"]
["P2P: REPUBLIC INDEMNITY CO OF AMERICA-WC",10027,"X",null,"Electronic"]
["P2P: RETURN TO WORK RTW (WORKERS COMP)",10045,"X",null,"Paper"]
["P2P: RISK ADMIN SERVICES (WORK COMP)",11250,"X",null,"Paper"]
["P2P: RISK ENTERPRISE MGMT (CORVEL) - WC",11183,"X",null,"Paper"]
["P2P: RIVERPORT INSURANCE (WORKERS COMP)",30043,"X",null,"Paper"]
["P2P: ROCKWOOD CASUALTY INSURANCE - WC",30224,"X",null,"Electronic"]
["P2P: RYDER SERVICES (WORKERS COMP)",10579,"X",null,"Electronic"]
["P2P: SAFECO INSURANCE - WORKERS COMP",10580,"X",null,"Paper"]
["P2P: SAFECO INSURANCE AUTO (WORK COMP)",30231,"X",null,"Electronic"]
["P2P: SAFEWAY/VONS (WORKERS COMP)",11234,"X",null,"Paper"]
["P2P: SAN FRANCISCO MUNICIPAL TRANSPORTATION AGENCY (SFMTA) - WC",30254,"X",null,"Electronic"]
["P2P: SCF ARIZONA (WORKERS COMP)",11067,"X",null,"Paper"]
["P2P: SCIF STATE COMP FUND(WORKERS COMP)","WCCA10000","X",null,"Paper"]
["P2P: SECURA AUTO (WC)",11251,"X",null,"Paper"]
["P2P: SECURE INSURANCE A MUTUAL CO - WC",10978,"X",null,"Electronic"]
["P2P: SEDGWICK CMS (WORKERS COMP)",30037,"X",null,"Paper"]
["P2P: SEDGWICK DIGNITY HEALTH (WORK COMP)",11228,"X",null,"Electronic"]
["P2P: SELECTIVE INSURANCE (WORKERS COMP)",10979,"X",null,"Paper"]
["P2P: SENTINEL INSURANCE COMP LTD - WC",10435,"X",null,"Electronic"]
["P2P: SENTRY INS A MUTUAL CO (WORK COMP)",30209,"X",null,"Electronic"]
["P2P: SENTRY INSURANCE (WORKERS COMP)",30208,"X",null,"Electronic"]
["P2P: SERVICE LLOYDS INS CORVEL WORK COMP",11209,"X",null,"Paper"]
["P2P: SOCIETY INSURANCE (WORK COMP)",11252,"X",null,"Electronic"]
["P2P: SOMPO JAPAN INS CO OF AMERICA - WC",10422,"X",null,"Electronic"]
["P2P: SRS CARGILL INC (CORVEL) WORK COMP",11185,"X",null,"Paper"]
["P2P: ST LOUIS COUNTY CORVEL WORKERS COMP",11184,"X",null,"Paper"]
["P2P: ST PAUL TRAVELERS (WORKERS COMP)","WCAS16101","X",null,"Paper"]
["P2P: STATE ACCIDENT FUND (SAIF) - WC",30144,"X",null,"Paper"]
["P2P: STATE FARM - (WORKERS COMP)",11100,"X",null,"Paper"]
["P2P: STATE FUND MUTUAL INS (CORVEL)-WC",11066,"X",null,"Paper"]
["P2P: STATE OF MINNESOTA - DOER - WC",11141,"X",null,"Paper"]
["P2P: STATE OFFICE RISK MGMT SORM - WC",10996,"X",null,"Paper"]
["P2P: SUMMIT HOLDINGS (WORKERS COMP)",30216,"X",null,"Electronic"]
["P2P: TECHNOLOGY INSURANCE CO - WC",10526,"X",null,"Electronic"]
["P2P: TENNESSEE RISK MANAGEMENT TRUST - WC",11258,"O",null,"Electronic"]
["P2P: TEXAS MUTUAL (TX ONLY) WORKERS COMP",10034,"X",null,"Paper"]
["P2P: THE GENERAL INSURANCE (WORK COMP)",30235,"X",null,"Electronic"]
["P2P: THE ZENITH (WORKERS COMP)",10035,"X",null,"Paper"]
["P2P: THIRD COAST UNDERWRITERS",11259,"X",null,"Electronic"]
["P2P: TOWER GROUP INC - (WORKERS COMP)",11024,"X",null,"Electronic"]
["P2P: TOYOTA MOTOR SALES USA - WC",10529,"X",null,"Electronic"]
["P2P: TRANSPORTATION INSURANCE CO - WC",10432,"X",null,"Electronic"]
["P2P: TRAVELERS AUTO (WORKERS COMP)","AUAS99402","X",null,"Paper"]
["P2P: TRISTAR (WORKERS COMP)",30034,"X",null,"Paper"]
["P2P: TX ASSOC OF SCHOOL BOARDS (MN & TX)",10179,"X",null,"Paper"]
["P2P: TX MUNICIPAL LEAGUE RISK POOL (WC)",10138,"X",null,"Paper"]
["P2P: TX MUTUAL INS (ALL OTHER STATES)",10026,"X",null,"Paper"]
["P2P: TYSON FOODS INC",30179,"X",null,"Paper"]
["P2P: UNDERWRITERS SAFETY & CLAIMS - WC",10587,"X",null,"Paper"]
["P2P: UNITED FIRE - AUTO ONLY (WORK COMP)",10532,"X",null,"Paper"]
["P2P: UNITED FIRE (WORKERS COMP)",10531,"X",null,"Paper"]
["P2P: UNITED HEARTLAND (WORKERS COMP)",11249,"X",null,"Paper"]
["P2P: UNIVERSITY OF KY HEALTH SVCS - WC",30203,"X",null,"Paper"]
["P2P: USC CBS COMPANIES (WKRS COMP)","WCAS99271","X",null,"Electronic"]
["P2P: USC CHESTERFIELD SRVS (WKRS COMP)","WCAS99235","X",null,"Electronic"]
["P2P: USC CRAWFORD (WORKERS COMP)","WCAS99225","X",null,"Electronic"]
["P2P: USC SECURA INS (WORKERS COMP)","WCAS99237","X",null,"Electronic"]
["P2P: USC WALMART (WORKERS COMP)","WCAS99224","X",null,"Electronic"]
["P2P: UTICA MUTUAL INS CO (WORKERS COMP)",30088,"X",null,"Paper"]
["P2P: VANLINERS INSURANCE COMPANY - WC",10590,"X",null,"Paper"]
["P2P: VIA BUNCH & ASSOCIATES WORKERS COMP","WCAS70101","X",null,"Paper"]
["P2P: WAL-MART CLAIMS MGT INC (CMI) - WC",10058,"X",null,"Paper"]
["P2P: WEST BEND MUTUAL INSURANCE (WC)",11049,"X",null,"Paper"]
["P2P: WESTERN NATIONAL ASSURANCE (WC)",11215,"X",null,"Electronic"]
["P2P: WESTERN NATIONAL MUTUAL (CORVEL)-WC",11129,"X",null,"Paper"]
["P2P: WESTERN NATL PIONEER SPECIALTIES-WC",11216,"X",null,"Paper"]
["P2P: WESTFIELD INS (WORKERS COMP)",10168,"X",null,"Paper"]
["P2P: WESTFIELD NATIONAL - (WORK COMP)",11050,"X",null,"Paper"]
["P2P: XCEL ENERGY CORVEL (WORKERS COMP)",11188,"X",null,"Paper"]
["P2P: XL INSURANCE AMERICA INC - WC",10449,"X",null,"Electronic"]
["P2P: XL SPECIALTY INSURANCE COMP - WC",10537,"X",null,"Electronic"]
["P2P: YORK RISK SVR GROUP - (WORK COMP)",11061,"X",null,"Paper"]
["P2P: Z-NAT INS - ZENITH NATIONAL - WC",10595,"X",null,"Paper"]
["P2P: ZURICH (67101) (WORKERS COMP)","WCAS67101","X",null,"Electronic"]
["P2P: ZURICH (WORKERS COMP)",11144,"X",null,"Paper"]
["P2P: ZURICH FARMERS (WORKERS COMP)",30016,"X",null,"Paper"]
["P3 HEALTH PARTNERS ARIZONA",58375,"O","O","Electronic","P I"]
["P3 HEALTH PARTNERS NEVADA","Z96440","O","O","Electronic"]
["P5 HEALTH PLAN OF UT",87068,"O","O","Electronic","P I"]
["PACE CENTRAL IOWA",72436,"O","O","Electronic"]
["PACE CNY",70454,"O","O","Electronic","P I"]
["PACE GREATER NEW ORLEANS",21614,"O","O","Electronic"]
["PACE NEBRASKA",35416,"O","O","Electronic"]
["PACE OF SOUTHWEST MICHIGAN, INC",45114,"O","O","Electronic"]
["PACE SOUTHEAST MICHIGAN",86711,"O","O","Electronic"]
["PACE SOUTHWEST IOWA",53534,"O","O","Electronic"]
["PACIFIC ASSOCIATES IPA","PAIPA","O","O","Electronic"]
["PACIFIC COAST BUILDING PRODUCTS (ALL STATES) (AUTO ONLY)","J1808A","O","O","Electronic"]
["PACIFIC COAST BUILDING PRODUCTS (ALL STATES) (WC ONLY)","J1808W","O","O","Electronic"]
["PACIFIC COMPENSATION INSURANCE CO (ALL STATES) (WC ONLY)","J1913","O","O","Electronic"]
["PACIFIC COMPENSATION INSURANCE COMPANY (WC ONLY) (ALL STATES)","CB094","O","O","Electronic"]
["PACIFIC DENTAL SERVICES (ALL STATES) (AUTO ONLY)","J1806A","O","O","Electronic"]
["PACIFIC DENTAL SERVICES (ALL STATES) (WC ONLY)","J1806W","O","O","Electronic"]
["PACIFIC GAS & ELECTRIC - 115 (ALL STATES) (WC ONLY)","J1916","O","O","Electronic","P I"]
["PACIFIC HEALTHCARE IPA","Z95405",null,null,"Paper"]
["PACIFIC MOTOR COMPANY","J1364W","O","O","Electronic"]
["PACIFIC SOURCE OF OR",54976,null,null,"Paper"]
["PACIFIC SOUTHWEST ADMINISTRATORS",75309,"O","O","Electronic"]
["PACIFIC SUNWEAR (ALL STATES) (AUTO ONLY)","J1805A","O","O","Electronic"]
["PACIFIC SUNWEAR (ALL STATES) (WC ONLY)","J1805W","O","O","Electronic"]
["PACIFICA OF THE VALLEY HOSPITAL","MPM50","O","O","Paper"]
["PACIFICARE OF CALIFORNIA","Z1015",null,null,"Paper"]
["PACIFICARE OF OREGON - ENCOUNTERS",95975,"O",null,"Electronic","P"]
["PACIFICSOURCE COMMUNITY SOLUTIONS",20416,"O","O","Electronic","P I "]
["PACIFICSOURCE HEALTH PLANS",93029,"O","O","Electronic","P I "]
["PACIFICSOURCE MEDICARE",20377,"O","O","Electronic"]
["PAINTERS UNION INSURANCE FUND",53483,"O","O","Electronic","P I"]
["PALADIN MANAGED CARE SERVICES INC (ALL STATES) (WC ONLY)","J1475W","O","O","Electronic"]
["PALO ALTO MEDICAL FOUNDATION",87158,"O","O","Electronic"]
["PAN AMERICAN LIFE INSURANCE GROUP",4218,"O","O","Paper","P I "]
["PAN FOUNDATION","RMARE",null,null,"Paper"]
["PANAMERICAN PALIC PUERTO RICO","L0180","X","X","Electronic"," "]
["PAPA JOHN'S INTERNATIONAL INC (MN AND TX ONLY) (WC ONLY)","WX289W","O","O","Electronic"]
["PAPER",98999,"O","O","Paper"]
["PAPER (COMMERCIAL ONLY) (WITH ELECTRONIC ATTACHMENTS)","C98999","O","O","Electronic"]
["PAPER CLAIM - VERSION (02/12)","PPNPI","O","O","Electronic"]
["PAPER CLAIMS FOR ANESTHESIA MINUTES","Z1171","O",null,"Electronic","P"]
["PAPER WITH ELEC ATTACHMENTS (AUTO ONLY)","J9899A","O","O","Electronic"]
["PAPER WITH ELEC ATTACHMENTS (WC ONLY)","J9899W","O","O","Electronic"]
["PARADIGM (ALL STATES) (WC ONLY)","J1001","O","O","Electronic"]
["PARADIGM (ALL STATES) (WC ONLY)","J1001W","O","O","Electronic","P I"]
["PARADIGM HEALTH PLAN",54874,"O","O","Paper","P"]
["PARAGON BENEFITS INC",58174,"O","O","Electronic","P I"]
["PARAMOUNT HEALTH","SX158","O","O","Electronic","P I "]
["PARK DISTRICT RISK MANAGEMENT ASSOCIATION (PDRMA) (ALL STATES) (WC ONLY)","J1365","O","O","Electronic"]
["PARKLAND COMMUNITY HEALTH PLAN",66917,"O","O","Electronic","P I "]
["PARTNERS IN HEALTH","PARTH","O","O","Paper","P I"]
["PARTNERS NATIONAL HEALTH PLANS OF NORTH CAROLINA INC",7472,"O","O","Electronic","P I "]
["PARTNERSHIP HEALTH PLAN (RCHC SONOMA COUNTY ONLY)","RCHC1","O","O","Electronic","P I"]
["PARTNERSHIP HEALTH PLAN OF CALIFORNIA","PHP02","X","X","Electronic","P I "]
["PASSPORT ADVANTAGE",66008,"O","O","Electronic"," "]
["PASSPORT HEALTH PLAN BY MOLINA HEALTHCARE",61325,"O","O","Electronic"]
["PATH ADMINISTRATORS",25172,"O","O","Electronic"]
["PATIENT ADVOCATES",10525,"O","O","Electronic","P"]
["PATIENT ADVOCATES LLC",55489,"O","O","Electronic"]
["PATIENT PHYSICIAN COOPERATIVES",20510,"O","O","Electronic"]
["PATIENTPAY",26335,null,null,"Paper"]
["PATRIOT DENTAL",10782,null,null,"Paper"]
["PAYERFUSION HOLDINGS, LLC",27048,"O","O","Electronic"," "]
["PDRMA","J1365W","O","O","Electronic"]
["PDRMA LIB","J1366W","O","O","Electronic"]
["PDT - HOLLYWOOD PRESBYTERIAN-ST VINCENT","PDT02","O","O","Paper","P I"]
["PEACH STATE HEALTH PLAN",68049,null,null,"Paper"]
["PEAK HEALTH NETWORK","PEAK0","O","O","Electronic","P I"]
["PEAK PACE SOLUTIONS LLC",27034,"O","O","Electronic","P I"]
["PEBBLE HEALTH",24456,"O","O","Electronic","P I"]
["PEDIATRIC SERVICES HOLDING CORP - PSA HEALTHCARE (ALL STATES) (AUTO ONLY)","J1989A","O","O","Electronic"]
["PEDIATRIC SERVICES HOLDING CORP - PSA HEALTHCARE (ALL STATES) (WC ONLY)","J1989W","O","O","Electronic"]
["PEERLESS (ALL STATES) (WC ONLY)","J1423W","O","O","Electronic"]
["PEF LTD","PEF01","O","O","Electronic","P I"]
["PEG DISCOVER RE (FOOOD MERCHANT) (ALL STATES) (WC ONLY)","J1054","O","O","Electronic"]
["PEG DISCOVER RE (MN AND TX ONLY)(WC ONLY)","WR343W","O","O","Electronic"]
["PEGASUS RISK MANAGEMENT (CA ONLY) (WC ONLY)","J1924","O","O","Electronic"]
["PEGI-FAMILY DINING (ALL STATES) (WC ONLY)","J1093W","O","O","Electronic"]
["PEHP (PUBLIC EMPLOYEES HEALTH PROGRAM)","Z1012","X","X","Electronic"]
["PEKIN (ALL STATES)(AUTO ONLY)","J1367A","O","O","Electronic","P"]
["PEKIN (ALL STATES)(WC ONLY)","J1367W","O","O","Electronic"]
["PEKIN LIFE INSURANCE",37086,"O","O","Electronic","P "]
["PENN BEHAVIORAL HEALTH (DOS PRIOR TO 07/01/2019)",53226,"O","O","Electronic"]
["PENN MILLERS INSURANCE CO (MN TX ONLY) (AUTO ONLY)","J1573A","O","O","Electronic"]
["PENN MILLERS INSURANCE CO (MN TX ONLY) (WC ONLY)","J1573W","O","O","Electronic"]
["PENN NATIONAL (NJ ONLY) (AUTO ONLY)","C1076","O","O","Electronic","P I"]
["PENN NATIONAL (NJ, NC, TN, VA ONLY) (WC ONLY)","J3903","O","O","Electronic","P I"]
["PENN TREATY NETWORK AMERICA INS MEDICARE SUPP","Z96295",null,null,"Paper"]
["PENNSYLVANIA BLUE CROSS CENTRAL","12B81",null,"X","Electronic"]
["PENNSYLVANIA HEALTH AND WELLNESS","Z96336",null,null,"Paper"]
["PENNSYLVANIA HEALTH CARE PLAN","Z96447","O",null,"Paper","P"]
["PENNSYLVANIA MANUFACTURING ASSOCIATES (ALL STATES) (WC ONLY)","J1439W","O","O","Electronic"]
["PENNSYLVANIA MANUFACTURING ASSOCIATES (WC ONLY) (ALL STATES)","J1439","O","O","Electronic","P I"]
["PENNSYLVANIA PACE",20172,"O","O","Electronic"]
["PENNSYLVANIA PREFERRED HEALTH NETWORK (PPHN)",6161,"O","O","Paper","P I"]
["PEOPLE 1ST HEALTH STRATEGIES INC",12541,null,null,"Paper"]
["PEOPLE 2.0 (ALL STATES) (WC ONLY)","J1466W","O","O","Electronic"]
["PEOPLE FIRST (ELIGIBILITY ONLY)","Z96294",null,null,"Paper"]
["PEOPLE'S HEALTH NETWORK",72126,"O","O","Electronic","P I  "]
["PERENNIAL ADVANTAGE OF COLORADO","PACO1","O","O","Paper","P I"]
["PERENNIAL ADVANTAGE OF OHIO","PAOH1","O","O","Paper","P I"]
["PERFORMANCE CONTRACTING INC (ALL STATES) (WC ONLY)","J1940","O","O","Electronic"]
["PERFORMANCE CONTRACTING INC (ALL STATES)(AUTO ONLY)","J1940A","O","O","Electronic","P I"]
["PERFORMANCE FOOD GROUP - CORVEL (ALL STATES) (AUTO ONLY)","J2390A","O","O","Electronic"]
["PERFORMANCE FOOD GROUP - CORVEL (ALL STATES) (WC ONLY)","J2390","O","O","Electronic"]
["PERFORMANCE FOOD GROUP (WC ONLY) (ALL STATES)","E1685W","O","O","Paper"]
["PERFORMANCE TEMPS","J1368W","O","O","Electronic"]
["PERFORMCARE - HEALTHCHOICES",65391,"O","O","Electronic","P I  "]
["PERSONAL INSURANCE ADMINISTRATORS INC (AGOURA HILLS, CA)",95397,"O","O","Electronic","P I "]
["PHARMACIST MUTUAL INSURANCE COMP (MN TX ONLY) (AUTO ONLY)","J1570","O","O","Electronic"]
["PHARMACIST MUTUAL INSURANCE COMPANY (WC ONLY)","J1570W","O","O","Electronic"]
["PHARMACISTS MUTUAL INS CO  (AUTO ONLY)","13714A","O","O","Electronic"]
["PHARMACISTS MUTUAL INSURANCE CO (ALL STATES)(WC ONLY)","J3734","O","O","Electronic"]
["PHCS MAXOR ADMINISTRATIVE SERVICES",20090,"O","O","Electronic"]
["PHH FLEETAMERICA (MN AND TX ONLY)(WC ONLY)","WX298W","O","O","Electronic"]
["PHIFER WIRE PRODUCTS INCORPORATED","PHIF4","O","O","Electronic"]
["PHILADELPHIA AMERICAN LIFE INSURANCE COMPANY","NWERA","O","O","Paper","P I"]
["PHP NETWORK","PHPMSI","O","O","Electronic"]
["PHP TPA SERVICES",7161,"O","O","Electronic"]
["PHYSICIAN ASSOCIATES OF GREATER SAN GABRIEL VALLEY (CA)","PA513","O","O","Electronic","I"]
["PHYSICIAN HEALTHCARE INTEGRATION IPA","POP10","O",null,"Paper","P"]
["PHYSICIAN PARTNERS IPA","PPRT1","O","O","Electronic","P"]
["PHYSICIANS CARE NETWORK (ROCKFORD, IL ONLY)",36345,"O","O","Electronic","P I"]
["PHYSICIANS CARE NETWORK / THE POLYCLINIC","PCN12","O","O","Electronic","P I"]
["PHYSICIANS CHOICE MEDICAL GROUP OF SAN LUIS OBISPO","SLOS1","O","O","Electronic","P I"]
["PHYSICIANS CHOICE MEDICAL GROUP OF SANTA MARIA","MCI01","O","O","Electronic","P I"]
["PHYSICIAN'S DATA TRUST","PDT01","O","O","Electronic","P I"]
["PHYSICIANS HEALTH ASSOCIATION OF ILLINOIS",37136,"O","O","Electronic","P I"]
["PHYSICIANS HEALTH CHOICE","Z0082","O","O","Electronic"]
["PHYSICIANS HEALTH COLLABORATIVE",20398,"O","O","Paper","P I"]
["PHYSICIANS HEALTH NETWORK","MHM03","O",null,"Electronic"]
["PHYSICIANS HEALTH NETWORK (PHN)","MHCM2","O",null,"Electronic","P"]
["PHYSICIANS HEALTH PLAN (PHP)",37330,"O","O","Paper","P I  "]
["PHYSICIANS HEALTH PLAN OF MICHIGAN MEDICARE",83276,"O","O","Paper","P I  "]
["PHYSICIANS HEALTH PLAN OF NORTHERN INDIANA (PHP)",12399,"O","O","Electronic","P I "]
["PHYSICIANS MEDICAL GROUP OF SAN JOSE","ZBID8","O",null,"Electronic","P"]
["PHYSICIANS MEDICAL GROUP OF SANTA CRUZ (DOS 1/1/19 AND AFTER)","PMGSC1","O",null,"Electronic"]
["PHYSICIANS MUTUAL INSURANCE COMPANY",47027,"O","O","Electronic"]
["PHYSICIANS OF SOUTHWEST WASHINGTON",91171,"O","O","Electronic"]
["PHYSICIANS UNITED PLAN","TH131","O","O","Electronic"]
["PHYSMETRICS",48008,"O",null,"Electronic"]
["PHYSNET (ALL STATES) (WC ONLY)","J4305","O","O","Electronic","P I"]
["PIEDMONT (GA)",10882,null,null,"Paper"]
["PIEDMONT COMMUNITY HEALTH PLAN",55768,"O","O","Electronic","P I "]
["PIER 1 INC. USA (ALL STATES) (WC ONLY)","J1369W","O",null,"Electronic"]
["PIH HEALTH","BHP01","O","O","Electronic","P I"]
["PINNACLE MEDICAL GROUP",95271,"O","O","Paper","P"]
["PINNACOL ASSURANCE","CCIA1","O","O","Electronic","P I"]
["PINNACOL ASSURANCE (EMPLOYEE CLAIMS ONLY) - CORVEL (ALL STATES) (WC ONLY)","J4050","O","O","Electronic","P I"]
["PIONEER MEDICAL GROUP","PIONR","O",null,"Electronic"]
["PIONEER PROVIDER NETWORK (DOS PRIOR TO 3/31/2019)","PPNZZ","O","O","Electronic"]
["PIPE FITTERS WELFARE FUND LOCAL 597","PIP98","O",null,"Electronic","P"]
["PIPELINE INDUSTRY BENEFIT FUND (REMITS ONLY)","PIBF",null,null,"Paper"]
["PITTSBURGH CARE PARTNERSHIP INC",23283,"O","O","Paper","P I"]
["PIVOTAL PLAN",64160,"O","O","Electronic"]
["PLAN DE SALUD HOSPITAL MENONITA VITAL","Z96646","X","X","Paper","P I"]
["PLAN DE SALUD MENONITA",66063,"X","X","Electronic"]
["PLAN MEDICO BELLA VISTA","Z6605","X","X","Electronic"]
["PLANNED ADMINISTRATORS",37287,"O","O","Electronic","P I "]
["PLANSTIN ADMINISTRATION",65241,"O","O","Paper","P I"]
["PLUMBERS & PIPEFITTERS UA LOCAL 350","Z96193",null,null,"Paper"]
["PLUMBERS AND PIPEFITTERS WELFARE EDUCATIONAL FUND","DX153",null,null,"Paper"]
["PLUMBERS LOCAL 130",9578,null,null,"Paper"]
["PLYMOUTH ROCK (ALL STATES) (AUTO ONLY)","J3938","O","O","Electronic","P"]
["PMA INSURANCE GROUP & PMA MANAGEMENT CORP (MN, TX) WC ONLY (MEDRISK CONTRACTED PROVIDERS ONLY)","WB175W","O","O","Electronic"]
["PMA INSURANCE GROUP (ALL STATES) (AUTO ONLY)","J3967A","O","O","Electronic","P I"]
["PMA INSURANCE GROUP (ALL STATES) (WC ONLY)","J3967","O","O","Electronic","P I"]
["PODIATRY FIRST","POD1S","O",null,"Electronic"]
["PODIATRY NETWORK FLORIDA",59324,"O","O","Paper","P I"]
["PODIATRY PLAN INC","PODIA","O",null,"Paper","P"]
["POINT COMFORT UNDERWRITERS  - TRAVEL","PCU04","O","O","Paper","P I"]
["POINT COMFORT UNDERWRITERS (PATIENTS OVER 18)","PCU02","O","O","Paper","P I"]
["POINT COMFORT UNDERWRITERS (PATIENTS UNDER 18)","PCU01","O","O","Paper","P I"]
["POINT COMFORT UNDERWRITERS (TN PROVIDERS)","PCU03","O","O","Paper","P I"]
["POKAGON HEALTH SERVICES",78535,"O","O","Electronic"]
["POLARIS (ALL STATES) (WC ONLY)","A0395W","O",null,"Electronic","P"]
["POLARIS (MN & TX ONLY) (AUTO ONLY)","A0395A","O",null,"Electronic","P"]
["POMONA VALLEY MEDICAL GROUP","IP057","O",null,"Paper","P"]
["POOL ADMINISTRATORS PRIMARY","PAI01","O",null,"Electronic"]
["POOL ADMINISTRATORS SECONDARY","PAI02","O",null,"Electronic"]
["POPPINS HEALTH",21814,"O","O","Electronic"]
["POPULYTICS",23253,"O","O","Electronic","P  "]
["PORT OF OAKLAND (CA) (ALL STATES) (AUTO ONLY)","J1627A","O","O","Electronic"]
["PORT OF OAKLAND (CA) (ALL STATES) (WC ONLY)","J1627W","O","O","Electronic"]
["PORTILLOS","J1371W","O","O","Electronic"]
["PPO ONE","UHNDC","O",null,"Electronic"]
["PPOPLUS LLC",72148,"O","O","Electronic","P I"]
["PRAIRIE STATES ENTERPRISES INC",36373,"O","O","Electronic","P I  "]
["PREFERRED ADMINISTRATORS","EPF10","O","O","Electronic","P I"]
["PREFERRED ADMINISTRATORS - CHILDRENS HOSPITAL","EPF11","O","O","Electronic","P I"]
["PREFERRED BENEFIT ADMINISTRATORS (LONGWOOD, FL)",53476,"O","O","Electronic","P"]
["PREFERRED BENEFITS ADMINISTRATOR (EOBC)",61665,null,null,"Paper"]
["PREFERRED CARE NETWORK",78857,"O","O","Electronic","P  "]
["PREFERRED CARE PARTNERS (FL)",65088,"O","O","Electronic","P I "]
["PREFERRED COMMUNITY CHOICE/PCC SELECT/COMPMED",73145,"O","O","Electronic","P I"]
["PREFERRED EMPLOYERS (ALL STATES) (WC ONLY)","J1095W","O","O","Electronic"]
["PREFERRED EMPLOYERS GROUP (MN & TX) (WC ONLY)","WX300W","O","O","Electronic"]
["PREFERRED EMPLOYERS INSURANCE CO.","WR461","O","O","Electronic"]
["PREFERRED EMPLOYERS INSURANCE COMP (PEI) (CA ONLY) (WC ONLY)","J1496","O","O","Electronic"]
["PREFERRED HEALTH (PHP KANSAS CITY)",31478,"O","O","Electronic","P I"]
["PREFERRED HEALTH PLAN",14966,"O","O","Paper","P I"]
["PREFERRED HEALTH PLAN OF THE CAROLINAS","CB404","O","O","Electronic","P I"]
["PREFERRED HEALTH SYSTEMS",263,null,null,"Paper"]
["PREFERRED IPA","PFIPA","O","O","Electronic","P I"]
["PREFERRED MEDICAL","J1372W","O","O","Electronic"]
["PREFERRED MEDICAL CLAIMS SERVICES/PMCS (REMITS ONLY)",21524,null,null,"Paper"]
["PREFERRED MEDICAL PLAN","PMP01","O","O","Electronic"]
["PREFERRED MEDICARE CHOICE (PMC)","Z60056","X","X","Electronic"]
["PREFERRED MEDICARE CHOICE (PMC) REFORM","Z96647","X","X","Paper","P I"]
["PREFERRED MUTUAL (ALL STATES) (WC ONLY)","J3864W","O","O","Electronic","P I"]
["PREFERRED NETWORK ACCESS",36401,"O","O","Electronic","P"]
["PREFERREDONE (MN)",41147,"O","O","Electronic","P I "]
["PREMIER ADMIN SOLUTIONS",11117,null,null,"Paper"]
["PREMIER CARE IPA (PROCARE MSO)","PCMSO","O",null,"Electronic"]
["PREMIER EYE CARE",65054,"O",null,"Electronic","P"]
["PREMIER HEALTH PLAN OHIO (EOBC)","251PR",null,null,"Paper"]
["PREMIER HEALTHCARE EXCHANGE",88056,"O","O","Electronic"]
["PREMIER HEALTHCARE EXCHANGE, INC. (PHX)",88051,"O","O","Electronic"]
["PREMIER PHYSICIAN ALLIANCE INC",65482,"O",null,"Electronic","P"]
["PREMIER PHYSICIAN NETWORK","MPM22","O","O","Electronic"]
["PREMIER WORKCOMP","J1373W","O","O","Electronic"]
["PRESBYTERIAN HEALTH PLAN","Z0003","O","O","Electronic","P I"]
["PRESBYTERIAN SALUD (NM)","Z0077","O","O","Electronic","P I"]
["PRESCIENT NATIONAL (ALL STATES) (WC ONLY)","J4095","O","O","Electronic","P I"]
["PRESENCE ERC",46311,"O","O","Electronic"]
["PRESERVER INSURANCE COMPANY (TX, MN, CA, IL, LA, NJ, OR AND NC ONLY) (AUTO ONLY)","J3962A","O","O","Electronic","P I"]
["PRESERVER INSURANCE COMPANY (TX, MN, CA, IL, LA, NJ, OR AND NC ONLY) (WC ONLY)","J3962","O","O","Electronic","P I"]
["PREZZO","CB531","O","O","Electronic","P I"]
["PRIMARY CARE ASSOCIATES OF CALIFORNIA","PCACZ","O","O","Electronic"]
["PRIMARY HEALTH NETWORK",82048,"O","O","Electronic","P I"]
["PRIMARY PROVIDER MANAGEMENT (ENCOUNTERS ONLY)","PPM02","O","O","Electronic"]
["PRIME COMMUNITY CARE CENTRAL VALLEY","MVCV1","O","O","Electronic","P"]
["PRIME HEALTH CHOICE, LLC",81502,"O","O","Paper","P I"]
["PRIME HEALTHCARE (ALL STATES) (AUTO ONLY)","J1673A","O","O","Electronic"]
["PRIME HEALTHCARE (ALL STATES) (WC ONLY)","J1673W","O","O","Electronic"]
["PRIME PROPERTY & CASULTY (NJ ONLY) (AUTO ONLY)","C1081A","O","O","Electronic","P I"]
["PRIME THERAPEUTICS (REMITS ONLY)","Z96001",null,null,"Paper"]
["PRIME WEST HEALTH PLAN",61604,"O","O","Electronic","P I "]
["PRIMETIME HEALTH PLAN (HMO MEDICARE)","Z1235","O","O","Electronic"]
["PRINCE GEORGE'S COUNTY GOVERNMENT (MD) (ALL STATES) (AUTO ONLY)","J1891A","O","O","Electronic"]
["PRINCE GEORGE'S COUNTY GOVERNMENT (MD) (ALL STATES) (WC ONLY)","J1891W","O","O","Electronic"]
["PRINCETON PREMIER IPA","PRI01","O",null,"Electronic"]
["PRINCIPAL FINANCIAL GROUP",61271,"O","O","Electronic","P I "]
["PRIORITY HEALTH",38217,"O","O","Electronic","P I "]
["PRISM NETWORK INC",37268,"O","O","Electronic"]
["PRISM-UNIVERA, WEST SENECA, NEW YORK",37315,"O","O","Electronic","P I"]
["PRN LINK-MLK","PRNLK","O",null,"Electronic"]
["PROCARE (TX)","PTX01","O","O","Paper","P I"]
["PRODEGI CORPORATE BENEFIT SERVICES",87065,"O","O","Electronic","P I"]
["PRODUCERS EXCHANGE","PEBSI","O",null,"Electronic"]
["PRODUCT TEST","TESTP","O","O","Electronic"," "]
["PROFESSIONAL BENEFIT ADMINISTRATORS INC (OAK BROOK, IL)",36331,"O","O","Paper","P I "]
["PROFESSIONAL BENEFIT SERVICES INC",18244,null,null,"Paper"]
["PROFESSIONAL CLAIMS MANAGEMENT","J1821E",null,null,"Paper"]
["PROFESSIONAL CLAIMS MANAGEMENT (ALL STATES) (WC ONLY)","J1821W","O",null,"Electronic"]
["PROFESSIONAL CLAIMS SERVICE/TPA (ALL) [WC, AUTO]","WR498","O",null,"Electronic"]
["PROFESSIONAL HEALTH CARE NETWORK",26748,"O","O","Electronic","P I"]
["PROFESSIONAL INSURANCE COMPANY",59041,"O",null,"Electronic"]
["PROGRESSIVE (ALL STATES) (AUTO ONLY)","J1748A","O","O","Electronic"]
["PROGRESSIVE CASUALTY INSURANCE COMPANY (AUTO ONLY) (ALL STATES)",24260,"O","O","Electronic","P I"]
["PROGRESSIVE CASUALTY INSURANCE COMPANY (MN AND NJ ONLY) (AUTO ONLY)","J3692A","O","O","Electronic","P I"]
["PROGRESSIVE CLASSIC INSURANCE CO (MN AND NJ ONLY) (AUTO ONLY)","J1788A","O","O","Electronic"]
["PROGRESSIVE COMMERCIAL CASUALTY CO (ALL STATES) (AUTO ONLY)","J1779A","O","O","Electronic","P I"]
["PROGRESSIVE DIRECT INSURANCE CO (ALL STATES) (AUTO ONLY)","J1780A","O","O","Electronic","P I"]
["PROGRESSIVE DIRECT INSURANCE COMPANY (ALL STATES) (AUTO ONLY)","16322A","O","O","Electronic","P I"]
["PROGRESSIVE MAX INSURANCE CO (MN AND NJ ONLY) (AUTO ONLY)","J1783A","O","O","Electronic"]
["PROGRESSIVE MAX INSURANCE COMPANY (AUTO ONLY) (MN ONLY)",24279,"O",null,"Electronic"]
["PROGRESSIVE NORTHERN INSURANCE CO (ALL STATES) (AUTO ONLY)","J1786A","O","O","Electronic","P I"]
["PROGRESSIVE NORTHERN INSURANCE COMPANY (AUTO ONLY)(ALL STATES)",38628,"O","O","Electronic","P I"]
["PROGRESSIVE NORTHWESTERN INSURANCE CO (MN AND NJ ONLY) (AUTO ONLY)","J1787A","O","O","Electronic"]
["PROGRESSIVE NORTHWESTERN INSURANCE COMP (ALL STATES) (AUTO ONLY)",42919,"O","O","Electronic"]
["PROGRESSIVE PREFERRED INSURANCE CO (ALL STATES) (AUTO ONLY)","J1785A","O","O","Electronic","P I"]
["PROGRESSIVE PREMIER INSURANCE CO (ALL STATES) (AUTO ONLY)","J1781A","O","O","Electronic","P I"]
["PROGRESSIVE SPECIALTY INSURANCE CO (MN AND NJ ONLY) (AUTO ONLY)","J1784A","O","O","Electronic"]
["PROGYNY","PROGY","O","O","Electronic"]
["PROMINENCE ADMINISTRATIVE SERVICES",88022,"O","O","Electronic","P I "]
["PROMINENCE HEALTH PLAN",88029,"O","O","Electronic","P I  "]
["PROMINENCE HEALTH PLAN OF NEVADA",93082,"O","O","Electronic","P I "]
["PROMINENCE HEALTH PLAN OF TEXAS",80095,"O","O","Electronic","P I "]
["PROMINENCE HEALTHFIRST OF FLORIDA",83352,"O","O","Paper","P I"]
["PROSPECT MEDICAL GROUP","PROSP","O","O","Electronic","P I"]
["PROSSAM (ASOCIACIN DE MAESTROS DE PR)",660194027,"X","X","Electronic"]
["PROTECTIVE INSURANCE CO (ALL STATES) (AUTO ONLY)","J1568A","O","O","Electronic"]
["PROTECTIVE INSURANCE CO (ALL STATES) (WC ONLY)","J1568W","O","O","Electronic"]
["PROTECTIVE INSURANCE COMPANY (AUTO ONLY)","12416A","O",null,"Paper"]
["PROTECTIVE INSURANCE COMPANY (WC ONLY)(ALL STATES)","12416W","O",null,"Paper"]
["PROTECTIVE LIFE INSURANCE COMPANY",37309,"O","O","Electronic"]
["PROTECTOR 360",68756,"O","O","Paper","P I"]
["PROVIDENCE FACILITY CLAIMS","PROV1","O","O","Electronic"]
["PROVIDENCE HEALTH ASSURANCE MEDICAID (DOS 1/1/2021 AND AFTER)",77350,"O","O","Electronic","P"]
["PROVIDENCE HEALTH ASSURANCE MEDICARE",77500,"O","O","Electronic","P I"]
["PROVIDENCE HEALTH PLAN",4498,"O","O","Electronic","P I "]
["PROVIDENCE HEALTH SERVICES (WC) (TX, MN & CA ONLY)","WR132W","O","O","Electronic"]
["PROVIDENCE INSURANCE AND ADMIN SERVICE","PAS01","O","O","Electronic"]
["PROVIDENCE PREFERRED","PHP00","O","O","Electronic","P I"]
["PROVIDENT AMERICAN LIFE & HEALTH INS CO- MEDICARE SUPPLEMENT (ELIGIBILITY ONLY)","Z90026",null,null,"Paper"]
["PROVIDENT PREFERRED NETWORK - DENTAL",10790,null,null,"Paper"]
["PROVIDER PARTNERS HEALTH PLAN ILLINOIS",31401,"O","O","Electronic","P I  "]
["PROVIDER PARTNERS HEALTH PLAN OF MARYLAND",31118,"O","O","Electronic","P  "]
["PROVIDER PARTNERS HEALTH PLAN OF MISSOURI",31404,"O","O","Electronic","P I  "]
["PROVIDER PARTNERS HEALTH PLAN OF OHIO",31402,"O","O","Paper","P I  "]
["PROVIDER PARTNERS HEALTH PLAN OF PENNSYLVANIA",31400,"O","O","Electronic","P I  "]
["PROVIDER PARTNERS HEALTH PLAN OF TEXAS",31405,"O","O","Electronic"]
["PROVIDRS CARE NETWORK",48100,"O","O","Electronic"]
["PRUDENT MEDICAL GROUP","MPM25","O","O","Electronic"]
["PRUDENTIAL",68241,"O",null,"Electronic","P"]
["PRUITT HEALTH PREMIER","PH001","O","O","Paper","P I"]
["PRUITTHEALTH PREMIER NC/SC","PHPC1","O","O","Electronic","P I"]
["PSKW","PSKW0","O","O","Electronic","P"]
["PUBLIC ALLIANCE INSURANCE COVERAGE FUND (PAIC JIF)(NJ ONLY)(WC ONLY)","J3936W","O","O","Electronic","P I"]
["PUBLIC EMPLOYEE BENEFIT AUTHORITY (ELIGIBILITY)","Z96292",null,null,"Paper"]
["PUBLIC EMPLOYEES HEALTH PLAN - MEDICARE (ELIGIBILITY ONLY)",11049,null,null,"Paper"]
["PUBLIC EMPLOYEES HEALTH PROGRAM- CHIP (ELIGIBILITY ONLY)",11050,null,null,"Paper"]
["PUBLIX SUPER MARKETS INC (NC, TN ONLY) (WC ONLY)","J1897","O",null,"Electronic","P"]
["PUGET SOUND WORKERS' COMPENSATION TRUST (ALL STATES) (WC ONLY)","J3791W","O","O","Electronic"]
["PURE INSURANCE (ALL STATES) (AUTO ONLY)","C1088A","O","O","Electronic","P I"]
["PURITAN LIFE INSURANCE","Z95719",null,null,"Paper"," "]
["QBE - GENERAL CASUALTY - EDEN PRAIRIE  (CA IL LA NC MN OR TX) (WC ONLY)","J1485","O","O","Electronic"]
["QBE - GENERAL CASUALTY - FARMERS UNION (CA IL LA NC MN OR TX) (WC ONLY)","J1483","O","O","Electronic"]
["QBE - GENERAL CASUALTY - INDIANAPOLIS  (CA IL LA NC MN OR TX) (WC ONLY)","J1487","O","O","Electronic"]
["QBE - GENERAL CASUALTY - SIMSBURY  (CA IL LA NC MN OR TX) (WC ONLY)","J1488","O","O","Electronic"]
["QBE - GENERAL CASUALTY - SUN PRAIRIE  (CA IL LA NC NJ MN OR TX) (WC ONLY)","J1489","O","O","Electronic","P I"]
["QBE - GENERAL CASUALTY - WEST DES MOINES  (CA IL LA NC MN OR TX) (WC ONLY)","J1490","O","O","Electronic"]
["QBE - GENERAL CASUALTY CO OF WISCONSIN (CA IL LA NC MN OR TX) (WC ONLY)","J1484","O","O","Electronic"]
["QBE - GENERAL CASUALTY FREEPORT  (CA IL LA NC MN OR TX) (WC ONLY)","J1486","O","O","Electronic"]
["QUAD CITY COMMUNITY HEALTHCARE (QCCH)",40437,"O","O","Electronic"]
["QUAL CHOICE OF ARKANSAS",35174,"O","O","Electronic"]
["QUAL MEDICAL COLORADO","QMDCE","O",null,"Electronic"]
["QUAL MEDICAL PORTLAND","QMDPO","O",null,"Electronic"]
["QUALCARE (CA)","CPNQC","O","O","Electronic"]
["QUALCARE IPA","QCP01","O","O","Electronic"]
["QUALCHOICE OF OHIO","Z1094","O",null,"Electronic","P"]
["QUALEXA HEALTHCARE",86772,"O","O","Electronic","P I"]
["QUALITY CARE PARTNERS",89461,"O","O","Electronic","P I"]
["QUALITY PLAN ADMINISTRATORS, INC.","CX077","O",null,"Electronic"]
["QUAL-LYNX",83867,"O","O","Paper","P I"]
["QUAL-LYNX (ALL STATES) (WC ONLY)","J4059","O","O","Electronic"]
["QUANTUMCARE (WE CARE HEALTH PLAN)","QCTPA","O",null,"Electronic"]
["QUEST BEHAVIORAL HEALTH",44219,"O","O","Electronic"]
["QUEST EAP",10956,"O","O","Electronic","P I"]
["QUESTCARE MEDICAL - USC",84562,"O","O","Electronic"]
["QUIKTRIP CORPORATION",73067,"O","O","Electronic"]
["QVI RISK SOLUTIONS INC (BEND OR)",57117,"O",null,"Electronic","P"]
["R&L CARRIERS (ALL STATES EXCEPT ND, OH, WA AND WY) (WC ONLY)","J4192","O","O","Electronic"]
["RADY CHILDRENS HEALTH NETWORK","RCHN1","O","O","Paper","P I"]
["RADYS CHILDRENS SPECIALISTS OF SAN DIEGO","CSSD2","O",null,"Electronic"]
["RAILROAD MEDICARE","SRRGA","X",null,"Electronic","P  "]
["RALEY'S FAMILY OF FINE STORES (ALL STATES) (AUTO ONLY)","J1522A","O","O","Electronic"]
["RALEY'S FAMILY OF FINE STORES (ALL STATES) (WC ONLY)","J1522","O","O","Electronic"]
["RALEY'S FAMILY OF FINE STORES (WC ONLY)","J1522W","O","O","Electronic"]
["RALPH LAUREN (ALL STATES) (WC ONLY)","J1938","O","O","Electronic"]
["RALPH LAUREN (ALL STATES)(AUTO ONLY)","J1938A","O","O","Electronic","P I"]
["RAM MUTUAL INSURANCE COMPANY (AUTO ONLY)","I6758A","O","O","Electronic"]
["RAM MUTUAL INSURANCE COMPANY (AUTO) (TX,MN ONLY)","WZ890A","O","O","Electronic"]
["RAM MUTUAL INSURANCE COMPANY (WC ONLY)","I6758W","O","O","Electronic"]
["RAM MUTUAL INSURANCE COMPANY (WC) (TX,MN ONLY)","WZ890W","O","O","Electronic"]
["RAMPART INSURANCE COMPANY (ALL STATES) (WC ONLY)","WX301W","O","O","Electronic"]
["RAMSEY COUNTY","E9361","O","O","Electronic"]
["RAMSEY COUNTY (MN) (ALL STATES) (AUTO ONLY)","J1663A","O","O","Electronic","P I"]
["RAMSEY COUNTY (MN) (ALL STATES) (WC ONLY)","J1663W","O","O","Electronic","P I"]
["RANCHO SANTIAGO COMMUNITY COLLEGE DISTRICT (ALL STATES) (AUTO ONLY)","J1635A","O","O","Electronic"]
["RANCHO SANTIAGO COMMUNITY COLLEGE DISTRICT (ALL STATES) (WC ONLY)","J1635W","O","O","Electronic"]
["RAPHA IPA INC.","RAIPA","O","O","Electronic","P I"]
["RAVENSWOOD PHYSICIAN ASSOCIATES","RPAWC","O","O","Electronic"]
["RECOLOGY (ALL STATES) (AUTO ONLY)","J1675A","O","O","Electronic"]
["RECOLOGY (ALL STATES) (WC ONLY)","J1675W","O","O","Electronic"]
["RECREATIONAL EQUIPMENT INC (REI) (ALL STATES) (AUTO ONLY)","J3763A","O","O","Electronic"]
["RECREATIONAL EQUIPMENT INC (REI) (ALL STATES) (WC ONLY)","J3763","O","O","Electronic"]
["RED OAK INDEPENDENT SCHOOL DISTRICT (ALL STATES) (WC ONLY)","A0205W","O","O","Electronic"]
["REDIRECT HEALTH ADMINISTRATION",86145,"O","O","Electronic"]
["REDLANDS-YUCAIPA MEDICAL GROUP",18247,"O","O","Paper","P"]
["REDWOOD COMMUNITY HEALTH COALITION","MPM17","O","O","Electronic","P I"]
["REDWOOD HEALTH SERVICES",54259,"O","O","Electronic","P I"]
["REGAL MEDICAL GROUP","REGAL","O","O","Electronic","P I"]
["REGENCE GROUP ADMINISTRATORS","RGA01","O","O","Electronic","P I  "]
["REGENCY EMPLOYEE BENEFITS",38221,"O","O","Electronic","P I"]
["REGIONAL CARE INC",47076,"O","O","Paper","P I"]
["REGIS BRANDS (ALL STATES) (WC ONLY)","J1467W","O","O","Electronic"]
["REHN AND ASSOCIATES (KANAI PENISULA BOROUGH & SCHOOL DISTRICT)","REHN","O","O","Electronic"]
["REIMBURSEMENT SPECIALISTS INC","R29044",null,null,"Paper"]
["RELIANCE COMMUNITY CARE PARTNERS (RCCP)",79846,"O","O","Electronic"]
["RELIANCE HMO, INC.","RHP01","O","O","Electronic","P I"]
["RELIANCE STANDARD LIFE (REMITS & ELIGIBILITY ONLY)",36088,null,null,"Paper"]
["RELIANCE STEEL & ALUMINUM - CORVEL (ALL STATES) (WC ONLY)","J4366","O","O","Electronic","P I"]
["RELIGIOUS ORDER OF JEHOVAH'S WITNESSES","ROJW1","O","O","Electronic","P"]
["RENAISSANCE PHYSICIANS ORGANIZATION",76066,"O","O","Electronic"]
["REPUBLIC FRANKLIN INSURANCE (ALL STATES) (WC ONLY)",12475,"O","O","Electronic","P I"]
["REPUBLIC INDEMNITY COMPANY OF AMERICA (ALL STATES) (WC ONLY)","J1008W","O","O","Electronic"]
["REPUBLIC INDEMNITY COMPANY OF AMERICA (WC ONLY)","J1008","O","O","Electronic"]
["REPUBLIC WESTERN INS CO (MN TX ONLY) (AUTO ONLY)","J1597A","O","O","Electronic"]
["REPUBLIC WESTERN INS CO (MN TX ONLY) (WC ONLY)","J1597W","O","O","Electronic"]
["RESCARE INC (WC ONLY)","J1376W","O",null,"Electronic"]
["RESERVE NATIONAL INSURANCE",73066,"O","O","Electronic","P I "]
["RESIDENTIAL SERVICES GROUP (ALL STATES ) (WC ONLY)","J1097W","O","O","Electronic"]
["RESOLVE HEALTH PLAN ADMINISTRATORS",20481,"O","O","Paper","P I"]
["RESOURCEONE ADMINISTRATORS",518,null,null,"Paper"]
["RESOURCEONE ADMINISTRATORS",66456,"O","O","Electronic"]
["RESTAURANT REINSURANCE LIMITED (MN & TX) (WC ONLY)","WX303W","O","O","Electronic"]
["RESURRECTION PHYSICIAN PROVIDER GROUP","RPPG1","O","O","Electronic","P I"]
["RETAIL BUSINESS SERVICES (RBS) (NJ, NY, NC, TN ONLY) (AUTO ONLY)","J3733A","O","O","Electronic","P I"]
["RETAIL BUSINESS SERVICES (RBS) (NJ, NY, NC, TN ONLY) (WC ONLY)","J3733","O","O","Electronic","P I"]
["RETRO INSULATION INC (ALL STATES) (AUTO ONLY)","J3870A","O","O","Electronic","P I"]
["RETRO INSULATION INC (ALL STATES) (WC ONLY)","J3870W","O","O","Electronic","P I"]
["RETURN TO WORK (RTW)","J1202","O","O","Electronic"]
["RETURN TO WORK (RTW) (MN ONLY) (WC ONLY)","J1202W","O","O","Electronic"]
["REVCLAIMS","RVC01","O","O","Electronic"]
["REVIVED MEDICAL IPA","REVIV","O",null,"Electronic"]
["RHHI/HOME HEALTH/HOSPICE/FREE STANDING ESRD (AK,CA,HI,NV,OR,WA,ID,AZ)","Z1053",null,"X","Electronic","I"]
["RHHI/HOME HEALTH/HOSPICE/FREE STANDING ESRD (AK,CA,HI,NV,OR,WA,ID,AZ) (WITH ATTACHMENTS)","JZ1053",null,"X","Electronic","I"]
["RHODE ISLAND MEDICAID- OUTPATIENT","Z96393",null,"X","Electronic","I"]
["RHONE-POULENC, INC. (MN & TX) (WC ONLY)","WX311W","O","O","Electronic"]
["RICHARDSON ISD (TRISTAR RISK MANAGEMENT) (ALL STATES) (AUTO ONLY)","J3974A","O","O","Electronic","P I"]
["RICHARDSON ISD (TRISTAR RISK MANAGEMENT) (ALL STATES) (WC ONLY)","J3974","O","O","Electronic","P I"]
["RICHMOND TOWNSHIP (AUTO ONLY)","J1377A","O","O","Electronic"]
["RICHMOND TOWNSHIP (WC ONLY)","J1377W","O","O","Electronic"]
["RIETH-RILEY CONSTRUCTION COMPA (MN & TX ONLY) (WC ONLY)","WX314W","O","O","Electronic"]
["RIGHTCARE FROM SCOTT & WHITE",74205,"O","O","Electronic","P I"]
["RIGHTCHOICE BENEFIT ADMINISTRATORS",37331,"O","O","Paper","P I"]
["RIOS ARIZONA IPA","RIOSA","O","O","Paper","P I"]
["RIOS SOUTHWEST MEDICAL GROUP","RIOS1","O","O","Paper"]
["RISING MEDICAL (REMITS ONLY)","Z96516",null,null,"Paper"]
["RISK ADMINISTRATION SERVICES (ALL STATES) (AUTO ONLY)","J1828A","O","O","Electronic"]
["RISK ADMINISTRATION SERVICES (ALL STATES) (WC ONLY)","J1828W","O","O","Electronic"]
["RISK ENTERPRISE MANAGEMENT - CORVEL (WC ONLY)","J4077","O","O","Electronic","P I"]
["RISK ENTERPRISE MANAGEMENT (REM) (WC ONLY)","J1491","O","O","Electronic"]
["RISK MANAGEMENT SOLUTIONS RMS (ALL STATES) (WC ONLY)","J3873W","O","O","Electronic","P I"]
["RISK TRANSFER TECHNOLOGIES INC (ALL STATES) (WC ONLY)","J1101W","O","O","Electronic"]
["RIVER CITY MEDICAL GROUP","RCMG1","O","O","Electronic"]
["RIVER CITY MEDICAL GROUP SENIOR","AMM23","O","O","Paper"]
["RIVERPORT INSURANCE (MN SCHOOL BOARD ASSOC) (ALL STATES) (WC ONLY)","J1546","O","O","Electronic","P I"]
["RIVERSIDE FAMILY HEALTH MEDICAL GRP","MPM08","O",null,"Electronic"]
["RIVERSIDE MEDICAL CLINIC","RMC01","O","O","Electronic"]
["RMSCO, INC.",16117,null,null,"Paper"]
["ROCKFORD MUTUAL INSURANCE COMPANY (ALL STATES) (WC ONLY)",27065,"O","O","Electronic","P I"]
["ROCKY MOUNTAIN HEALTH","Z0062","O","O","Paper","P I "]
["ROCKY MOUNTAIN LIFE DENTAL",84102,null,null,"Paper"]
["ROCKY MOUNTAIN PACE",93142,"O","O","Electronic","P I"]
["ROTH STAFFING COMPANIES (MN & TX) (WC ONLY)","J1023W","O","O","Electronic"]
["ROYAL HEALTHCARE ON BEHALF OF EXTENDED CARE MTC",46166,"O","O","Electronic"]
["ROYAL NEIGHBORS OF AMERICA (ELIGIBILITY & REMITS ONLY)","Z95720",null,null,"Paper"]
["RSC INSURANCE SERVICES LTD (ALL STATES) (WC ONLY)","J1102W","O","O","Electronic"]
["RURAL HEALTH MEDICARE -  NOT FOR AZ, ND, SD, UT, WY","IMTN1",null,"X","Electronic","I"]
["RURAL INSURANCE  (WC ONLY)","J1378W","O","O","Electronic"]
["RURAL INSURANCE (AUTO ONLY)","J1378A","O","O","Electronic"]
["RURAL MUTUAL INSURANCE","Z96185",null,null,"Paper"]
["RUSH PRUDENTIAL HEALTH PLANS (HMO ONLY)",36389,"O","O","Electronic","P"]
["RUTGERS CASUALTY INSURANCE FOR (NJ ONLY) (AUTO ONLY)","C1101A","O","O","Electronic"]
["RX ADVANCE","Z95799",null,null,"Paper"]
["RYDER SERVICES (ALL STATES) (AUTO ONLY)","J1009A","O","O","Electronic","P I"]
["RYDER SERVICES INC (ALL STATES) (WC ONLY)","J1009W","O","O","Electronic","P I"]
["S & S HEALTHCARE STRATEGIES TPA",31441,"O","O","Electronic","P I"]
["S AND S HEALTHCARE STRATEGIES","Z96289",null,null,"Paper"]
["S USA LIFE INSURANCE COMPANY (ELIGIBILITY ONLY)","Z96288",null,null,"Paper"]
["SA RECYCLING LLC (ALL STATES) (AUTO ONLY)","J1728A","O","O","Electronic"]
["SA RECYCLING LLC (ALL STATES) (WC ONLY)","J1728W","O","O","Electronic"]
["SAFECO INSURANCE (ALL STATES) (AUTO ONLY)","C1053","O","O","Electronic"]
["SAFECO INSURANCE (ALL STATES) (WC ONLY)","J24740","O","O","Electronic"]
["SAFECO INSURANCE COMPANY OF AMERICA (AUTO ONLY)","24740A","O","O","Electronic"]
["SAFELITE AUTO GLASS","WR752","O",null,"Electronic"]
["SAFETY-KLEEN CORPORATION (ALL STATES) (WC ONLY)","J1103W","O","O","Electronic"]
["SAFEWAY INC (ALL STATES) (WC ONLY)","J2319W","O","O","Electronic"]
["SAGAMORE HEALTH NETWORK",35164,"O","O","Electronic","P I"]
["SAGE TECHNOLOGIES",37105,"O","O","Electronic","P I"]
["SAINT ANTHONY PHO","STA01","O",null,"Electronic"]
["SAINT JOHNS HEALTH CLINIC","SJHC1","O","O","Electronic","P I"]
["SALUCRO","SALUC",null,null,"Paper"]
["SALVATION ARMY (SAN BERNANDINO, CA)","WR766","O",null,"Electronic"]
["SAMARITAN HEALTH PLANS","SAMCP","O","O","Electronic"," "]
["SAMBA/SPECIAL AGENTS MUTUAL BENEFIT ASSOCIATION",37259,"O","O","Electronic"]
["SAMERA HEALTH","U8053","O","O","Electronic"]
["SAN BERNARDINO MEDICAL GROUP","SBMED","O",null,"Paper","P"]
["SAN DIEGO COMMUNITY COLLEGE DISTRICT (ALL STATES) (AUTO ONLY)","J1638A","O","O","Electronic","P I"]
["SAN DIEGO COMMUNITY COLLEGE DISTRICT (ALL STATES) (WC ONLY)","J1638W","O","O","Electronic"]
["SAN DIEGO COUNTY MEDICAL SERVICES (CMS)","MSO11","O","O","Electronic","P"]
["SAN DIEGO COUNTY RYAN WHITE CARE ACT","MSO33","O","O","Electronic"]
["SAN DIEGO COUNTY SHERIFFS DEPARTMENT","MSO55","O",null,"Electronic"]
["SAN DIEGO PACE",96400,"O","O","Electronic","P I"]
["SAN DIEGO PHYSICIANS GROUP (NOT FOR ARCH)","SCPMCS","O","O","Electronic"]
["SAN FRANCISCO HEALTH PLAN","SFHP1","O","O","Electronic"]
["SAN FRANCISCO HEALTH PLAN (ENCOUNTERS ONLY)","SFHPE","O",null,"Electronic"]
["SAN FRANCISCO MUNICIPAL TRANSPORTATION AGENCY (SFMTA) (CA ONLY, WC ONLY)","J1886W","O","O","Paper","I"]
["SAN LOUIS OBISPO SELECT",33072,"O","O","Paper","P I"]
["SANA BENEFITS",50114,"O","O","Electronic","P I  "]
["SANDHILLS CENTER BEHAVIORAL HEALTH","SHC303","O","O","Electronic"]
["SANFORD HEALTH PLAN",91184,"O","O","Electronic","P I "]
["SANFORD HEALTH PLAN MEDICARE ADVANTAGE","RP035","O","O","Paper"]
["SANSUM CLINIC","Z96414","O","O","Electronic"]
["SANTA BARBARA REGIONAL HEALTH AUTHORITY","Z1243","O","O","Electronic"]
["SANTA BARBARA SELECT IPA MEDICAL GROUP","SBIPA","O","O","Electronic","P"]
["SANTA CLARA COUNTY IPA ANTHEM BLUE CROSS PPO CLAIMS","SCACO","O",null,"Electronic"]
["SANTA CLARA FAMILY HEALTH",24077,"O","O","Paper","P I "]
["SANTA MONICA UNITE HERE HEALTH BENEFIT PLAN","DBA02","O","O","Electronic","P I"]
["SANTE COMMUNITY MEDICAL CENTERS","SNTCC","O","O","Paper","P I"]
["SANTE COMMUNITY PHYSICIANS","SNT01","O","O","Electronic","P I"]
["SANTE COMMUNITY PHYSICIANS MEDICAL GROUP","SNTMC","O","O","Paper","P I"]
["SANTE HEALTH SYSTEM AND AFFILIATES",77038,"O","O","Electronic","P"]
["SATELLITE HEALTH PLAN",45552,"O","O","Electronic"]
["SAUDI HEALTH MISSION","SHM01","O","O","Paper","P I"]
["SC BLUES REMITS ONLY (ALL LOBS)","Z1342",null,null,"Paper"]
["SCAN ENCOUNTERS",99157,"O","O","Electronic"]
["SCAN HEALTH PLAN - ARIZONA",73172,"O","O","Electronic","P I"]
["SCAN HEALTH PLAN - CALIFORNIA",72261,"O","O","Electronic","P I  "]
["SCCIPA SANTA CLARA COUNTY IPA",10378,"O","O","Electronic","P"]
["SCHLUMBERGER TECHNOLOGY (ALL STATES) (WC ONLY)","J1104W","O","O","Electronic"]
["SCHNUCK MARKET INC (IL ONLY) (WC ONLY)","J1560W","O","O","Electronic"]
["SCHS ALTA GLOBAL CARE MEDICAL GROUP","MPM54","O","O","Electronic","P I"]
["SCHS ALTA POD BY MEDPOINT","MPM20","O","O","Electronic"]
["SCIF AZ","J1538","O","O","Electronic"]
["SCOTT AND WHITE",88030,"O","O","Electronic","P I "]
["SCOTTS MIRACLE-GRO COMPANY (MN & TX) (WC ONLY)","WP150W","O","O","Electronic"]
["SCRIPPS HEALTH PLAN MSO","SHPM1","O","O","Electronic","P I"]
["SCRIPPS HEALTH PLAN SERVICES","SHPS1","O","O","Electronic","P I"]
["SCRIPT CARE LTD","Z95706",null,null,"Paper"]
["SEAVIEW IPA [SVIPA]","Z1325","O","O","Paper","P I"]
["SEBRH BTMG","Z95676","O","O","Electronic"]
["SEBRH NON SUTTER GROUPS","Z95678","O","O","Electronic"]
["SECURA INSURANCE A MUTUAL COMP (ALL STATES) (WC ONLY)","J1379","O","O","Electronic"]
["SECURE HEALTH (DOS 1/1/2021 AND AFTER)",42561,"O","O","Electronic","P I"]
["SECUREONE",86242,"O","O","Electronic"]
["SECURIAN/PATRIOT DENTAL",10793,null,null,"Paper"]
["SECURITY HEALTH PLAN",39045,"O","O","Electronic","P I "]
["SEDGWICK - ALLIANZ OF AMERICA, INC (WC ONLY)","J2418W","O","O","Electronic"]
["SEDGWICK - DIGNITY HEALTH (WC ONLY)","J2638W",null,null,"Paper"]
["SEDGWICK - FABCON INC (WC ONLY)","J2685W","O","O","Electronic"]
["SEDGWICK - GRANGE MUTUAL CASUALTY COMPANY (WC ONLY)","J2739W","O","O","Electronic"]
["SEDGWICK CMS (ALL STATES) (WC ONLY)","JTP097","O","O","Electronic"]
["SEDGWICK CMS (ALL STATES) (WC ONLY)","TP097","O","O","Electronic"]
["SEDGWICK CMS (ALL STATES)(WC ONLY)","TP097W","O","O","Electronic"]
["SEECHANGE HEALTH INSURANCE",35098,"O","O","Electronic"]
["SEEDORFF MASONRY (AUTO ONLY)","J1380A","O","O","Electronic"]
["SEEDORFF MASONRY (WC ONLY)","J1380W","O","O","Electronic"]
["SELECT ADMINISTRATIVE SERVICES",64088,"O","O","Electronic"]
["SELECT BENEFIT ADMINISTRATORS (DES MOINES, IOWA)",42137,"O","O","Electronic","P I"]
["SELECT BENEFIT ADMINISTRATORS OF AMERICA (ASHLAND, WI)",37282,"O","O","Electronic","P"]
["SELECT BENEFITS ADMINISTRATORS (AKA PACIFICSOURCE ADMINISTRATORS)",93031,"O","O","Electronic","P I "]
["SELECT ENERGY SERVICES (ALL STATES) (WC ONLY)","J1937","O","O","Electronic"]
["SELECT ENERGY SERVICES (ALL STATES)(AUTO ONLY)","J1937A","O","O","Electronic","P I"]
["SELECT HEALTH OF SOUTH CAROLINA",23285,"O","O","Electronic","P I "]
["SELECT SENIOR CLINIC",20415,"O","O","Electronic"]
["SELECT STAFFING (KOOSHAREM, REAL TIME STAFFING, REMEDY, SELECT/REMEDY & WESTAFF (WC ONLY)(ALL STATES","J1446W","O","O","Electronic"]
["SELECTCARE",14,"O","O","Electronic","P I"]
["SELECTCARE OF TEXAS (HPN) HERITAGE PHYSICIANS NETWORK",76045,"O","O","Electronic","P I"]
["SELECTHEALTH OF UTAH","Z0001","O","O","Electronic","P I "]
["SELECTIVE (ALL STATES) (WC ONLY)","12572W","O","O","Electronic","P I"]
["SELECTIVE INSURANCE (MN, TX) (WC ONLY)","WZ099W","O","O","Electronic"]
["SELECTIVE INSURANCE (NJ MN ONLY) (AUTO ONLY)","C1077A","O","O","Paper","P I"]
["SELF FUNDED PLANS INC OF CLEVELAND OH",34131,"O","O","Paper","P I"]
["SELF INS. SCHOOLS OF CALIF.","WR945","O",null,"Electronic"]
["SELF INSURED BENEFIT ADMINISTRATORS (CLEARWATER, FL)",59111,"O","O","Electronic"]
["SELF INSURED PLANS LLC",36404,"O","O","Electronic","P"]
["SELF INSURED SERVICES COMPANY (SISCO)",44827,"O","O","Electronic"," "]
["SELMAN & CO (DOS AFTER 1/1/2019)",52214,"O","O","Electronic","P I  "]
["SELMAN TRICARE SUPP [DOS PRIOR TO 1/1/2019)","TRSEL","O","O","Electronic","P I  "]
["SEMINOLE TRIBE OF FLORIDA (ALL STATES) (WC ONLY)","J2384","O","O","Electronic","P I"]
["SEMPRA ENERGY/EMPLOYEE CARE SERVICES (ALL STATES) (WC ONLY)","J1915","O","O","Electronic","P I"]
["SENDERO HEALTH WITH DOS 1/1/19 AND AFTER","MV440","O","O","Paper","P"]
["SENIOR BLUE OF PA (MEDICARE HMO)",3576,null,"X","Electronic"]
["SENIOR CARE PARTNERS",36390,"O","O","Electronic","P I"]
["SENIOR DIMENSIONS","Z96281",null,null,"Paper"]
["SENIOR HEALTH NETWORK","Z96172","O","O","Electronic","P I"]
["SENIOR WHOLE HEALTH (REMITS ONLY)",83035,null,null,"Paper"]
["SENIOR WHOLE HEALTH NEW YORK","SWHNY","O","O","Electronic"]
["SENIOR WHOLE HEALTH OF MASSACHUSETTS","SWHMA","O","O","Paper","P I  "]
["SENTARA HEALTH MANAGEMENT",54154,"O","O","Electronic","P I "]
["SENTARA MENTAL HEALTH","5415M","O",null,"Electronic","P"]
["SENTINEL MANAGEMENT SERVICES",23249,"O","O","Electronic","P"]
["SENTINEL SECURITY LIFE INSURANCE COMPANY",87020,"O","O","Electronic","P I"]
["SENTRY AUTO (AUTO ONLY) MN, TX & CA","WB140A","O","O","Electronic"]
["SENTRY AUTO (NJ, MN ONLY) (AUTO ONLY)","C1033","O","O","Electronic","P I"]
["SENTRY INSURANCE (ALL STATES) (WC ONLY)","J1417W","O","O","Electronic"]
["SENTRY INSURANCE (WC ONLY)","WB141","O","O","Electronic"]
["SEOUL MEDICAL GROUP (CA)","Z90058","O","O","Electronic"]
["SERENDIB HEALTHWAYS","4YC01","O","O","Electronic","P I"]
["SERVICE FIRST MEDICAL","Z96444",null,null,"Paper"]
["SERVICE LLOYDS INSURANCE CO (ALL STATES) (AUTO ONLY)","J1593A","O","O","Electronic"]
["SERVICE LLOYDS INSURANCE CO (ALL STATES) (WC ONLY)","J1593W","O","O","Electronic"]
["SERVICE LLOYDS INSURANCE CO (WC ONLY)","43389W","O",null,"Paper"]
["SETON EMPLOYEE PLAN","TH080","O",null,"Electronic"]
["SETON HEALTH PLAN","TH036","O",null,"Electronic","P"]
["SETON HEALTH PLAN CHIP","SHPCH","O","O","Electronic","P I"]
["SETON STAR","STAR1","O","O","Electronic"]
["SEVEN CORNERS",25404,"O","O","Paper","P I"]
["SFN GROUP (ALL STATES) (WC ONLY)","J1456W","O","O","Electronic"]
["SGIC",11789,"O","O","Paper","P I"]
["SHARE HEALTHCARE",52876,"O","O","Paper","P I"]
["SHARED HEALTH ALLIANCE","Z96515",null,null,"Paper"]
["SHARED HEALTH MISSISSIPPI","SHMS1","O","O","Electronic","P I"]
["SHARENET","SHN100","O","O","Electronic","P I"]
["SHARP COMMUNITY MEDICAL GROUP","SCG01","X","X","Electronic"]
["SHARP HEALTH PLAN (DOS 1/1/18 AND AFTER)","SHP102","O","O","Electronic"]
["SHARP HEALTH PLAN (DOS 12/31/17 AND PRIOR)","SHP12","O","O","Electronic"]
["SHARP REES-STEALY MEDICAL GROUP","SRS01","X","X","Electronic"]
["SHASTA ADMINISTRATIVE SERVICES",75280,"O","O","Electronic","P I"]
["SHAWS/STARMARKET (ALL STATES) (WC ONLY)","J1468W","O","O","Electronic"]
["SHEAKLEY UNICOMP","Z95673","O","O","Electronic","P I"]
["SHENANDOAH LIFE INSURANCE (ELIGIBILITY ONLY)","Z96279",null,null,"Paper"]
["SHENANDOAH LIFE/S USA LIFE/SBLI LIFE (ELIGIBILITY AND REMITS ONLY)","Z95721",null,null,"Paper"]
["SHERMAN HOSPITAL","SC359","O","O","Electronic"]
["SIEBA LTD","Z95666","O","O","Electronic"]
["SIERRA HEALTH SERVICES",76342,"O","O","Electronic","P I "]
["SIERRA HEALTH SERVICES INC. ENCOUNTERS ONLY",76343,"O","O","Electronic","P I"]
["SIERRA MEDICAL GROUP","SMG01","O","O","Electronic","P I"]
["SIGNAL INSURANCE (ALL STATES) (AUTO ONLY)","J3792A","O","O","Electronic","P I"]
["SIGNAL INSURANCE (ALL STATES) (WC ONLY)","J3792","O","O","Electronic","P I"]
["SIGNATURE ADVANTAGE","SA001","O","O","Paper","P I"]
["SIGNIFICA BENEFIT SERVICES",23250,"O","O","Electronic","P "]
["SILICON VALLEY MEDICAL DEVELOPMENT","S9637","O","O","Electronic","P I"]
["SILVER STAR PACE",97691,"O","O","Electronic"]
["SILVERSUMMIT HEALTH PLAN (ELIGIBILITY ONLY)",11229,null,null,"Paper"]
["SIMPLEPAY",27905,"O","O","Electronic"]
["SIMPLY HEALTHCARE (DOS 1/1/19 AND AFTER)","SMPLY","O","O","Electronic"," "]
["SIMPLY HEALTHCARE (DOS 1/1/19 AND AFTER) (WITH ATTACHMENTS)","JSMPLY","O","O","Electronic"]
["SIMPLY HEALTHCARE (DOS 12/31/18 AND PRIOR)",27094,"O","O","Electronic"]
["SIMPRA ADVANTAGE","SIM02","O","O","Electronic","P I"]
["SIMPRA ADVANTAGE (DOS 12/31/22 AND PRIOR)","SIM01","O","O","Electronic"]
["SINCLAIR HEALTH PLAN",84076,"O","O","Electronic","P"]
["SISCO (ALL STATES) (WC ONLY)","J1898","O","O","Electronic"]
["SISCO (MN,TX) (WC ONLY)","WP005W","O","O","Electronic"]
["SKY MANAGEMENT - CAC UNITED","SM104","O",null,"Electronic","P"]
["SKY MANAGEMENT - PCA FAMILY HEALTH PLANS","SM102","O",null,"Electronic","P"]
["SKY MANAGEMENT - PCA HEALTH PLANS","SM103","O",null,"Electronic","P"]
["SKY MANAGEMENT - SHERIDAN","SM106","O",null,"Electronic","P"]
["SLOAN'S LAKE MANAGED CARE",84096,"O","O","Electronic","P I"]
["SMITH ADMINISTRATORS (FT WORTH TX)",2057,"O","O","Electronic","P I"]
["SMOKY MOUNTAIN CENTER",13010,"X","X","Electronic"]
["SNAP-ON INCORPORATED (MN & TX) (WC ONLY)","WX329W","O","O","Electronic"]
["SOCIETY INSURANCE (ALL STATES) (AUTO ONLY)","J2139A","O","O","Electronic"]
["SOCIETY INSURANCE (ALL STATES) (WC ONLY)","J2139W","O","O","Electronic"]
["SOLARTE HEALTH","SLRT1","O",null,"Paper","P"]
["SOLIDARITY HEALTHSHARE","SH777","O","O","Electronic","P I"]
["SOLIS HEALTH PLANS","SOLIS","O","O","Electronic","P I"]
["SOLSTICE BENEFITS",76578,"O",null,"Electronic"]
["SOLVAY AMERICA INC (MN & TX) (WC ONLY)","WX330W","O","O","Electronic"]
["SOMOS EMBLEM",81336,"O","O","Electronic","P I"]
["SOMPO JAPAN INSURANCE COMP OF AMERICA (WC ONLY)",11126,null,null,"Paper"]
["SONIC AUTOMOTIVE INC (ALL STATES) (WC ONLY)","J1381W","O",null,"Electronic"]
["SOUTH ATLANTIC MEDICAL GROUP","SAMG1","O","O","Electronic"]
["SOUTH CENTRAL PREFERRED - PPO YORK, PA (IHS GATEWAY PAYER)",23266,"O","O","Electronic","P I"]
["SOUTH COAST AREA TRANSIT (CA) (ALL STATES) (AUTO ONLY)","J1731A","O","O","Electronic"]
["SOUTH COAST AREA TRANSIT (CA) (ALL STATES) (WC ONLY)","J1731W","O","O","Electronic"]
["SOUTH COUNTRY HEALTH ALLIANCE",81600,"O","O","Electronic","P I"]
["SOUTH FLORIDA COMMUNITY CARE NETWORK - COMMERCIAL",59064,"O","O","Electronic","P I"]
["SOUTH FLORIDA COMMUNITY CARE NETWORK - MEDICAID",59065,"O","O","Electronic","P"]
["SOUTH FLORIDA MUSCULOSKELETAL CARE",6294,"O","O","Electronic"]
["SOUTH GEORGIA BENEFIT ADMINISTRATORS","SGBA1",null,null,"Paper"]
["SOUTH POINT HOTEL AND CASINO",35227,"O","O","Electronic","P"]
["SOUTH TAHOE REFUSE",28580,"O","O","Electronic","P I"]
["SOUTH TAHOE REFUSE",51350,"O","O","Electronic","P I"]
["SOUTHCARE",25147,"O","O","Electronic","P"]
["SOUTHCENTRAL FOUNDATION","SCFND","O","O","Electronic","P I"]
["SOUTHEAST LEASING (AL CA FL GA IL NC NJ PA SC TX ONLY) (WC ONLY)","J1865","O","O","Electronic"]
["SOUTHEAST TEXAS (AUTO ONLY)","J1382A","O","O","Electronic"]
["SOUTHEAST TEXAS (WC ONLY)","J1382W","O","O","Electronic"]
["SOUTHEASTERN INDIANA HEALTH ORGANIZATION (SIHO)","IN432","O","O","Paper","P I "]
["SOUTHERN BENEFIT ADMINISTRATORS INC (REMITS ONLY)",887,null,null,"Paper"]
["SOUTHERN CA LUMBER","BPA01","O",null,"Electronic","P"]
["SOUTHERN CALIFORNIA EDISON (WC ONLY)","J1817WC","O","O","Electronic","P I"]
["SOUTHERN CALIFORNIA EDISON (WC ONLY)","WP064W","O",null,"Electronic"]
["SOUTHERN CALIFORNIA ONCOLOGY ASSOCIATES-ENCOUNTERS ONLY","SCOAE","O",null,"Electronic","P"]
["SOUTHERN CALIFORNIA PHYSICIANS MANAGED CARE SERVICES","SCP01","O","O","Electronic"]
["SOUTHERN GROUP SERVICES",56131,"O","O","Electronic","P"]
["SOUTHERN ILLINOIS HEALTH CARE ASSOCIATION","SIHCA","O","O","Electronic"]
["SOUTHERN SCRIPTS","Z96795",null,null,"Paper"]
["SOUTHERN TEXTILE RECYCLING INC (ALL STATES) (AUTO ONLY)","J1648A","O","O","Electronic"]
["SOUTHERN TEXTILE RECYCLING INC (ALL STATES) (WC ONLY)","J1648W","O","O","Electronic"]
["SOUTHLAND BENEFIT SOLUTIONS, LLC (CANOPY VISION)","V47936","O",null,"Paper","P"]
["SOUTHLAND IPA","SIPA1","O","O","Electronic"]
["SOUTHLAND SAN GABRIEL VALLEY MEDICAL GROUP","PHM11","O",null,"Electronic"]
["SOUTHWEST AIRLINES (SWA) (ALL STATES) (WC ONLY)","J1233W","O","O","Electronic"]
["SOUTHWEST AIRLINES (WC ONLY)","WP076W","O","O","Electronic"]
["SOUTHWEST PHYSICIANS GROUP","SWPG1","O","O","Electronic"]
["SOUTHWEST SERVICE ADMINISTRATORS","CX100","O","O","Paper","P I"]
["SOUTHWEST SERVICE LIFE",37266,"O","O","Electronic","P"]
["SOUTHWESTERN HEALTH RESOURCES (DOS PRIOR TO 1/1/23)",83245,"O","O","Electronic","P I"]
["SOUTHWESTERN HEALTH RESOURCES CLINICALLY INTEGRATED NETWORK (DOS 1/1/23 AND AFTER)","RP085","O","O","Electronic","P I"]
["SPACE EXPLORATION TECHNOLOGIES CORP (ALL STATES) (AUTO ONLY)","J1990A","O","O","Electronic"]
["SPACE EXPLORATION TECHNOLOGIES CORP (ALL STATES) (WC ONLY)","J1990W","O","O","Electronic"]
["SPARTAN STORES (NON-MAD) (AUTO ONLY)","J1383A","O","O","Electronic"]
["SPARTAN STORES (NON-MAD) (WC ONLY)","J1383W","O","O","Electronic"]
["SPECIAL COMPENSATION FUND, MN DEPARTMENT OF LABOR (WC ONLY)","I1193W","O","O","Electronic"]
["SPENCER STUART (ARM, LTD)",38416,"O","O","Electronic"]
["SPNET - INTEGRA GROUP (WC ONLY) (ALL STATES)","J4041","O","O","Electronic"]
["SPOHN HEALTH NETWORK","SPOHN","O","O","Electronic","P I"]
["SPRINGFIELD INSURANCE CO.","J1922","O","O","Electronic"]
["SPROUTS FARMERS MARKET INC (ALL STATES) (AUTO ONLY)","J1850A","O","O","Electronic"]
["SPROUTS FARMERS MARKET INC (ALL STATES) (WC ONLY)","J1850W","O","O","Electronic","P I"]
["SRS / CARGILL INC (ALL STATES) (AUTO ONLY)","J1661","O","O","Electronic"]
["SRS / CARGILL INC (ALL STATES) (WC ONLY)","J1661W","O","O","Electronic"]
["ST FRANCIS - ALLCARE BY MEDPOINT","MPM31","O","O","Electronic","P I"]
["ST JOSEPH HERITAGE HEALTHCARE (CA)","IP106","O","O","Electronic","P I"]
["ST LAWRANCE CO HEALTHCARE PLAN","SLCH1","O",null,"Electronic","P"]
["ST MARY'S HEALTH PLAN ENCOUNTERS",88082,"O",null,"Electronic"]
["ST PAUL INSURANCE (ALL STATES) (WC ONLY)","J1926","O",null,"Electronic"]
["ST. CROIX COUNTY (WMMIC) (AUTO ONLY)","J1384A","O","O","Electronic"]
["ST. CROIX COUNTY (WMMIC) (WC ONLY)","J1384W","O","O","Electronic"]
["ST. FRANCIS - HCLA BY MEDPOINT","MPM30","O","O","Electronic","P I"]
["ST. THOMAS MED NTWK GULFQUEST","STM01","O","O","Paper","P I"]
["STANDARD INS OF OREGON",93024,null,null,"Paper"]
["STANDARD INSURANCE COMPANY (EOBC)",69019,null,null,"Paper"]
["STANDARD LIFE AND ACCIDENT INSURANCE COMPANY",1758,"O","O","Electronic"]
["STANFORD HEALTH CARE ADVANTAGE",46407,"O","O","Electronic"," "]
["STANLEY STEEMER INTERNATIONAL INC (ALL STATES) (WC ONLY)","J1939","O","O","Electronic"]
["STANLEY STEEMER INTERNATIONAL INC (ALL STATES)(AUTO ONLY)","J1939A","O","O","Electronic","P I"]
["STANLEY WORKS INC (ALL STATES) (WC ONLY)","J1385W","O",null,"Electronic"]
["STANT CORPORATION (ALL STATES) (WC ONLY)","J1107W","O","O","Electronic"]
["STAPLES INC (ALL STATES) (WC ONLY)","J4206","O","O","Electronic","P I"]
["STARMED CLAIMS",24140,"O","O","Electronic","P I"]
["STATE AUTO INSURANCE COMPANIES",46450,"O","O","Electronic"]
["STATE AUTO MUTUAL INSURANCE COMPANY","Z95743","O",null,"Electronic"]
["STATE AUTO MUTUAL INSURANCE COMPANY (AUTO ONLY)","J1966A","O","O","Electronic"]
["STATE COMPENSATION INSURANCE FUND (SCIF) (WC ONLY) (ALL STATES)",35076,"O","O","Electronic"]
["STATE COMPENSATION INSURANCE FUND (SCIF) (WC ONLY) (ALL STATES)","35076W","O","O","Electronic"]
["STATE FARM - (ALL STATES) (WC ONLY)","J3349","O","O","Electronic","P I"]
["STATE FARM (ALL STATES) (AUTO ONLY)","J1548","O","O","Electronic"]
["STATE FARM (CASUALTY & PROPERTY CLAIMS)",31059,"O","O","Electronic"]
["STATE FARM AUTO (ALL STATES) (AUTO ONLY)","J1548A","O","O","Electronic"]
["STATE FARM GROUP MEDICAL & INDIVIDUAL HEALTH INS COMPANIES",31053,"O","O","Electronic","P I "]
["STATE FUND MUTUAL (ALL STATES) (WC ONLY)","J1553","O","O","Electronic"]
["STATE FUND MUTUAL (WC ONLY)","WJ1553","O","O","Electronic"]
["STATE MUTUAL - LS","Z95723",null,null,"Paper"]
["STATE MUTUAL - SMMS","Z95722",null,null,"Paper"]
["STATE MUTUAL MED SUPPLEMENT","Z96277",null,null,"Paper"]
["STATE MUTUAL-LINCOLN NOVATION",10982,null,null,"Paper"]
["STATE OF IDAHO WOMEN'S HEALTH CHECK","IDWH01","O","O","Electronic","P I"]
["STATE OF MINNESOTA - DOER (ALL STATES) (WC ONLY)","J1555","O","O","Electronic"]
["STATE OF MINNESOTA - DOER (ALL STATES)(AUTO ONLY)","J1555A","O","O","Electronic","P I"]
["STATE OF MINNESOTA - DOER (WC ONLY)","E1217W","O","O","Electronic"]
["STATE OF NORTH CAROLINA","J1659WC","O","O","Electronic","P I"]
["STATE OF NORTH CAROLINA (ALL STATES) (AUTO ONLY)","J1659A","O","O","Electronic","P I"]
["STATE OF TENNESSEE","E1272","O","O","Electronic"]
["STATE OF WYOMING (ALL STATES) (AUTO ONLY)","J2179A","O","O","Electronic"]
["STATE OF WYOMING (ALL STATES) (WC ONLY)","J2179W","O","O","Electronic"]
["STATE OFFICE OF RISK MANAGEMENT (ALL STATES) (WC ONLY)","J1418","O","O","Electronic","P I"]
["STATEWIDE INSURANCE FUND (NJ ONLY)(WC ONLY)","J3937W","O","O","Electronic","P I"]
["STERICYCLE INC (EOBC)","R0100",null,null,"Paper"]
["STERLING LIFE INSURANCE COMPANY",7395,null,null,"Paper"]
["STEWART C MILLER AND CO",10937,null,null,"Paper"]
["STIRLING AND STIRLING",6089,"O","O","Electronic","P I"]
["STIRLING BENEFITS",25498,"O","O","Paper","P I"]
["STIRLING BENEFITS","STL01",null,null,"Paper"]
["STONER & ASSOCIATES",31121,"O","O","Electronic","P"]
["STONES RIVER IPA - AMERIVANTAGE",57492,"O",null,"Electronic"]
["STONES RIVER IPA - BCBS TN",15750,"O",null,"Electronic","P"]
["STONES RIVER IPA - BLUE GRASS FAMILY HEALTH",15754,"O",null,"Electronic","P"]
["STONES RIVER IPA - CLOVER HEALTH",13079,"O",null,"Paper","P"]
["STONES RIVER IPA - THE PHYSICIANS ACO","Z1170","O",null,"Electronic","P"]
["STONES RIVER IPA - WINDSOR",15752,"O",null,"Electronic","P"]
["STORK CLUB FERTILITY","STORK","O",null,"Paper"]
["STRATEGIC COMPANY (ALL STATES) (AUTO ONLY)","J3972A","O","O","Electronic","P I"]
["STRATEGIC COMPANY (ALL STATES) (WC ONLY)","J3972","O","O","Electronic","P I"]
["STRICTLY TRAILER REPAIR (ALL)  WC ONLY","A0343W","O","O","Electronic"]
["STRICTLY TRAILER REPAIR (ALL) AUTO ONLY","A0343A","O","O","Electronic"]
["STUDENT ASSURANCE SERVICES (REMITS ONLY)","SAS01",null,null,"Paper"]
["STYLE CREST ENTERPRISE (ALL STATES) (AUTO ONLY)","J3880A","O","O","Electronic"]
["STYLE CREST ENTERPRISE (ALL STATES) (WC ONLY)","J3880W","O","O","Electronic"]
["SUMMACARE HEALTH PLAN",95202,"O","O","Electronic","P I "]
["SUMMERLIN LIFE & HEALTH INSURANCE",86071,"O","O","Electronic","P"]
["SUMMIT ADMINISTRATION SERVICES",86083,"O","O","Electronic"]
["SUMMIT AMERICA INSURANCE SERVICES INC",37301,"O","O","Paper","P I "]
["SUMMIT COMMUNITY CARE","PASSE","O","O","Electronic"," "]
["SUMMIT COMMUNITY CARE (WITH ATTACHMENTS)","JPASSE","O","O","Electronic"]
["SUMMIT HEALTH LTD (ALL STATES) (WC ONLY)","J1108W","O","O","Electronic"]
["SUMMIT HEALTH LTD (WC ONLY)","WX332W","O","O","Electronic"]
["SUMMIT HOLDINGS (ALL STATES) (WC ONLY)","J1437W","O","O","Electronic"]
["SUN MAR HEALTHCARE (ALL STATES) (AUTO ONLY)","J1610A","O","O","Electronic"]
["SUN MAR HEALTHCARE (ALL STATES) (WC ONLY)","J1610W","O","O","Electronic"]
["SUNAMERICA LIFE INS COMPANY (NFIC PLAN ONLY)","90956-004","O",null,"Electronic","P"]
["SUNAMERICA LIFE INS COMPANY (NFIC PLAN ONLY)","Z0072","O",null,"Electronic","P"]
["SUNLIFE DENTAL",67814,null,null,"Paper"]
["SUNRISE ADVANTAGE PLAN OF IL","SIL01",null,null,"Paper"]
["SUNRISE ADVANTAGE PLAN OF NY","SNY01",null,null,"Paper"]
["SUNRISE ADVANTAGE PLAN OF PA","SPA01",null,null,"Paper"]
["SUNRISE ADVANTAGE PLAN OF VA","SVA01",null,null,"Paper"]
["SUNRISE SENIOR LIVING INC. (AUTO ONLY) (TX,MN ONLY)","A0588","O",null,"Electronic"]
["SUNSHINE STATE HEALTH PLAN",68057,null,null,"Paper"]
["SUPERIOR CHOICE MEDICAL GROUP","SCPR1","O","O","Paper","P I"]
["SUPERIOR DENTAL CARE",31117,null,null,"Paper"]
["SUPERIOR HEALTH PLAN TEXAS",39188,"O","O","Electronic","P I "]
["SUPERIOR INSURANCE SERVICES",97802,"O","O","Electronic"]
["SUPERIOR STAFFING (ALL) AUTO ONLY","A0344A","O","O","Electronic"]
["SUPERIOR STAFFING (ALL) WC ONLY","J1387W","O","O","Electronic"]
["SUPERIOR VISION SERVICES",41352,"O",null,"Paper"]
["SUPREME COURT OF CALIFORNIA","J1804W","O","O","Electronic"]
["SUREGO ADMINISTRATIVE SERVICES LLC",89207,"O","O","Electronic","P I"]
["SURGERY DEPARTMENT OF MT SINAI (EOBC)","R41979",null,null,"Paper"]
["SURGERY ONE IPA","SOIPA","O",null,"Electronic"]
["SUTTER CONNECT - CENTRAL VALLEY MED GROUP (ENCOUNTERS)","HM066","O",null,"Electronic","P"]
["SUTTER CONNECT - SIP, SMG, SWMG - ENCOUNTERS","HM059","O",null,"Electronic"]
["SUTTER CONNECT - SOLANO REGIONAL MEDICAL GROUP - ENCOUNTERS","HM062","O",null,"Electronic"]
["SUTTER CONNECT - SUTTER GOLD MEDICAL FOUNDATION - ENCOUNTERS","HM058","O",null,"Electronic"]
["SUTTER EAST BAY MEDICAL FOUNDATION",87160,"O","O","Electronic"]
["SUTTER GOULD MEDICAL FOUNDATION",87161,"O","O","Electronic"]
["SUTTER HEALTH (ALL STATES) (WC ONLY)","J1512","O","O","Electronic"]
["SUTTER HEALTH AETNA",60624,"O","O","Electronic"," "]
["SUTTER MEDICAL FOUNDATION",87163,"O","O","Electronic"," "]
["SUTTER PACIFIC MEDICAL FOUNDATION",87165,"O","O","Electronic"]
["SUTTER SENIOR CARE","Z95675","O","O","Electronic"]
["SWEDISH COVENANT HOSPITAL",36411,"O","O","Electronic","P I"]
["SWIFT GLASS CORPORATION",7040,"O",null,"Electronic"]
["SWIFT TRANSPORTATION (MN & TX) (WC ONLY)","WX333W","O","O","Electronic"]
["SYMETRA LIFE INSURANCE COMPANY (REMITS ONLY)",8389,null,null,"Paper"]
["SYNERMED","SYMED","O","O","Electronic"]
["SYNGENTA CORPORATION (ALL STATES) (AUTO ONLY)","J1972A","O","O","Electronic"]
["SYNGENTA CORPORATION (ALL STATES) (WC ONLY)","J1972W","O","O","Electronic"]
["SYNTRIQ HEALTH SOLUTIONS","SNTRQ",null,"X","Electronic"]
["SYSCO CORPORATION (ALL STATES) (WC ONLY)","WP320W","O","O","Electronic","P"]
["SYSCO CORPORATION (ALL STATES)(WC ONLY)","J3316","O","O","Electronic"]
["T.H.E. INSURANCE (ALL STATES) (AUTO ONLY)","J1791A","O","O","Electronic"]
["T.H.E. INSURANCE (ALL STATES) (WC ONLY)","J1791W","O","O","Electronic"]
["TAKECARE INSURANCE COMPANY",98022,"O","O","Electronic"]
["TAKEDA AMERICA HOLDINGS (ALL STATES) (AUTO ONLY)","J1991A","O","O","Electronic"]
["TAKEDA AMERICA HOLDINGS (ALL STATES) (WC ONLY)","J1991W","O","O","Electronic"]
["TALBERT MEDICAL GROUP","TALMG","O",null,"Paper"]
["TALL TREE ADMINISTRATORS",88067,"O","O","Electronic","P I"]
["TANSGUARD INSURANCE COMPANY OF AMERICA (WC ONLY)","J1388W","O","O","Electronic"]
["TAXI (ALL) (AUTO ONLY)","A0345A","O","O","Electronic"]
["TAXI (ALL) WC ONLY","A0345W","O","O","Electronic"]
["TAYLOR BENEFITS","TAYLR","O","O","Electronic"]
["TCC (PRE MED DEFENDER)","TCC13","O","O","Electronic"]
["TCC (SELF-FUNDED)","TCC93","O","O","Electronic","I"]
["TDS/1",57549,"O","O","Electronic"]
["TDS/ANTHEM","RP009","O","O","Electronic"]
["TDS/ATRIO","RP005","O","O","Electronic"]
["TDS/BX MC","RP007","O","O","Electronic"]
["TDS/FIDELIS","RP008","O","O","Electronic"]
["TDS/GOLDEN TIMES","RP013","O","O","Electronic"]
["TDS/MID AMERICA ACO","RP006","O","O","Electronic"]
["TDS/SRRIPA/AMERIVANTAGE","RP010","O","O","Electronic"]
["TDS/SRRIPA/CLOVER","RP012","O","O","Electronic"]
["TDS/SRRIPA/WELLCARE","RP011","O","O","Electronic"]
["TDS/TOP MEDICAL GROUP",15749,"O","O","Electronic","P I"]
["TDS/TOP PHYSICIANS GROUP",35749,"O","O","Electronic"]
["TDS/TP-ACO","RP004","O",null,"Electronic"]
["TEAL PREMIER",88300,"O","O","Electronic"]
["TEAL PREMIER UB","8830U",null,"O","Electronic"]
["TEAM CHOICE GOLD",75139,"O","O","Electronic"]
["TEAM CHOICE PPO",75133,"O","O","Electronic","P"]
["TEAMSTERS LOCAL 705 HEALTH & WELFARE","R16446",null,null,"Paper"]
["TEAMSTERS LOCAL 731 HEALTH & WELFARE FUND","R35085",null,null,"Paper"]
["TEAMSTERS MEDICARE TRUST FOR RETIRED EMPLOYEES",43619,"O","O","Electronic"]
["TECHNOLOGY INSURANCE CO (MN TX ONLY) (WC ONLY)",42376,"O","O","Electronic"]
["TECHNOLOGY INSURANCE COMPANY (MN TX ONLY) (WC ONLY)","J1855","O","O","Electronic"]
["TELAMON",22483,"O","O","Electronic"]
["TENCON HEALTH PLAN","3833T","O","O","Electronic"]
["TENNDENT - DENTAL",10794,null,null,"Paper"]
["TENNESSEE BLUECARE & TENNCARE SELECT REMITS","Z1339",null,null,"Paper"]
["TENNESSEE RISK MANAGEMENT TRUST (ALL STATES)(AUTO ONLY)","J2358A","O","O","Electronic"]
["TENNESSEE RISK MANAGEMENT TRUST (ALL STATES)(WC ONLY)","J2358W","O","O","Electronic"]
["TERMED CLIENTS","Z96613",null,null,"Paper"]
["TETHYS HEALTH VENTURES",20212,"O","O","Electronic"]
["TEXAS A&M\t (TX ONLY) (WC ONLY)","A0235W","O","O","Electronic"]
["TEXAS AGRICULTURAL COOPERATIVE TRUST (TACT)","TXABA","O","O","Electronic"]
["TEXAS ASSOC. OF SCHOOL BOARDS (WORK COMP)","WR902W","O",null,"Electronic"]
["TEXAS ASSOCIATION OF SCHOOL BOARDS (ALL STATES) (WC ONLY)","A0234","O","O","Electronic","P I"]
["TEXAS ASSOCIATION OF SCHOOL BOARDS (ALL STATES) (WC ONLY)","A0234W","O","O","Electronic","P I"]
["TEXAS BUILDERS INSURANCE CO (ALL STATES) (AUTO ONLY)","J1581A","O","O","Electronic"]
["TEXAS BUILDERS INSURANCE CO (ALL STATES) (WC ONLY)","J1581W","O","O","Electronic"]
["TEXAS CHILDRENS HEALTH PLAN",76048,"O","O","Electronic","P I  "]
["TEXAS CHILDRENS HEALTH PLAN- STAR (MEDICAID)",75228,"O","O","Electronic","P I "]
["TEXAS CONSTRUCTION TRUST (MN & TX) (WC ONLY)","J1390W","O","O","Electronic"]
["TEXAS HEALTH AETNA",88221,"O","O","Electronic"]
["TEXAS HEALTH AETNA (WITH ATTACHMENTS)","J88221","O","O","Electronic"]
["TEXAS HEALTHSPRING","THS01","O","O","Electronic","P I"]
["TEXAS HOSPITAL INSURANCE (ALL STATES) (WC ONLY)","J3869W","O","O","Paper","P I"]
["TEXAS HOSPITAL INSURANCE EXCHANGE (WC ONLY)","32514W","O","O","Electronic"]
["TEXAS INDEPENDENCE HEALTH PLAN",31403,"O","O","Electronic","P I"]
["TEXAS MUNICIPAL LEAGUE (TML) (ALL STATES) (WC ONLY)","A0245","O","O","Electronic","P I"]
["TEXAS MUTUAL INSURANCE (ALL  STATES) (AUTO ONLY)","WX606A","O","O","Electronic"]
["TEXAS MUTUAL INSURANCE (WC ONLY) (ALL STATES)",22945,"O","O","Electronic"]
["TEXAS POLITICAL SUBDIVISIONS JSIF","WE041","O","O","Electronic"]
["TEXAS POLITICAL SUBDIVISIONS JSIF (ALL STATES) (WC ONLY)","J1921","O","O","Electronic","P I"]
["TEXAS PREMIER PLAN","Z0056","O",null,"Electronic","P"]
["TEXAS ROADHOUSE INC (ALL STATES) (AUTO ONLY)","J1676A","O","O","Electronic"]
["TEXAS ROADHOUSE INC (ALL STATES) (WC ONLY)","J1676W","O","O","Electronic"]
["TEXAS SMALL BUSINESS POOL (MN & TX) (WC ONLY)","WX334W","O","O","Electronic"]
["TEXASFIRST HEALTH PLAN (DALLAS) (REMITS ONLY)",13185,null,null,"Paper"]
["THE AMERICAN EQUITY UNDERWRITERS INC (AEU) (ALL STATES) (AUTO ONLY)","J4019A","O","O","Electronic","P I"]
["THE AMERICAN EQUITY UNDERWRITERS INC (AEU) (ALL STATES) (WC ONLY)","J4019","O","O","Electronic","P I"]
["THE ARC OF DAUPHIN COUNTY (EOBC)","R37772",null,null,"Paper"]
["THE ASU GROUP","Z96811",null,null,"Paper"]
["THE BENEFIT GROUP INC","TBGNE","O","O","Electronic"]
["THE BRODART COMPANY",37262,"O","O","Electronic","P I"]
["THE CARE NETWORK/THE SAVANNAH BUSINESS GROUP",68423,"O","O","Electronic"]
["THE CASCADE PACE, INC., DBA THOME PACE","RP044","O","O","Electronic","P I"]
["THE CITY OF AMARILLO","COA01","O",null,"Electronic"]
["THE CITY OF NEW YORK LAW DEPARTMENT (ALL STATES) (AUTO ONLY)","J3966A","O","O","Electronic","P I"]
["THE CITY OF NEW YORK LAW DEPARTMENT (ALL STATES) (WC ONLY)","J3966","O","O","Electronic","P I"]
["THE COLORADO PURCHASE ALLIANCE","TCPA1","O","O","Paper","P I"]
["THE GAP INC (ALL STATES)  (AUTO ONLY)","J1671A","O","O","Electronic"]
["THE GAP INC (ALL STATES) (WC ONLY)","J1671W","O","O","Electronic","P I"]
["THE GENERAL INSURANCE (ALL STATES) (AUTO ONLY)","C1050","O","O","Electronic"]
["THE HARTFORD (ALL STATES) (WC ONLY)","J1422W","O","O","Electronic"]
["THE HARTFORD INSURANCE GROUP (MN, TX) (WC ONLY)","WP384W","O","O","Electronic"]
["THE HEALTH EXCHANGE (CERNER CORPORATION)",20356,"O","O","Electronic","P I  "]
["THE HEALTH PLAN",10060,null,null,"Paper"]
["THE HEALTH PLAN OF WESTERN ILLINOIS (HOWI)",29018,"O","O","Electronic"]
["THE HEALTHCARE GROUP",35206,"O","O","Electronic","P I"]
["THE JONES FINANCIAL COMPANIES LLP (ALL STATES) (AUTO ONLY)","J1846A","O","O","Electronic"]
["THE JONES FINANCIAL COMPANIES LLP (ALL STATES) (WC ONLY)","J1846W","O","O","Electronic"]
["THE LAWSON GROUP (REMITS ONLY)","Z96800",null,null,"Paper"]
["THE LOOMIS COMPANY",23223,"O","O","Electronic","P I "]
["THE MACALUSO GROUP",82694,"O","O","Electronic"]
["THE MAIN STREET AMERICA GROUP / AUSTIN MUTUAL (ALL STATES) (AUTO ONLY)","J1834A","O","O","Electronic"]
["THE MAIN STREET AMERICA GROUP / AUSTIN MUTUAL (ALL STATES) (WC ONLY)","J1834W","O","O","Electronic"]
["THE MAIN STREET AMERICA GROUP / GRAIN DEALERS MUTUAL (ALL STATES) (AUTO ONLY)","J1835A","O","O","Electronic"]
["THE MAIN STREET AMERICA GROUP / GRAIN DEALERS MUTUAL (ALL STATES) (WC ONLY)","J1835W","O","O","Electronic"]
["THE MAIN STREET AMERICA GROUP / GREAT LAKES CASUALTY (ALL STATES) (WC ONLY)","J1836W","O","O","Electronic"]
["THE MAIN STREET AMERICA GROUP / GREAT LAKES CASUALTY (ALL STATES)(AUTO ONLY)","J1836A","O","O","Electronic"]
["THE MAIN STREET AMERICA GROUP / MAIN STREET AMERICA ASSURANCE (WC ONLY) ALL STATES",29939,"O","O","Electronic"]
["THE MAIN STREET AMERICA GROUP / MSA INSURANCE PROTECTION (WC ONLY) ALL STATES",13026,"O","O","Electronic"]
["THE MAIN STREET AMERICA GROUP / MSAIC SURPLUS/NON-ADMITTED (WC ONLY) ALL STATES",11066,"O","O","Electronic"]
["THE MAIN STREET AMERICA GROUP / NGM (ALL STATES) (AUTO ONLY)","J1840A","O","O","Electronic"]
["THE MAIN STREET AMERICA GROUP / NGM (ALL STATES) (WC ONLY)","J1840W","O","O","Electronic"]
["THE MAIN STREET AMERICA GROUP / NGM (WC ONLY) ALL STATES",14788,"O","O","Electronic"]
["THE MAIN STREET AMERICA GROUP / SPRING VALLEY MUTUAL (WC ONLY) ALL STATES",11028,"O","O","Electronic"]
["THE MONTEFLORE IPA (EOBC)","R36608",null,null,"Paper"]
["THE NATIONAL RADIOLOGY NETWORK (TNRN)",59087,"O","O","Electronic","P"]
["THE OAKS PACE",57034,"O","O","Electronic"]
["THE PLUMBERS UNION LOCAL NO. 12 WELFARE FUND",45398,"O","O","Electronic","P I"]
["THE PREFERRED HEALTHCARE SYSTEMS (TPHS)",4320,"O","O","Electronic","P"]
["THE RENY COMPANY","WX616","O","O","Electronic"]
["THE SALVATION ARMY (ALL STATES) (WC ONLY)","J1472W","O","O","Electronic"]
["THE SCOTTS COMPANY (MN & TX) (WC ONLY)","WX357W","O","O","Electronic"]
["THE ZENITH (WC ONLY) (ALL STATES)","J13269W","O","O","Electronic"]
["THE ZERO CARD LLC",75296,"O","O","Electronic","P"]
["THERAMATRIX-PBS",99917,"O","O","Electronic","P"]
["THERAPHYSICS","THERA","O","O","Electronic"]
["THERAPHYSICS-COLORADO ONLY","Z0063","O",null,"Electronic","P"]
["THERAPY DIRECT NETWORK (ALL STATES) (WC ONLY)","J1831W","O","O","Electronic"]
["THIRD COAST UNDERWRITERS (3CU) (ALL STATES) (WC ONLY)","J2148","O","O","Electronic"]
["THREE RIVERS BENEFIT CORPORATION (REMITS ONLY)","Z96419",null,null,"Paper"]
["THREE RIVERS PREFERRED","MP340","O","O","Electronic"]
["THRIVENT FINANCIAL","THRIV","O","O","Electronic","P I  "]
["THRIVENT FINANCIAL AID ASSOCIATION FOR LUTHERAN MEDICARE",30167,"O","O","Electronic","P"]
["THRIVENT FINANCIAL LUTHERAN BROTHERHOOD MEDICARE",30166,"O","O","Electronic","P I"]
["TIDEWATER MARINE WESTERN (AUTO ONLY)","J1392A","O","O","Electronic"]
["TIDEWATER MARINE WESTERN (WC ONLY)(ALL STATES)","J1392W","O","O","Electronic"]
["TIFT REGIONAL",58600,"O","O","Electronic"]
["TLC ADVANTAGE","TLC01","O","O","Electronic"]
["TLC BENEFIT SOLUTIONS (GLOBAL CARE)","TLC79","O","O","Electronic"]
["TODAYS OPTIONS (AMERICAN PROGRESSIVE & PYRAMID LIFE) HOUSTON",48055,null,null,"Paper"]
["TOKIO MARINE MANAGEMENT (ALL STATES) (WC ONLY)","J2289","O","O","Electronic","P I"]
["TONGASS TIMBER TRUST",92620,"O","O","Electronic","P I"]
["TOPA INSURANCE COMPANY (ALL STATES) (WC ONLY)","J1537","O","O","Electronic"]
["TORRANCE MEMORIAL IPA","TMIPA","O","O","Electronic","P I"]
["TORRANCE MEMORIAL MEDICAL CENTER","TMMC1","O","O","Electronic","P I"]
["TOTAL COMMUNITY CARE",31182,"O","O","Electronic","P I"]
["TOTAL HEALTHCARE INC",38201,null,null,"Paper"]
["TOTAL PETROLEUM, INC. (MN & TX) (WC ONLY)","WX365W","O","O","Electronic"]
["TOTAL PLAN CONCEPTS",80900,"O","O","Electronic"]
["TOTAL PLAN SERVICES",41202,"O","O","Paper","P I"]
["TOTAL SENIOR CARE",12268,"O","O","Paper","P I"]
["TOUCHPOINT SOLUTIONS CRM","TPS01","O",null,"Electronic"]
["TOUCHSTONE  HEALTH PSO",23856,"O","O","Electronic","P I"]
["TOWER ENERGY GROUP (ALL STATES) (AUTO ONLY)","J1604A","O","O","Electronic"]
["TOWER ENERGY GROUP (ALL STATES) (WC ONLY)","J1604W","O","O","Electronic"]
["TOWER INSURANCE COMPANY OF NEW YORK (TX, MN, CA, IL, LA, NJ, OR AND NC ONLY) (AUTO ONLY)","J3961A","O","O","Electronic","I"]
["TOWER INSURANCE COMPANY OF NEW YORK (TX, MN, CA, IL, LA, NJ, OR AND NC ONLY) (WC ONLY)","J3961","O","O","Electronic","P I"]
["TOWER NATIONAL INSURANCE CO. (TX, MN, CA, IL, LA, NJ, OR AND NC ONLY) (AUTO ONLY)","J1394A","O","O","Electronic","P I"]
["TOWER NATIONAL INSURANCE CO. (TX, MN, CA, IL, LA, NJ, OR AND NC ONLY) (WC ONLY)","J1394","O","O","Electronic","P I"]
["TOWN OF COLMA CA (ALL STATES) (AUTO ONLY)","J1668A","O","O","Electronic"]
["TOWN OF COLMA CA (ALL STATES) (WC ONLY)","J1668W","O","O","Electronic"]
["TPAC/THE PHYSICIANS ASSURANCE CORPORATION","CX030","O","O","Electronic","P I"]
["TPAC/USPCPS/AMERIVANTAGE","RP023","O","O","Electronic","P I"]
["TPS JOINT SELF INSURANCE FUND (MN & TX) (WC ONLY)","J1395W","O","O","Electronic"]
["TR PAUL INC",37230,"O","O","Electronic","P"]
["TRACTOR SUPPLY COMPANY (ALL STATES) (WC ONLY)","J1505W","O","O","Electronic"]
["TRANSACT RX PART D",7241,"O",null,"Electronic"]
["TRANSACTRX INFUSION AND SPECIALTY",11168,"O",null,"Electronic"]
["TRANSACTRX PART D",11037,null,null,"Paper"]
["TRANSAMERICA FINANCIAL LIFE INSURANCE (2700 WEST PLANO PARKWAY PLANO TX)","TRP1P","O","O","Electronic"]
["TRANSAMERICA FINANCIAL LIFE INSURANCE (IA, MD, PA)","TRP1E","O","O","Electronic","P I "]
["TRANSAMERICA FINANCIAL LIFE INSURANCE (PO BOX 8043 LITTLE ROCK, AR) (TLINS)","Z2001","O","O","Electronic"]
["TRANSAMERICA FINANCIAL LIFE INSURANCE (PO BOX 869098 PLANO, TX)  (TRLTC)","TH094","O","O","Electronic"]
["TRANSAMERICA LIFE INSURANCE (KBA)",10946,null,null,"Paper"]
["TRANSCHOICE-KEY BENEFIT ADMINISTRATORS",37284,"O","O","Electronic","P I"]
["TRANSPORTATION - FIXED ROUTE - INDYGO","Z96657",null,null,"Paper"]
["TRANSWESTERN","TRAN1","O",null,"Electronic"]
["TRASH - ALL TRANSACTIONS WILL BE DISCARDED",0,"O","O","Electronic","P I"]
["TRAVELERS AUTO (ALL STATES) (AUTO ONLY)","C1032","O",null,"Electronic","P"]
["TRAVELERS CASUALTY AND SURETY COMPANY (WC ONLY)","19038W","O","O","Electronic"]
["TRAVELERS CASUALTY INS. CO OF AMER (WC ONLY) (ALL STATES)","19046W","O","O","Electronic"]
["TRAVIS COUNTY MAP-MEDIVIEW","TCMAP","O","O","Paper","P I"]
["TRELLIS HEALTH PARTNERS",36397,"O","O","Paper","P I"]
["TRI VALLEY MEDICAL GROUP (EOBC)","R21817",null,null,"Paper"]
["TRIAD GROUP LLC (NY) (WC ONLY)","J4229","O",null,"Electronic"]
["TRIAD HEALTHCARE INC (PLAINVILLE CT)",39181,"O",null,"Electronic"]
["TRIADA ASSURANCE","CB733","O","O","Electronic","P I"]
["TRIALCARD INC NC",56165,"O","O","Electronic"]
["TRIBUTE /SELECTCARE OF OKLAHOMA",73117,"O","O","Electronic"]
["TRICARE (CHAMPUS)","Z1006",null,null,"Paper"]
["TRICARE (FOREIGN REGIONS)","TRICF","X","X","Electronic","P I "]
["TRICARE EAST (TRICARE NORTH & SOUTH DOS AFTER 1/1/18)","TREST","X","X","Electronic","P I "]
["TRICARE FOR LIFE","TDDIR","X","X","Electronic","P I "]
["TRICARE WEST REGION","TRICW","X","X","Electronic","P I   "]
["TRI-COUNTY SCHOOLS INSURANCE GROUP JPA (ALL STATES) (WC ONLY)","J3879","O","O","Electronic","P I"]
["TRIGON",84103,null,null,"Paper"]
["TRIGON BLUE CROSS OF VIRGINIA (VA)","CB923",null,null,"Paper"]
["TRIHEALTH PHYSICIAN SOLUTIONS",31143,"O","O","Electronic"]
["TRILLIUM STAFFING SOLUTIONS (ALL STATES) (AUTO ONLY)","J1674A","O","O","Electronic"]
["TRILLIUM STAFFING SOLUTIONS (ALL STATES) (WC ONLY)","J1674W","O","O","Electronic"]
["TRILOGY HEALTH SOLUTIONS INC",62777,"O","O","Electronic","P I"]
["TRINITY HEALTH PACE","TRNPC","O","O","Electronic"]
["TRINITY UNIVERSAL INSURANCE (AUTO ONLY) (MN ONLY)","C1030A","O","O","Electronic","P I"]
["TRISTAR BENEFIT ADMINISTRATORS (PHCS EAGAN, MN)",41201,"O","O","Electronic"]
["TRISTATE BENEFIT SOLUTIONS (TPA)",31144,"O","O","Electronic","P I"]
["TRI-STATE INS CO ",31003,"O",null,"Electronic"]
["TRITON HEALTHCARE PARTNERS (REMITS ONLY)","R36498",null,null,"Paper"]
["TRI-VALLEY MEDICAL GROUP",20538,"O","O","Paper"]
["TRIWEST VA CCN REGION 4 (TWVACCN)","VACCN4","X","X","Electronic"]
["TRIWEST VA CCN REGION 5 (TWVACCN)","VACCN5","X","X","Electronic"]
["TRPN DIRECT PAY","R34660",null,null,"Paper"]
["TRU BLUE TPA",83413,"O","O","Electronic","P I"]
["TRUE HEALTH NEW MEXICO",82288,"O","O","Electronic","P I  "]
["TRULI HEALTH","TRULI","O","O","Electronic","P I"]
["TRUSTEED PLANS SERVICE CORPORATION",91078,"O","O","Electronic","P"]
["TRUSTMARK HEALTH BENEFITS FKA CORESOURCE (LITTLE ROCK)",75136,"O","O","Electronic","P I "]
["TRUSTMARK HEALTH BENEFITS FKA CORESOURCE (OH)",35183,"O","O","Electronic","I "]
["TRUSTMARK HEALTH BENEFITS FKA CORESOURCE AZ,IL,IN,MD,MN,NC,PA",35182,"O","O","Electronic","P I "]
["TRUSTMARK HEALTH BENEFITS FKA CORESOURCE-INTERNAL",35187,"O","O","Paper","P I  "]
["TRUSTMARK HEALTH BENEFITS FKA FMH BENEFIT SERVICES",48117,"O","O","Electronic","P I  "]
["TRUSTMARK SMALL BUSINESS BENEFITS FKA TRUSTMARK/STARMARK",61425,"O","O","Electronic","P I "]
["TUALITY HEALTH SELECT","THASC","O",null,"Electronic"]
["TUCKER ADMINISTRATORS INC",30799,"O",null,"Electronic","P"]
["TUFTS HEALTH PLANS",4298,"X","X","Electronic","P I  "]
["TUFTS HEALTH PUBLIC PLANS",4332,"X","X","Electronic","P I "]
["TX CHILDREN WITH SPECIAL HEALTHCARE NEEDS",86916,"O","O","Electronic","P I"]
["TX CHILDREN WITH SPECIAL HEALTHCARE NEEDS - SECONDARY CLAIM ONLY","86916B","O","O","Electronic"]
["TX PREMIER PLAN(STAR HMO) MEDICAID","EPF02","O","O","Electronic","P I"]
["TYSON FOODS INC (LA, NC, MN ONLY) (WC ONLY)","J1732W","O","O","Electronic","P I"]
["U.S. STEEL (MN ONLY) (WC ONLY)","J1396W","O","O","Electronic"]
["UC DAVIS HEALTH SYSTEM","UCDMG","O","O","Electronic","P I"]
["UC HEALTH PLAN ADMINISTRATORS",89789,"O","O","Electronic"]
["UCARE INDIVIDUAL & FAMILY PLANS (DOS OF 01/01/2019 AND AFTER)",55413,"O","O","Electronic"," "]
["UCARE OF MINNESOTA (DOS 12/31/21 AND PRIOR)",4496,"O","O","Electronic"]
["UCCI",10480,null,null,"Paper"]
["UCI HEALTH","UCI01","O","O","Electronic","P I"]
["UCLA MEDICAL GROUP","USMBP","O","O","Electronic"]
["UCS - BASI: AIR DESIGN HEATING & COOLING",18763,"O","O","Electronic"]
["UCS - BASI: BELUE TRUCKING COMPANY","Z96258","O","O","Electronic"]
["UCS - BASI: BIG HORN FEDERAL",18766,"O","O","Electronic"]
["UCS - BASI: BOULDER ADMINISTRATION SERVICES",18768,"O","O","Electronic"]
["UCS - BASI: CEILING SYSTEMS",19430,"O","O","Electronic"]
["UCS - BASI: DUNHAM RUBBER & BELTING CORPORATION",19432,"O","O","Electronic"]
["UCS - BASI: GOLDEN EAGLE CONSTRUCTION",19434,"O","O","Electronic"]
["UCS - BASI: HANSON TRUCKING","Z96259","O","O","Electronic"]
["UCS - BASI: HOTSTART",19450,"O","O","Electronic"]
["UCS - BASI: IDAHO ASPHALT SUPPLY","Z96217","O","O","Electronic"]
["UCS - BASI: INLAND CONSTRUCTION & DEVELOPMENT CO.",19438,"O","O","Electronic"]
["UCS - BASI: INNOVATIVE HEALTH CARE CONCEPTS",19439,"O","O","Electronic"]
["UCS - BASI: KNIGHT CONSTRUCTION & SUPPLY",89234,"O","O","Electronic"]
["UCS - BASI: NITRO GREEN HELENA",89235,"O","O","Electronic"]
["UCS - BASI: NORTHWEST RIVER SUPPLIES",89236,"O","O","Electronic"]
["UCS - BASI: PLEXIS HEALTHCARE SYSTEMS",89237,"O","O","Electronic"]
["UCS - BASI: RAPHAEL HEALTH CENTER",89238,"O","O","Electronic"]
["UCS - BASI: READING HORIZONS",89239,"O","O","Electronic"]
["UCS - BASI: REHAB STRATEGIES",89240,"O","O","Electronic"]
["UCS - BASI: SENIOR SUITES AT WOODSIDE VILLAGE",89241,"O","O","Electronic"]
["UCS - BASI: SOMONT OIL COMPANY",89242,"O","O","Electronic"]
["UCS - BASI: SOUTH STATE TRAILER SUPPLY",89243,"O","O","Electronic"]
["UCS - BASI: TEMPEST TECHNOLOGIES",89244,"O","O","Electronic"]
["UCS - BASI: TENOWO INC.",89245,"O","O","Electronic"]
["UCS - BASI: TRAILWEST BANK",89246,"O","O","Electronic"]
["UCS - BASI: VAN'S INC",89247,"O","O","Electronic"]
["UCS - BASI: WHITEFISH CREDIT UNION",89248,"O","O","Electronic"]
["UCS - BASI: WILLIAMS PLUMBING & HEATING",89249,"O","O","Electronic"]
["UCS - BENEFIT PLAN ADMINISTRATORS OF EAU CLAIRE INC",46891,"O","O","Electronic"]
["UCS - COEUR: CONNECTIVITY SOURCE",76451,"O","O","Electronic"]
["UCS - COEUR: SERCEL",94582,"O","O","Electronic"]
["UCS - ELECTRIC WORKERS INSURANCE FUND",75678,"O",null,"Electronic"]
["UCS - INSIGHT BENEFIT ADMINISTRATORS",96436,"O","O","Electronic"]
["UCS - LEONARD HOLDING COMPANY",84365,"O","O","Electronic","P I"]
["UCS - PBS OREGON",56724,"O","O","Electronic"]
["UCS - THE CITY OF EAST CHICAGO",56001,"O","O","Electronic"]
["UCS - WINSTON HOSPITALITY",20452,"O",null,"Electronic"]
["UCS (ELM-CO LLC)",60509,"O","O","Electronic"]
["UCS BASI: CONSOLIDATED TURBINE",36493,"O","O","Electronic"]
["UCS BASI: ELLSWORTH CONSTRUCTIONS",55843,"O","O","Electronic","P I"]
["UCS BENEFIT MANAGEMENT ADMINISTRATORS",84566,"O","O","Electronic"]
["UCS BENVEO  FIRSTHEALTH",76251,"O","O","Paper","P I"]
["UCS BENVEO - MULTIPLAN",76253,"O","O","Paper","P I"]
["UCS CEMENT MASONS",34924,"O","O","Paper","P I"]
["UCS HEWITT COLEMAN",97041,"O","O","Electronic"]
["UCS KEMPTON GROUP TPA: SHAWNEE MILLING CO.",26362,"O","O","Electronic"]
["UCS MASONRY INDUSTRY TRUST",60230,"O","O","Electronic"]
["UCS MAXOR ADMINISTRATIVE SERVICES",92805,"O","O","Electronic"]
["UCS MULTIMATIC TENNESSEE LLC",47165,"O","O","Electronic","I"]
["UCS SEMINOLE TRIBE OF FLORIDA",78702,"O","O","Paper","P I"]
["UCS: CAM ADMINISTRATIVE SERVICES",63985,"O","O","Electronic","P I"]
["UCS: COEUR PLAN SERVICES- PINNACLE MEDICAL SYSTEMS, INC",95287,"O","O","Paper","P I"]
["UCS: DIVERSIFIED BENEFIT ADMINISTRATORS, INC.",65894,"O","O","Electronic"]
["UCS: FIXTURES & DRYWALL COMPANY OF OKLAHOMA FADCO",31458,"O","O","Electronic","P I"]
["UCS-BASI: DC WELDING & CONSTRUCTION",19431,"O","O","Electronic"]
["UCS-BASI: METER GROUP USA",16025,"O","O","Electronic"]
["UDELHOVEN HEALTH PLAN",92006,"O","O","Paper","P"]
["UFCW LOCAL 1000 AND KROGER DALLAS HEALTH & WELFARE PLAN",11856,"O","O","Electronic","P I"]
["UFCW LOCAL 1000 AND KROGER DALLAS HEALTH & WELFARE PLAN",99843,"O","O","Electronic"]
["UFCW NATIONAL HEALTH AND WELFARE FUND (REMITS ONLY)",7193,null,null,"Paper"]
["UHC COMMUNITY HEALTH PLAN",4567,null,null,"Paper"]
["UHF",53684,"O","O","Paper","P I"]
["UHP MANAGEMENT","UHP01","O","O","Electronic"]
["UHSM-UNITE HEALTH SHARE MINISTRIES (DOS PRIOR TO 1/1/23)",83173,"O","O","Electronic","P I"]
["UICI ADMINISTRATORS",75240,"O","O","Electronic","P"]
["UICI ADMINISTRATORS - NEVADA",75245,"O",null,"Electronic","P"]
["UK UNIVERSITY HEALTH SERVICE (ALL STATES) (WC ONLY)","J1941","O","O","Electronic"]
["ULTIMATE HEALTH PLAN",77022,"O","O","Electronic"," "]
["ULTRA BENEFITS INC",41206,"O","O","Electronic"]
["UMASS MEDICAL SCHOOL HEALTH & CRIMINAL JUSTICE PROGRAM","UMHCJ","O","O","Electronic","P I"]
["UMC HEALTH PLAN",75130,"O","O","Electronic"]
["UMPQUA HEALTH ALLIANCE",77502,"O","O","Electronic"]
["UMR",39026,"O","O","Electronic","P I "]
["UMR (UMR ONALASKA)",79480,"O","O","Paper","P I "]
["UMWA HEALTH & RETIREMENT FUNDS",52180,"O","O","Electronic","P  "]
["UNDERWRITERS SAFETY AND CLAIMS","Z1086",null,null,"Paper"]
["UNDERWRITERS SAFETY AND CLAIMS (ALL STATES)(WC ONLY)","TP108W","O","O","Electronic","P I"]
["UNICARE",80314,"O","O","Electronic","P I "]
["UNICARE - DENTAL",10791,null,null,"Paper"]
["UNICARE (WITH ATTACHMENTS)","J80314","O","O","Electronic","P I"]
["UNIFIED GROUP SERVICES",35198,"O","O","Electronic","P I"]
["UNIFIED HEALTH SERVICES (WC CLAIMS ONLY)",62170,"O","O","Electronic","P"]
["UNIFIED IPA",51368,"O","O","Electronic"]
["UNIFIED LIFE INSURANCE COMPANY","RP064","O","O","Electronic"]
["UNIFIED PHYSICIANS NETWORK","UPN99","O","O","Electronic"]
["UNIFIED PHYSICIANS NETWORK INC",1691,"O","O","Electronic"]
["UNIFORMED SERVICES FAMILY HEALTH PLAN (USFHP) - ST VINCENT CATHOLIC MED CENTERS NY",13407,"O","O","Electronic","P I"]
["UNIFORMED SERVICES FAMILY HEALTH PLAN TEXAS & LOUISIANA","USFHP","O","O","Electronic"]
["UNIFY HEALTHCARE ADMINSTRATORS",84962,"O","O","Electronic","P I"]
["UNION INSURANCE (TX)","WC244","O",null,"Electronic"]
["UNION INSURANCE CO (MN & TX) (WC ONLY)","J1397W","O","O","Electronic"]
["UNION INSURANCE COMP (ALL STATES) (WC ONLY)","J1397","O","O","Electronic"]
["Union Insurance Company of Providence (WC Only) (All States)","25844W","O","O","Electronic"]
["Union Standard Insurance Company (MN & TX) (WC Only)","J1398W","O","O","Electronic"]
["Unite Here Health Hospitality, UHH Hospitality",97615,"O","O","Electronic","P I"]
["Unite Here Health Las Vegas",59144,"O","O","Electronic","P I E M"]
["United Administrative Services (Remits Only)",94174,null,null,"Paper"]
["United Agriculture Benefit Trust","UAGBT","O",null,"Paper","P"]
["United American Insurance Company (Remits and Eligibility Only)",92916,null,null,"Paper","E M"]
["United Benefit Advisors",38260,"O","O","Electronic","P I"]
["United Care Medical Group","ADCUC","O","O","Electronic"]
["United Concordia Companies, Inc - Dental","Z96273",null,null,"Paper","E"]
["United Concordia Federal Employees Program - Dental",10809,null,null,"Paper","E"]
["United Concordia Plus","CX013",null,null,"Paper"]
["United Dominion Realty Trust (MN & TX) (WC Only)","WZ962W","O","O","Electronic"]
["United Financial Casualty Co (MN Only) (Auto Only)","J1789A","O","O","Electronic","P I"]
["United Financial Casualty Company (WC Only)","11770W","O","O","Electronic"]
["United Fire (All States) (Auto Only)","C1060A","O","O","Electronic"]
["United Fire (All States) (Auto Only)","J1401A","O","O","Electronic"]
["United Fire (All States) (WC Only)","J1401W","O","O","Electronic"]
["United Fire (ANY STATE) (WC Only)","13021W","O","O","Electronic"]
["United Fire (Auto Only)","A0347","O","O","Electronic"]
["United Fire and Casualty","WZ997",null,null,"Paper"]
["United Fire Group (aka Mercer Insurance)(NJ Only)(Auto Only)","C1102A","O","O","Electronic","P I"]
["UNITED FIRE WC ONLY ANY STATE","A0347W","O","O","Electronic"]
["United Food & Commercial Workers Union and Food Employers (So. California, Cypress)","Z1401","O",null,"Electronic"]
["United Food Commercial Workers UFCW Local 880",88008,"O","O","Electronic"]
["United Group Programs","UGP19","O","O","Paper","P I"]
["United Health Care (Subrogation Claims Only)","87726S","O","O","Electronic","P I"]
["United Health Care Community Plan","M87726","O","O","Electronic","I"]
["United Health Integrated Services (Subrogation Claims Only)","39026S","O","O","Electronic"]
["United Health Service dba Pruitt Health (All States) (WC Only)","J3753","O","O","Electronic","P I"]
["United Healthcare",87726,"O","O","Electronic","P I E"]
["United Healthcare Community Plan of Texas (Remits Only)","TEX01",null,null,"Paper"]
["United Healthcare Community Plan Wisconsin (Remits Only)","WID01",null,null,"Paper"]
["United Healthcare Facets Detroit Community & State",10836,null,null,"Paper","E"]
["United Healthcare Facets Pittsburgh Community & State",10834,null,null,"Paper","E"]
["United Healthcare NDC Repricer","Z1274","O",null,"Electronic"]
["United Healthcare Vision",773,"O",null,"Paper","P E M"]
["United Heartland (All States) (WC Only)","J1859","O","O","Electronic"]
["United Physicians International (UPI)","SANDS","O","O","Electronic"]
["United Physicians of Northern Colorado",84132,"O","O","Electronic","P I"]
["United Self Insured Services - USIS","J1851","O","O","Electronic"]
["United States Automobile Association (USAA)",74095,"O","O","Electronic","P I E"]
["United States Cold Storage (All States) (WC Only)","J1113W","O","O","Electronic"]
["United States Fire Insurance Co (MN & TX) (WC Only)","J1402W","O","O","Electronic"]
["United States Virgin Islands Medicaid (Medical/Professional Only)","SKVI0","O",null,"Electronic"]
["United Teacher Assoc Ins Co- Medicare Supplement (Eligibility Only)","Z90027",null,null,"Paper","E"]
["United Teacher Associates Insurance",7243,null,null,"Paper"]
["United Wisconsin Insurance Comp (All States) (Auto Only)","J1235A","O","O","Electronic"]
["United Wisconsin Insurance Comp (All States) (WC Only)","J1235W","O","O","Electronic","P I"]
["United Wisconsin Insurance Company (WC Only)","WX956W","O",null,"Electronic"]
["UnitedHealth Group  (TX,MN Only (Auto Only)","A0567A","O","O","Electronic","P I"]
["UnitedHealthcare Community Plan / NJ",86047,"O","O","Electronic","P I E"]
["UnitedHealthcare Community Plan / NYU","NYU01",null,null,"Paper"]
["UnitedHealthcare Community Plan Kansas (KanCare)",96385,"O","O","Electronic","P I E M"]
["UnitedHealthcare Community Plan Missouri",86050,"O","O","Electronic","P I E M"]
["UnitedHealthcare Community Plan TN",95378,"O","O","Electronic","P I E"]
["UnitedHealthcare Dental",52133,null,null,"Paper","E M"]
["UnitedHealthcare Great Lakes Health Plan",95467,"O","O","Electronic","P I"]
["UnitedHealthcare StudentResources",74227,"O","O","Electronic","P I E"]
["UnitedHealthOne",81400,"O","O","Electronic","P I E"]
["Unitrin Direct Property & Casualty Company (Auto Only) (MN Only)","J16063A","O","O","Electronic"]
["Unity Health Insurance",39180,"O","O","Electronic","P I E M"]
["Unity Health Partners","A1152","O",null,"Electronic","P"]
["UnityPoint Health Plus",23550,"O","O","Electronic","P I"]
["Univera Healthcare - Managed Care",16107,"O","O","Electronic"]
["Univera PPO","UNINW","O","O","Electronic","P I E M"]
["Univeral American Financial Services",95380,"O","O","Electronic"]
["Universal American",11216,null,null,"Paper","E"]
["Universal Benefit Corp",11033,null,null,"Paper","E"]
["Universal Fidelity Administrators Company",93220,"O","O","Paper","P I"]
["Universal Fidelity Administrators Company (Aggregate claims Only)",93222,"O","O","Paper","P I"]
["Universal Health Services (TX,MN Only) (WC Only)","A0433W","O","O","Electronic","P I"]
["Universal HealthCare IPA","UHIPA","O","O","Electronic","P I"]
["Universal Healthcare IPA (EOBC)","R0131",null,null,"Paper"]
["University Care Advantage Arizona",10699,null,null,"Paper","E"]
["University Family Care",9830,"O","O","Electronic","P E"]
["University Health Alliance","UHA","X","X","Electronic"]
["University Healthcare Marketplace",45437,"O","O","Electronic"]
["University of Illinois","UIC67","O","O","Paper","P I"]
["University of Illinois Chicago Div of Spec Care for Children",37601,"O",null,"Paper","P"]
["University of Kentucky Health Services (All States) (Auto only)","J1941A","O","O","Electronic"]
["University of Kentucky Health Services (WC only)","J1941W","O","O","Electronic"]
["University of Utah Health Plans (Healthy U)","Z1030","O","O","Electronic","P I E"]
["Universtiy of Arizona Health Plan - UHM",10889,null,null,"Paper","E"]
["UPMC Health Plan",23281,"O","O","Electronic","P I E"]
["UPMC Vision Advantage",25184,"O","O","Electronic"]
["Upper Peninsula Health Group TPA",37324,"O","O","Electronic"]
["Upper Peninsula Health Plan",38337,"O","O","Electronic","P I E M"]
["Urology Department of Mt Sinai (EOBC)","R42082",null,null,"Paper"]
["US Benefits - Portland, Oregon",93092,"O","O","Electronic","P I"]
["US Engagement, LLC",50443,"O","O","Paper","P I"]
["US Family Health Plan",90551,"O","O","Electronic","P I"]
["US Foodservice Inc (All States) (WC Only)","J1114W","O","O","Electronic"]
["US Imaging",50383,"O","O","Electronic"]
["US National Resources (AIGRM) (All States) (WC Only)","J1115","O","O","Electronic"]
["US Network and Administrative Services","USN01","O","O","Electronic","P I"]
["US Sugar Corporation (All States) (Auto only)","J1950A","O","O","Electronic"]
["US Sugar Corporation (All States) (WC only)","J1950W","O","O","Electronic"]
["USA Benefits & Administrator","TRIN1",null,null,"Paper"]
["USAA (All States Except FL, HI, NY and PA) (Auto Only)","J1822A","O","O","Electronic","P I"]
["USAA Life Insurance Company (Eligibility Only)","Z1316",null,null,"Paper","E"]
["USAA Life Insurance Company (Remits Only)",75895,null,null,"Paper"]
["USC HEALTH SERVICES","TH021","O",null,"Electronic","P"]
["USC Health Services","USC11","O",null,"Electronic","P"]
["USC Kempton Group Administrators",90210,"O","O","Electronic"]
["USS-POSCO Industries","J1534","O","O","Electronic"]
["Utica (All States) (Auto Only)","C1027A","O","O","Electronic","P I"]
["Utica Mutual Insurance Co (All States) (WC Only)",25976,"O","O","Electronic"]
["Utica Mutual Insurance Co (MN & TX)  (WC Only)","25976W","O","O","Electronic"]
["Utica National Insurance Co of Texas (All States) (WC Only)",43478,"O","O","Electronic"]
["UTMB 3 Share Program","UT3F","O",null,"Electronic"]
["UTMB Correctional Managed Care","UTMBC","O",null,"Electronic"]
["UTMB Correctional Managed Care","UTMBU",null,"O","Electronic"]
["VA Community Care Network","VACCN","O","O","Electronic"]
["VA Dialysis Only VA FSC","VAFSC",null,"O","Electronic"]
["VA Fee Basis Program",12115,"O","O","Electronic","P I E"]
["VA Health Administration Center","Z96272",null,null,"Paper","E"]
["VA Healthcare","Z96271",null,null,"Paper","E"]
["VACorp (All States) (WC Only)","J3807W","O","O","Electronic"]
["Valenz: Core Benefits Teladoc",65287,"O","O","Electronic","P I"]
["Valenz: Tucker Administrators",65231,"O",null,"Electronic"]
["Valir Pace",64009,"O","O","Electronic"]
["Valir Pace (Formerly Via Christi Hope)",48123,"O","O","Electronic","P I"]
["Valley Care IPA","VCIPA","O","O","Electronic"]
["Valley Care Program",10948,null,null,"Paper","E"]
["Valley Health Plan (Commercial)","VHP01","O","O","Electronic","E M"]
["Valley Health Plan (Medi-Cal)","VHP02","X","X","Electronic"]
["Valley Mental Health",94293,"O",null,"Electronic"]
["Valley Presbyterian Hospital","MPM53","O","O","Electronic","P I"]
["Valley Presbyterian Hospital Community Family Care VPRESCFC","MPM61","O","O","Electronic"]
["Valley Presbyterian Hospital Preferred IPA VPRESPREF","MPM60","O","O","Electronic","P I"]
["Valor Health Plan",43259,"O","O","Paper","P I"]
["Value Options PA Behavioral Health","Z96315","O","O","Electronic"]
["Value Options PA Medicaid","Z1247","O","O","Electronic","P I"]
["ValueOptions/MBHP",43307,"O","O","Electronic","P I"]
["Van Lang IPA c/o TECQ Partners",77036,"O","O","Electronic"]
["Vanderbilt Health","BPSLLC","O","O","Paper","P I"]
["Vanliner Insurance Co (All States) (WC only)",21172,"O","O","Electronic"]
["Vanliner Insurance Co (Auto Only)","21172A","O","O","Electronic"]
["Vantage Health Plan Inc",72128,"O","O","Electronic","P E"]
["Variable Protection Administrators (VPA)","VPA18","O","O","Electronic"]
["Varipro",72187,"O","O","Paper","P I"]
["Vault/AMPS Admin Services Or GAR (Georgia Relators Association)","VS402","O","O","Paper","P I"]
["Velocity Vehicle Group (All States) (Auto only)","J1992A","O","O","Electronic"]
["Velocity Vehicle Group (All States) (WC only)","J1992W","O","O","Electronic"]
["Vensure Employer Services (All States) (WC Only)","J1917",null,null,"Paper"]
["Ventura County Health Care Plan","VCHCP","O","O","Paper","P I"]
["Verdugo Hills Medical Group","VHMG1","O","O","Electronic","P I"]
["Verity National Group",75256,"O","O","Electronic"]
["Verity Plus","VMMH2","O","O","Electronic"]
["Vestacare","VESTA","O","O","Electronic"]
["VGM Homelink",50701,"O","O","Electronic"]
["VGM Homelink (with Attachments)","J50701","O","O","Electronic"]
["Vibra Health Plan",15976,"O","O","Electronic","E M"]
["Vicorp Restaurants, Inc. (MN & TX only) (WC Only)","WX495W","O","O","Electronic"]
["Victor Valley IPA","VVIPA","O",null,"Electronic"]
["Victoria/Titan Ins (Auto Only) (MN Only)",13242,"O","O","Electronic"]
["VieCare Life Armstrong",25922,"O","O","Paper","P I"]
["VieCare Life Beaver and Life Lawrence Counties",25924,"O","O","Paper","P I"]
["VieCare LIFE Butler",25923,"O","O","Electronic"]
["Village Practice Management Company",36477,"O","O","Electronic","P I"]
["VillageCareMAX",26545,"O","O","Electronic"]
["VillageMD","VLGMD","O","O","Paper","P I"]
["VillageMD of Central Indiana (Primaria)",13027,"O",null,"Paper","P"]
["VillageMD of Chicago",75838,"O",null,"Electronic"]
["VillageMD of Georgia",42636,"O",null,"Electronic"]
["VillageMD of New Hampshire",75545,"O",null,"Electronic"]
["VillageMD of Northern Indiana",75386,"O",null,"Electronic"]
["VillageMD of SE TX (Houston)",93170,"O",null,"Electronic"]
["VillageMD of Western Kentucky",43036,"O",null,"Paper","P"]
["VIRGINIA COORDINATED CARE",84806,"O",null,"Electronic"]
["Virginia Health Network",54138,"O",null,"Paper","P"]
["Virginia Premier Health Plans","VAPRM","X","X","Electronic","P I"]
["Virginia Risk Sharing (VRSA) (All States) (WC Only)","J3928W","O","O","Paper","P I"]
["Virginia Surety Company Inc (All States) (Auto Only)","J1404A","O","O","Electronic"]
["Virginia Surety Company Inc (All States) (WC Only)","J1404W","O","O","Electronic"]
["VitalCore Millette","MAI58","O","O","Electronic","P I"]
["Vitori Health",32691,"O","O","Paper","P I"]
["Vitruvian Care Inc","VUIPA","O","O","Electronic","P I"]
["Viva Health Plan",63114,"O","O","Electronic","P I E"]
["Vivida Health (DOS 01/01/2021 and after)","A0102","O","O","Electronic","P I"]
["VMD Primary Providers of Arizona",84213,"O","O","Paper","P I"]
["VNSNY CHOICE Medicare",77073,"O","O","Electronic","P I E"]
["Volusia Health Network",59266,"O","O","Electronic","P"]
["Vought Aircraft Industries (All States) (WC Only)","J1405W","O",null,"Electronic"]
["Vulcan Materials (All States) (Auto Only)","J1993A","O","O","Electronic"]
["Vulcan Materials (All States) (WC Only)","J1993","O","O","Electronic"]
["Vytalize Health (Remits Only)","RP042",null,null,"Paper"]
["Vytra Healthcare",22264,"O","O","Electronic","P E"]
["WA Workers' Comp",4404,"X","X","Electronic"]
["Wabash Memorial Hospital Association",85256,"O","O","Electronic"]
["Wadena (All States) (WC Only)","J3931W","O","O","Electronic","P I"]
["Wagner Meinert",31650,"O","O","Electronic"]
["Walmart - Claims Management (All States) (WC Only)","J1004W","O","O","Electronic"]
["Wal-Mart (All States) (WC Only)","J1004","O","O","Electronic"]
["Washington County General Fund",77111,"O","O","Electronic"]
["Washington County Health and Human Services","WCHHS","O","O","Electronic","P I"]
["Washington Dental",47341,null,null,"Paper"]
["Washington National Insurance Company (Eligibility and Remits Only)",70319,null,null,"Paper","E M"]
["Washington Workers Comp Crime Prevention","4404B","X",null,"Electronic"]
["Waterstone Benefit Administrators",73155,"O","O","Electronic","P I"]
["Watts Health Care","MPM09","O","O","Electronic"]
["WCF Mutual Insurance Company","R26301",null,null,"Paper"]
["WE Energies (All States) (WC Only)","J1406","O","O","Electronic","P I"]
["WE ENERGIES (ALL) WC ONLY","A0348W","O","O","Electronic"]
["WEA Insurance Group (DOS 12/31/22 and prior)",39151,"O","O","Electronic","P I E M"]
["WebTPA Employer Services LLC",75261,"O","O","Electronic","P I E"]
["Wegmans (All States) (WC Only)","J3845","O","O","Electronic","P I"]
["Weiss Health Providers",36337,"O","O","Electronic"]
["WelbeHealth","WBHCA","O","O","Electronic","P"]
["Welcome Health Medical Group","MPM57","O","O","Electronic"]
["WellCare Health Plan (Encounters Only)",59354,"O","O","Electronic"]
["Wellcare Health Plans",14163,"O","O","Electronic","P I E M"]
["WellCare of CT (Encounters Only)","Z1194","O","O","Electronic"]
["Wellcare of CT and NY",14164,"O",null,"Electronic"]
["WellCare of FL (Encounters Only)","Z1199","O","O","Electronic"]
["WellCare of GA (Encounters Only)","Z1197","O","O","Electronic"]
["WellCare of HI (Encounters Only)","Z1313","O","O","Electronic"]
["WellCare of IL (Encounters Only)","Z1196","O","O","Electronic","P I"]
["WellCare of IN (Encounters Only)","Z1340","O","O","Electronic"]
["Wellcare of Iowa, Inc.  (Encounters Only) (Effective 3/1/2016)","Z95682","O","O","Electronic"]
["WellCare of LA (Encounters Only)","Z1200","O","O","Electronic"]
["WellCare of MO (Encounters Only)","Z1201","O","O","Electronic"]
["WellCare of NY (Encounters Only)","Z1195","O","O","Electronic"]
["WellCare of OH (Encounters Only)","Z1198","O","O","Electronic"]
["WellCare PFFS (Eligibility Only)",77072,null,null,"Paper","E"]
["Wellmark Administrators/IA providers only",1348,"O",null,"Electronic","P"]
["Wellmed","TH023","O","O","Electronic","P I E M"]
["WellMed (Encounters)","WELMD","O",null,"Electronic"]
["WellNet Health Plans",25711,"O","O","Electronic","P I"]
["Wellnet Healthcare Administrators (Remits Only)",10441,null,null,"Paper"]
["WellPay",95729,"O","O","Electronic","P I"]
["WellSpace Nexus","NEXUS","O","O","Electronic"]
["Wellspan Employee Assistance Program","CB457","O",null,"Electronic"]
["WellSystems LLC",35245,"O","O","Electronic","E M"]
["Wenatchee Valley Medical Center",91064,"O","O","Paper","P I"]
["Wesco Insurance Co (WC Only) (TX,MN,CA Only)",25011,"O",null,"Electronic"]
["Wesco Insurance Company (TX, MN, CA Only) (WC Only)","J1857","O","O","Electronic","P I"]
["West Alabama IPA LLC (EOBC)","R25927",null,null,"Paper"]
["West Bend Mutual Insurance (All States) (WC Only)","J2088W","O","O","Electronic"]
["West Bend Mutual Insurance (All States) (WC Only)","WZ081W","O","O","Electronic"]
["West Covina Medical Group",66124,"O","O","Paper","P I"]
["West Suburban Health Providers",80942,"O","O","Electronic","R"]
["West Virginia Senior Advantage","WVS01","O","O","Electronic","P I"]
["Western Agricultural Insurance Company (Auto Only) (MN Only)","J3738A","O","O","Electronic"]
["Western Agricultural Insurance Company (WC Only) (MN Only)","J3738W","O","O","Electronic","P I"]
["Western Allied","WP835",null,null,"Paper"]
["Western Grower's Insurance Company",24735,"O","O","Electronic","P I"]
["Western Health Advantage",68039,"O","O","Electronic","P I E M"]
["Western Health Advantage by Ayin",77225,"O","O","Electronic","P I"]
["Western Mutual Insurance / WMI-TPA",37247,"O","O","Electronic","P"]
["Western National (All States) (Auto Only)","J1495","O","O","Electronic"]
["Western National (All States) (WC Only)","J1495W","O","O","Electronic"]
["Western National Assurance (All States) (Auto only)","J1569A","O","O","Electronic"]
["Western National Assurance (All States) (WC only)","J1569W","O","O","Electronic"]
["Western National Assurance (WC Only)","13005W","O",null,"Paper"]
["Western National Insurance (Auto Only)","39137A","O",null,"Paper"]
["Western National Insurance \\ Pioneer Specialties (All States) (Auto only)","J1586A","O","O","Electronic"]
["Western National Insurance \\ Pioneer Specialties (All States) (WC only)","J1586W","O","O","Electronic"]
["Western National Insurance Group (Auto Only)","15865A","O",null,"Paper"]
["WESTERN NATIONAL, INC. (CA,MN,TX) (WC Only)","WP852W","O","O","Electronic"]
["Western Oregon Advanced Health","DOCSO","O","O","Electronic","P I"]
["Western Southern Financial Group (Cincinnati, OH)",31048,"O","O","Electronic","P I E M"]
["Westfield Insurance (CA IL LA NC NM TN TX WI) (WC only)","J1858W","O","O","Electronic","P"]
["Westfield Insurance (CA IL LA NC NM TN TX) (Auto only)","J1858A","O","O","Electronic"]
["Westlake Financial Group",90560,"O","O","Electronic","P I"]
["Wex Health Inc (Remits Only)","Z96593",null,null,"Paper"]
["Weyerhaeuser Co","A0276","O",null,"Electronic"]
["White Memorial Altamed Medical Group","MPM55","O","O","Electronic","P I"]
["Wilco Life Insurance Company (Remits Only)","R29640",null,null,"Paper"]
["William C. Earhart",93050,"O","O","Electronic"]
["Williams & Sonoma (All States) (WC Only)","J1473W","O","O","Electronic"]
["Willow Health","WHLTH","O","O","Electronic"]
["Wilson McShane - Dental",10797,null,null,"Paper","E"]
["Wilson Mutual Insurance (MN & WI Only) (WC Only)","J1407W","O","O","Electronic"]
["Wilson Mutual Insurance (MN/WI ONLY) (Auto Only)","J1407A","O","O","Electronic"]
["Wilson-McShane",41095,"O","O","Paper","P I"]
["Wilson-McShane - International Brotherhood of Boilermakers",48603,"O","O","Electronic"]
["Windsor Medicare Extra (Eligibility Only)",62153,null,null,"Paper","E"]
["WinHealth","Z1310","O",null,"Electronic","P"]
["Winn-Dixie (Auto Only)","A0119","O",null,"Electronic"]
["Wisconsin Chronic Disease Program","WCDP","O","O","Electronic","E M"]
["Wisconsin Department of Corrections - WDOC","Z1150","O","O","Electronic"]
["Wisconsin Physician Services-Midlands",95930,"O","O","Electronic","P I"]
["Wisconsin Physicians Service Group Health / WPS","SX022","O","O","Electronic","E M"]
["Wisconsin Well Woman Program","WWWP","O","O","Electronic","E M"]
["Women's Integrated Network, Inc. (WIN Fertility)",13413,"O",null,"Electronic"]
["WOODLAND FARMS (Auto Only)","WP893A","O","O","Electronic"]
["WOODLAND FARMS (WC Only)","WP893W","O","O","Electronic"]
["Woodman Accident and Life Co (AICT Plans Only)","81949-002","O",null,"Electronic","P"]
["Woodman Accident and Life Co (AICT Plans Only)","Z0071","O",null,"Electronic","P"]
["Workers Compensation And Employer Liability (TX, MN, CA, IL, LA, NJ, OR and NC Only) (Auto Only)","J3722A","O","O","Electronic","P I"]
["Workers Compensation And Employer Liability (TX, MN, CA, IL, LA, NJ, OR and NC Only) (WC Only)","J3722","O","O","Electronic","P I"]
["Workforce Safety and Insurance (WSI)","J1500","X","X","Electronic"]
["Worksite Benefit Services",20333,"O","O","Electronic","P I"]
["WorkStar Health Services","Z95681",null,"O","Electronic"]
["World Corp","Z96261",null,null,"Paper","E"]
["World Trade Center - MCA Sedgwick(WC Only)","J4361","O","O","Electronic"]
["World Trade Center - MCA Sedgwick(WC Only)","J4361W","O","O","Electronic"]
["World Trade Center (WTC) Health Program (Remits Only)","WTC44",null,null,"Paper"]
["Worldwide Medical Assurance Ltd Corp",98473,"O","O","Electronic","P I"]
["WPP-ElderCare Wisconsin",77080,"O","O","Electronic","P I"]
["WPS Dept of Veterans Affairs VA Program","VAPCCC3",null,null,"Paper"]
["WPS EPIC Specialty Benefits","EPIC","O","O","Electronic"]
["Wright Risk Management (All States) (WC Only)","J4177","O",null,"Electronic"]
["Wyman-Gordon Companies (All States) (WC Only)","J1117W","O","O","Electronic"]
["Wyoming PACE",98543,"O","O","Electronic"]
["Xcel Energy (All States) (Auto only)","J1628A","O","O","Electronic","P I"]
["Xcel Energy (All States) (WC only)","J1628W","O","O","Electronic"]
["Xchanging, Inc (TX Only) (WC Only)","J1412W","O","O","Electronic"]
["Xl Environmental Inc (All States) (WC Only)","J1055W","O","O","Electronic"]
["Yale University Health Plan",60646,"O",null,"Electronic","P"]
["Yamhill CCO Physical Health",77946,"O","O","Electronic","E M"]
["Yamhill Community Care Organization CCO","Z95383","O","O","Electronic"]
["Yamhill County CCO (Mental Health)",77130,"O","O","Electronic"]
["York Claim Services (All States) (Auto Only)","J1421A","O","O","Electronic"]
["York Claim Services (All States) (WC Only)","J1421W","O","O","Electronic"]
["York Risk Services Group","WX778","O","O","Electronic","P I"]
["YOUNGSTOWN AREA ELECTRICAL WELFARE FUND, OHIO",34083,null,null,"Paper"]
["Zachry Construction (CA IL LA NC MN OR TX) (WC Only)","J1409W","O",null,"Electronic","P"]
["Zebra Health HC",88858,"O",null,"Electronic"]
["Zelis Preferred Administrators",88057,"O","O","Electronic"]
["Zelis Remits (All Payers)","ZELIS",null,null,"Paper"]
["Zenith Administrators",53589,"O",null,"Electronic"]
["Zenith American Solutions: ILWU-PMA",89677,"O","O","Electronic","P I"]
["Zenith Beacon Spyglass (Remits Only)","Z96344",null,null,"Paper"]
["Zenith Insurance Company (WC Only)","13269W","O","O","Electronic"]
["Zenith Luminx (Remits Only)",20547,null,null,"Paper"]
["Zenith Northern CA Cement Masons (EOBC)","R40717",null,null,"Paper"]
["Zing Choice IL (HMO)",83248,"O","O","Electronic","E M"]
["PNC Test Payer_",22222,"O","O","Electronic"]
["Znat Insurance (Zenith National) (All States) (WC Only)",30120,"O","O","Electronic"]
["Znat Insurance (Zenith National) (WC Only) (All States)","J30120","O","O","Electronic"]
["Zurich American N.A. (All States) (WC Only)","16535W","O","O","Electronic","P"]
["Zurich Farmers (All States) (WC Only)","A0755W","O","O","Electronic"]
["Zurich Farmers (All States) (WC Only)","J1015W","O","O","Electronic"]
["Zurich Insurance N.A.(All States) (WC Only)","J16535","O","O","Electronic"]